{"text_format":"1","workbook":"xlsx","n_sheets":7,"sheets":["DersYükü","farklı dp","Ekders","DersProg","Sınav Ücret","hesap","Tatiller"],"not_rendered":{"charts":0,"images":0,"macros":1,"external_links":0,"defined_names":5,"comments":5,"pivot_tables":0},"unopened":[],"bounds":{"document_bytes":16777216,"sheet_cells":100000,"rows_first":2000,"rows_last":500,"rows_between":2000,"halvings":0,"cell_chars":16384,"cell_head_chars":4096},"cells_cut":0,"cells_raw":0,"read":"whole","date_system":"1900"}

{"sheet":"DersYükü","index":0,"n_rows":371,"n_cols":51,"rows_kept":371,"cut":false,"hidden":false,"merged":[[56,32,56,35],[57,32,57,35],[58,32,58,35],[59,32,59,35],[60,32,60,35],[47,32,47,35],[48,32,48,35],[49,32,49,35],[50,32,50,35],[51,32,51,35],[52,32,52,35],[53,32,53,35],[54,32,54,35],[55,32,55,35],[366,1,367,4],[366,5,367,12],[366,15,367,17],[366,18,367,24],[363,0,367,0],[363,1,363,4],[363,5,363,12],[363,14,367,14],[363,15,363,17],[363,18,363,24],[364,1,365,4],[364,5,365,12],[364,15,365,17],[364,18,365,24],[358,0,358,4],[359,0,359,4],[360,0,360,4],[360,23,360,24],[362,0,362,12],[362,14,362,24],[350,0,357,0],[350,1,350,4],[351,1,351,4],[352,1,352,4],[353,1,353,4],[354,1,354,4],[355,1,355,4],[356,1,356,4],[357,1,357,4],[341,0,349,0],[341,1,341,4],[342,1,342,4],[343,1,343,4],[344,1,344,4],[345,1,345,4],[346,1,346,4],[347,1,347,4],[348,1,348,4],[349,1,349,4],[338,15,338,18],[338,19,338,22],[339,15,339,16],[339,17,339,18],[339,19,339,20],[339,21,339,22],[335,0,335,18],[335,19,335,20],[335,21,335,22],[337,0,340,4],[337,5,337,22],[338,5,339,6],[338,7,339,8],[338,9,339,10],[338,11,339,12],[338,13,339,14],[333,2,333,11],[333,12,333,18],[333,19,333,20],[333,21,333,22],[333,23,333,24],[334,0,334,18],[334,19,334,20],[334,21,334,22],[331,2,331,11],[331,12,331,18],[331,19,331,20],[331,21,331,22],[331,23,331,24],[332,2,332,11],[332,12,332,18],[332,19,332,20],[332,21,332,22],[332,23,332,24],[329,2,329,11],[329,12,329,18],[329,19,329,20],[329,21,329,22],[329,23,329,24],[330,2,330,11],[330,12,330,18],[330,19,330,20],[330,21,330,22],[330,23,330,24],[327,2,327,11],[327,12,327,18],[327,19,327,20],[327,21,327,22],[327,23,327,24],[328,2,328,11],[328,12,328,18],[328,19,328,20],[328,21,328,22],[328,23,328,24],[325,2,325,11],[325,12,325,18],[325,19,325,20],[325,21,325,22],[325,23,325,24],[326,2,326,11],[326,12,326,18],[326,19,326,20],[326,21,326,22],[326,23,326,24],[323,0,323,22],[323,23,323,24],[324,2,324,11],[324,12,324,18],[324,19,324,20],[324,21,324,22],[324,23,324,24],[321,2,321,11],[321,12,321,18],[321,19,321,20],[321,21,321,22],[321,23,321,24],[322,2,322,11],[322,12,322,18],[322,19,322,20],[322,21,322,22],[322,23,322,24],[319,2,319,11],[319,12,319,18],[319,19,319,20],[319,21,319,22],[319,23,319,24],[320,2,320,11],[320,12,320,18],[320,19,320,20],[320,21,320,22],[320,23,320,24],[317,2,317,11],[317,12,317,18],[317,19,317,20],[317,21,317,22],[317,23,317,24],[318,2,318,11],[318,12,318,18],[318,19,318,20],[318,21,318,22],[318,23,318,24],[315,2,315,11],[315,12,315,18],[315,19,315,20],[315,21,315,22],[315,23,315,24],[316,2,316,11],[316,12,316,18],[316,19,316,20],[316,21,316,22],[316,23,316,24],[313,2,313,11],[313,12,313,18],[313,19,313,20],[313,21,313,22],[313,23,313,24],[314,2,314,11],[314,12,314,18],[314,19,314,20],[314,21,314,22],[314,23,314,24],[311,2,311,11],[311,12,311,18],[311,19,311,20],[311,21,311,22],[311,23,311,24],[312,2,312,11],[312,12,312,18],[312,19,312,20],[312,21,312,22],[312,23,312,24],[309,2,309,11],[309,12,309,18],[309,19,309,20],[309,21,309,22],[309,23,309,24],[310,2,310,11],[310,12,310,18],[310,19,310,20],[310,21,310,22],[310,23,310,24],[307,0,307,22],[307,23,307,24],[308,2,308,11],[308,12,308,18],[308,19,308,20],[308,21,308,22],[308,23,308,24],[305,0,305,18],[305,19,305,22],[306,2,306,11],[306,12,306,18],[306,19,306,20],[306,21,306,22],[302,0,302,3],[302,4,302,11],[302,12,302,16],[302,17,302,24],[303,0,303,2],[303,3,303,4],[303,5,303,9],[303,10,303,14],[303,15,303,18],[303,19,303,24],[298,0,298,24],[300,0,300,3],[300,4,300,11],[300,12,300,16],[300,17,300,24],[301,0,301,3],[301,4,301,11],[301,12,301,16],[301,17,301,24],[295,0,295,24],[297,2,297,24],[69,1,70,4],[69,5,70,12],[69,15,70,17],[69,18,70,24],[71,1,72,4],[71,5,72,12],[71,15,72,17],[71,18,72,24],[67,0,67,12],[67,14,67,24],[68,0,72,0],[68,1,68,4],[68,5,68,12],[68,14,72,14],[68,15,68,17],[68,18,68,24],[55,0,62,0],[55,1,55,4],[56,1,56,4],[57,1,57,4],[62,1,62,4],[63,0,63,4],[64,0,64,4],[65,0,65,4],[65,23,65,24],[58,1,58,4],[59,1,59,4],[60,1,60,4],[61,1,61,4],[47,1,47,4],[48,1,48,4],[46,0,54,0],[46,1,46,4],[49,1,49,4],[50,1,50,4],[51,1,51,4],[52,1,52,4],[53,1,53,4],[54,1,54,4],[46,32,46,35],[43,15,43,18],[43,19,43,22],[44,15,44,16],[44,17,44,18],[44,19,44,20],[44,21,44,22],[40,0,40,18],[40,19,40,20],[40,21,40,22],[42,0,45,4],[42,5,42,22],[43,5,44,6],[43,7,44,8],[43,9,44,10],[43,11,44,12],[43,13,44,14],[38,2,38,11],[38,12,38,18],[38,19,38,20],[38,21,38,22],[38,23,38,24],[39,0,39,18],[39,19,39,20],[39,21,39,22],[36,2,36,11],[36,12,36,18],[36,19,36,20],[36,21,36,22],[36,23,36,24],[37,2,37,11],[37,12,37,18],[37,19,37,20],[37,21,37,22],[37,23,37,24],[34,2,34,11],[34,12,34,18],[34,19,34,20],[34,21,34,22],[34,23,34,24],[35,2,35,11],[35,12,35,18],[35,19,35,20],[35,21,35,22],[35,23,35,24],[32,2,32,11],[32,12,32,18],[32,19,32,20],[32,21,32,22],[32,23,32,24],[33,2,33,11],[33,12,33,18],[33,19,33,20],[33,21,33,22],[33,23,33,24],[30,2,30,11],[30,12,30,18],[30,19,30,20],[30,21,30,22],[30,23,30,24],[31,2,31,11],[31,12,31,18],[31,19,31,20],[31,21,31,22],[31,23,31,24],[28,0,28,22],[28,23,28,24],[29,2,29,11],[29,12,29,18],[29,19,29,20],[29,21,29,22],[29,23,29,24],[26,12,26,18],[26,23,26,24],[27,12,27,18],[27,23,27,24],[26,2,26,11],[27,2,27,11],[27,19,27,20],[26,21,26,22],[27,21,27,22],[26,19,26,20],[24,2,24,11],[24,12,24,18],[24,19,24,20],[24,23,24,24],[25,2,25,11],[25,12,25,18],[25,23,25,24],[25,21,25,22],[25,19,25,20],[24,21,24,22],[22,2,22,11],[22,12,22,18],[22,23,22,24],[23,2,23,11],[23,23,23,24],[22,19,22,20],[23,19,23,20],[23,21,23,22],[22,21,22,22],[23,12,23,18],[20,2,20,11],[20,12,20,18],[20,23,20,24],[21,12,21,18],[21,23,21,24],[21,2,21,11],[20,21,20,22],[21,19,21,20],[20,19,20,20],[21,21,21,22],[18,12,18,18],[18,23,18,24],[19,2,19,11],[19,12,19,18],[19,23,19,24],[18,2,18,11],[18,21,18,22],[19,19,19,20],[19,21,19,22],[18,19,18,20],[16,2,16,11],[16,12,16,18],[16,21,16,22],[16,23,16,24],[17,2,17,11],[17,12,17,18],[17,23,17,24],[17,21,17,22],[16,19,16,20],[17,19,17,20],[14,2,14,11],[14,12,14,18],[14,23,14,24],[15,12,15,18],[15,23,15,24],[15,2,15,11],[14,21,14,22],[15,21,15,22],[14,19,14,20],[15,19,15,20],[12,0,12,22],[12,23,12,24],[13,12,13,18],[13,23,13,24],[10,0,10,18],[10,19,10,22],[11,2,11,11],[11,12,11,18],[11,19,11,20],[11,21,11,22],[13,2,13,11],[13,21,13,22],[13,19,13,20],[7,0,7,3],[7,4,7,11],[7,12,7,16],[7,17,7,24],[8,0,8,2],[8,3,8,4],[8,5,8,9],[8,10,8,14],[8,15,8,18],[8,19,8,24],[5,0,5,3],[5,4,5,11],[5,12,5,16],[6,0,6,3],[6,4,6,11],[6,12,6,16],[6,17,6,24],[0,0,0,9],[0,16,0,17],[0,18,0,21],[1,0,1,7],[1,8,1,24],[2,2,2,24],[3,0,3,24],[0,12,0,15],[5,17,5,20],[5,21,5,24]]}
["İşlemin Ait Olduğu Tarihler (28.02.2011 şeklinde giriniz)",null,null,null,null,null,null,null,null,null,"Başlangıç",null,null,null,null,null,"Bitiş",null,null,null,null,null,null,null,null,null,null,null,null,null,"TÜRK HAVA KURUMU"]
["Bağlı Olduğunuz Birimi Seçiniz",null,null,null,null,null,null,null,null,null,null,null,null,null,null,null,null,null,null,null,null,null,null,null,null,null,"Ortak Dersler Bölümü","ODB","Dr. Öğr. Üyesi Meltem İMAMOĞLU","Bölüm Başkanı","Rektörlük","Prof. Dr. Hasan ERBAY","Rektör V.",null,null,null,null,null,null,null,null,null,null,null,{"$f":"IF(#REF!=\"\",\"\",#REF!)","v":{"$error":"#REF!"}},{"$f":"IF(#REF!=\"\",\"\",#REF!)","v":{"$error":"#REF!"}},{"$f":"IF(#REF!=\"\",\"\",#REF!)","v":{"$error":"#REF!"}},{"$f":"IF(#REF!=\"\",\"\",#REF!)","v":{"$error":"#REF!"}},{"$f":"IF(#REF!=\"\",\"\",#REF!)","v":{"$error":"#REF!"}},{"$f":"IF(#REF!=\"\",\"\",#REF!)","v":{"$error":"#REF!"}},{"$f":"IF(#REF!=\"\",\"\",#REF!)","v":{"$error":"#REF!"}}]
["EK 1",null,"TÜRK HAVA KURUMU ÜNİVERSİTESİ",null,null,null,null,null,null,null,null,null,null,null,null,null,null,null,null,null,null,null,null,null,null,null,null,null,null,null,null,null,null,null,null,null,null,null,null,null,null,null,null,null,{"$f":"IF(#REF!=\"\",\"\",#REF!)","v":{"$error":"#REF!"}},{"$f":"IF(#REF!=\"\",\"\",#REF!)","v":{"$error":"#REF!"}},{"$f":"IF(#REF!=\"\",\"\",#REF!)","v":{"$error":"#REF!"}},{"$f":"IF(#REF!=\"\",\"\",#REF!)","v":{"$error":"#REF!"}},{"$f":"IF(#REF!=\"\",\"\",#REF!)","v":{"$error":"#REF!"}},{"$f":"IF(#REF!=\"\",\"\",#REF!)","v":{"$error":"#REF!"}},{"$f":"IF(#REF!=\"\",\"\",#REF!)","v":{"$error":"#REF!"}}]
[{"$f":"UPPER(AE2&\" \"&\"ÖĞRETİM ELEMANLARI HAFTALIK DERS YÜKÜ FORMU\")","v":"REKTÖRLÜK ÖĞRETİM ELEMANLARI HAFTALIK DERS YÜKÜ FORMU"},null,null,null,null,null,null,null,null,null,null,null,null,null,null,null,null,null,null,null,null,null,null,null,null,null,null,null,null,null,null,null,null,null,null,null,null,null,null,null,null,null,null,null,{"$f":"IF(#REF!=\"\",\"\",#REF!)","v":{"$error":"#REF!"}},{"$f":"IF(#REF!=\"\",\"\",#REF!)","v":{"$error":"#REF!"}},{"$f":"IF(#REF!=\"\",\"\",#REF!)","v":{"$error":"#REF!"}},{"$f":"IF(#REF!=\"\",\"\",#REF!)","v":{"$error":"#REF!"}},{"$f":"IF(#REF!=\"\",\"\",#REF!)","v":{"$error":"#REF!"}},{"$f":"IF(#REF!=\"\",\"\",#REF!)","v":{"$error":"#REF!"}},{"$f":"IF(#REF!=\"\",\"\",#REF!)","v":{"$error":"#REF!"}}]
[null,null,null,null,null,null,null,null,null,null,null,null,null,null,null,null,null,null,null,null,null,null,null,null,null,null,null,null,null,null,null,null,null,null,null,null,null,null,null,null,null,null,null,null,{"$f":"IF(#REF!=\"\",\"\",#REF!)","v":{"$error":"#REF!"}},{"$f":"IF(#REF!=\"\",\"\",#REF!)","v":{"$error":"#REF!"}},{"$f":"IF(#REF!=\"\",\"\",#REF!)","v":{"$error":"#REF!"}},{"$f":"IF(#REF!=\"\",\"\",#REF!)","v":{"$error":"#REF!"}},{"$f":"IF(#REF!=\"\",\"\",#REF!)","v":{"$error":"#REF!"}},{"$f":"IF(#REF!=\"\",\"\",#REF!)","v":{"$error":"#REF!"}},{"$f":"IF(#REF!=\"\",\"\",#REF!)","v":{"$error":"#REF!"}}]
["Bölümü",null,null,null,null,null,null,null,null,null,null,null,"Eğitim-Öğr. Yılı",null,null,null,null,null,null,null,null,null,null,null,null,null,null,null,null,null,null,null,null,null,null,null,null,null,null,null,null,null,null,null,{"$f":"IF(#REF!=\"\",\"\",#REF!)","v":{"$error":"#REF!"}},{"$f":"IF(#REF!=\"\",\"\",#REF!)","v":{"$error":"#REF!"}},{"$f":"IF(#REF!=\"\",\"\",#REF!)","v":{"$error":"#REF!"}},{"$f":"IF(#REF!=\"\",\"\",#REF!)","v":{"$error":"#REF!"}},{"$f":"IF(#REF!=\"\",\"\",#REF!)","v":{"$error":"#REF!"}},{"$f":"IF(#REF!=\"\",\"\",#REF!)","v":{"$error":"#REF!"}},{"$f":"IF(#REF!=\"\",\"\",#REF!)","v":{"$error":"#REF!"}}]
["Ünvanı- Adı ve Soyadı",null,null,null,null,null,null,null,null,null,null,null,"Dönemi",null,null,null,null,null,null,null,null,null,null,null,null,null,null,null,null,null,null,null,null,null,null,null,null,null,null,null,null,null,null,null,{"$f":"IF(#REF!=\"\",\"\",#REF!)","v":{"$error":"#REF!"}},{"$f":"IF(#REF!=\"\",\"\",#REF!)","v":{"$error":"#REF!"}},{"$f":"IF(#REF!=\"\",\"\",#REF!)","v":{"$error":"#REF!"}},{"$f":"IF(#REF!=\"\",\"\",#REF!)","v":{"$error":"#REF!"}},{"$f":"IF(#REF!=\"\",\"\",#REF!)","v":{"$error":"#REF!"}},{"$f":"IF(#REF!=\"\",\"\",#REF!)","v":{"$error":"#REF!"}},{"$f":"IF(#REF!=\"\",\"\",#REF!)","v":{"$error":"#REF!"}}]
["İdari Görevi              ",null,null,null,null,null,null,null,null,null,null,null,"Zorunlu Ders Yükü"]
["Kurum Sicil No",null,null,null,null,"TC Kimlik Numarası",null,null,null,null,null,null,null,null,null,"Ait Olduğu Ay"]
[null,null,null,null,null,null,null,null,null,null,null,null,null,null,null,null,null,null,null,null,null,null,null,null,null,null,null,null,"GÜZ"]
["Dersler",null,null,null,null,null,null,null,null,null,null,null,null,null,null,null,null,null,null,"Haftalık Saatler",null,null,null,null,null,null,null,null,"BAHAR"]
["D.K.","Kod","Dersin Adı",null,null,null,null,null,null,null,null,null,"Fak./Enst./MYO",null,null,null,null,null,null,"Teorik",null,"D. F.",null,null,null,null,null,null,"YAZ"]
["ÖRGÜN ÖĞRETİM",null,null,null,null,null,null,null,null,null,null,null,null,null,null,null,null,null,null,null,null,null,null,"Açıklama"]
["A",null,null,null,null,null,null,null,null,null,null,null,null,null,null,null,null,null,null,null,null,null,null,null,null,null,null,null,null,null,{"$f":"COUNTIF(F$47:F$55,$A14)+COUNTIF(H$47:H$55,$A14)+COUNTIF(J$47:J$55,$A14)+COUNTIF(L$47:L$55,$A14)+COUNTIF(N$47:N$55,$A14)+COUNTIF(P$47:P$63,$A14)+COUNTIF(T$47:T$63,$A14)","v":0},0,null,null,{"$f":"IF(M14=\"\",\"\",M14)","v":""},null,{"$f":"IF(VLOOKUP(AI14,#REF!,2,FALSE)=\"\",\"\",VLOOKUP(AI14,#REF!,2,FALSE))","v":{"$error":"#REF!"}}]
["B",null,null,null,null,null,null,null,null,null,null,null,null,null,null,null,null,null,null,null,null,null,null,null,null,null,null,null,null,null,0,0,null,null,{"$f":"IF(VLOOKUP(M15,#REF!,2,FALSE)=\"\",\"\",VLOOKUP(M15,#REF!,2,FALSE))","v":{"$error":"#REF!"}}]
["C",null,null,null,null,null,null,null,null,null,null,null,null,null,null,null,null,null,null,null,null,null,null,null,null,null,null,null,null,null,0,0,null,null,{"$f":"IF(VLOOKUP(M16,#REF!,2,FALSE)=\"\",\"\",VLOOKUP(M16,#REF!,2,FALSE))","v":{"$error":"#REF!"}}]
["D",null,null,null,null,null,null,null,null,null,null,null,null,null,null,null,null,null,null,null,null,null,null,null,null,null,null,null,null,null,0,0,null,null,{"$f":"IF(VLOOKUP(M17,#REF!,2,FALSE)=\"\",\"\",VLOOKUP(M17,#REF!,2,FALSE))","v":{"$error":"#REF!"}}]
["E",null,null,null,null,null,null,null,null,null,null,null,null,null,null,null,null,null,null,null,null,null,null,null,null,null,null,null,null,null,0,0,null,null,{"$f":"IF(VLOOKUP(M18,#REF!,1,FALSE)=\"\",\"\",VLOOKUP(M18,#REF!,1,FALSE))","v":{"$error":"#REF!"}}]
["F",null,null,null,null,null,null,null,null,null,null,null,null,null,null,null,null,null,null,null,null,null,null,null,null,null,null,null,null,null,0,0,null,null,{"$f":"IF(VLOOKUP( M19,#REF!,2,FALSE)=\"\",\"\",VLOOKUP(M19,#REF!,2,FALSE))","v":{"$error":"#REF!"}}]
["G",null,null,null,null,null,null,null,null,null,null,null,null,null,null,null,null,null,null,null,null,null,null,null,null,null,null,null,null,null,0,0]
["H",null,null,null,null,null,null,null,null,null,null,null,null,null,null,null,null,null,null,null,null,null,null,null,null,null,null,null,null,null,0,0]
["I",null,null,null,null,null,null,null,null,null,null,null,null,null,null,null,null,null,null,null,null,null,null,null,null,null,null,null,null,null,0,0]
["J",null,null,null,null,null,null,null,null,null,null,null,null,null,null,null,null,null,null,null,null,null,null,null,null,null,null,null,null,null,0,0]
["K",null,null,null,null,null,null,null,null,null,null,null,null,null,null,null,null,null,null,null,null,null,null,null,null,null,null,null,null,null,0,0]
["L",null,null,null,null,null,null,null,null,null,null,null,null,null,null,null,null,null,null,null,null,null,null,null,null,null,null,null,null,null,0,0]
["M",null,null,null,null,null,null,null,null,null,null,null,null,null,null,null,null,null,null,null,null,null,null,null,null,null,null,null,null,null,0,0]
["N",null,null,null,null,null,null,null,null,null,null,null,null,null,null,null,null,null,null,null,null,null,null,null,null,null,null,null,null,null,0,0]
["O",null,null,null,null,null,null,null,null,null,null,null,null,null,null,null,null,null,null,null,null,null,null,null,null,null,null,null,null,null,0,0]
["İKİNCİ ÖĞRETİM",null,null,null,null,null,null,null,null,null,null,null,null,null,null,null,null,null,null,null,null,null,null,"GN.D.S"]
["P",null,null,null,null,null,null,null,null,null,null,null,null,null,null,null,null,null,null,null,null,null,null,null,null,null,null,null,null,null,{"$f":"COUNTIF(F$47:F$63,$A30)+COUNTIF(H$47:H$63,$A30)+COUNTIF(J$47:J$63,$A30)+COUNTIF(L$47:L$63,$A30)+COUNTIF(N$47:N$63,$A30)+COUNTIF(R$47:R$63,$A30)+COUNTIF(V$47:V$63,$A30)","v":0},0]
["R",null,null,null,null,null,null,null,null,null,null,null,null,null,null,null,null,null,null,null,null,null,null,null,null,null,null,null,null,null,0,0]
["S",null,null,null,null,null,null,null,null,null,null,null,null,null,null,null,null,null,null,null,null,null,null,null,null,null,null,null,null,null,0,0]
["T",null,null,null,null,null,null,null,null,null,null,null,null,null,null,null,null,null,null,null,null,null,null,null,null,null,null,null,null,null,0,0]
["U",null,null,null,null,null,null,null,null,null,null,null,null,null,null,null,null,null,null,null,null,null,null,null,null,null,null,null,null,null,0,0]
["V",null,null,null,null,null,null,null,null,null,null,null,null,null,null,null,null,null,null,null,null,null,null,null,null,null,null,null,null,null,0,0]
["W",null,null,null,null,null,null,null,null,null,null,null,null,null,null,null,null,null,null,null,null,null,null,null,null,null,null,null,null,null,0,0]
["X",null,null,null,null,null,null,null,null,null,null,null,null,null,null,null,null,null,null,null,null,null,null,null,null,null,null,null,null,null,0,0]
["Y",null,null,null,null,null,null,null,null,null,null,null,null,null,null,null,null,null,null,null,null,null,null,null,null,null,null,null,null,null,0,0]
["Z",null,null,null,null,null,null,null,null,null,null,null,null,null,null,null,null,null,null,null,null,null,null,null,null,null,null,null,null,null,0,0]
["TOPLAM (Ö.Ö)",null,null,null,null,null,null,null,null,null,null,null,null,null,null,null,null,null,null,{"$f":"SUM(T14:T28)","v":0},null,{"$f":"SUM(V14:V28)","v":0}]
["TOPLAM (İ.Ö)",null,null,null,null,null,null,null,null,null,null,null,null,null,null,null,null,null,null,{"$f":"SUM(T30:T39)","v":0},null,{"$f":"SUM(V30:V39)","v":0}]
[]
[null,null,null,null,null,"TEORİK VE DİĞER DERSLERİN PROGRAMI"]
[null,null,null,null,null," P.TESİ",null," SALI",null," ÇARŞ.",null," PERŞ.",null," CUMA",null," C.TESİ",null,null,null," PAZAR"]
[null,null,null,null,null,null,null,null,null,null,null,null,null,null,null,"Ö.Ö",null,"İ.Ö",null,"Ö.Ö",null,"İ.Ö"]
[null,null,null,null,null,"T","D","T","D","T","D","T","D","T","D","T","D","T","D","T","D","T","D",null,null,null,null,null,null,null,null,null,null,null,null,null,"pt","s","ç","p","c","ct","pz"]
["ÖRGÜN ÖĞRETİM","08.40-09.30",null,null,null,null,null,null,null,null,null,null,null,null,null,null,null,null,null,null,null,null,null,null,null,null,null,null,null,null,null,null,"08.00-09.00",null,null,null,{"$f":"CONCATENATE(IF(F47=\"\",\"\",CONCATENATE(VLOOKUP(F47,$A$14:$L$28,2,FALSE),\" \",VLOOKUP(F47,$A$14:$L$28,3,FALSE))),IF(G47=\"\",\"\",CONCATENATE(VLOOKUP(G47,$A$14:$L$28,2,FALSE),\" \",VLOOKUP(G47,$A$14:$L$28,3,FALSE))))","v":""},{"$f":"CONCATENATE(IF(H47=\"\",\"\",CONCATENATE(VLOOKUP(H47,$A$14:$L$28,2,FALSE),\" \",VLOOKUP(H47,$A$14:$L$28,3,FALSE))),IF(I47=\"\",\"\",CONCATENATE(VLOOKUP(I47,$A$14:$L$28,2,FALSE),\" \",VLOOKUP(I47,$A$14:$L$28,3,FALSE))))","v":""},{"$f":"CONCATENATE(IF(J47=\"\",\"\",CONCATENATE(VLOOKUP(J47,$A$14:$L$28,2,FALSE),\" \",VLOOKUP(J47,$A$14:$L$28,3,FALSE))),IF(K47=\"\",\"\",CONCATENATE(VLOOKUP(K47,$A$14:$L$28,2,FALSE),\" \",VLOOKUP(K47,$A$14:$L$28,3,FALSE))))","v":""},{"$f":"CONCATENATE(IF(L47=\"\",\"\",CONCATENATE(VLOOKUP(L47,$A$14:$L$28,2,FALSE),\" \",VLOOKUP(L47,$A$14:$L$28,3,FALSE))),IF(M47=\"\",\"\",CONCATENATE(VLOOKUP(M47,$A$14:$L$28,2,FALSE),\" \",VLOOKUP(M47,$A$14:$L$28,3,FALSE))))","v":""},{"$f":"CONCATENATE(IF(N47=\"\",\"\",CONCATENATE(VLOOKUP(N47,$A$14:$L$28,2,FALSE),\" \",VLOOKUP(N47,$A$14:$L$28,3,FALSE))),IF(O47=\"\",\"\",CONCATENATE(VLOOKUP(O47,$A$14:$L$28,2,FALSE),\" \",VLOOKUP(O47,$A$14:$L$28,3,FALSE))))","v":""},{"$f":"CONCATENATE(IF(P47=\"\",\"\",VLOOKUP(P47,$A$14:$W$39,3,FALSE)),IF(Q47=\"\",\"\",VLOOKUP(Q47,$A$14:$W$39,3,FALSE)),IF(R47=\"\",\"\",VLOOKUP(R47,$A$14:$W$39,3,FALSE)),IF(S47=\"\",\"\",VLOOKUP(S47,$A$14:$W$39,3,FALSE)))","v":""},{"$f":"CONCATENATE(IF(T47=\"\",\"\",VLOOKUP(T47,$A$14:$W$39,3,FALSE)),IF(U47=\"\",\"\",VLOOKUP(U47,$A$14:$W$39,3,FALSE)),IF(V47=\"\",\"\",VLOOKUP(V47,$A$14:$W$39,3,FALSE)),IF(W47=\"\",\"\",VLOOKUP(W47,$A$14:$W$39,3,FALSE)))","v":""}]
[null,"09.40-10.30",null,null,null,null,null,null,null,null,null,null,null,null,null,null,null,null,null,null,null,null,null,null,null,null,null,null,null,null,null,null,"09.00-10.00",null,null,null,"","","","","","",""]
[null,"10.40-11.30",null,null,null,null,null,null,null,null,null,null,null,null,null,null,null,null,null,null,null,null,null,null,null,null,null,null,null,null,null,null,"10.00-11.00",null,null,null,"","","","","","",""]
[null,"11.40-12.30",null,null,null,null,null,null,null,null,null,null,null,null,null,null,null,null,null,null,null,null,null,null,null,null,null,null,null,null,null,null,"11.00-12.00",null,null,null,"","","","","","",""]
[null,"12.40-13.30",null,null,null,null,null,null,null,null,null,null,null,null,null,null,null,null,null,null,null,null,null,null,null,null,null,null,null,null,null,null,"12.00-13.00",null,null,null,"","","","","","",""]
[null,"13.40-14.30",null,null,null,null,null,null,null,null,null,null,null,null,null,null,null,null,null,null,null,null,null,null,null,null,null,null,null,null,null,null,"13.00-14.00",null,null,null,"","","","","","",""]
[null,"14.40-15.30",null,null,null,null,null,null,null,null,null,null,null,null,null,null,null,null,null,null,null,null,null,null,null,null,null,null,null,null,null,null,"14.00-15.00",null,null,null,"","","","","","",""]
[null,"15.40-16.30",null,null,null,null,null,null,null,null,null,null,null,null,null,null,null,null,null,null,null,null,null,null,null,null,null,null,null,null,null,null,"15.00-16.00",null,null,null,"","","","","","",""]
[null,"16.40-17.30",null,null,null,null,null,null,null,null,null,null,null,null,null,null,null,null,null,null,null,null,null,null,null,null,null,null,null,null,null,null,"16.00-17.00",null,null,null,{"$f":"CONCATENATE(IF(F55=\"\",\"\",CONCATENATE(VLOOKUP(F55,$A$14:$L$28,2,FALSE),\" \",VLOOKUP(F55,$A$14:$L$28,3,FALSE))),IF(G55=\"\",\"\",CONCATENATE(VLOOKUP(G55,$A$14:$L$28,2,FALSE),\" \",VLOOKUP(G55,$A$14:$L$28,3,FALSE))))","v":""},"","","","","",""]
["İKİNCİ ÖĞRT.","17.40-18.30",null,null,null,null,null,null,null,null,null,null,null,null,null,null,null,null,null,null,null,null,null,null,null,null,null,null,null,null,null,null,"16.00-17.00",null,null,null,{"$f":"CONCATENATE(IF(F56=\"\",\"\",CONCATENATE(VLOOKUP(F56,$A$30:$L$39,2,FALSE),\" \",VLOOKUP(F56,$A$30:$L$39,3,FALSE))),IF(G56=\"\",\"\",CONCATENATE(VLOOKUP(G56,$A$30:$L$39,2,FALSE),\" \",VLOOKUP(G56,$A$30:$L$39,3,FALSE))))","v":""},{"$f":"CONCATENATE(IF(H56=\"\",\"\",CONCATENATE(VLOOKUP(H56,$A$30:$L$39,2,FALSE),\" \",VLOOKUP(H56,$A$30:$L$39,3,FALSE))),IF(I56=\"\",\"\",CONCATENATE(VLOOKUP(I56,$A$30:$L$39,2,FALSE),\" \",VLOOKUP(I56,$A$30:$L$39,3,FALSE))))","v":""},{"$f":"CONCATENATE(IF(J56=\"\",\"\",CONCATENATE(VLOOKUP(J56,$A$30:$L$39,2,FALSE),\" \",VLOOKUP(J56,$A$30:$L$39,3,FALSE))),IF(K56=\"\",\"\",CONCATENATE(VLOOKUP(K56,$A$30:$L$39,2,FALSE),\" \",VLOOKUP(K56,$A$30:$L$39,3,FALSE))))","v":""},{"$f":"CONCATENATE(IF(L56=\"\",\"\",CONCATENATE(VLOOKUP(L56,$A$30:$L$39,2,FALSE),\" \",VLOOKUP(L56,$A$30:$L$39,3,FALSE))),IF(M56=\"\",\"\",CONCATENATE(VLOOKUP(M56,$A$30:$L$39,2,FALSE),\" \",VLOOKUP(M56,$A$30:$L$39,3,FALSE))))","v":""},{"$f":"CONCATENATE(IF(N56=\"\",\"\",CONCATENATE(VLOOKUP(N56,$A$30:$L$39,2,FALSE),\" \",VLOOKUP(N56,$A$30:$L$39,3,FALSE))),IF(O56=\"\",\"\",CONCATENATE(VLOOKUP(O56,$A$30:$L$39,2,FALSE),\" \",VLOOKUP(O56,$A$30:$L$39,3,FALSE))))","v":""},"",""]
[null,"18.40-19.30",null,null,null,null,null,null,null,null,null,null,null,null,null,null,null,null,null,null,null,null,null,null,null,null,null,null,null,null,null,null,"17.00-18.00",null,null,null,{"$f":"CONCATENATE(IF(F57=\"\",\"\",CONCATENATE(VLOOKUP(F57,$A$30:$L$39,2,FALSE),\" \",VLOOKUP(F57,$A$30:$L$39,3,FALSE))),IF(G57=\"\",\"\",CONCATENATE(VLOOKUP(G57,$A$30:$L$39,2,FALSE),\" \",VLOOKUP(G57,$A$30:$L$39,3,FALSE))))","v":""},{"$f":"CONCATENATE(IF(H57=\"\",\"\",CONCATENATE(VLOOKUP(H57,$A$30:$L$39,2,FALSE),\" \",VLOOKUP(H57,$A$30:$L$39,3,FALSE))),IF(I57=\"\",\"\",CONCATENATE(VLOOKUP(I57,$A$30:$L$39,2,FALSE),\" \",VLOOKUP(I57,$A$30:$L$39,3,FALSE))))","v":""},{"$f":"CONCATENATE(IF(J57=\"\",\"\",CONCATENATE(VLOOKUP(J57,$A$30:$L$39,2,FALSE),\" \",VLOOKUP(J57,$A$30:$L$39,3,FALSE))),IF(K57=\"\",\"\",CONCATENATE(VLOOKUP(K57,$A$30:$L$39,2,FALSE),\" \",VLOOKUP(K57,$A$30:$L$39,3,FALSE))))","v":""},{"$f":"CONCATENATE(IF(L57=\"\",\"\",CONCATENATE(VLOOKUP(L57,$A$30:$L$39,2,FALSE),\" \",VLOOKUP(L57,$A$30:$L$39,3,FALSE))),IF(M57=\"\",\"\",CONCATENATE(VLOOKUP(M57,$A$30:$L$39,2,FALSE),\" \",VLOOKUP(M57,$A$30:$L$39,3,FALSE))))","v":""},{"$f":"CONCATENATE(IF(N57=\"\",\"\",CONCATENATE(VLOOKUP(N57,$A$30:$L$39,2,FALSE),\" \",VLOOKUP(N57,$A$30:$L$39,3,FALSE))),IF(O57=\"\",\"\",CONCATENATE(VLOOKUP(O57,$A$30:$L$39,2,FALSE),\" \",VLOOKUP(O57,$A$30:$L$39,3,FALSE))))","v":""},"",""]
[null,"19.40-20.30",null,null,null,null,null,null,null,null,null,null,null,null,null,null,null,null,null,null,null,null,null,null,null,null,null,null,null,null,null,null,"18.00-19.00",null,null,null,"","","","","","",""]
[null,"20.40-21.30",null,null,null,null,null,null,null,null,null,null,null,null,null,null,null,null,null,null,null,null,null,null,null,null,null,null,null,null,null,null,"19.00-20.00",null,null,null,"","","","","","",""]
[null,"21.40-22.30",null,null,null,null,null,null,null,null,null,null,null,null,null,null,null,null,null,null,null,null,null,null,null,null,null,null,null,null,null,null,"20.00-21.00",null,null,null,"","","","","","",""]
[null,"22.40-23.30",null,null,null,null,null,null,null,null,null,null,null,null,null,null,null,null,null,null,null,null,null,"TEO","DF",null,null,null,null,null,null,null,"21.00-22.00",null,null,null,"","","","","","",""]
[null,null,null,null,null,null,null,null,null,null,null,null,null,null,null,null,null,null,null,null,null,null,null,null,null,null,null,null,null,null,null,null,null,null,null,22,{"$f":"CONCATENATE(IF(F62=\"\",\"\",CONCATENATE(VLOOKUP(F62,$A$30:$L$39,2,FALSE),\" \",VLOOKUP(F62,$A$30:$L$39,3,FALSE))),IF(G62=\"\",\"\",CONCATENATE(VLOOKUP(G62,$A$30:$L$39,2,FALSE),\" \",VLOOKUP(G62,$A$30:$L$39,3,FALSE))))","v":""},{"$f":"CONCATENATE(IF(H62=\"\",\"\",CONCATENATE(VLOOKUP(H62,$A$30:$L$39,2,FALSE),\" \",VLOOKUP(H62,$A$30:$L$39,3,FALSE))),IF(I62=\"\",\"\",CONCATENATE(VLOOKUP(I62,$A$30:$L$39,2,FALSE),\" \",VLOOKUP(I62,$A$30:$L$39,3,FALSE))))","v":""},{"$f":"CONCATENATE(IF(J62=\"\",\"\",CONCATENATE(VLOOKUP(J62,$A$30:$L$39,2,FALSE),\" \",VLOOKUP(J62,$A$30:$L$39,3,FALSE))),IF(K62=\"\",\"\",CONCATENATE(VLOOKUP(K62,$A$30:$L$39,2,FALSE),\" \",VLOOKUP(K62,$A$30:$L$39,3,FALSE))))","v":""},{"$f":"CONCATENATE(IF(L62=\"\",\"\",CONCATENATE(VLOOKUP(L62,$A$30:$L$39,2,FALSE),\" \",VLOOKUP(L62,$A$30:$L$39,3,FALSE))),IF(M62=\"\",\"\",CONCATENATE(VLOOKUP(M62,$A$30:$L$39,2,FALSE),\" \",VLOOKUP(M62,$A$30:$L$39,3,FALSE))))","v":""},{"$f":"CONCATENATE(IF(N62=\"\",\"\",CONCATENATE(VLOOKUP(N62,$A$30:$L$39,2,FALSE),\" \",VLOOKUP(N62,$A$30:$L$39,3,FALSE))),IF(O62=\"\",\"\",CONCATENATE(VLOOKUP(O62,$A$30:$L$39,2,FALSE),\" \",VLOOKUP(O62,$A$30:$L$39,3,FALSE))))","v":""},"",""]
[null,null,null,null,null,null,null,null,null,null,null,null,null,null,null,null,null,null,null,null,null,null,null,"TEO.","DF",null,null,null,null,null,null,null,null,null,null,23,"","","","","","",""]
["TOPLAM (Ö.Ö)",null,null,null,null,{"$f":"COUNTIF(F47:F63,\"<P\")","v":0},0,0,0,0,0,0,0,0,0,0,0,null,null,{"$f":"COUNTIF(T47:T63,\"<P\")","v":0},{"$f":"COUNTIF(U47:U63,\"<P\")","v":0},null,null,{"$f":"F64+H64+J64+L64+N64+P64+T64","v":0},{"$f":"G64+I64+K64+M64+O64+Q64+U64","v":0}]
["TOPLAM (İ.Ö)",null,null,null,null,{"$f":"COUNTIF(F47:F63,\">O\")","v":0},0,0,0,0,0,0,0,0,0,null,null,{"$f":"COUNTIF(R47:R63,\">O\")","v":0},{"$f":"COUNTIF(S47:S63,\">O\")","v":0},null,null,{"$f":"COUNTIF(V47:V63,\">O\")","v":0},{"$f":"COUNTIF(W47:W63,\">O\")","v":0},{"$f":"F65+H65+J65+L65+N65+R65+V65","v":0},{"$f":"G65+I65+K65+M65+O65+S65+W65","v":0}]
["GENEL TOPLAM",null,null,null,null,{"$f":"F64+F65","v":0},{"$f":"G64+G65","v":0},0,0,0,0,0,0,0,0,0,0,0,0,0,0,0,0,{"$f":"SUM(F66:W66)","v":0}]
[]
["Yukarıdaki Bilgilerin doğru olduğunu kabul ediyorum.",null,null,null,null,null,null,null,null,null,null,null,null,null,"Yukarıdaki bilgilerin doğruluğunu onaylıyorum."]
["Ö. Elemanının","Düzenleme Tarihi",null,null,null,null,null,null,null,null,null,null,null,null,{"$f":"AD2","v":"Bölüm Başkanı"},"Onay Tarihi"]
[null,"İmzası",null,null,null,null,null,null,null,null,null,null,null,null,null,"İmzası"]
[]
[null,"Adı ve Soyadı",null,null,null,null,null,null,null,null,null,null,null,null,null,"Adı ve Soyadı"]
[]
[]
[]
[]
[]
[]
[]
[]
[]
[]
[]
[]
[]
[]
[]
[]
[]
[]
[]
[]
[]
[]
[]
[]
[]
[]
[]
[]
[]
[]
[]
[]
[]
[]
[]
[]
[]
[]
[]
[]
[]
[]
[]
[]
[]
[]
[]
[]
[]
[]
[]
[]
[]
[]
[]
[]
[]
[]
[]
[]
[]
[]
[]
[]
[]
[]
[]
[]
[]
[]
[]
[]
[]
[]
[]
[]
[]
[]
[]
[]
[]
[]
[]
[]
[]
[]
[]
[]
[]
[]
[]
[]
[]
[]
[]
[]
[]
[]
[]
[]
[]
[]
[]
[]
[]
[]
[]
[]
[]
[]
[]
[]
[]
[]
[]
[]
[]
[]
[]
[]
[]
[]
[]
[]
[]
[]
[]
[]
[]
[]
[]
[]
[]
[]
[]
[]
[]
[]
[]
[]
[]
[]
[]
[]
[]
[]
[]
[]
[]
[]
[]
[]
[]
[]
[]
[]
[]
[]
[]
[]
[]
[]
[]
[]
[]
[]
[]
[]
[]
[]
[]
[]
[]
[]
[]
[]
[]
[]
[]
[]
[]
[]
[]
[]
[]
[]
[]
[]
[]
[]
[]
[]
[]
[]
[]
[]
[]
[]
[]
[]
[]
[]
[]
[]
[]
[]
[]
[]
[]
[]
[]
[]
[]
[]
[]
[]
[]
[]
[]
[]
[]
[]
[]
["Aşağıdaki Form Yazdırma amaçlıdır. Üzerinde Düzeltme yapılamaz."]
[]
[{"$f":"IF(A3=\"\",\"\",A3)","v":"EK 1"},"","TÜRK HAVA KURUMU ÜNİVERSİTESİ","","","","","","","","","","","","","","","","","","","","","",""]
["REKTÖRLÜK ÖĞRETİM ELEMANLARI HAFTALIK DERS YÜKÜ FORMU","","","","","","","","","","","","","","","","","","","","","","","",""]
["","","","","","","","","","","","","","","","","","","","","","","","",""]
["Bölümü","","","","","","","","","","","","Eğitim-Öğr. Yılı","","","","","","","","","","","",""]
["Ünvanı- Adı ve Soyadı","","","","","","","","","","","","Dönemi","","","","","","","","","","","",""]
["İdari Görevi              ","","","","","","","","","","","","Zorunlu Ders Yükü","","","","","","","","","","","",""]
["Kurum Sicil No","","",{"$f":"D9","v":0},{"$f":"IF(D9=\"\",\"\",D9)","v":""},{"$f":"IF(F9=\"\",\"\",F9)","v":"TC Kimlik Numarası"},"",{"$f":"IF(K9=\"\",\"\",K9)","v":""},{"$f":"IF(L9=\"\",\"\",L9)","v":""},{"$f":"IF(M9=\"\",\"\",M9)","v":""},{"$f":"IF(K9=\"\",\"\",K9)","v":""},{"$f":"IF(O9=\"\",\"\",O9)","v":""},{"$f":"IF(P9=\"\",\"\",P9)","v":"Ait Olduğu Ay"},{"$f":"IF(#REF!=\"\",\"\",#REF!)","v":{"$error":"#REF!"}},{"$f":"IF(#REF!=\"\",\"\",#REF!)","v":{"$error":"#REF!"}},{"$f":"P9","v":"Ait Olduğu Ay"},"",{"$f":"IF(T9=\"\",\"\",T9)","v":""},"","","","","","",""]
["","","","","","","","","","","","","","","","","","","","","","","","",""]
["Dersler","","","","","","","","","","","","","","","","","","","Haftalık Saatler","","","","",""]
["D.K.","Kod","Dersin Adı","","","","","","","","","","Fak./Enst./MYO","","","","","","","Teorik","","D. F.","","",""]
["ÖRGÜN ÖĞRETİM","","","","","","","","","","","","","","","","",{"$f":"IF(R13=\"\",\"\",R13)","v":""},"","","","","","Açıklama"]
[{"$f":"IF(A14=\"\",\"\",A14)","v":"A"},"","","","","","","","","","","","","","","","","","","","","","",""]
["B","","","","","","","","","","","","","","","","","","","","","","",""]
["C","","","","","","","","","","","","","","","","","","","","","","",""]
["D","","","","","","","","","","","","","","","","","","","","","","",""]
["E","","","","","","","","","","","","","","","","","","","","","","",""]
["F","","","","","","","","","","","","","","","","","","","","","","",""]
["G","","","","","","","","","","","","","","","","","","","","","","",""]
["H","","","","","","","","","","","","","","","","","","","","","","",""]
["I","","","","","","","","","","","","","","","","","","","","","","",""]
["J","","","","","","","","","","","","","","","","","","","","","","",""]
["K","","","","","","","","","","","","","","","","","","","","","","",""]
["L","","","","","","","","","","","","","","","","","","","","","","",""]
["M","","","","","","","","","","","","","","","","","","","","","","",""]
["N","","","","","","","","","","","","","","","","","","","","","","",""]
["O","","","","","","","","","","","","","","","","","","","","","","",""]
[{"$f":"IF(A29=\"\",\"\",A29)","v":"İKİNCİ ÖĞRETİM"},"","","","","","","","","","","","","","","","","","","","","","","GN.D.S"]
["P","","","","","","","","","","","","","","","","","","","","","","",""]
["R","","","","","","","","","","","","","","","","","","","","","","","",{"$f":"IF(Y31=\"\",\"\",Y31)","v":""}]
["S","","","","","","","","","","","","","","","","","","","","","","",""]
["T","","","","","","","","","","","","","","","","","","","","","","","",{"$f":"IF(Y33=\"\",\"\",Y33)","v":""}]
["U","","","","","","","","","","","","","","","","","","","","","","","",""]
["V","","","","","","","","","","","","","","","","","","","","","","","",""]
["W","","","","","","","","","","","","","","","","","","","","","","","",""]
["X","","","","","","","","","","","","","","","","","","","","","","","",""]
["Y","","","","","","","","","","","","","","","","","","","","","","","",""]
["Z","","","","","","","","","","","","","","",{"$f":"IF(P39=\"\",\"\",P39)","v":""},"","","","","","","","",""]
[{"$f":"IF(A40=\"\",\"\",A40)","v":"TOPLAM (Ö.Ö)"},"","","","","","","","","","","","","","","","","","",0,"",0,"","",""]
["TOPLAM (İ.Ö)","","","","","","","","","","","","","","","","","","",0,"",0,"","",""]
["","","","","","","","","","","","","","","","","","","","","","","","",""]
["","","","","","TEORİK VE DİĞER DERSLERİN PROGRAMI","","","","","","","","","","","","","","","","","","",""]
["","","","",""," P.TESİ",""," SALI",""," ÇARŞ.",""," PERŞ.",""," CUMA",""," C.TESİ","","",""," PAZAR","","","","",""]
["","","","","","","","","","","","","","","","Ö.Ö","","İ.Ö","","Ö.Ö","","İ.Ö","","",""]
["","","","","","T","D","T","D","T","D","T","D","T","D","T","D","T","D","T","D","T","D","",""]
["ÖRGÜN ÖĞRETİM","08.40-09.30","","","","","","","","","","","","","","","","","","","","","","",""]
["","09.40-10.30","","","","","","","","","","","","","","","","","","","","","","",""]
["","10.40-11.30","","","","","","","","","","","","","","","","","","","","","","",""]
["","11.40-12.30","","","","","","","","","","","","","","","","","","","","","","",""]
["","12.40-13.30","","","","","","","","","","","","","","","","","","","","","","",""]
["","13.40-14.30","","","","","","","","","","","","","","","","","","","","","","",""]
["","14.40-15.30","","","","","","","","","","","","","","","","","","","","","","",""]
["","15.40-16.30","","","","","","","","","","","","","","","","","","","","","","",""]
["","16.40-17.30","","","","","","","","","","","","","",{"$f":"IF(P55=\"\",\"\",P55)","v":""},"","","","","","","","",""]
[{"$f":"IF(A56=\"\",\"\",A56)","v":"İKİNCİ ÖĞRT."},"17.40-18.30","","","","","","","","","","","","","","","","","","","","","","",""]
[null,{"$f":"IF(B57=\"\",\"\",B57)","v":"18.40-19.30"},{"$f":"IF(C57=\"\",\"\",C57)","v":""},"","","","","","","","","","","","","","","",{"$f":"IF(S57=\"\",\"\",S57)","v":""},{"$f":"IF(T57=\"\",\"\",T57)","v":""},{"$f":"IF(U57=\"\",\"\",U57)","v":""},{"$f":"IF(V57=\"\",\"\",V57)","v":""},{"$f":"IF(W57=\"\",\"\",W57)","v":""}]
[{"$f":"IF(A58=\"\",\"\",A58)","v":""},{"$f":"IF(B58=\"\",\"\",B58)","v":"19.40-20.30"},{"$f":"IF(C58=\"\",\"\",C58)","v":""},{"$f":"IF(D58=\"\",\"\",D58)","v":""},{"$f":"IF(E58=\"\",\"\",E58)","v":""},"","","","","","","","","","","","","","","",{"$f":"IF(U58=\"\",\"\",U58)","v":""},{"$f":"IF(V58=\"\",\"\",V58)","v":""},{"$f":"IF(W58=\"\",\"\",W58)","v":""},{"$f":"IF(X58=\"\",\"\",X58)","v":""},{"$f":"IF(Y58=\"\",\"\",Y58)","v":""}]
[null,{"$f":"IF(B59=\"\",\"\",B59)","v":"20.40-21.30"},{"$f":"IF(C58=\"\",\"\",C58)","v":""},"","","","","","","","","","","","","","","","","","","","",{"$f":"IF(X58=\"\",\"\",X58)","v":""},{"$f":"IF(Y58=\"\",\"\",Y58)","v":""}]
[{"$f":"IF(A59=\"\",\"\",A59)","v":""},"21.40-22.30","","","","","","","","","","","",{"$f":"IF(N60=\"\",\"\",N60)","v":""},"","","","","","","","","","TEO.","DF"]
[{"$f":"IF(A61=\"\",\"\",A61)","v":""},"22.40-23.30","","","","","","","","","","","","","","","","","","","","","","TEO","DF"]
["","","","","","","","","","","","","","","","","","","","","","","","",""]
["","","","","","","","","","","","","","","","","","","","","","","","TEO.","DF"]
["TOPLAM (Ö.Ö)","","","","",0,0,0,0,0,0,0,0,0,0,0,0,"","",0,0,"","",0,0]
["TOPLAM (İ.Ö)","","","","",0,0,0,0,0,0,0,0,0,0,"","",0,0,"","",0,0,0,0]
["GENEL TOPLAM","","","","",0,0,0,0,0,0,0,0,0,0,0,0,0,0,0,0,0,0,0,""]
["","","","","","","","","","","","","","","","","","","","","","","","",""]
["Yukarıdaki Bilgilerin doğru olduğunu kabul ediyorum.","","","","","","","","","","","","","","Yukarıdaki bilgilerin doğruluğunu onaylıyorum.","","","","","","","","","",""]
["Ö. Elemanının","Düzenleme Tarihi","","","","","","","","","","","","","Bölüm Başkanı","Onay Tarihi","","","","","","","","",""]
["","İmzası","","","","","","","","","","","","","","İmzası","","","","","","","","",""]
["","","","","","","","","","","","","","","","",{"$f":"IF(Q71=\"\",\"\",Q71)","v":""},"","","","","","","",""]
["","Adı ve Soyadı","","","","","","","","","","","","","","Adı ve Soyadı","","","","","","","","",""]
["","","","","","","","","","","","","","","","","","","","","","","","",""]
["","","","","","","","","","","","","","","","","","","","","","","","",""]
[]
[{"$f":"IF(A76=\"\",\"\",A76)","v":""},"","","","","","","","","","","","","","","","","","","","","","","",""]

{"sheet":"farklı dp","index":1,"n_rows":103,"n_cols":61,"rows_kept":103,"cut":false,"hidden":false,"merged":[[4,5,4,13],[5,5,5,13],[6,5,6,13],[7,5,7,13],[8,5,8,13],[9,5,9,13],[16,1,16,4],[3,31,3,34],[3,35,3,38],[13,1,13,4],[14,1,14,4],[7,1,7,4],[8,1,8,4],[9,1,9,4],[83,0,91,0],[83,1,83,4],[40,1,40,4],[50,0,50,4],[43,1,43,4],[43,29,43,32],[44,1,44,4],[44,29,44,32],[23,16,23,20],[40,0,47,0],[45,1,45,4],[45,29,45,32],[46,1,46,4],[46,29,46,32],[42,1,42,4],[42,29,42,32],[29,11,29,12],[35,1,35,4],[35,29,35,32],[36,1,36,4],[36,29,36,32],[37,1,37,4],[37,29,37,32],[40,28,47,28],[274,0,274,24],[97,1,97,4],[98,1,98,4],[99,1,99,4],[100,0,100,4],[101,0,101,4],[102,0,102,4],[92,0,99,0],[92,1,92,4],[93,1,93,4],[94,1,94,4],[95,1,95,4],[96,1,96,4],[102,23,102,24],[271,0,271,24],[273,2,273,24],[84,1,84,4],[85,1,85,4],[54,33,54,34],[54,35,54,36],[54,37,54,38],[86,1,86,4],[87,1,87,4],[88,1,88,4],[89,1,89,4],[60,29,60,32],[61,1,61,4],[61,29,61,32],[62,1,62,4],[62,29,62,32],[63,1,63,4],[63,29,63,32],[55,33,55,34],[55,35,55,36],[55,37,55,38],[54,5,54,6],[54,7,54,8],[54,9,54,10],[54,11,54,12],[54,13,54,14],[90,1,90,4],[91,1,91,4],[71,1,71,4],[71,29,71,32],[72,1,72,4],[72,29,72,32],[73,1,73,4],[73,29,73,32],[66,0,73,0],[68,1,68,4],[68,29,68,32],[69,1,69,4],[69,29,69,32],[75,0,75,4],[75,28,75,32],[70,1,70,4],[70,29,70,32],[66,1,66,4],[66,28,73,28],[66,29,66,32],[67,1,67,4],[67,29,67,32],[74,0,74,4],[74,28,74,32],[76,51,76,52],[79,0,82,4],[79,5,79,22],[80,15,80,18],[80,19,80,22],[81,15,81,16],[81,17,81,18],[81,19,81,20],[81,21,81,22],[81,5,81,6],[81,7,81,8],[81,9,81,10],[81,11,81,12],[81,13,81,14],[80,5,80,6],[80,7,80,8],[80,9,80,10],[80,11,80,12],[76,0,76,4],[76,23,76,24],[76,28,76,32],[80,13,80,14],[57,0,65,0],[57,1,57,4],[57,28,65,28],[57,29,57,32],[58,1,58,4],[58,29,58,32],[60,1,60,4],[64,1,64,4],[64,29,64,32],[65,1,65,4],[65,29,65,32],[59,1,59,4],[59,29,59,32],[50,51,50,52],[53,0,56,4],[53,5,53,22],[53,28,56,32],[53,33,53,50],[55,43,55,44],[55,45,55,46],[55,47,55,48],[54,15,54,18],[54,19,54,22],[55,5,55,6],[55,7,55,8],[55,9,55,10],[55,11,55,12],[55,13,55,14],[54,39,54,40],[54,41,54,42],[55,49,55,50],[54,43,54,46],[55,39,55,40],[55,41,55,42],[50,23,50,24],[50,28,50,32],[47,1,47,4],[47,29,47,32],[29,21,29,22],[54,47,54,50],[55,15,55,16],[55,17,55,18],[55,19,55,20],[55,21,55,22],[48,0,48,4],[48,28,48,32],[49,0,49,4],[49,28,49,32],[40,29,40,32],[41,1,41,4],[29,13,29,14],[34,29,34,32],[41,29,41,32],[31,0,39,0],[31,1,31,4],[31,28,39,28],[31,29,31,32],[32,1,32,4],[32,29,32,32],[33,1,33,4],[33,29,33,32],[34,1,34,4],[38,1,38,4],[38,29,38,32],[39,1,39,4],[39,29,39,32],[24,16,24,20],[28,43,28,46],[28,47,28,50],[29,15,29,16],[29,17,29,18],[29,19,29,20],[28,41,28,42],[29,33,29,34],[29,35,29,36],[29,37,29,38],[29,39,29,40],[29,41,29,42],[29,49,29,50],[28,39,28,40],[27,0,30,4],[27,5,27,22],[27,28,30,32],[27,33,27,50],[29,43,29,44],[29,45,29,46],[29,47,29,48],[28,15,28,18],[28,19,28,22],[28,5,28,6],[28,7,28,8],[28,9,28,10],[28,11,28,12],[28,13,28,14],[28,33,28,34],[28,35,28,36],[28,37,28,38],[29,5,29,6],[29,7,29,8],[29,9,29,10],[1,29,2,30],[1,31,1,34],[1,35,1,38],[3,21,3,22],[3,23,3,24],[3,25,3,26],[3,27,3,28],[3,29,3,30],[24,39,24,40],[22,16,22,20],[2,31,2,32],[2,33,2,34],[2,35,2,36],[0,17,4,20],[5,17,13,17],[14,17,19,17],[0,21,0,38],[10,5,10,13],[11,5,11,13],[12,5,12,13],[13,5,13,13],[14,5,14,13],[15,5,15,13],[16,5,16,13],[17,5,17,13],[18,5,18,13],[3,5,3,13],[0,1,0,13],[15,1,15,4],[17,1,17,4],[18,1,18,4],[1,2,1,5],[1,6,1,14],[2,2,2,5],[2,6,2,14],[3,1,3,4],[17,44,17,50],[18,44,18,50],[3,41,3,43],[4,41,4,43],[5,41,5,43],[6,41,6,43],[7,41,7,43],[8,41,8,43],[9,41,9,43],[10,41,10,43],[4,1,4,4],[5,1,5,4],[6,1,6,4],[10,1,10,4],[11,1,11,4],[12,1,12,4],[2,37,2,38],[1,21,2,22],[1,23,2,24],[1,25,2,26],[1,27,2,28],[19,44,19,50],[11,41,11,43],[12,41,12,43],[13,41,13,43],[14,41,14,43],[15,41,15,43],[16,41,16,43],[17,41,17,43],[18,41,18,43],[19,41,19,43],[11,44,11,50],[12,44,12,50],[13,44,13,50],[14,44,14,50],[15,44,15,50],[16,44,16,50],[0,41,0,50],[3,44,3,50],[4,44,4,50],[5,44,5,50],[6,44,6,50],[7,44,7,50],[8,44,8,50],[9,44,9,50],[10,44,10,50]]}
[null,"RESMİ TATİLLER",null,null,null,null,null,null,null,null,null,null,null,null,null,null,null,null,null,null,null,"HAFTALIK DERS PROGRAMI",null,null,null,null,null,null,null,null,null,null,null,null,null,null,null,null,null,null,null,"YILLIK İZİN / AKADEMİK GÖREVLENDİRİLME/ RAPOR",null,null,null,null,null,null,null,null,null,null,null,null,null,null,null,null,null,null,{"$f":"DersYükü!S1","v":0}]
[null,null,null,null,null,null,null,null,null,null,null,null,null,null,null,null,null,null,null,null,null," P.TESİ",null," SALI",null," ÇARŞ.",null," PERŞ.",null," CUMA",null," C.TESİ",null,null,null," PAZAR"]
[null,null,null,null,null,null,null,null,null,null,null,null,null,null,null,null,null,null,null,null,null,null,null,null,null,null,null,null,null,null,null,"Ö.Ö",null,"İ.Ö",null,"Ö.Ö",null,"İ.Ö"]
[null,{"$f":"IFERROR((Tatiller!BC4),\"\")","v":""},null,null,null,{"$f":"IF(B4=\"\",\"\",Tatiller!BD4)","v":""},null,null,null,null,null,null,null,null,null,null,null,null,null,null,null,"P.TESİ",null,"SALI",null,"ÇAR.",null,"PER.",null,"CUMA",null,"CUMARTESİ",null,null,null,"PAZAR"]
[null,{"$f":"IFERROR((Tatiller!BC5),\"\")","v":""},null,null,null,{"$f":"IF(B5=\"\",\"\",Tatiller!BD5)","v":""},null,null,null,null,null,null,null,null,null,null,null,null,null,null,null,"T","D","T","D","T","D","T","D","T","D","T","D","T","D","T","D","T","D"]
[null,{"$f":"IFERROR((Tatiller!BC6),\"\")","v":""},null,null,null,{"$f":"IF(B6=\"\",\"\",Tatiller!BD6)","v":""},null,null,null,null,null,null,null,null,null,null,null,"ÖRGÜN ÖĞRETİM","08.00-09.00",null,null,{"$f":"IF(DersYükü!F47=0,\"\",DersYükü!F47)","v":""},{"$f":"IF(DersYükü!G47=0,\"\",DersYükü!G47)","v":""},{"$f":"IF(DersYükü!H47=0,\"\",DersYükü!H47)","v":""},{"$f":"IF(DersYükü!I47=0,\"\",DersYükü!I47)","v":""},{"$f":"IF(DersYükü!J47=0,\"\",DersYükü!J47)","v":""},{"$f":"IF(DersYükü!K47=0,\"\",DersYükü!K47)","v":""},{"$f":"IF(DersYükü!L47=0,\"\",DersYükü!L47)","v":""},{"$f":"IF(DersYükü!M47=0,\"\",DersYükü!M47)","v":""},{"$f":"IF(DersYükü!N47=0,\"\",DersYükü!N47)","v":""},{"$f":"IF(DersYükü!O47=0,\"\",DersYükü!O47)","v":""},{"$f":"IF(DersYükü!P47=0,\"\",DersYükü!P47)","v":""},{"$f":"IF(DersYükü!Q47=0,\"\",DersYükü!Q47)","v":""},{"$f":"IF(DersYükü!R47=0,\"\",DersYükü!R47)","v":""},{"$f":"IF(DersYükü!S47=0,\"\",DersYükü!S47)","v":""},{"$f":"IF(DersYükü!T47=0,\"\",DersYükü!T47)","v":""},{"$f":"IF(DersYükü!U47=0,\"\",DersYükü!U47)","v":""},{"$f":"IF(DersYükü!V47=0,\"\",DersYükü!V47)","v":""},{"$f":"IF(DersYükü!W47=0,\"\",DersYükü!W47)","v":""}]
[null,{"$f":"IFERROR((Tatiller!BC7),\"\")","v":""},null,null,null,{"$f":"IF(B7=\"\",\"\",Tatiller!BD7)","v":""},null,null,null,null,null,null,null,null,null,null,null,null,"09.00-10.00",null,null,{"$f":"IF(DersYükü!F48=0,\"\",DersYükü!F48)","v":""},{"$f":"IF(DersYükü!G48=0,\"\",DersYükü!G48)","v":""},{"$f":"IF(DersYükü!H48=0,\"\",DersYükü!H48)","v":""},{"$f":"IF(DersYükü!I48=0,\"\",DersYükü!I48)","v":""},{"$f":"IF(DersYükü!J48=0,\"\",DersYükü!J48)","v":""},{"$f":"IF(DersYükü!K48=0,\"\",DersYükü!K48)","v":""},{"$f":"IF(DersYükü!L48=0,\"\",DersYükü!L48)","v":""},{"$f":"IF(DersYükü!M48=0,\"\",DersYükü!M48)","v":""},{"$f":"IF(DersYükü!N48=0,\"\",DersYükü!N48)","v":""},{"$f":"IF(DersYükü!O48=0,\"\",DersYükü!O48)","v":""},{"$f":"IF(DersYükü!P48=0,\"\",DersYükü!P48)","v":""},{"$f":"IF(DersYükü!Q48=0,\"\",DersYükü!Q48)","v":""},{"$f":"IF(DersYükü!R48=0,\"\",DersYükü!R48)","v":""},{"$f":"IF(DersYükü!S48=0,\"\",DersYükü!S48)","v":""},{"$f":"IF(DersYükü!T48=0,\"\",DersYükü!T48)","v":""},{"$f":"IF(DersYükü!U48=0,\"\",DersYükü!U48)","v":""},{"$f":"IF(DersYükü!V48=0,\"\",DersYükü!V48)","v":""},{"$f":"IF(DersYükü!W48=0,\"\",DersYükü!W48)","v":""}]
[null,{"$f":"IFERROR((Tatiller!BC8),\"\")","v":""},null,null,null,{"$f":"IF(B8=\"\",\"\",Tatiller!BD8)","v":""},null,null,null,null,null,null,null,null,null,null,null,null,"10.00-11.00",null,null,{"$f":"IF(DersYükü!F49=0,\"\",DersYükü!F49)","v":""},{"$f":"IF(DersYükü!G49=0,\"\",DersYükü!G49)","v":""},{"$f":"IF(DersYükü!H49=0,\"\",DersYükü!H49)","v":""},{"$f":"IF(DersYükü!I49=0,\"\",DersYükü!I49)","v":""},{"$f":"IF(DersYükü!J49=0,\"\",DersYükü!J49)","v":""},{"$f":"IF(DersYükü!K49=0,\"\",DersYükü!K49)","v":""},{"$f":"IF(DersYükü!L49=0,\"\",DersYükü!L49)","v":""},{"$f":"IF(DersYükü!M49=0,\"\",DersYükü!M49)","v":""},{"$f":"IF(DersYükü!N49=0,\"\",DersYükü!N49)","v":""},{"$f":"IF(DersYükü!O49=0,\"\",DersYükü!O49)","v":""},{"$f":"IF(DersYükü!P49=0,\"\",DersYükü!P49)","v":""},{"$f":"IF(DersYükü!Q49=0,\"\",DersYükü!Q49)","v":""},{"$f":"IF(DersYükü!R49=0,\"\",DersYükü!R49)","v":""},{"$f":"IF(DersYükü!S49=0,\"\",DersYükü!S49)","v":""},{"$f":"IF(DersYükü!T49=0,\"\",DersYükü!T49)","v":""},{"$f":"IF(DersYükü!U49=0,\"\",DersYükü!U49)","v":""},{"$f":"IF(DersYükü!V49=0,\"\",DersYükü!V49)","v":""},{"$f":"IF(DersYükü!W49=0,\"\",DersYükü!W49)","v":""}]
[null,{"$f":"IFERROR((Tatiller!BC9-1),\"\")","v":""},null,null,null,{"$f":"IF(B9=\"\",\"\",Tatiller!BD49)","v":""},null,null,null,null,null,null,null,null,null,null,null,null,"11.00-12.00",null,null,{"$f":"IF(DersYükü!F50=0,\"\",DersYükü!F50)","v":""},{"$f":"IF(DersYükü!G50=0,\"\",DersYükü!G50)","v":""},{"$f":"IF(DersYükü!H50=0,\"\",DersYükü!H50)","v":""},{"$f":"IF(DersYükü!I50=0,\"\",DersYükü!I50)","v":""},{"$f":"IF(DersYükü!J50=0,\"\",DersYükü!J50)","v":""},{"$f":"IF(DersYükü!K50=0,\"\",DersYükü!K50)","v":""},{"$f":"IF(DersYükü!L50=0,\"\",DersYükü!L50)","v":""},{"$f":"IF(DersYükü!M50=0,\"\",DersYükü!M50)","v":""},{"$f":"IF(DersYükü!N50=0,\"\",DersYükü!N50)","v":""},{"$f":"IF(DersYükü!O50=0,\"\",DersYükü!O50)","v":""},{"$f":"IF(DersYükü!P50=0,\"\",DersYükü!P50)","v":""},{"$f":"IF(DersYükü!Q50=0,\"\",DersYükü!Q50)","v":""},{"$f":"IF(DersYükü!R50=0,\"\",DersYükü!R50)","v":""},{"$f":"IF(DersYükü!S50=0,\"\",DersYükü!S50)","v":""},{"$f":"IF(DersYükü!T50=0,\"\",DersYükü!T50)","v":""},{"$f":"IF(DersYükü!U50=0,\"\",DersYükü!U50)","v":""},{"$f":"IF(DersYükü!V50=0,\"\",DersYükü!V50)","v":""},{"$f":"IF(DersYükü!W50=0,\"\",DersYükü!W50)","v":""}]
[null,{"$f":"IFERROR((Tatiller!BC9),\"\")","v":""},null,null,null,{"$f":"IF(B10=\"\",\"\",Tatiller!BD9)","v":""},null,null,null,null,null,null,null,null,null,null,null,null,"12.00-13.00",null,null,{"$f":"IF(DersYükü!F51=0,\"\",DersYükü!F51)","v":""},{"$f":"IF(DersYükü!G51=0,\"\",DersYükü!G51)","v":""},{"$f":"IF(DersYükü!H51=0,\"\",DersYükü!H51)","v":""},{"$f":"IF(DersYükü!I51=0,\"\",DersYükü!I51)","v":""},{"$f":"IF(DersYükü!J51=0,\"\",DersYükü!J51)","v":""},{"$f":"IF(DersYükü!K51=0,\"\",DersYükü!K51)","v":""},{"$f":"IF(DersYükü!L51=0,\"\",DersYükü!L51)","v":""},{"$f":"IF(DersYükü!M51=0,\"\",DersYükü!M51)","v":""},{"$f":"IF(DersYükü!N51=0,\"\",DersYükü!N51)","v":""},{"$f":"IF(DersYükü!O51=0,\"\",DersYükü!O51)","v":""},{"$f":"IF(DersYükü!P51=0,\"\",DersYükü!P51)","v":""},{"$f":"IF(DersYükü!Q51=0,\"\",DersYükü!Q51)","v":""},{"$f":"IF(DersYükü!R51=0,\"\",DersYükü!R51)","v":""},{"$f":"IF(DersYükü!S51=0,\"\",DersYükü!S51)","v":""},{"$f":"IF(DersYükü!T51=0,\"\",DersYükü!T51)","v":""},{"$f":"IF(DersYükü!U51=0,\"\",DersYükü!U51)","v":""},{"$f":"IF(DersYükü!V51=0,\"\",DersYükü!V51)","v":""},{"$f":"IF(DersYükü!W51=0,\"\",DersYükü!W51)","v":""}]
[null,{"$f":"IFERROR((B12-1),\"\")","v":""},null,null,null,{"$f":"IF(B11=\"\",\"\",Tatiller!BD50)","v":""},null,null,null,null,null,null,null,null,null,null,null,null,"13.00-14.00",null,null,{"$f":"IF(DersYükü!F52=0,\"\",DersYükü!F52)","v":""},{"$f":"IF(DersYükü!G52=0,\"\",DersYükü!G52)","v":""},{"$f":"IF(DersYükü!H52=0,\"\",DersYükü!H52)","v":""},{"$f":"IF(DersYükü!I52=0,\"\",DersYükü!I52)","v":""},{"$f":"IF(DersYükü!J52=0,\"\",DersYükü!J52)","v":""},{"$f":"IF(DersYükü!K52=0,\"\",DersYükü!K52)","v":""},{"$f":"IF(DersYükü!L52=0,\"\",DersYükü!L52)","v":""},{"$f":"IF(DersYükü!M52=0,\"\",DersYükü!M52)","v":""},{"$f":"IF(DersYükü!N52=0,\"\",DersYükü!N52)","v":""},{"$f":"IF(DersYükü!O52=0,\"\",DersYükü!O52)","v":""},{"$f":"IF(DersYükü!P52=0,\"\",DersYükü!P52)","v":""},{"$f":"IF(DersYükü!Q52=0,\"\",DersYükü!Q52)","v":""},{"$f":"IF(DersYükü!R52=0,\"\",DersYükü!R52)","v":""},{"$f":"IF(DersYükü!S52=0,\"\",DersYükü!S52)","v":""},{"$f":"IF(DersYükü!T52=0,\"\",DersYükü!T52)","v":""},{"$f":"IF(DersYükü!U52=0,\"\",DersYükü!U52)","v":""},{"$f":"IF(DersYükü!V52=0,\"\",DersYükü!V52)","v":""},{"$f":"IF(DersYükü!W52=0,\"\",DersYükü!W52)","v":""}]
[null,{"$f":"IFERROR((Tatiller!BC10),\"\")","v":""},null,null,null,{"$f":"IF(B12=\"\",\"\",Tatiller!BD10)","v":""},null,null,null,null,null,null,null,null,null,null,null,null,"14.00-15.00",null,null,{"$f":"IF(DersYükü!F53=0,\"\",DersYükü!F53)","v":""},{"$f":"IF(DersYükü!G53=0,\"\",DersYükü!G53)","v":""},{"$f":"IF(DersYükü!H53=0,\"\",DersYükü!H53)","v":""},{"$f":"IF(DersYükü!I53=0,\"\",DersYükü!I53)","v":""},{"$f":"IF(DersYükü!J53=0,\"\",DersYükü!J53)","v":""},{"$f":"IF(DersYükü!K53=0,\"\",DersYükü!K53)","v":""},{"$f":"IF(DersYükü!L53=0,\"\",DersYükü!L53)","v":""},{"$f":"IF(DersYükü!M53=0,\"\",DersYükü!M53)","v":""},{"$f":"IF(DersYükü!N53=0,\"\",DersYükü!N53)","v":""},{"$f":"IF(DersYükü!O53=0,\"\",DersYükü!O53)","v":""},{"$f":"IF(DersYükü!P53=0,\"\",DersYükü!P53)","v":""},{"$f":"IF(DersYükü!Q53=0,\"\",DersYükü!Q53)","v":""},{"$f":"IF(DersYükü!R53=0,\"\",DersYükü!R53)","v":""},{"$f":"IF(DersYükü!S53=0,\"\",DersYükü!S53)","v":""},{"$f":"IF(DersYükü!T53=0,\"\",DersYükü!T53)","v":""},{"$f":"IF(DersYükü!U53=0,\"\",DersYükü!U53)","v":""},{"$f":"IF(DersYükü!V53=0,\"\",DersYükü!V53)","v":""},{"$f":"IF(DersYükü!W53=0,\"\",DersYükü!W53)","v":""}]
[null,{"$f":"IFERROR((Tatiller!BC10+1),\"\")","v":""},null,null,null,{"$f":"IF(B13=\"\",\"\",Tatiller!BD11)","v":""},null,null,null,null,null,null,null,null,null,null,null,null,"15.00-16.00",null,null,{"$f":"IF(DersYükü!F54=0,\"\",DersYükü!F54)","v":""},{"$f":"IF(DersYükü!G54=0,\"\",DersYükü!G54)","v":""},{"$f":"IF(DersYükü!H54=0,\"\",DersYükü!H54)","v":""},{"$f":"IF(DersYükü!I54=0,\"\",DersYükü!I54)","v":""},{"$f":"IF(DersYükü!J54=0,\"\",DersYükü!J54)","v":""},{"$f":"IF(DersYükü!K54=0,\"\",DersYükü!K54)","v":""},{"$f":"IF(DersYükü!L54=0,\"\",DersYükü!L54)","v":""},{"$f":"IF(DersYükü!M54=0,\"\",DersYükü!M54)","v":""},{"$f":"IF(DersYükü!N54=0,\"\",DersYükü!N54)","v":""},{"$f":"IF(DersYükü!O54=0,\"\",DersYükü!O54)","v":""},{"$f":"IF(DersYükü!P54=0,\"\",DersYükü!P54)","v":""},{"$f":"IF(DersYükü!Q54=0,\"\",DersYükü!Q54)","v":""},{"$f":"IF(DersYükü!R54=0,\"\",DersYükü!R54)","v":""},{"$f":"IF(DersYükü!S54=0,\"\",DersYükü!S54)","v":""},{"$f":"IF(DersYükü!T54=0,\"\",DersYükü!T54)","v":""},{"$f":"IF(DersYükü!U54=0,\"\",DersYükü!U54)","v":""},{"$f":"IF(DersYükü!V54=0,\"\",DersYükü!V54)","v":""},{"$f":"IF(DersYükü!W54=0,\"\",DersYükü!W54)","v":""}]
[null,{"$f":"IFERROR((Tatiller!BC10+2),\"\")","v":""},null,null,null,{"$f":"IF(B14=\"\",\"\",Tatiller!BD12)","v":""},null,null,null,null,null,null,null,null,null,null,null,null,"16.00-17.00",null,null,{"$f":"IF(DersYükü!F55=0,\"\",DersYükü!F55)","v":""},{"$f":"IF(DersYükü!G55=0,\"\",DersYükü!G55)","v":""},{"$f":"IF(DersYükü!H55=0,\"\",DersYükü!H55)","v":""},{"$f":"IF(DersYükü!I55=0,\"\",DersYükü!I55)","v":""},{"$f":"IF(DersYükü!J55=0,\"\",DersYükü!J55)","v":""},{"$f":"IF(DersYükü!K55=0,\"\",DersYükü!K55)","v":""},{"$f":"IF(DersYükü!L55=0,\"\",DersYükü!L55)","v":""},{"$f":"IF(DersYükü!M55=0,\"\",DersYükü!M55)","v":""},{"$f":"IF(DersYükü!N55=0,\"\",DersYükü!N55)","v":""},{"$f":"IF(DersYükü!O55=0,\"\",DersYükü!O55)","v":""},{"$f":"IF(DersYükü!P55=0,\"\",DersYükü!P55)","v":""},{"$f":"IF(DersYükü!Q55=0,\"\",DersYükü!Q55)","v":""},{"$f":"IF(DersYükü!R55=0,\"\",DersYükü!R55)","v":""},{"$f":"IF(DersYükü!S55=0,\"\",DersYükü!S55)","v":""},{"$f":"IF(DersYükü!T55=0,\"\",DersYükü!T55)","v":""},{"$f":"IF(DersYükü!U55=0,\"\",DersYükü!U55)","v":""},{"$f":"IF(DersYükü!V55=0,\"\",DersYükü!V55)","v":""},{"$f":"IF(DersYükü!W55=0,\"\",DersYükü!W55)","v":""}]
[null,{"$f":"IFERROR((Tatiller!BC13-1),\"\")","v":""},null,null,null,{"$f":"IF(B15=\"\",\"\",Tatiller!BD51)","v":""},null,null,null,null,null,null,null,null,null,null,null,"İKİNCİ ÖĞRT.","16.00-17.00",null,null,{"$f":"IF(DersYükü!F56=0,\"\",DersYükü!F56)","v":""},{"$f":"IF(DersYükü!G56=0,\"\",DersYükü!G56)","v":""},{"$f":"IF(DersYükü!H56=0,\"\",DersYükü!H56)","v":""},{"$f":"IF(DersYükü!I56=0,\"\",DersYükü!I56)","v":""},{"$f":"IF(DersYükü!J56=0,\"\",DersYükü!J56)","v":""},{"$f":"IF(DersYükü!K56=0,\"\",DersYükü!K56)","v":""},{"$f":"IF(DersYükü!L56=0,\"\",DersYükü!L56)","v":""},{"$f":"IF(DersYükü!M56=0,\"\",DersYükü!M56)","v":""},{"$f":"IF(DersYükü!N56=0,\"\",DersYükü!N56)","v":""},{"$f":"IF(DersYükü!O56=0,\"\",DersYükü!O56)","v":""},{"$f":"IF(DersYükü!P56=0,\"\",DersYükü!P56)","v":""},{"$f":"IF(DersYükü!Q56=0,\"\",DersYükü!Q56)","v":""},{"$f":"IF(DersYükü!R56=0,\"\",DersYükü!R56)","v":""},{"$f":"IF(DersYükü!S56=0,\"\",DersYükü!S56)","v":""},{"$f":"IF(DersYükü!T56=0,\"\",DersYükü!T56)","v":""},{"$f":"IF(DersYükü!U56=0,\"\",DersYükü!U56)","v":""},{"$f":"IF(DersYükü!V56=0,\"\",DersYükü!V56)","v":""},{"$f":"IF(DersYükü!W56=0,\"\",DersYükü!W56)","v":""}]
[null,{"$f":"IFERROR((Tatiller!BC13),\"\")","v":""},null,null,null,{"$f":"IF(B16=\"\",\"\",Tatiller!BD13)","v":""},null,null,null,null,null,null,null,null,null,null,null,null,"17.00-18.00",null,null,{"$f":"IF(DersYükü!F57=0,\"\",DersYükü!F57)","v":""},{"$f":"IF(DersYükü!G57=0,\"\",DersYükü!G57)","v":""},{"$f":"IF(DersYükü!H57=0,\"\",DersYükü!H57)","v":""},{"$f":"IF(DersYükü!I57=0,\"\",DersYükü!I57)","v":""},{"$f":"IF(DersYükü!J57=0,\"\",DersYükü!J57)","v":""},{"$f":"IF(DersYükü!K57=0,\"\",DersYükü!K57)","v":""},{"$f":"IF(DersYükü!L57=0,\"\",DersYükü!L57)","v":""},{"$f":"IF(DersYükü!M57=0,\"\",DersYükü!M57)","v":""},{"$f":"IF(DersYükü!N57=0,\"\",DersYükü!N57)","v":""},{"$f":"IF(DersYükü!O57=0,\"\",DersYükü!O57)","v":""},{"$f":"IF(DersYükü!P57=0,\"\",DersYükü!P57)","v":""},{"$f":"IF(DersYükü!Q57=0,\"\",DersYükü!Q57)","v":""},{"$f":"IF(DersYükü!R57=0,\"\",DersYükü!R57)","v":""},{"$f":"IF(DersYükü!S57=0,\"\",DersYükü!S57)","v":""},{"$f":"IF(DersYükü!T57=0,\"\",DersYükü!T57)","v":""},{"$f":"IF(DersYükü!U57=0,\"\",DersYükü!U57)","v":""},{"$f":"IF(DersYükü!V57=0,\"\",DersYükü!V57)","v":""},{"$f":"IF(DersYükü!W57=0,\"\",DersYükü!W57)","v":""}]
[null,{"$f":"IFERROR((Tatiller!BC13+1),\"\")","v":""},null,null,null,{"$f":"IF(B17=\"\",\"\",Tatiller!BD14)","v":""},null,null,null,null,null,null,null,null,null,null,null,null,"18.00-19.00",null,null,{"$f":"IF(DersYükü!F58=0,\"\",DersYükü!F58)","v":""},{"$f":"IF(DersYükü!G58=0,\"\",DersYükü!G58)","v":""},{"$f":"IF(DersYükü!H58=0,\"\",DersYükü!H58)","v":""},{"$f":"IF(DersYükü!I58=0,\"\",DersYükü!I58)","v":""},{"$f":"IF(DersYükü!J58=0,\"\",DersYükü!J58)","v":""},{"$f":"IF(DersYükü!K58=0,\"\",DersYükü!K58)","v":""},{"$f":"IF(DersYükü!L58=0,\"\",DersYükü!L58)","v":""},{"$f":"IF(DersYükü!M58=0,\"\",DersYükü!M58)","v":""},{"$f":"IF(DersYükü!N58=0,\"\",DersYükü!N58)","v":""},{"$f":"IF(DersYükü!O58=0,\"\",DersYükü!O58)","v":""},{"$f":"IF(DersYükü!P58=0,\"\",DersYükü!P58)","v":""},{"$f":"IF(DersYükü!Q58=0,\"\",DersYükü!Q58)","v":""},{"$f":"IF(DersYükü!R58=0,\"\",DersYükü!R58)","v":""},{"$f":"IF(DersYükü!S58=0,\"\",DersYükü!S58)","v":""},{"$f":"IF(DersYükü!T58=0,\"\",DersYükü!T58)","v":""},{"$f":"IF(DersYükü!U58=0,\"\",DersYükü!U58)","v":""},{"$f":"IF(DersYükü!V58=0,\"\",DersYükü!V58)","v":""},{"$f":"IF(DersYükü!W58=0,\"\",DersYükü!W58)","v":""}]
[null,{"$f":"IFERROR((Tatiller!BC13+2),\"\")","v":""},null,null,null,{"$f":"IF(B18=\"\",\"\",Tatiller!BD15)","v":""},null,null,null,null,null,null,null,null,null,null,null,null,"19.00-20.00",null,null,{"$f":"IF(DersYükü!F59=0,\"\",DersYükü!F59)","v":""},{"$f":"IF(DersYükü!G59=0,\"\",DersYükü!G59)","v":""},{"$f":"IF(DersYükü!H59=0,\"\",DersYükü!H59)","v":""},{"$f":"IF(DersYükü!I59=0,\"\",DersYükü!I59)","v":""},{"$f":"IF(DersYükü!J59=0,\"\",DersYükü!J59)","v":""},{"$f":"IF(DersYükü!K59=0,\"\",DersYükü!K59)","v":""},{"$f":"IF(DersYükü!L59=0,\"\",DersYükü!L59)","v":""},{"$f":"IF(DersYükü!M59=0,\"\",DersYükü!M59)","v":""},{"$f":"IF(DersYükü!N59=0,\"\",DersYükü!N59)","v":""},{"$f":"IF(DersYükü!O59=0,\"\",DersYükü!O59)","v":""},{"$f":"IF(DersYükü!P59=0,\"\",DersYükü!P59)","v":""},{"$f":"IF(DersYükü!Q59=0,\"\",DersYükü!Q59)","v":""},{"$f":"IF(DersYükü!R59=0,\"\",DersYükü!R59)","v":""},{"$f":"IF(DersYükü!S59=0,\"\",DersYükü!S59)","v":""},{"$f":"IF(DersYükü!T59=0,\"\",DersYükü!T59)","v":""},{"$f":"IF(DersYükü!U59=0,\"\",DersYükü!U59)","v":""},{"$f":"IF(DersYükü!V59=0,\"\",DersYükü!V59)","v":""},{"$f":"IF(DersYükü!W59=0,\"\",DersYükü!W59)","v":""}]
[null,{"$f":"IFERROR((Tatiller!BC13+3),\"\")","v":""},null,null,null,{"$f":"IF(B19=\"\",\"\",Tatiller!BD16)","v":""},null,null,null,null,null,null,null,null,null,null,null,null,"20.00-21.00",null,null,{"$f":"IF(DersYükü!F60=0,\"\",DersYükü!F60)","v":""},{"$f":"IF(DersYükü!G60=0,\"\",DersYükü!G60)","v":""},{"$f":"IF(DersYükü!H60=0,\"\",DersYükü!H60)","v":""},{"$f":"IF(DersYükü!I60=0,\"\",DersYükü!I60)","v":""},{"$f":"IF(DersYükü!J60=0,\"\",DersYükü!J60)","v":""},{"$f":"IF(DersYükü!K60=0,\"\",DersYükü!K60)","v":""},{"$f":"IF(DersYükü!L60=0,\"\",DersYükü!L60)","v":""},{"$f":"IF(DersYükü!M60=0,\"\",DersYükü!M60)","v":""},{"$f":"IF(DersYükü!N60=0,\"\",DersYükü!N60)","v":""},{"$f":"IF(DersYükü!O60=0,\"\",DersYükü!O60)","v":""},{"$f":"IF(DersYükü!P60=0,\"\",DersYükü!P60)","v":""},{"$f":"IF(DersYükü!Q60=0,\"\",DersYükü!Q60)","v":""},{"$f":"IF(DersYükü!R60=0,\"\",DersYükü!R60)","v":""},{"$f":"IF(DersYükü!S60=0,\"\",DersYükü!S60)","v":""},{"$f":"IF(DersYükü!T60=0,\"\",DersYükü!T60)","v":""},{"$f":"IF(DersYükü!U60=0,\"\",DersYükü!U60)","v":""},{"$f":"IF(DersYükü!V60=0,\"\",DersYükü!V60)","v":""},{"$f":"IF(DersYükü!W60=0,\"\",DersYükü!W60)","v":""}]
[null,null,null,null,null,null,null,null,null,null,null,null,null,null,null,null,null,null,"21.00-22.00",null,null,{"$f":"IF(DersYükü!F61=0,\"\",DersYükü!F61)","v":""},{"$f":"IF(DersYükü!G61=0,\"\",DersYükü!G61)","v":""},{"$f":"IF(DersYükü!H61=0,\"\",DersYükü!H61)","v":""},{"$f":"IF(DersYükü!I61=0,\"\",DersYükü!I61)","v":""},{"$f":"IF(DersYükü!J61=0,\"\",DersYükü!J61)","v":""},{"$f":"IF(DersYükü!K61=0,\"\",DersYükü!K61)","v":""},{"$f":"IF(DersYükü!L61=0,\"\",DersYükü!L61)","v":""},{"$f":"IF(DersYükü!M61=0,\"\",DersYükü!M61)","v":""},{"$f":"IF(DersYükü!N61=0,\"\",DersYükü!N61)","v":""},{"$f":"IF(DersYükü!O61=0,\"\",DersYükü!O61)","v":""},{"$f":"IF(DersYükü!P61=0,\"\",DersYükü!P61)","v":""},{"$f":"IF(DersYükü!Q61=0,\"\",DersYükü!Q61)","v":""},{"$f":"IF(DersYükü!R61=0,\"\",DersYükü!R61)","v":""},{"$f":"IF(DersYükü!S61=0,\"\",DersYükü!S61)","v":""},{"$f":"IF(DersYükü!T61=0,\"\",DersYükü!T61)","v":""},{"$f":"IF(DersYükü!U61=0,\"\",DersYükü!U61)","v":""},{"$f":"IF(DersYükü!V61=0,\"\",DersYükü!V61)","v":""},{"$f":"IF(DersYükü!W61=0,\"\",DersYükü!W61)","v":""}]
[null,null,null,null,null,null,null,null,null,null,null,null,null,null,null,null,null,null,null,null,null,{"$f":"IF(DersYükü!F62=0,\"\",DersYükü!F62)","v":""},{"$f":"IF(DersYükü!G62=0,\"\",DersYükü!G62)","v":""},{"$f":"IF(DersYükü!H62=0,\"\",DersYükü!H62)","v":""},{"$f":"IF(DersYükü!I62=0,\"\",DersYükü!I62)","v":""},{"$f":"IF(DersYükü!J62=0,\"\",DersYükü!J62)","v":""},{"$f":"IF(DersYükü!K62=0,\"\",DersYükü!K62)","v":""},{"$f":"IF(DersYükü!L62=0,\"\",DersYükü!L62)","v":""},{"$f":"IF(DersYükü!M62=0,\"\",DersYükü!M62)","v":""},{"$f":"IF(DersYükü!N62=0,\"\",DersYükü!N62)","v":""},{"$f":"IF(DersYükü!O62=0,\"\",DersYükü!O62)","v":""},{"$f":"IF(DersYükü!P62=0,\"\",DersYükü!P62)","v":""},{"$f":"IF(DersYükü!Q62=0,\"\",DersYükü!Q62)","v":""},{"$f":"IF(DersYükü!R62=0,\"\",DersYükü!R62)","v":""},{"$f":"IF(DersYükü!S62=0,\"\",DersYükü!S62)","v":""},{"$f":"IF(DersYükü!T62=0,\"\",DersYükü!T62)","v":""},{"$f":"IF(DersYükü!U62=0,\"\",DersYükü!U62)","v":""},{"$f":"IF(DersYükü!V62=0,\"\",DersYükü!V62)","v":""},{"$f":"IF(DersYükü!W62=0,\"\",DersYükü!W62)","v":""}]
[null,null,null,null,null,null,null,null,null,null,null,null,null,null,null,null,null,null,null,null,null,{"$f":"IF(DersYükü!F63=0,\"\",DersYükü!F63)","v":""},{"$f":"IF(DersYükü!G63=0,\"\",DersYükü!G63)","v":""},{"$f":"IF(DersYükü!H63=0,\"\",DersYükü!H63)","v":""},{"$f":"IF(DersYükü!I63=0,\"\",DersYükü!I63)","v":""},{"$f":"IF(DersYükü!J63=0,\"\",DersYükü!J63)","v":""},{"$f":"IF(DersYükü!K63=0,\"\",DersYükü!K63)","v":""},{"$f":"IF(DersYükü!L63=0,\"\",DersYükü!L63)","v":""},{"$f":"IF(DersYükü!M63=0,\"\",DersYükü!M63)","v":""},{"$f":"IF(DersYükü!N63=0,\"\",DersYükü!N63)","v":""},{"$f":"IF(DersYükü!O63=0,\"\",DersYükü!O63)","v":""},{"$f":"IF(DersYükü!P63=0,\"\",DersYükü!P63)","v":""},{"$f":"IF(DersYükü!Q63=0,\"\",DersYükü!Q63)","v":""},{"$f":"IF(DersYükü!R63=0,\"\",DersYükü!R63)","v":""},{"$f":"IF(DersYükü!S63=0,\"\",DersYükü!S63)","v":""},{"$f":"IF(DersYükü!T63=0,\"\",DersYükü!T63)","v":""},{"$f":"IF(DersYükü!U63=0,\"\",DersYükü!U63)","v":""},{"$f":"IF(DersYükü!V63=0,\"\",DersYükü!V63)","v":""},{"$f":"IF(DersYükü!W63=0,\"\",DersYükü!W63)","v":""}]
[null,null,null,null,null,null,null,null,null,null,null,null,null,null,null,null,"TOPLAM (Ö.Ö)",null,null,null,null,{"$f":"COUNTIF(V6:V22,\"<P\")","v":17},17,17,17,17,17,17,17,17,17,17,17,null,null,{"$f":"COUNTIF(AJ6:AJ22,\"<P\")","v":17},{"$f":"COUNTIF(AK6:AK22,\"<P\")","v":17},null,null,{"$f":"V23+X23+Z23+AB23+AD23+AF23+AJ23","v":119},{"$f":"W23+Y23+AA23+AC23+AE23+AG23+AK23","v":119}]
[null,null,null,null,null,null,null,null,null,null,null,null,null,null,null,null,"TOPLAM (İ.Ö)",null,null,null,null,{"$f":"COUNTIF(V6:V22,\">O\")","v":0},0,0,0,0,0,0,0,0,0,null,null,{"$f":"COUNTIF(AH6:AH22,\">O\")","v":0},{"$f":"COUNTIF(AI6:AI22,\">O\")","v":0},null,null,{"$f":"COUNTIF(AL6:AL22,\">O\")","v":0},{"$f":"COUNTIF(AM6:AM22,\">O\")","v":0},{"$f":"V24+X24+Z24+AB24+AD24+AH24+AL24","v":0},{"$f":"W24+Y24+AA24+AC24+AE24+AI24+AM24","v":0}]
[null,null,null,null,null,null,null,null,null,null,null,null,null,null,null,null,"GENEL TOPLAM",null,null,null,null,{"$f":"V23+V24","v":17},{"$f":"W23+W24","v":17},17,17,17,17,17,17,17,17,17,17,0,0,17,17,0,0,{"$f":"SUM(V25:AM25)","v":238}]
[]
[]
["1. HAFTA",null,null,null,null,"TEORİK VE DİĞER DERSLER İÇİN TELAFİ PROGRAMI",null,null,null,null,null,null,null,null,null,null,null,null,null,null,null,null,null,null,null,null,null,null,"2. HAFTA",null,null,null,null,"TEORİK VE DİĞER DERSLER İÇİN TELAFİ PROGRAMI"]
[null,null,null,null,null,{"$f":"Ekders!M90","v":"00:00:00"},null,{"$f":"IFERROR(IF(F29+1>$BI$1,\"\",F29+1),\"\")","v":""},null,{"$f":"IFERROR(IF(H29+1>$BI$1,\"\",H29+1),\"\")","v":""},null,{"$f":"IFERROR(IF(J29+1>$BI$1,\"\",J29+1),\"\")","v":""},null,{"$f":"IFERROR(IF(L29+1>$BI$1,\"\",L29+1),\"\")","v":""},null,{"$f":"IFERROR(IF(N29+1>$BI$1,\"\",N29+1),\"\")","v":""},null,null,null,{"$f":"IFERROR(IF(P29+1>$BI$1,\"\",P29+1),\"\")","v":""},null,null,null,null,null,null,null,null,null,null,null,null,null,{"$f":"IFERROR(IF(T29+1>$BI$1,\"\",T29+1),\"\")","v":""},null,{"$f":"IFERROR(IF(AH29+1>$BI$1,\"\",AH29+1),\"\")","v":""},null,{"$f":"IFERROR(IF(AJ29+1>$BI$1,\"\",AJ29+1),\"\")","v":""},null,{"$f":"IFERROR(IF(AL29+1>$BI$1,\"\",AL29+1),\"\")","v":""},null,{"$f":"IFERROR(IF(AN29+1>$BI$1,\"\",AN29+1),\"\")","v":""},null,{"$f":"IFERROR(IF(AP29+1>$BI$1,\"\",AP29+1),\"\")","v":""},null,null,null,{"$f":"IFERROR(IF(AR29+1>$BI$1,\"\",AR29+1),\"\")","v":""}]
[null,null,null,null,null,{"$f":"Ekders!M90","v":"00:00:00"},null,{"$f":"IFERROR(IF(F29+1>$BI$1,\"\",F29+1),\"\")","v":""},null,{"$f":"IFERROR(IF(H29+1>$BI$1,\"\",H29+1),\"\")","v":""},null,{"$f":"IFERROR(IF(J29+1>$BI$1,\"\",J29+1),\"\")","v":""},null,{"$f":"IFERROR(IF(L29+1>$BI$1,\"\",L29+1),\"\")","v":""},null,"Ö.Ö",null,"İ.Ö",null,"Ö.Ö",null,"İ.Ö",null,null,null,null,null,null,null,null,null,null,null,{"$f":"IFERROR(IF(T29+1>$BI$1,\"\",T29+1),\"\")","v":""},null,{"$f":"IFERROR(IF(AH29+1>$BI$1,\"\",AH29+1),\"\")","v":""},null,{"$f":"IFERROR(IF(AJ29+1>$BI$1,\"\",AJ29+1),\"\")","v":""},null,{"$f":"IFERROR(IF(AL29+1>$BI$1,\"\",AL29+1),\"\")","v":""},null,{"$f":"IFERROR(IF(AN29+1>$BI$1,\"\",AN29+1),\"\")","v":""},null,"Ö.Ö",null,"İ.Ö",null,"Ö.Ö",null,"İ.Ö"]
[null,null,null,null,null,"T","D","T","D","T","D","T","D","T","D","T","D","T","D","T","D","T","D",null,null,null,null,null,null,null,null,null,null,"T","D","T","D","T","D","T","D","T","D","T","D","T","D","T","D","T","D"]
["ÖRGÜN ÖĞRETİM","08.00-09.00",null,null,null,null,"","","","","","","","","","","","","","","","","",null,null,null,null,null,"ÖRGÜN ÖĞRETİM","08.00-09.00"]
[null,"09.00-10.00",null,null,null,null,"","","","","","","","","","","","","","","","","",null,null,null,null,null,null,"09.00-10.00"]
[null,"10.00-11.00",null,null,null,null,"","","","","","","","","","","","","","","","","",null,null,null,null,null,null,"10.00-11.00"]
[null,"11.00-12.00",null,null,null,null,"","","","","","","","","","","","","","","","","",null,null,null,null,null,null,"11.00-12.00"]
[null,"12.00-13.00",null,null,null,null,"","","","","","","","","","","","","","","","","",null,null,null,null,null,null,"12.00-13.00"]
[null,"13.00-14.00",null,null,null,null,"",null,"","","","","","","","","","","","","","","",null,null,null,null,null,null,"13.00-14.00"]
[null,"14.00-15.00",null,null,null,"","",null,"","","","","","","","","","","","","","","",null,null,null,null,null,null,"14.00-15.00"]
[null,"15.00-16.00",null,null,null,"","","","","","","","","","","","","","","","","","",null,null,null,null,null,null,"15.00-16.00"]
[null,"16.00-17.00",null,null,null,"","","","","","","","","","","","","","","","","","",null,null,null,null,null,null,"16.00-17.00"]
["İKİNCİ ÖĞRT.","16.00-17.00",null,null,null,"","","","","","","","","","","","","","","","","","",null,null,null,null,null,"İKİNCİ ÖĞRT.","16.00-17.00"]
[null,"17.00-18.00",null,null,null,"","","","","","","","","","","","","","","","","","",null,null,null,null,null,null,"17.00-18.00"]
[null,"18.00-19.00",null,null,null,"","","","","","","","","","","","","","","","","","",null,null,null,null,null,null,"18.00-19.00"]
[null,"19.00-20.00",null,null,null,"","","","","","","","","","","","","","","","","","",null,null,null,null,null,null,"19.00-20.00"]
[null,"20.00-21.00",null,null,null,"","","","","","","","","","","","","","","","","","",null,null,null,null,null,null,"20.00-21.00"]
[null,"21.00-22.00",null,null,null,"","","","","","","","","","","","","","","","","","","TEO","DF",null,null,null,null,"21.00-22.00",null,null,null,null,null,null,null,null,null,null,null,null,null,null,null,null,null,null,null,null,null,"TEO","DF"]
[]
[null,null,null,null,null,null,null,null,null,null,null,null,null,null,null,null,null,null,null,null,null,null,null,"TEO.","DF",null,null,null,null,null,null,null,null,null,null,null,null,null,null,null,null,null,null,null,null,null,null,null,null,null,null,"TEO.","DF"]
["TOPLAM (Ö.Ö)",null,null,null,null,{"$f":"COUNTIF(F32:F40,\">=a\")","v":0},{"$f":"COUNTIF(G32:G40,\">=a\")","v":0},0,0,0,0,0,0,0,0,{"$f":"COUNTIF(P32:P48,\">=a\")","v":0},{"$f":"COUNTIF(Q32:Q48,\">=a\")","v":0},null,null,{"$f":"COUNTIF(T32:T48,\">=a\")","v":0},{"$f":"COUNTIF(U32:U48,\">=a\")","v":0},null,null,{"$f":"F49+H49+J49+L49+N49+P49+T49","v":0},{"$f":"G49+I49+K49+M49+O49+Q49+U49","v":0},null,null,null,"TOPLAM (Ö.Ö)",null,null,null,null,{"$f":"COUNTIF(AH32:AH40,\">=a\")","v":0},{"$f":"COUNTIF(AI32:AI40,\">=a\")","v":0},0,0,0,0,0,0,0,0,{"$f":"COUNTIF(AR32:AR48,\">=a\")","v":0},{"$f":"COUNTIF(AS32:AS48,\">=a\")","v":0},null,null,{"$f":"COUNTIF(AV32:AV48,\">=a\")","v":0},{"$f":"COUNTIF(AW32:AW48,\">=a\")","v":0},null,null,{"$f":"AH49+AJ49+AL49+AN49+AP49+AR49+AV49","v":0},{"$f":"AI49+AK49+AM49+AO49+AQ49+AS49+AW49","v":0}]
["TOPLAM (İ.Ö)",null,null,null,null,{"$f":"COUNTIF(F41:F48,\">O\")","v":0},{"$f":"COUNTIF(G41:G48,\">O\")","v":0},0,0,0,0,0,0,0,0,null,null,{"$f":"COUNTIF(R32:R48,\">O\")","v":0},{"$f":"COUNTIF(S32:S48,\">O\")","v":0},null,null,{"$f":"COUNTIF(V32:V48,\">O\")","v":0},{"$f":"COUNTIF(W32:W48,\">O\")","v":0},{"$f":"F50+H50+J50+L50+N50+R50+V50","v":0},{"$f":"G50+I50+K50+M50+O50+S50+W50","v":0},null,null,null,"TOPLAM (İ.Ö)",null,null,null,null,{"$f":"COUNTIF(AH41:AH48,\">O\")","v":0},{"$f":"COUNTIF(AI41:AI48,\">O\")","v":0},0,0,0,0,0,0,0,0,null,null,{"$f":"COUNTIF(AT32:AT48,\">O\")","v":0},{"$f":"COUNTIF(AU32:AU48,\">O\")","v":0},null,null,{"$f":"COUNTIF(AX32:AX48,\">O\")","v":0},{"$f":"COUNTIF(AY32:AY48,\">O\")","v":0},{"$f":"AH50+AJ50+AL50+AN50+AP50+AT50+AX50","v":0},{"$f":"AI50+AK50+AM50+AO50+AQ50+AU50+AY50","v":0}]
["GENEL TOPLAM",null,null,null,null,{"$f":"F49+F50","v":0},{"$f":"G49+G50","v":0},0,0,0,0,0,0,0,0,0,0,0,0,0,0,0,0,{"$f":"SUM(F51:W51)","v":0},null,null,null,null,"GENEL TOPLAM",null,null,null,null,{"$f":"AH49+AH50","v":0},{"$f":"AI49+AI50","v":0},0,0,0,0,0,0,0,0,0,0,0,0,0,0,0,0,{"$f":"SUM(AH51:AY51)","v":0}]
[]
[]
["3. HAFTA",null,null,null,null,"TEORİK VE DİĞER DERSLER İÇİN TELAFİ PROGRAMI",null,null,null,null,null,null,null,null,null,null,null,null,null,null,null,null,null,null,null,null,null,null,"4. HAFTA",null,null,null,null,"TEORİK VE DİĞER DERSLER İÇİN TELAFİ PROGRAMI"]
[null,null,null,null,null,{"$f":"IFERROR(IF(AV29+1>$BI$1,\"\",AV29+1),\"\")","v":""},null,{"$f":"IFERROR(IF(F55+1>$BI$1,\"\",F55+1),\"\")","v":""},null,{"$f":"IFERROR(IF(H55+1>$BI$1,\"\",H55+1),\"\")","v":""},null,{"$f":"IFERROR(IF(J55+1>$BI$1,\"\",J55+1),\"\")","v":""},null,{"$f":"IFERROR(IF(L55+1>$BI$1,\"\",L55+1),\"\")","v":""},null,{"$f":"IFERROR(IF(N55+1>$BI$1,\"\",N55+1),\"\")","v":""},null,null,null,{"$f":"IFERROR(IF(P55+1>$BI$1,\"\",P55+1),\"\")","v":""},null,null,null,null,null,null,null,null,null,null,null,null,null,{"$f":"IFERROR(IF(T55+1>$BI$1,\"\",T55+1),\"\")","v":""},null,{"$f":"IFERROR(IF(AH55+1>$BI$1,\"\",AH55+1),\"\")","v":""},null,{"$f":"IFERROR(IF(AJ55+1>$BI$1,\"\",AJ55+1),\"\")","v":""},null,{"$f":"IFERROR(IF(AL55+1>$BI$1,\"\",AL55+1),\"\")","v":""},null,{"$f":"IFERROR(IF(AN55+1>$BI$1,\"\",AN55+1),\"\")","v":""},null,{"$f":"IFERROR(IF(AP55+1>$BI$1,\"\",AP55+1),\"\")","v":""},null,null,null,{"$f":"IFERROR(IF(AR55+1>$BI$1,\"\",AR55+1),\"\")","v":""}]
[null,null,null,null,null,{"$f":"IFERROR(IF(AV29+1>$BI$1,\"\",AV29+1),\"\")","v":""},null,{"$f":"IFERROR(IF(F55+1>$BI$1,\"\",F55+1),\"\")","v":""},null,{"$f":"IFERROR(IF(H55+1>$BI$1,\"\",H55+1),\"\")","v":""},null,{"$f":"IFERROR(IF(J55+1>$BI$1,\"\",J55+1),\"\")","v":""},null,{"$f":"IFERROR(IF(L55+1>$BI$1,\"\",L55+1),\"\")","v":""},null,"Ö.Ö",null,"İ.Ö",null,"Ö.Ö",null,"İ.Ö",null,null,null,null,null,null,null,null,null,null,null,{"$f":"IFERROR(IF(T55+1>$BI$1,\"\",T55+1),\"\")","v":""},null,{"$f":"IFERROR(IF(AH55+1>$BI$1,\"\",AH55+1),\"\")","v":""},null,{"$f":"IFERROR(IF(AJ55+1>$BI$1,\"\",AJ55+1),\"\")","v":""},null,{"$f":"IFERROR(IF(AL55+1>$BI$1,\"\",AL55+1),\"\")","v":""},null,{"$f":"IFERROR(IF(AN55+1>$BI$1,\"\",AN55+1),\"\")","v":""},null,"Ö.Ö",null,"İ.Ö",null,"Ö.Ö",null,"İ.Ö"]
[null,null,null,null,null,"T","D","T","D","T","D","T","D","T","D","T","D","T","D","T","D","T","D",null,null,null,null,null,null,null,null,null,null,"T","D","T","D","T","D","T","D","T","D","T","D","T","D","T","D","T","D"]
["ÖRGÜN ÖĞRETİM","08.00-09.00",null,null,null,null,null,null,null,null,null,null,null,null,null,null,null,null,null,null,null,null,null,null,null,null,null,null,"ÖRGÜN ÖĞRETİM","08.00-09.00"]
[null,"09.00-10.00",null,null,null,null,null,null,null,null,null,null,null,null,null,null,null,null,null,null,null,null,null,null,null,null,null,null,null,"09.00-10.00"]
[null,"10.00-11.00",null,null,null,null,null,null,null,null,null,null,null,null,null,null,null,null,null,null,null,null,null,null,null,null,null,null,null,"10.00-11.00"]
[null,"11.00-12.00",null,null,null,null,null,null,null,null,null,null,null,null,null,null,null,null,null,null,null,null,null,null,null,null,null,null,null,"11.00-12.00"]
[null,"12.00-13.00",null,null,null,null,null,null,null,null,null,null,null,null,null,null,null,null,null,null,null,null,null,null,null,null,null,null,null,"12.00-13.00"]
[null,"13.00-14.00",null,null,null,null,null,null,null,null,null,null,null,null,null,null,null,null,null,null,null,null,null,null,null,null,null,null,null,"13.00-14.00"]
[null,"14.00-15.00",null,null,null,null,null,null,null,null,null,null,null,null,null,null,null,null,null,null,null,null,null,null,null,null,null,null,null,"14.00-15.00"]
[null,"15.00-16.00",null,null,null,null,null,null,null,null,null,null,null,null,null,null,null,null,null,null,null,null,null,null,null,null,null,null,null,"15.00-16.00"]
[null,"16.00-17.00",null,null,null,null,null,null,null,null,null,null,null,null,null,null,null,null,null,null,null,null,null,null,null,null,null,null,null,"16.00-17.00"]
["İKİNCİ ÖĞRT.","16.00-17.00",null,null,null,null,null,null,null,null,null,null,null,null,null,null,null,null,null,null,null,null,null,null,null,null,null,null,"İKİNCİ ÖĞRT.","16.00-17.00"]
[null,"17.00-18.00",null,null,null,null,null,null,null,null,null,null,null,null,null,null,null,null,null,null,null,null,null,null,null,null,null,null,null,"17.00-18.00"]
[null,"18.00-19.00",null,null,null,null,null,null,null,null,null,null,null,null,null,null,null,null,null,null,null,null,null,null,null,null,null,null,null,"18.00-19.00"]
[null,"19.00-20.00",null,null,null,null,null,null,null,null,null,null,null,null,null,null,null,null,null,null,null,null,null,null,null,null,null,null,null,"19.00-20.00"]
[null,"20.00-21.00",null,null,null,null,null,null,null,null,null,null,null,null,null,null,null,null,null,null,null,null,null,null,null,null,null,null,null,"20.00-21.00"]
[null,"21.00-22.00",null,null,null,null,null,null,null,null,null,null,null,null,null,null,null,null,null,null,null,null,null,"TEO","DF",null,null,null,null,"21.00-22.00",null,null,null,null,null,null,null,null,null,null,null,null,null,null,null,null,null,null,null,null,null,"TEO","DF"]
[]
[null,null,null,null,null,null,null,null,null,null,null,null,null,null,null,null,null,null,null,null,null,null,null,"TEO.","DF",null,null,null,null,null,null,null,null,null,null,null,null,null,null,null,null,null,null,null,null,null,null,null,null,null,null,"TEO.","DF"]
["TOPLAM (Ö.Ö)",null,null,null,null,{"$f":"COUNTIF(F58:F66,\">=a\")","v":0},{"$f":"COUNTIF(G58:G66,\">=a\")","v":0},0,0,0,0,0,0,0,0,{"$f":"COUNTIF(P58:P74,\">=a\")","v":0},{"$f":"COUNTIF(Q58:Q74,\">=a\")","v":0},null,null,{"$f":"COUNTIF(T58:T74,\">=a\")","v":0},{"$f":"COUNTIF(U58:U74,\">=a\")","v":0},null,null,{"$f":"F75+H75+J75+L75+N75+P75+T75","v":0},{"$f":"G75+I75+K75+M75+O75+Q75+U75","v":0},null,null,null,"TOPLAM (Ö.Ö)",null,null,null,null,{"$f":"COUNTIF(AH58:AH66,\">=a\")","v":0},{"$f":"COUNTIF(AI58:AI66,\">=a\")","v":0},0,0,0,0,0,0,0,0,{"$f":"COUNTIF(AR58:AR74,\">=a\")","v":0},{"$f":"COUNTIF(AS58:AS74,\">=a\")","v":0},null,null,{"$f":"COUNTIF(AV58:AV74,\">=a\")","v":0},{"$f":"COUNTIF(AW58:AW74,\">=a\")","v":0},null,null,{"$f":"AH75+AJ75+AL75+AN75+AP75+AR75+AV75","v":0},{"$f":"AI75+AK75+AM75+AO75+AQ75+AS75+AW75","v":0}]
["TOPLAM (İ.Ö)",null,null,null,null,{"$f":"COUNTIF(F67:F74,\">O\")","v":0},{"$f":"COUNTIF(G67:G74,\">O\")","v":0},0,0,0,0,0,0,0,0,null,null,{"$f":"COUNTIF(R58:R74,\">O\")","v":0},{"$f":"COUNTIF(S58:S74,\">O\")","v":0},null,null,{"$f":"COUNTIF(V58:V74,\">O\")","v":0},{"$f":"COUNTIF(W58:W74,\">O\")","v":0},{"$f":"F76+H76+J76+L76+N76+R76+V76","v":0},{"$f":"G76+I76+K76+M76+O76+S76+W76","v":0},null,null,null,"TOPLAM (İ.Ö)",null,null,null,null,{"$f":"COUNTIF(AH67:AH74,\">O\")","v":0},{"$f":"COUNTIF(AI67:AI74,\">O\")","v":0},0,0,0,0,0,0,0,0,null,null,{"$f":"COUNTIF(AT58:AT74,\">O\")","v":0},{"$f":"COUNTIF(AU58:AU74,\">O\")","v":0},null,null,{"$f":"COUNTIF(AX58:AX74,\">O\")","v":0},{"$f":"COUNTIF(AY58:AY74,\">O\")","v":0},{"$f":"AH76+AJ76+AL76+AN76+AP76+AT76+AX76","v":0},{"$f":"AI76+AK76+AM76+AO76+AQ76+AU76+AY76","v":0}]
["GENEL TOPLAM",null,null,null,null,{"$f":"F75+F76","v":0},{"$f":"G75+G76","v":0},0,0,0,0,0,0,0,0,0,0,0,0,0,0,0,0,{"$f":"SUM(F77:W77)","v":0},null,null,null,null,"GENEL TOPLAM",null,null,null,null,{"$f":"AH75+AH76","v":0},{"$f":"AI75+AI76","v":0},0,0,0,0,0,0,0,0,0,0,0,0,0,0,0,0,{"$f":"SUM(AH77:AY77)","v":0}]
[]
[]
["5. HAFTA",null,null,null,null,"TEORİK VE DİĞER DERSLER İÇİN TELAFİ PROGRAMI"]
[null,null,null,null,null,{"$f":"IFERROR(IF(AV55+1>$BI$1,\"\",AV55+1),\"\")","v":""},null,{"$f":"IFERROR(IF(F81+1>$BI$1,\"\",F81+1),\"\")","v":""},null,{"$f":"IFERROR(IF(H81+1>$BI$1,\"\",H81+1),\"\")","v":""},null,{"$f":"IFERROR(IF(J81+1>$BI$1,\"\",J81+1),\"\")","v":""},null,{"$f":"IFERROR(IF(L81+1>$BI$1,\"\",L81+1),\"\")","v":""},null,{"$f":"IFERROR(IF(N81+1>$BI$1,\"\",N81+1),\"\")","v":""},null,null,null,{"$f":"IFERROR(IF(P81+1>$BI$1,\"\",P81+1),\"\")","v":""}]
[null,null,null,null,null,{"$f":"IFERROR(IF(AV55+1>$BI$1,\"\",AV55+1),\"\")","v":""},null,{"$f":"IFERROR(IF(F81+1>$BI$1,\"\",F81+1),\"\")","v":""},null,{"$f":"IFERROR(IF(H81+1>$BI$1,\"\",H81+1),\"\")","v":""},null,{"$f":"IFERROR(IF(J81+1>$BI$1,\"\",J81+1),\"\")","v":""},null,{"$f":"IFERROR(IF(L81+1>$BI$1,\"\",L81+1),\"\")","v":""},null,"Ö.Ö",null,"İ.Ö",null,"Ö.Ö",null,"İ.Ö"]
[null,null,null,null,null,"T","D","T","D","T","D","T","D","T","D","T","D","T","D","T","D","T","D"]
["ÖRGÜN ÖĞRETİM","08.00-09.00"]
[null,"09.00-10.00"]
[null,"10.00-11.00"]
[null,"11.00-12.00"]
[null,"12.00-13.00"]
[null,"13.00-14.00"]
[null,"14.00-15.00"]
[null,"15.00-16.00"]
[null,"16.00-17.00"]
["İKİNCİ ÖĞRT.","16.00-17.00"]
[null,"17.00-18.00"]
[null,"18.00-19.00"]
[null,"19.00-20.00"]
[null,"20.00-21.00"]
[null,"21.00-22.00",null,null,null,null,null,null,null,null,null,null,null,null,null,null,null,null,null,null,null,null,null,"TEO","DF"]
[]
[null,null,null,null,null,null,null,null,null,null,null,null,null,null,null,null,null,null,null,null,null,null,null,"TEO.","DF"]
["TOPLAM (Ö.Ö)",null,null,null,null,{"$f":"COUNTIF(F84:F92,\">=a\")","v":0},{"$f":"COUNTIF(G84:G92,\">=a\")","v":0},0,0,0,0,0,0,0,0,{"$f":"COUNTIF(P84:P100,\">=a\")","v":0},{"$f":"COUNTIF(Q84:Q100,\">=a\")","v":0},null,null,{"$f":"COUNTIF(T84:T100,\">=a\")","v":0},{"$f":"COUNTIF(U84:U100,\">=a\")","v":0},null,null,{"$f":"F101+H101+J101+L101+N101+P101+T101","v":0},{"$f":"G101+I101+K101+M101+O101+Q101+U101","v":0}]
["TOPLAM (İ.Ö)",null,null,null,null,{"$f":"COUNTIF(F93:F100,\">O\")","v":0},{"$f":"COUNTIF(G93:G100,\">O\")","v":0},0,0,0,0,0,0,0,0,null,null,{"$f":"COUNTIF(R84:R100,\">O\")","v":0},{"$f":"COUNTIF(S84:S100,\">O\")","v":0},null,null,{"$f":"COUNTIF(V84:V100,\">O\")","v":0},{"$f":"COUNTIF(W84:W100,\">O\")","v":0},{"$f":"F102+H102+J102+L102+N102+R102+V102","v":0},{"$f":"G102+I102+K102+M102+O102+S102+W102","v":0}]
["GENEL TOPLAM",null,null,null,null,{"$f":"F101+F102","v":0},{"$f":"G101+G102","v":0},0,0,0,0,0,0,0,0,0,0,0,0,0,0,0,0,{"$f":"SUM(F103:W103)","v":0}]

{"sheet":"Ekders","index":2,"n_rows":537,"n_cols":62,"rows_kept":537,"cut":false,"hidden":false,"merged":[[45,27,45,28],[45,24,45,26],[45,29,45,30],[45,31,45,32],[45,33,45,35],[45,36,45,37],[45,38,45,39],[45,40,45,41],[45,42,45,44],[45,45,45,46],[76,15,76,18],[76,34,76,38],[76,31,76,33],[76,28,76,30],[8,4,8,48],[44,24,44,28],[44,29,44,32],[44,33,44,37],[44,38,44,41],[44,42,44,46],[70,47,70,48],[71,5,71,19],[71,20,71,23],[71,24,71,28],[71,29,71,32],[71,33,71,37],[72,24,72,28],[72,29,72,32],[72,33,72,37],[72,38,72,41],[68,36,68,37],[68,38,68,39],[39,1,44,3],[466,1,471,3],[48,5,48,19],[48,20,48,23],[48,24,48,26],[48,27,48,28],[48,29,48,30],[48,31,48,32],[48,33,48,35],[48,36,48,37],[48,38,48,39],[48,40,48,41],[48,42,48,44],[48,45,48,46],[49,5,49,19],[49,20,49,23],[49,24,49,26],[49,27,49,28],[74,11,74,48],[49,38,49,39],[49,40,49,41],[75,10,75,28],[75,29,75,31],[75,32,75,36],[75,37,75,38],[75,39,75,47],[49,31,49,32],[470,5,470,19],[470,20,470,23],[470,24,470,28],[470,29,470,32],[470,33,470,37],[529,1,529,48],[522,1,523,6],[522,7,523,9],[522,10,522,11],[522,48,523,48],[523,10,523,11],[524,1,525,6],[524,7,525,9],[524,10,524,11],[524,48,525,48],[76,19,76,24],[47,45,47,46],[47,47,47,48],[50,33,50,35],[75,1,75,9],[50,42,50,44],[50,45,50,46],[50,47,50,48],[48,47,48,48],[497,10,497,28],[497,29,497,31],[497,32,497,36],[497,37,497,38],[497,39,497,47],[49,33,49,35],[49,36,49,37],[525,10,525,11],[518,1,519,6],[518,7,519,9],[518,10,518,11],[518,48,519,48],[519,10,519,11],[533,1,534,6],[533,7,534,9],[533,10,533,11],[533,48,534,48],[534,10,534,11],[535,1,536,6],[535,7,536,9],[535,10,535,11],[535,48,536,48],[536,10,536,11],[530,1,530,6],[530,7,530,11],[530,47,530,48],[531,1,532,6],[531,7,532,9],[531,10,531,11],[531,48,532,48],[532,10,532,11],[520,1,521,6],[520,7,521,9],[520,10,520,11],[520,48,521,48],[521,10,521,11],[526,1,527,6],[526,7,527,9],[526,10,526,11],[514,1,515,6],[514,7,515,9],[514,10,514,11],[514,48,515,48],[515,10,515,11],[516,1,517,6],[516,7,517,9],[516,10,516,11],[516,48,517,48],[517,10,517,11],[526,48,527,48],[527,10,527,11],[510,1,511,6],[510,7,511,9],[510,10,510,11],[510,48,511,48],[511,10,511,11],[512,1,513,6],[512,7,513,9],[512,10,512,11],[512,48,513,48],[513,10,513,11],[506,38,506,48],[509,1,509,6],[509,7,509,11],[509,47,509,48],[501,31,506,32],[501,33,503,37],[501,38,503,48],[504,3,506,5],[504,6,506,14],[504,17,506,20],[504,21,506,30],[504,33,505,37],[504,38,505,48],[506,33,506,37],[501,1,506,2],[501,3,503,5],[501,6,503,14],[501,15,506,16],[501,18,503,20],[501,21,503,30],[508,38,508,48],[508,1,508,36],[491,20,491,23],[491,24,491,28],[491,29,491,32],[491,33,491,37],[491,38,491,41],[491,42,491,46],[498,31,498,36],[498,37,498,39],[498,40,498,48],[499,26,499,48],[493,42,493,46],[493,47,493,48],[500,31,500,37],[500,38,500,48],[498,1,498,2],[498,3,498,11],[498,13,498,19],[498,20,498,22],[498,24,498,26],[498,27,498,29],[495,42,495,46],[495,47,495,48],[497,1,497,9],[495,5,495,19],[495,20,495,23],[495,24,495,28],[495,29,495,32],[495,33,495,37],[495,38,495,41],[500,12,500,20],[490,24,490,26],[490,27,490,28],[489,27,489,28],[489,29,489,30],[489,31,489,32],[489,33,489,35],[489,36,489,37],[489,38,489,39],[491,5,491,19],[494,5,494,19],[494,20,494,23],[494,24,494,28],[494,29,494,32],[494,33,494,37],[494,38,494,41],[494,42,494,46],[494,47,494,48],[493,5,493,19],[493,20,493,23],[493,24,493,28],[493,29,493,32],[493,33,493,37],[493,38,493,41],[491,47,491,48],[492,5,492,19],[492,20,492,23],[492,24,492,28],[492,29,492,32],[492,33,492,37],[492,38,492,41],[492,42,492,46],[492,47,492,48],[488,40,488,41],[488,42,488,44],[488,45,488,46],[488,47,488,48],[489,2,489,11],[489,12,489,15],[489,17,489,18],[489,20,489,21],[489,22,489,23],[489,24,489,26],[488,27,488,28],[488,29,488,30],[488,31,488,32],[488,33,488,35],[488,36,488,37],[488,38,488,39],[490,42,490,44],[490,45,490,46],[490,29,490,30],[490,31,490,32],[490,33,490,35],[490,36,490,37],[490,38,490,39],[490,40,490,41],[489,40,489,41],[489,42,489,44],[489,45,489,46],[489,47,489,48],[490,1,495,3],[490,4,491,4],[490,5,490,19],[490,20,490,23],[487,40,487,41],[487,42,487,44],[487,45,487,46],[487,47,487,48],[488,2,488,11],[488,12,488,15],[488,17,488,18],[488,20,488,21],[488,22,488,23],[488,24,488,26],[487,27,487,28],[487,29,487,30],[487,31,487,32],[487,33,487,35],[487,36,487,37],[487,38,487,39],[486,40,486,41],[486,42,486,44],[486,45,486,46],[486,47,486,48],[487,2,487,11],[487,12,487,15],[487,17,487,18],[487,20,487,21],[487,22,487,23],[487,24,487,26],[486,27,486,28],[486,29,486,30],[486,31,486,32],[486,33,486,35],[486,36,486,37],[486,38,486,39],[485,40,485,41],[485,42,485,44],[485,45,485,46],[485,47,485,48],[486,2,486,11],[486,12,486,15],[486,17,486,18],[486,20,486,21],[486,22,486,23],[486,24,486,26],[485,27,485,28],[485,29,485,30],[485,31,485,32],[485,33,485,35],[485,36,485,37],[485,38,485,39],[484,40,484,41],[484,42,484,44],[484,45,484,46],[484,47,484,48],[485,2,485,11],[485,12,485,15],[485,17,485,18],[485,20,485,21],[485,22,485,23],[485,24,485,26],[484,27,484,28],[484,29,484,30],[484,31,484,32],[484,33,484,35],[484,36,484,37],[484,38,484,39],[483,40,483,41],[483,42,483,44],[483,45,483,46],[483,47,483,48],[484,2,484,11],[484,12,484,15],[484,17,484,18],[484,20,484,21],[484,22,484,23],[484,24,484,26],[483,27,483,28],[483,29,483,30],[483,31,483,32],[483,33,483,35],[483,36,483,37],[483,38,483,39],[482,40,482,41],[482,42,482,44],[482,45,482,46],[482,47,482,48],[483,2,483,11],[483,12,483,15],[483,17,483,18],[483,20,483,21],[483,22,483,23],[483,24,483,26],[482,27,482,28],[482,29,482,30],[482,31,482,32],[482,33,482,35],[482,36,482,37],[482,38,482,39],[481,40,481,41],[481,42,481,44],[481,45,481,46],[481,47,481,48],[482,2,482,11],[482,12,482,15],[482,17,482,18],[482,20,482,21],[482,22,482,23],[482,24,482,26],[481,27,481,28],[481,29,481,30],[481,31,481,32],[481,33,481,35],[481,36,481,37],[481,38,481,39],[480,40,480,41],[480,42,480,44],[480,45,480,46],[480,47,480,48],[481,2,481,11],[481,12,481,15],[481,17,481,18],[481,20,481,21],[481,22,481,23],[481,24,481,26],[480,27,480,28],[480,29,480,30],[480,31,480,32],[480,33,480,35],[480,36,480,37],[480,38,480,39],[479,40,479,41],[479,42,479,44],[479,45,479,46],[479,47,479,48],[480,2,480,11],[480,12,480,15],[480,17,480,18],[480,20,480,21],[480,22,480,23],[480,24,480,26],[479,27,479,28],[479,29,479,30],[479,31,479,32],[479,33,479,35],[479,36,479,37],[479,38,479,39],[479,2,479,11],[479,12,479,15],[479,17,479,19],[479,20,479,21],[479,22,479,23],[479,24,479,26],[474,47,475,48],[476,10,477,10],[476,19,477,19],[476,28,477,28],[476,37,477,37],[476,46,477,46],[476,47,477,48],[473,18,473,30],[474,2,474,10],[474,11,474,19],[474,20,474,28],[474,29,474,37],[474,38,474,46],[470,42,470,46],[470,47,470,48],[471,5,471,19],[471,20,471,23],[471,24,471,28],[471,29,471,32],[471,33,471,37],[471,38,471,41],[471,42,471,46],[471,47,471,48],[470,38,470,41],[469,24,469,28],[469,29,469,32],[469,33,469,37],[469,38,469,41],[469,42,469,46],[469,47,469,48],[468,5,468,19],[468,20,468,23],[468,24,468,28],[468,29,468,32],[468,33,468,37],[468,38,468,41],[466,47,466,48],[467,5,467,19],[467,20,467,23],[467,24,467,28],[467,29,467,32],[467,33,467,37],[467,38,467,41],[467,42,467,46],[467,47,467,48],[466,20,466,23],[466,24,466,28],[466,29,466,32],[466,33,466,37],[466,38,466,41],[466,42,466,46],[469,5,469,19],[469,20,469,23],[465,42,465,44],[465,45,465,46],[465,47,465,48],[465,29,465,30],[465,31,465,32],[465,33,465,35],[465,36,465,37],[465,38,465,39],[465,40,465,41],[464,40,464,41],[464,42,464,44],[464,45,464,46],[464,47,464,48],[468,42,468,46],[468,47,468,48],[465,4,466,4],[465,5,465,19],[465,20,465,23],[465,24,465,26],[465,27,465,28],[464,27,464,28],[464,29,464,30],[464,31,464,32],[464,33,464,35],[464,36,464,37],[464,38,464,39],[466,5,466,19],[462,12,462,15],[462,17,462,18],[462,20,462,21],[462,22,462,23],[462,24,462,26],[461,27,461,28],[461,29,461,30],[461,31,461,32],[461,33,461,35],[461,36,461,37],[461,38,461,39],[463,40,463,41],[463,42,463,44],[463,45,463,46],[463,47,463,48],[464,2,464,11],[464,12,464,15],[464,17,464,18],[464,20,464,21],[464,22,464,23],[464,24,464,26],[463,27,463,28],[463,29,463,30],[463,31,463,32],[463,33,463,35],[463,36,463,37],[463,38,463,39],[460,12,460,15],[460,17,460,18],[460,20,460,21],[460,22,460,23],[460,24,460,26],[459,27,459,28],[459,29,459,30],[459,31,459,32],[459,33,459,35],[459,36,459,37],[459,38,459,39],[462,40,462,41],[462,42,462,44],[462,45,462,46],[462,47,462,48],[463,2,463,11],[463,12,463,15],[463,17,463,18],[463,20,463,21],[463,22,463,23],[463,24,463,26],[462,27,462,28],[462,29,462,30],[462,31,462,32],[462,33,462,35],[462,36,462,37],[462,38,462,39],[461,40,461,41],[461,42,461,44],[461,45,461,46],[461,47,461,48],[462,2,462,11],[458,12,458,15],[458,17,458,18],[458,20,458,21],[458,22,458,23],[458,24,458,26],[457,27,457,28],[457,29,457,30],[457,31,457,32],[457,33,457,35],[457,36,457,37],[457,38,457,39],[460,40,460,41],[460,42,460,44],[460,45,460,46],[460,47,460,48],[461,2,461,11],[461,12,461,15],[461,17,461,18],[461,20,461,21],[461,22,461,23],[461,24,461,26],[460,27,460,28],[460,29,460,30],[460,31,460,32],[460,33,460,35],[460,36,460,37],[460,38,460,39],[459,40,459,41],[459,42,459,44],[459,45,459,46],[459,47,459,48],[460,2,460,11],[456,12,456,15],[456,17,456,18],[456,20,456,21],[456,22,456,23],[456,24,456,26],[455,27,455,28],[455,29,455,30],[455,31,455,32],[455,33,455,35],[455,36,455,37],[455,38,455,39],[458,40,458,41],[458,42,458,44],[458,45,458,46],[458,47,458,48],[459,2,459,11],[459,12,459,15],[459,17,459,18],[459,20,459,21],[459,22,459,23],[459,24,459,26],[458,27,458,28],[458,29,458,30],[458,31,458,32],[458,33,458,35],[458,36,458,37],[458,38,458,39],[457,40,457,41],[457,42,457,44],[457,45,457,46],[457,47,457,48],[458,2,458,11],[454,12,454,15],[454,17,454,18],[454,20,454,21],[454,22,454,23],[454,24,454,26],[453,27,453,28],[453,29,453,30],[453,31,453,32],[453,33,453,35],[453,36,453,37],[453,38,453,39],[456,40,456,41],[456,42,456,44],[456,45,456,46],[456,47,456,48],[457,2,457,11],[457,12,457,15],[457,17,457,18],[457,20,457,21],[457,22,457,23],[457,24,457,26],[456,27,456,28],[456,29,456,30],[456,31,456,32],[456,33,456,35],[456,36,456,37],[456,38,456,39],[455,40,455,41],[455,42,455,44],[455,45,455,46],[455,47,455,48],[456,2,456,11],[452,12,452,15],[452,17,452,18],[452,20,452,21],[452,22,452,23],[452,24,452,26],[451,27,451,28],[451,29,451,30],[451,31,451,32],[451,33,451,35],[451,36,451,37],[451,38,451,39],[454,40,454,41],[454,42,454,44],[454,45,454,46],[454,47,454,48],[455,2,455,11],[455,12,455,15],[455,17,455,18],[455,20,455,21],[455,22,455,23],[455,24,455,26],[454,27,454,28],[454,29,454,30],[454,31,454,32],[454,33,454,35],[454,36,454,37],[454,38,454,39],[453,40,453,41],[453,42,453,44],[453,45,453,46],[453,47,453,48],[454,2,454,11],[450,12,450,15],[450,17,450,18],[450,20,450,21],[450,22,450,23],[450,24,450,26],[449,27,449,28],[449,29,449,30],[449,31,449,32],[449,33,449,35],[449,36,449,37],[449,38,449,39],[452,40,452,41],[452,42,452,44],[452,45,452,46],[452,47,452,48],[453,2,453,11],[453,12,453,15],[453,17,453,18],[453,20,453,21],[453,22,453,23],[453,24,453,26],[452,27,452,28],[452,29,452,30],[452,31,452,32],[452,33,452,35],[452,36,452,37],[452,38,452,39],[451,40,451,41],[451,42,451,44],[451,45,451,46],[451,47,451,48],[452,2,452,11],[448,1,449,1],[448,2,449,11],[448,12,448,15],[448,16,449,16],[448,17,448,19],[448,20,448,23],[445,10,446,10],[445,19,446,19],[445,28,446,28],[445,37,446,37],[445,46,446,46],[450,40,450,41],[450,42,450,44],[450,45,450,46],[450,47,450,48],[451,2,451,11],[451,12,451,15],[451,17,451,18],[451,20,451,21],[451,22,451,23],[451,24,451,26],[450,27,450,28],[450,29,450,30],[450,31,450,32],[450,33,450,35],[450,36,450,37],[450,38,450,39],[449,40,449,41],[449,42,449,44],[449,45,449,46],[449,47,449,48],[450,2,450,11],[437,31,437,38],[437,39,437,48],[438,2,438,12],[438,13,438,29],[438,31,440,38],[438,39,440,48],[443,2,443,9],[448,24,448,28],[448,29,448,32],[448,33,448,37],[448,38,448,41],[448,42,448,46],[449,12,449,15],[449,17,449,18],[449,20,449,21],[449,22,449,23],[449,24,449,26],[198,40,198,46],[433,1,433,47],[435,1,435,2],[193,1,194,8],[195,1,196,8],[198,12,198,18],[198,19,198,25],[198,26,198,32],[198,33,198,39],[186,19,186,25],[186,26,186,32],[186,33,186,39],[186,40,186,46],[189,1,190,8],[191,1,192,8],[445,47,446,48],[442,20,442,27],[443,11,443,18],[443,20,443,27],[443,29,443,36],[443,38,443,45],[443,47,444,48],[439,2,439,12],[439,13,439,29],[440,2,440,8],[440,9,440,18],[440,19,440,27],[440,28,440,29],[437,1,440,1],[437,2,437,12],[437,13,437,29],[437,30,440,30],[175,1,176,8],[177,1,178,8],[179,1,180,8],[181,1,182,8],[183,1,184,8],[186,12,186,18],[169,24,169,28],[169,29,169,32],[169,33,169,37],[169,38,169,41],[169,42,169,46],[170,24,170,28],[170,29,170,32],[170,33,170,37],[170,38,170,41],[170,42,170,46],[167,24,167,28],[167,29,167,32],[167,33,167,37],[167,38,167,41],[167,42,167,46],[168,24,168,28],[168,29,168,32],[168,33,168,37],[168,38,168,41],[168,42,168,46],[169,20,169,23],[170,20,170,23],[168,20,168,23],[165,24,165,28],[165,29,165,32],[165,33,165,37],[165,38,165,41],[165,42,165,46],[166,24,166,28],[166,29,166,32],[166,33,166,37],[166,38,166,41],[166,42,166,46],[160,24,160,28],[160,29,160,32],[160,33,160,37],[160,38,160,41],[160,42,160,46],[164,24,164,48],[158,24,158,28],[158,29,158,32],[158,33,158,37],[158,38,158,41],[158,42,158,46],[159,24,159,28],[159,29,159,32],[159,33,159,37],[159,38,159,41],[159,42,159,46],[156,24,156,28],[156,29,156,32],[156,33,156,37],[156,38,156,41],[156,42,156,46],[157,24,157,28],[157,29,157,32],[157,33,157,37],[157,38,157,41],[157,42,157,46],[151,47,151,48],[152,41,152,46],[152,47,152,48],[153,24,153,48],[155,24,155,28],[155,29,155,32],[155,33,155,37],[155,38,155,41],[155,42,155,46],[154,27,154,45],[149,12,149,18],[149,19,149,25],[149,26,149,32],[149,33,149,39],[149,40,149,46],[151,41,151,46],[146,1,147,6],[146,7,147,9],[146,10,146,11],[146,47,146,48],[146,49,147,49],[147,10,147,11],[147,47,147,48],[143,47,143,48],[144,1,145,6],[144,7,145,9],[144,10,144,11],[144,47,144,48],[144,49,145,49],[145,10,145,11],[145,47,145,48],[140,47,140,48],[140,49,141,49],[141,10,141,11],[141,47,141,48],[142,1,143,6],[142,7,143,9],[142,10,142,11],[142,47,142,48],[142,49,143,49],[143,10,143,11],[139,12,139,18],[139,19,139,25],[139,26,139,32],[139,33,139,39],[139,40,139,46],[140,1,141,6],[140,7,141,9],[140,10,140,11],[136,1,137,6],[136,7,137,9],[136,10,136,11],[136,47,136,48],[136,49,137,49],[137,10,137,11],[137,47,137,48],[134,1,135,6],[134,7,135,9],[134,10,134,11],[134,47,134,48],[134,49,135,49],[135,10,135,11],[135,47,135,48],[132,1,133,6],[132,7,133,9],[132,10,132,11],[132,47,132,48],[132,49,133,49],[133,10,133,11],[133,47,133,48],[130,1,131,6],[130,7,131,9],[130,10,130,11],[130,47,130,48],[130,49,131,49],[131,10,131,11],[131,47,131,48],[128,1,129,6],[128,7,129,9],[128,10,128,11],[128,47,128,48],[128,49,129,49],[129,10,129,11],[129,47,129,48],[113,1,114,6],[113,7,114,9],[113,10,113,11],[113,48,114,49],[114,10,114,11],[115,1,116,6],[115,7,116,9],[115,10,115,11],[115,48,116,49],[116,10,116,11],[108,48,108,49],[109,48,109,49],[111,1,112,6],[111,7,112,9],[111,10,111,11],[111,48,112,49],[112,10,112,11],[106,1,106,6],[106,7,107,9],[106,10,106,11],[106,48,107,49],[107,1,107,6],[107,10,107,11],[104,1,104,6],[104,7,105,9],[104,10,104,11],[104,48,105,49],[105,1,105,6],[105,10,105,11],[102,1,102,6],[102,7,103,9],[102,10,102,11],[102,48,103,49],[103,1,103,6],[103,10,103,11],[100,1,100,6],[100,7,101,9],[100,10,100,11],[100,48,101,49],[101,1,101,6],[101,10,101,11],[98,1,98,6],[98,7,99,9],[98,10,98,11],[98,48,99,49],[99,1,99,6],[99,10,99,11],[80,18,82,20],[87,38,87,48],[87,1,87,36],[96,1,96,6],[96,7,97,9],[96,10,96,11],[96,48,97,49],[97,1,97,6],[97,10,97,11],[94,1,94,6],[94,7,95,9],[94,10,94,11],[94,48,95,49],[95,1,95,6]],"merged_total":1688,"flags":["merged_cut"]}
[null,"Farklı Ders programı Girme Alanı (Örgün Öğretim)"]
[null,null,"1.HAFTA",null,null,null,null,null,null,"DY",null,"2.HAFTA",null,null,null,null,null,null,"DY",null,"3.HAFTA",null,null,null,null,null,null,"DY",null,"4.HAFTA",null,null,null,null,null,null,"DY",null,"5.HAFTA",null,null,null,null,null,null,"DY",null,null,null,null,null,null,null,{"$f":"IF(#REF!=\"\",\"\",#REF!)","v":{"$error":"#REF!"}},{"$f":"IF(#REF!=\"\",\"\",#REF!)","v":{"$error":"#REF!"}},{"$f":"IF(#REF!=\"\",\"\",#REF!)","v":{"$error":"#REF!"}},{"$f":"IF(#REF!=\"\",\"\",#REF!)","v":{"$error":"#REF!"}},{"$f":"IF(#REF!=\"\",\"\",#REF!)","v":{"$error":"#REF!"}},{"$f":"IF(#REF!=\"\",\"\",#REF!)","v":{"$error":"#REF!"}},{"$f":"IF(#REF!=\"\",\"\",#REF!)","v":{"$error":"#REF!"}}]
[null,null,null,null,null,null,null,null,null,null,null,null,null,null,null,null,null,null,null,null,null,null,null,null,null,null,null,null,null,null,null,null,null,null,null,null,null,null,null,null,null,null,null,null,null,null,null,null,null,null,null,null,null,{"$f":"IF(#REF!=\"\",\"\",#REF!)","v":{"$error":"#REF!"}},{"$f":"IF(#REF!=\"\",\"\",#REF!)","v":{"$error":"#REF!"}},{"$f":"IF(#REF!=\"\",\"\",#REF!)","v":{"$error":"#REF!"}},{"$f":"IF(#REF!=\"\",\"\",#REF!)","v":{"$error":"#REF!"}},{"$f":"IF(#REF!=\"\",\"\",#REF!)","v":{"$error":"#REF!"}},{"$f":"IF(#REF!=\"\",\"\",#REF!)","v":{"$error":"#REF!"}},{"$f":"IF(#REF!=\"\",\"\",#REF!)","v":{"$error":"#REF!"}}]
[null,"Te",null,null,null,null,null,null,null,null,null,null,null,null,null,null,null,null,null,null,null,null,null,null,null,null,null,null,null,null,null,null,null,null,null,null,null,null,null,null,null,null,null,null,null,null,null,null,null,null,null,null,null,{"$f":"IF(#REF!=\"\",\"\",#REF!)","v":{"$error":"#REF!"}},{"$f":"IF(#REF!=\"\",\"\",#REF!)","v":{"$error":"#REF!"}},{"$f":"IF(#REF!=\"\",\"\",#REF!)","v":{"$error":"#REF!"}},{"$f":"IF(#REF!=\"\",\"\",#REF!)","v":{"$error":"#REF!"}},{"$f":"IF(#REF!=\"\",\"\",#REF!)","v":{"$error":"#REF!"}},{"$f":"IF(#REF!=\"\",\"\",#REF!)","v":{"$error":"#REF!"}},{"$f":"IF(#REF!=\"\",\"\",#REF!)","v":{"$error":"#REF!"}}]
[null,"DF",null,null,null,null,null,null,null,null,null,null,null,null,null,null,null,null,null,null,null,null,null,null,null,null,null,null,null,null,null,null,null,null,null,null,null,null,null,null,null,null,null,null,null,null,null,null,null,null,null,null,null,{"$f":"IF(#REF!=\"\",\"\",#REF!)","v":{"$error":"#REF!"}},{"$f":"IF(#REF!=\"\",\"\",#REF!)","v":{"$error":"#REF!"}},{"$f":"IF(#REF!=\"\",\"\",#REF!)","v":{"$error":"#REF!"}},{"$f":"IF(#REF!=\"\",\"\",#REF!)","v":{"$error":"#REF!"}},{"$f":"IF(#REF!=\"\",\"\",#REF!)","v":{"$error":"#REF!"}},{"$f":"IF(#REF!=\"\",\"\",#REF!)","v":{"$error":"#REF!"}},{"$f":"IF(#REF!=\"\",\"\",#REF!)","v":{"$error":"#REF!"}}]
[null,"Farklı Ders Programı Girme Alanı (İkinci Öğretim)",null,null,null,null,null,null,null,null,null,null,null,null,null,null,null,null,null,null,null,null,null,null,null,null,null,null,null,null,null,null,null,null,null,null,null,null,null,null,null,null,null,null,null,null,null,null,null,null,null,null,null,{"$f":"IF(#REF!=\"\",\"\",#REF!)","v":{"$error":"#REF!"}},{"$f":"IF(#REF!=\"\",\"\",#REF!)","v":{"$error":"#REF!"}},{"$f":"IF(#REF!=\"\",\"\",#REF!)","v":{"$error":"#REF!"}},{"$f":"IF(#REF!=\"\",\"\",#REF!)","v":{"$error":"#REF!"}},{"$f":"IF(#REF!=\"\",\"\",#REF!)","v":{"$error":"#REF!"}},{"$f":"IF(#REF!=\"\",\"\",#REF!)","v":{"$error":"#REF!"}},{"$f":"IF(#REF!=\"\",\"\",#REF!)","v":{"$error":"#REF!"}}]
[null,"Te",null,null,null,null,null,null,null,null,null,null,null,null,null,null,null,null,null,null,null,null,null,null,null,null,null,null,null,null,null,null,null,null,null,null,null,null,null,null,null,null,null,null,null,null,null,null,null,null,null,null,null,{"$f":"IF(#REF!=\"\",\"\",#REF!)","v":{"$error":"#REF!"}},{"$f":"IF(#REF!=\"\",\"\",#REF!)","v":{"$error":"#REF!"}},{"$f":"IF(#REF!=\"\",\"\",#REF!)","v":{"$error":"#REF!"}},{"$f":"IF(#REF!=\"\",\"\",#REF!)","v":{"$error":"#REF!"}},{"$f":"IF(#REF!=\"\",\"\",#REF!)","v":{"$error":"#REF!"}},{"$f":"IF(#REF!=\"\",\"\",#REF!)","v":{"$error":"#REF!"}},{"$f":"IF(#REF!=\"\",\"\",#REF!)","v":{"$error":"#REF!"}}]
[null,"DF",null,null,null,null,null,null,null,null,null,null,null,null,null,null,null,null,null,null,null,null,null,null,null,null,null,null,null,null,null,null,null,null,null,null,null,null,null,null,null,null,null,null,null,null,null,null,null,null,null,null,null,{"$f":"IF(#REF!=\"\",\"\",#REF!)","v":{"$error":"#REF!"}},{"$f":"IF(#REF!=\"\",\"\",#REF!)","v":{"$error":"#REF!"}},{"$f":"IF(#REF!=\"\",\"\",#REF!)","v":{"$error":"#REF!"}},{"$f":"IF(#REF!=\"\",\"\",#REF!)","v":{"$error":"#REF!"}},{"$f":"IF(#REF!=\"\",\"\",#REF!)","v":{"$error":"#REF!"}},{"$f":"IF(#REF!=\"\",\"\",#REF!)","v":{"$error":"#REF!"}},{"$f":"IF(#REF!=\"\",\"\",#REF!)","v":{"$error":"#REF!"}}]
[null,"EK2",null,null,{"$f":"UPPER(DersYükü!C3&\" \"&DersYükü!AA2&\" \"&\"AYLIK ÜCRET FORMU\")","v":"TÜRK HAVA KURUMU ÜNİVERSİTESİ ORTAK DERSLER BÖLÜMÜ AYLIK ÜCRET FORMU"},null,null,null,null,null,null,null,null,null,null,null,null,null,null,null,null,null,null,null,null,null,null,null,null,null,null,null,null,null,null,null,null,null,null,null,null,null,null,null,null,null,null,null,null,null,null,null,null,{"$f":"IF(#REF!=\"\",\"\",#REF!)","v":{"$error":"#REF!"}},{"$f":"IF(#REF!=\"\",\"\",#REF!)","v":{"$error":"#REF!"}},{"$f":"IF(#REF!=\"\",\"\",#REF!)","v":{"$error":"#REF!"}},{"$f":"IF(#REF!=\"\",\"\",#REF!)","v":{"$error":"#REF!"}},{"$f":"IF(#REF!=\"\",\"\",#REF!)","v":{"$error":"#REF!"}},{"$f":"IF(#REF!=\"\",\"\",#REF!)","v":{"$error":"#REF!"}},{"$f":"IF(#REF!=\"\",\"\",#REF!)","v":{"$error":"#REF!"}}]
[null,null,null,null,null,null,null,null,null,null,null,null,null,null,null,null,null,null,null,null,null,null,null,null,null,null,null,null,null,null,null,null,null,null,null,null,null,null,null,{"$f":"VALUE(DersYükü!S1-DersYükü!M1)","v":0},null,{"$f":"DersYükü!M1+AN10/2","v":0},null,null,null,null,null,null,null,null,null,null,null,{"$f":"IF(#REF!=\"\",\"\",#REF!)","v":{"$error":"#REF!"}},{"$f":"IF(#REF!=\"\",\"\",#REF!)","v":{"$error":"#REF!"}},{"$f":"IF(#REF!=\"\",\"\",#REF!)","v":{"$error":"#REF!"}},{"$f":"IF(#REF!=\"\",\"\",#REF!)","v":{"$error":"#REF!"}},{"$f":"IF(#REF!=\"\",\"\",#REF!)","v":{"$error":"#REF!"}},{"$f":"IF(#REF!=\"\",\"\",#REF!)","v":{"$error":"#REF!"}},{"$f":"IF(#REF!=\"\",\"\",#REF!)","v":{"$error":"#REF!"}}]
[null,"ÖĞR. E.NIN","Bölümü",null,null,null,null,null,null,null,null,null,null,{"$f":"IF(DersYükü!E6=\"\",\"\",DersYükü!E6)","v":""},null,null,null,null,null,null,null,null,null,null,null,null,null,null,null,null,"FORMUN","Ait Olduğu Ay",null,null,null,null,null,null,null,{"$f":"AP10","v":"00:00:00"},null,null,null,null,null,null,null,null,null,null,null,null,null,{"$f":"IF(#REF!=\"\",\"\",#REF!)","v":{"$error":"#REF!"}},{"$f":"IF(#REF!=\"\",\"\",#REF!)","v":{"$error":"#REF!"}},{"$f":"IF(#REF!=\"\",\"\",#REF!)","v":{"$error":"#REF!"}},{"$f":"IF(#REF!=\"\",\"\",#REF!)","v":{"$error":"#REF!"}},{"$f":"IF(#REF!=\"\",\"\",#REF!)","v":{"$error":"#REF!"}},{"$f":"IF(#REF!=\"\",\"\",#REF!)","v":{"$error":"#REF!"}},{"$f":"IF(#REF!=\"\",\"\",#REF!)","v":{"$error":"#REF!"}}]
[null,null,"Adı ve Soyadı  ",null,null,null,null,null,null,null,null,null,null,{"$f":"IF(DersYükü!E7=\"\",\"\",DersYükü!E7)","v":""},null,null,null,null,null,null,null,null,null,null,null,null,null,null,null,null,null,"Döneminin Başlama ve Bitiş Tarihi",null,null,null,null,null,null,null,{"$f":"CONCATENATE(TEXT(DersYükü!M1,\"gg.aa.yyyy\"),\"-\",TEXT(DersYükü!S1,\"gg.aa.yyyy\"))","v":"00.01.1900-00.01.1900"},null,null,null,null,null,null,null,null,null,null,null,null,null,{"$f":"IF(#REF!=\"\",\"\",#REF!)","v":{"$error":"#REF!"}},{"$f":"IF(#REF!=\"\",\"\",#REF!)","v":{"$error":"#REF!"}},{"$f":"IF(#REF!=\"\",\"\",#REF!)","v":{"$error":"#REF!"}},{"$f":"IF(#REF!=\"\",\"\",#REF!)","v":{"$error":"#REF!"}},{"$f":"IF(#REF!=\"\",\"\",#REF!)","v":{"$error":"#REF!"}},{"$f":"IF(#REF!=\"\",\"\",#REF!)","v":{"$error":"#REF!"}},{"$f":"IF(#REF!=\"\",\"\",#REF!)","v":{"$error":"#REF!"}}]
[null,null,"İdari Görevi              ",null,null,null,null,null,null,null,null,null,null,{"$f":"IF(DersYükü!E8=\"\",\"\",DersYükü!E8)","v":""},null,null,null,null,null,null,null,null,null,null,null,null,null,null,null,null,null,null,null,null,null,null,null,null,null,null,null,null,null,null,null,null,null,null,null,null,null,null,null,{"$f":"IF(#REF!=\"\",\"\",#REF!)","v":{"$error":"#REF!"}},{"$f":"IF(#REF!=\"\",\"\",#REF!)","v":{"$error":"#REF!"}},{"$f":"IF(#REF!=\"\",\"\",#REF!)","v":{"$error":"#REF!"}},{"$f":"IF(#REF!=\"\",\"\",#REF!)","v":{"$error":"#REF!"}},{"$f":"IF(#REF!=\"\",\"\",#REF!)","v":{"$error":"#REF!"}},{"$f":"IF(#REF!=\"\",\"\",#REF!)","v":{"$error":"#REF!"}},{"$f":"IF(#REF!=\"\",\"\",#REF!)","v":{"$error":"#REF!"}}]
[null,null,"TC Kimlik Numarası",null,null,null,null,null,null,{"$f":"IF(DersYükü!K9=\"\",\"TC TC TC TC TC\",DersYükü!K9)","v":"TC TC TC TC TC"},null,null,null,null,null,null,null,null,null,"Zorunlu Ders Yükü (DY)",null,null,null,null,null,null,null,null,{"$f":"DersYükü!R8","v":0},null,null,null,null,null,null,null,null,null,null,null,null,null,null,null,null,null,null,null,null,null,null,null,null,{"$f":"IF(#REF!=\"\",\"\",#REF!)","v":{"$error":"#REF!"}},{"$f":"IF(#REF!=\"\",\"\",#REF!)","v":{"$error":"#REF!"}},{"$f":"IF(#REF!=\"\",\"\",#REF!)","v":{"$error":"#REF!"}},{"$f":"IF(#REF!=\"\",\"\",#REF!)","v":{"$error":"#REF!"}},{"$f":"IF(#REF!=\"\",\"\",#REF!)","v":{"$error":"#REF!"}},{"$f":"IF(#REF!=\"\",\"\",#REF!)","v":{"$error":"#REF!"}},{"$f":"IF(#REF!=\"\",\"\",#REF!)","v":{"$error":"#REF!"}}]
[null,null,null,null,null,null,null,null,null,null,null,null,null,null,null,null,null,null,null,null,null,null,null,null,null,null,null,null,null,null,null,null,null,null,null,null,null,null,null,null,null,null,null,null,null,null,null,null,null,null,null,null,null,{"$f":"IF(#REF!=\"\",\"\",#REF!)","v":{"$error":"#REF!"}},{"$f":"IF(#REF!=\"\",\"\",#REF!)","v":{"$error":"#REF!"}},{"$f":"IF(#REF!=\"\",\"\",#REF!)","v":{"$error":"#REF!"}},{"$f":"IF(#REF!=\"\",\"\",#REF!)","v":{"$error":"#REF!"}},{"$f":"IF(#REF!=\"\",\"\",#REF!)","v":{"$error":"#REF!"}},{"$f":"IF(#REF!=\"\",\"\",#REF!)","v":{"$error":"#REF!"}},{"$f":"IF(#REF!=\"\",\"\",#REF!)","v":{"$error":"#REF!"}}]
[null,null,null,null,null,null,null,null,null,null,"DY",null,null,null,null,null,null,null,null,"DY","Ö.ÖĞRETİM",null,null,null,null,null,null,null,"DY",null,null,null,null,null,null,null,null,"DY",null,null,null,null,null,null,null,null,"DY",null,null,null,null,null,null,{"$f":"IF(#REF!=\"\",\"\",#REF!)","v":{"$error":"#REF!"}},{"$f":"IF(#REF!=\"\",\"\",#REF!)","v":{"$error":"#REF!"}},{"$f":"IF(#REF!=\"\",\"\",#REF!)","v":{"$error":"#REF!"}},{"$f":"IF(#REF!=\"\",\"\",#REF!)","v":{"$error":"#REF!"}},{"$f":"IF(#REF!=\"\",\"\",#REF!)","v":{"$error":"#REF!"}},{"$f":"IF(#REF!=\"\",\"\",#REF!)","v":{"$error":"#REF!"}},{"$f":"IF(#REF!=\"\",\"\",#REF!)","v":{"$error":"#REF!"}}]
[null,null,"1.HAFTA",null,null,null,null,null,null,null,{"$f":"IF((J19+J20)>0,IF(J3=\"\",DersYükü!$R$8,J3),IF((J55+J56)>0,IF(J3=\"\",DersYükü!$R$8,J3),0))","v":0},"2.HAFTA",null,null,null,null,null,null,null,{"$f":"IF((S19+S20)>0,IF(S3=\"\",DersYükü!$R$8,S3),IF((S55+S56)>0,IF(S3=\"\",DersYükü!$R$8,S3),0))","v":{"$error":"#VALUE!"}},"3.HAFTA",null,null,null,null,null,null,null,{"$f":"IF((AB19+AB20)>0,IF(AB3=\"\",DersYükü!$R$8,AB3),IF((AB55+AB56)>0,IF(AB3=\"\",DersYükü!$R$8,AB3),0))","v":{"$error":"#VALUE!"}},"4.HAFTA",null,null,null,null,null,null,null,{"$f":"IF((AK19+AK20)>0,IF(AK3=\"\",DersYükü!$R$8,AK3),IF((AK55+AK56)>0,IF(AK3=\"\",DersYükü!$R$8,AK3),0))","v":{"$error":"#VALUE!"}},"5.HAFTA",null,null,null,null,null,null,null,{"$f":"IF((AT19+AT20)>0,IF(AT3=\"\",DersYükü!$R$8,AT3),IF((AT55+AT56)>0,IF(AT3=\"\",DersYükü!$R$8,AT3),0))","v":{"$error":"#VALUE!"}},"ÜT DS",null,null,null,null,null,{"$f":"IF(#REF!=\"\",\"\",#REF!)","v":{"$error":"#REF!"}},{"$f":"IF(#REF!=\"\",\"\",#REF!)","v":{"$error":"#REF!"}},{"$f":"IF(#REF!=\"\",\"\",#REF!)","v":{"$error":"#REF!"}},{"$f":"IF(#REF!=\"\",\"\",#REF!)","v":{"$error":"#REF!"}},{"$f":"IF(#REF!=\"\",\"\",#REF!)","v":{"$error":"#REF!"}},{"$f":"IF(#REF!=\"\",\"\",#REF!)","v":{"$error":"#REF!"}},{"$f":"IF(#REF!=\"\",\"\",#REF!)","v":{"$error":"#REF!"}}]
[null,null,"Pt","S","Ç","Pe","C","Ct","Pz","T","ÜD","Pt","S","Ç","Pe","C","Ct","Pz","T","ÜD","Pt","S","Ç","Pe","C","Ct","Pz","T","ÜD","Pt","S","Ç","Pe","C","Ct","Pz","T","ÜD","Pt","S","Ç","Pe","C","Ct","Pz","T","ÜD",null,null,null,null,null,null,{"$f":"IF(#REF!=\"\",\"\",#REF!)","v":{"$error":"#REF!"}},{"$f":"IF(#REF!=\"\",\"\",#REF!)","v":{"$error":"#REF!"}},{"$f":"IF(#REF!=\"\",\"\",#REF!)","v":{"$error":"#REF!"}},{"$f":"IF(#REF!=\"\",\"\",#REF!)","v":{"$error":"#REF!"}},{"$f":"IF(#REF!=\"\",\"\",#REF!)","v":{"$error":"#REF!"}},{"$f":"IF(#REF!=\"\",\"\",#REF!)","v":{"$error":"#REF!"}},{"$f":"IF(#REF!=\"\",\"\",#REF!)","v":{"$error":"#REF!"}}]
[null,"Te",{"$f":"IF(hesap!L23=0,\"\",hesap!L23)","v":""},{"$f":"IF(hesap!N23=0,\"\",hesap!N23)","v":""},{"$f":"IF(hesap!P23=0,\"\",hesap!P23)","v":""},{"$f":"IF(hesap!R23=0,\"\",hesap!R23)","v":""},{"$f":"IF(hesap!T23=0,\"\",hesap!T23)","v":""},{"$f":"IF(hesap!V23=0,\"\",hesap!V23)","v":""},{"$f":"IF(hesap!Z23=0,\"\",hesap!Z23)","v":""},{"$f":"SUM(C19:I19)","v":0},{"$f":"IF(SUM(J19,J20)-K17<0,0,IF(AND(SUM(J19,J20)-K17<=20,J20<=10),SUM(J19,J20)-K17,IF(AND(SUM(J19,J20)-K17<=20,J20>10),SUM(J19,10)-K17,IF(AND(SUM(J19,J20)-K17>20,J20<=10),\"20\",IF(AND(SUM(J19,J20)-K17>20,J20>10,SUM(J19,10)-K17>20),\"20\",IF(AND(SUM(J19,J20)-K17>20,J20>10,SUM(J19,10)-K17<=20),SUM(J19,10)-K17))))))","v":0},{"$f":"IF($AN$77<2,\"\",IF(hesap!AQ23=0,\"\",hesap!AQ23))","v":{"$error":"#VALUE!"}},{"$f":"IF($AN$77<2,\"\",IF(hesap!AS23=0,\"\",hesap!AS23))","v":{"$error":"#VALUE!"}},{"$f":"IF($AN$77<2,\"\",IF(hesap!AU23=0,\"\",hesap!AU23))","v":{"$error":"#VALUE!"}},{"$f":"IF($AN$77<2,\"\",IF(hesap!AW23=0,\"\",hesap!AW23))","v":{"$error":"#VALUE!"}},{"$f":"IF($AN$77<2,\"\",IF(hesap!AY23=0,\"\",hesap!AY23))","v":{"$error":"#VALUE!"}},{"$f":"IF($AN$77<2,\"\",IF(hesap!BA23=0,\"\",hesap!BA23))","v":{"$error":"#VALUE!"}},{"$f":"IF($AN$77<2,\"\",IF(hesap!BE23=0,\"\",hesap!BE23))","v":{"$error":"#VALUE!"}},{"$f":"SUM(L19:R19)","v":{"$error":"#VALUE!"}},{"$f":"IF(SUM(S19,S20)-T17<0,0,IF(AND(SUM(S19,S20)-T17<=20,S20<=10),SUM(S19,S20)-T17,IF(AND(SUM(S19,S20)-T17<=20,S20>10),SUM(S19,10)-T17,IF(AND(SUM(S19,S20)-T17>20,S20<=10),\"20\",IF(AND(SUM(S19,S20)-T17>20,S20>10,SUM(S19,10)-T17>20),\"20\",IF(AND(SUM(S19,S20)-T17>20,S20>10,SUM(S19,10)-T17<=20),SUM(S19,10)-T17))))))","v":{"$error":"#VALUE!"}},{"$f":"IF($AN$77<3,\"\",IF(hesap!L77=0,\"\",hesap!L77))","v":{"$error":"#VALUE!"}},{"$f":"IF($AN$77<3,\"\",IF(hesap!N77=0,\"\",hesap!N77))","v":{"$error":"#VALUE!"}},{"$f":"IF($AN$77<3,\"\",IF(hesap!P77=0,\"\",hesap!P77))","v":{"$error":"#VALUE!"}},{"$f":"IF($AN$77<3,\"\",IF(hesap!R77=0,\"\",hesap!R77))","v":{"$error":"#VALUE!"}},{"$f":"IF($AN$77<3,\"\",IF(hesap!T77=0,\"\",hesap!T77))","v":{"$error":"#VALUE!"}},{"$f":"IF($AN$77<3,\"\",IF(hesap!V77=0,\"\",hesap!V77))","v":{"$error":"#VALUE!"}},{"$f":"IF($AN$77<3,\"\",IF(hesap!Z77=0,\"\",hesap!Z77))","v":{"$error":"#VALUE!"}},{"$f":"SUM(U19:AA19)","v":{"$error":"#VALUE!"}},{"$f":"IF(SUM(AB19,AB20)-AC17<0,0,IF(AND(SUM(AB19,AB20)-AC17<=20,AB20<=10),SUM(AB19,AB20)-AC17,IF(AND(SUM(AB19,AB20)-AC17<=20,AB20>10),SUM(AB19,10)-AC17,IF(AND(SUM(AB19,AB20)-AC17>20,AB20<=10),\"20\",IF(AND(SUM(AB19,AB20)-AC17>20,AB20>10,SUM(AB19,10)-AC17>20),\"20\",IF(AND(SUM(AB19,AB20)-AC17>20,AB20>10,SUM(AB19,10)-AC17<=20),SUM(AB19,10)-AC17))))))","v":{"$error":"#VALUE!"}},{"$f":"IF($AN$77<4,\"\",IF(hesap!AQ77=0,\"\",hesap!AQ77))","v":{"$error":"#VALUE!"}},{"$f":"IF($AN$77<4,\"\",IF(hesap!AS77=0,\"\",hesap!AS77))","v":{"$error":"#VALUE!"}},{"$f":"IF($AN$77<4,\"\",IF(hesap!AU77=0,\"\",hesap!AU77))","v":{"$error":"#VALUE!"}},{"$f":"IF($AN$77<4,\"\",IF(hesap!AW77=0,\"\",hesap!AW77))","v":{"$error":"#VALUE!"}},{"$f":"IF($AN$77<4,\"\",IF(hesap!AY77=0,\"\",hesap!AY77))","v":{"$error":"#VALUE!"}},{"$f":"IF($AN$77<4,\"\",IF(hesap!BA77=0,\"\",hesap!BA77))","v":{"$error":"#VALUE!"}},{"$f":"IF($AN$77<4,\"\",IF(hesap!BE77=0,\"\",hesap!BE77))","v":{"$error":"#VALUE!"}},{"$f":"SUM(AD19:AJ19)","v":{"$error":"#VALUE!"}},{"$f":"IF(SUM(AK19,AK20)-AL17<0,0,IF(AND(SUM(AK19,AK20)-AL17<=20,AK20<=10),SUM(AK19,AK20)-AL17,IF(AND(SUM(AK19,AK20)-AL17<=20,AK20>10),SUM(AK19,10)-AL17,IF(AND(SUM(AK19,AK20)-AL17>20,AK20<=10),\"20\",IF(AND(SUM(AK19,AK20)-AL17>20,AK20>10,SUM(AK19,10)-AL17>20),\"20\",IF(AND(SUM(AK19,AK20)-AL17>20,AK20>10,SUM(AK19,10)-AL17<=20),SUM(AK19,10)-AL17))))))","v":{"$error":"#VALUE!"}},{"$f":"IF($AN$77<5,\"\",IF(hesap!L131=0,\"\",hesap!L131))","v":{"$error":"#VALUE!"}},{"$f":"IF($AN$77<5,\"\",IF(hesap!N131=0,\"\",hesap!N131))","v":{"$error":"#VALUE!"}},{"$f":"IF($AN$77<5,\"\",IF(hesap!P131=0,\"\",hesap!P131))","v":{"$error":"#VALUE!"}},{"$f":"IF($AN$77<5,\"\",IF(hesap!R131=0,\"\",hesap!R131))","v":{"$error":"#VALUE!"}},{"$f":"IF($AN$77<5,\"\",IF(hesap!T131=0,\"\",hesap!T131))","v":{"$error":"#VALUE!"}},{"$f":"IF($AN$77<5,\"\",IF(hesap!V131=0,\"\",hesap!V131))","v":{"$error":"#VALUE!"}},{"$f":"IF($AN$77<5,\"\",IF(hesap!Z131=0,\"\",hesap!Z131))","v":{"$error":"#VALUE!"}},{"$f":"SUM(AM19:AS19)","v":{"$error":"#VALUE!"}},{"$f":"IF(SUM(AT19,AT20)-AU17<0,0,IF(AND(SUM(AT19,AT20)-AU17<=20,AT20<=10),SUM(AT19,AT20)-AU17,IF(AND(SUM(AT19,AT20)-AU17<=20,AT20>10),SUM(AT19,10)-AU17,IF(AND(SUM(AT19,AT20)-AU17>20,AT20<=10),\"20\",IF(AND(SUM(AT19,AT20)-AU17>20,AT20>10,SUM(AT19,10)-AU17>20),\"20\",IF(AND(SUM(AT19,AT20)-AU17>20,AT20>10,SUM(AT19,10)-AU17<=20),SUM(AT19,10)-AU17))))))","v":{"$error":"#VALUE!"}},{"$f":"K19+T19+AC19+AL19+AU19","v":{"$error":"#VALUE!"}},null,null,null,null,null,{"$f":"IF(#REF!=\"\",\"\",#REF!)","v":{"$error":"#REF!"}},{"$f":"IF(#REF!=\"\",\"\",#REF!)","v":{"$error":"#REF!"}},{"$f":"IF(#REF!=\"\",\"\",#REF!)","v":{"$error":"#REF!"}},{"$f":"IF(#REF!=\"\",\"\",#REF!)","v":{"$error":"#REF!"}},{"$f":"IF(#REF!=\"\",\"\",#REF!)","v":{"$error":"#REF!"}},{"$f":"IF(#REF!=\"\",\"\",#REF!)","v":{"$error":"#REF!"}},{"$f":"IF(#REF!=\"\",\"\",#REF!)","v":{"$error":"#REF!"}}]
[null,"DF",{"$f":"IF(hesap!M23=0,\"\",hesap!M23)","v":""},{"$f":"IF(hesap!O23=0,\"\",hesap!O23)","v":""},{"$f":"IF(hesap!Q23=0,\"\",hesap!Q23)","v":""},{"$f":"IF(hesap!S23=0,\"\",hesap!S23)","v":""},{"$f":"IF(hesap!U23=0,\"\",hesap!U23)","v":""},{"$f":"IF(hesap!W23=0,\"\",hesap!W23)","v":""},{"$f":"IF(hesap!AA23=0,\"\",hesap!AA23)","v":""},{"$f":"SUM(C20:I20)","v":0},null,{"$f":"IF($AN$77<2,\"\",IF(hesap!AR23=0,\"\",hesap!AR23))","v":{"$error":"#VALUE!"}},{"$f":"IF($AN$77<2,\"\",IF(hesap!AT23=0,\"\",hesap!AT23))","v":{"$error":"#VALUE!"}},{"$f":"IF($AN$77<2,\"\",IF(hesap!AV23=0,\"\",hesap!AV23))","v":{"$error":"#VALUE!"}},{"$f":"IF($AN$77<2,\"\",IF(hesap!AX23=0,\"\",hesap!AX23))","v":{"$error":"#VALUE!"}},{"$f":"IF($AN$77<2,\"\",IF(hesap!AZ23=0,\"\",hesap!AZ23))","v":{"$error":"#VALUE!"}},{"$f":"IF($AN$77<2,\"\",IF(hesap!BB23=0,\"\",hesap!BB23))","v":{"$error":"#VALUE!"}},{"$f":"IF($AN$77<2,\"\",IF(hesap!BF23=0,\"\",hesap!BF23))","v":{"$error":"#VALUE!"}},{"$f":"SUM(L20:R20)","v":{"$error":"#VALUE!"}},null,{"$f":"IF($AN$77<3,\"\",IF(hesap!M77=0,\"\",hesap!M77))","v":{"$error":"#VALUE!"}},{"$f":"IF($AN$77<3,\"\",IF(hesap!O77=0,\"\",hesap!O77))","v":{"$error":"#VALUE!"}},{"$f":"IF($AN$77<3,\"\",IF(hesap!Q77=0,\"\",hesap!Q77))","v":{"$error":"#VALUE!"}},{"$f":"IF($AN$77<3,\"\",IF(hesap!S77=0,\"\",hesap!S77))","v":{"$error":"#VALUE!"}},{"$f":"IF($AN$77<3,\"\",IF(hesap!U77=0,\"\",hesap!U77))","v":{"$error":"#VALUE!"}},{"$f":"IF($AN$77<3,\"\",IF(hesap!W77=0,\"\",hesap!W77))","v":{"$error":"#VALUE!"}},{"$f":"IF($AN$77<3,\"\",IF(hesap!AA77=0,\"\",hesap!AA77))","v":{"$error":"#VALUE!"}},{"$f":"SUM(U20:AA20)","v":{"$error":"#VALUE!"}},null,{"$f":"IF($AN$77<4,\"\",IF(hesap!AR77=0,\"\",hesap!AR77))","v":{"$error":"#VALUE!"}},{"$f":"IF($AN$77<4,\"\",IF(hesap!AT77=0,\"\",hesap!AT77))","v":{"$error":"#VALUE!"}},{"$f":"IF($AN$77<4,\"\",IF(hesap!AV77=0,\"\",hesap!AV77))","v":{"$error":"#VALUE!"}},{"$f":"IF($AN$77<4,\"\",IF(hesap!AX77=0,\"\",hesap!AX77))","v":{"$error":"#VALUE!"}},{"$f":"IF($AN$77<4,\"\",IF(hesap!AZ77=0,\"\",hesap!AZ77))","v":{"$error":"#VALUE!"}},{"$f":"IF($AN$77<4,\"\",IF(hesap!BB77=0,\"\",hesap!BB77))","v":{"$error":"#VALUE!"}},{"$f":"IF($AN$77<4,\"\",IF(hesap!BF77=0,\"\",hesap!BF77))","v":{"$error":"#VALUE!"}},{"$f":"SUM(AD20:AJ20)","v":{"$error":"#VALUE!"}},null,{"$f":"IF($AN$77<5,\"\",IF(hesap!M131=0,\"\",hesap!M131))","v":{"$error":"#VALUE!"}},{"$f":"IF($AN$77<5,\"\",IF(hesap!O131=0,\"\",hesap!O131))","v":{"$error":"#VALUE!"}},{"$f":"IF($AN$77<5,\"\",IF(hesap!Q131=0,\"\",hesap!Q131))","v":{"$error":"#VALUE!"}},{"$f":"IF($AN$77<5,\"\",IF(hesap!S131=0,\"\",hesap!S131))","v":{"$error":"#VALUE!"}},{"$f":"IF($AN$77<5,\"\",IF(hesap!U131=0,\"\",hesap!U131))","v":{"$error":"#VALUE!"}},{"$f":"IF($AN$77<5,\"\",IF(hesap!W131=0,\"\",hesap!W131))","v":{"$error":"#VALUE!"}},{"$f":"IF($AN$77<5,\"\",IF(hesap!AA131=0,\"\",hesap!AA131))","v":{"$error":"#VALUE!"}},{"$f":"SUM(AM20:AS20)","v":{"$error":"#VALUE!"}},null,null,null,null,null,null,null,{"$f":"IF(#REF!=\"\",\"\",#REF!)","v":{"$error":"#REF!"}},{"$f":"IF(#REF!=\"\",\"\",#REF!)","v":{"$error":"#REF!"}},{"$f":"IF(#REF!=\"\",\"\",#REF!)","v":{"$error":"#REF!"}},{"$f":"IF(#REF!=\"\",\"\",#REF!)","v":{"$error":"#REF!"}},{"$f":"IF(#REF!=\"\",\"\",#REF!)","v":{"$error":"#REF!"}},{"$f":"IF(#REF!=\"\",\"\",#REF!)","v":{"$error":"#REF!"}},{"$f":"IF(#REF!=\"\",\"\",#REF!)","v":{"$error":"#REF!"}}]
[null,null,null,null,null,null,null,null,null,null,null,null,null,null,null,null,null,null,null,null,null,null,null,null,null,null,null,null,null,null,null,null,null,null,null,null,null,null,null,null,null,null,null,null,null,null,null,null,null,null,null,null,null,{"$f":"IF(#REF!=\"\",\"\",#REF!)","v":{"$error":"#REF!"}},{"$f":"IF(#REF!=\"\",\"\",#REF!)","v":{"$error":"#REF!"}},{"$f":"IF(#REF!=\"\",\"\",#REF!)","v":{"$error":"#REF!"}},{"$f":"IF(#REF!=\"\",\"\",#REF!)","v":{"$error":"#REF!"}},{"$f":"IF(#REF!=\"\",\"\",#REF!)","v":{"$error":"#REF!"}},{"$f":"IF(#REF!=\"\",\"\",#REF!)","v":{"$error":"#REF!"}},{"$f":"IF(#REF!=\"\",\"\",#REF!)","v":{"$error":"#REF!"}}]
[null,null,null,null,null,null,null,null,null,null,null,null,"Fak/Ens.",null,null,null,"Kod","H.D.S",null,null,"Ara Sınav ",null,null,null,"1.HAFTA",null,null,null,null,"2.HAFTA",null,null,null,"3.HAFTA",null,null,null,null,"4.HAFTA",null,null,null,"5.HAFTA",null,null,null,null,null,null,null,null,null,null,{"$f":"IF(#REF!=\"\",\"\",#REF!)","v":{"$error":"#REF!"}},{"$f":"IF(#REF!=\"\",\"\",#REF!)","v":{"$error":"#REF!"}},{"$f":"IF(#REF!=\"\",\"\",#REF!)","v":{"$error":"#REF!"}},{"$f":"IF(#REF!=\"\",\"\",#REF!)","v":{"$error":"#REF!"}},{"$f":"IF(#REF!=\"\",\"\",#REF!)","v":{"$error":"#REF!"}},{"$f":"IF(#REF!=\"\",\"\",#REF!)","v":{"$error":"#REF!"}},{"$f":"IF(#REF!=\"\",\"\",#REF!)","v":{"$error":"#REF!"}}]
[null,"No","Dersin Adı",null,null,null,null,null,null,null,null,null,"M.Y.O",null,null,null,null,"Teo.",null,"D.F.","H",null,"Ö.S",null,"Teo.",null,null,"D.F.",null,"Teo.",null,"D.F.",null,"Teo.",null,null,"D.F.",null,"Teo.",null,"D.F.",null,"Teo.",null,null,"D.F.",null,"Açıklama",null,null,null,null,null,{"$f":"IF(#REF!=\"\",\"\",#REF!)","v":{"$error":"#REF!"}},{"$f":"IF(#REF!=\"\",\"\",#REF!)","v":{"$error":"#REF!"}},{"$f":"IF(#REF!=\"\",\"\",#REF!)","v":{"$error":"#REF!"}},{"$f":"IF(#REF!=\"\",\"\",#REF!)","v":{"$error":"#REF!"}},{"$f":"IF(#REF!=\"\",\"\",#REF!)","v":{"$error":"#REF!"}},{"$f":"IF(#REF!=\"\",\"\",#REF!)","v":{"$error":"#REF!"}},{"$f":"IF(#REF!=\"\",\"\",#REF!)","v":{"$error":"#REF!"}}]
[null,1,{"$f":"IF(DersYükü!C14=\"\",\"\",DersYükü!C14)","v":""},null,null,null,null,null,null,null,null,null,{"$f":"IF(VLOOKUP(DersYükü!M14,#REF!,2,FALSE)=\"\",\"\",VLOOKUP(DersYükü!M14,#REF!,2,FALSE))","v":{"$error":"#REF!"}},null,null,null,{"$f":"IF(M24=\"\",\"\",VLOOKUP(M24,$BI$41:$BJ$45,2,FALSE))","v":{"$error":"#REF!"}},{"$f":"IF(DersYükü!T14=0,\"\",DersYükü!T14)","v":""},null,{"$f":"IF(DersYükü!V14=0,\"\",DersYükü!V14)","v":""},{"$f":"IF(OR('Sınav Ücret'!AD15<1,'Sınav Ücret'!AD15>5),\"\",'Sınav Ücret'!AD15)","v":""},null,{"$f":"IF(U24=\"\",\"\",'Sınav Ücret'!P15)","v":""},null,{"$f":"IF(hesap!C6=\"\",\"\",hesap!C6)","v":""},null,null,{"$f":"IF(hesap!D6=\"\",\"\",hesap!D6)","v":""},null,{"$f":"IF($AN$77<2,\"\",IF(hesap!AH6=\"\",\"\",hesap!AH6))","v":{"$error":"#VALUE!"}},null,{"$f":"IF($AN$77<2,\"\",IF(hesap!AI6=\"\",\"\",hesap!AI6))","v":{"$error":"#VALUE!"}},null,{"$f":"IF($AN$77<3,\"\",IF(hesap!C60=\"\",\"\",hesap!C60))","v":{"$error":"#VALUE!"}},null,null,{"$f":"IF($AN$77<3,\"\",IF(hesap!D60=\"\",\"\",hesap!D60))","v":{"$error":"#VALUE!"}},null,{"$f":"IF($AN$77<4,\"\",IF(hesap!AH60=\"\",\"\",hesap!AH60))","v":{"$error":"#VALUE!"}},null,{"$f":"IF($AN$77<4,\"\",IF(hesap!AI60=\"\",\"\",hesap!AI60))","v":{"$error":"#VALUE!"}},null,{"$f":"IF($AN$77<5,\"\",IF(hesap!C114=\"\",\"\",hesap!C114))","v":{"$error":"#VALUE!"}},null,null,{"$f":"IF($AN$77<5,\"\",IF(hesap!D114=\"\",\"\",hesap!D114))","v":{"$error":"#VALUE!"}},null,{"$f":"IF(UPPER(DersYükü!X14)=\"UZ\",\"Uzak.E.\",\"\")","v":""},null,null,null,null,null,{"$f":"IF(#REF!=\"\",\"\",#REF!)","v":{"$error":"#REF!"}},{"$f":"IF(#REF!=\"\",\"\",#REF!)","v":{"$error":"#REF!"}},{"$f":"IF(#REF!=\"\",\"\",#REF!)","v":{"$error":"#REF!"}},{"$f":"IF(#REF!=\"\",\"\",#REF!)","v":{"$error":"#REF!"}},{"$f":"IF(#REF!=\"\",\"\",#REF!)","v":{"$error":"#REF!"}},{"$f":"IF(#REF!=\"\",\"\",#REF!)","v":{"$error":"#REF!"}},{"$f":"IF(#REF!=\"\",\"\",#REF!)","v":{"$error":"#REF!"}}]
[null,2,{"$f":"IF(DersYükü!C15=\"\",\"\",DersYükü!C15)","v":""},null,null,null,null,null,null,null,null,null,{"$f":"IF(VLOOKUP(DersYükü!M15,#REF!,2,FALSE)=\"\",\"\",VLOOKUP(DersYükü!M15,#REF!,2,FALSE))","v":{"$error":"#REF!"}},null,null,null,{"$f":"IF(M25=\"\",\"\",VLOOKUP(M25,$BI$41:$BJ$45,2,FALSE))","v":{"$error":"#REF!"}},{"$f":"IF(DersYükü!T15=0,\"\",DersYükü!T15)","v":""},null,{"$f":"IF(DersYükü!V15=0,\"\",DersYükü!V15)","v":""},{"$f":"IF(OR('Sınav Ücret'!AD16<1,'Sınav Ücret'!AD16>5),\"\",'Sınav Ücret'!AD16)","v":""},null,{"$f":"IF(U25=\"\",\"\",'Sınav Ücret'!P16)","v":""},null,{"$f":"IF(hesap!C7=\"\",\"\",hesap!C7)","v":""},null,null,{"$f":"IF(hesap!D7=\"\",\"\",hesap!D7)","v":""},null,{"$f":"IF($AN$77<2,\"\",IF(hesap!AH7=\"\",\"\",hesap!AH7))","v":{"$error":"#VALUE!"}},null,{"$f":"IF($AN$77<2,\"\",IF(hesap!AI7=\"\",\"\",hesap!AI7))","v":{"$error":"#VALUE!"}},null,{"$f":"IF($AN$77<3,\"\",IF(hesap!C61=\"\",\"\",hesap!C61))","v":{"$error":"#VALUE!"}},null,null,{"$f":"IF($AN$77<3,\"\",IF(hesap!D61=\"\",\"\",hesap!D61))","v":{"$error":"#VALUE!"}},null,{"$f":"IF($AN$77<4,\"\",IF(hesap!AH61=\"\",\"\",hesap!AH61))","v":{"$error":"#VALUE!"}},null,{"$f":"IF($AN$77<4,\"\",IF(hesap!AI61=\"\",\"\",hesap!AI61))","v":{"$error":"#VALUE!"}},null,{"$f":"IF($AN$77<5,\"\",IF(hesap!C115=\"\",\"\",hesap!C115))","v":{"$error":"#VALUE!"}},null,null,{"$f":"IF($AN$77<5,\"\",IF(hesap!D115=\"\",\"\",hesap!D115))","v":{"$error":"#VALUE!"}},null,{"$f":"IF(UPPER(DersYükü!X15)=\"UZ\",\"Uzak.E.\",\"\")","v":""},null,null,null,null,null,{"$f":"IF(#REF!=\"\",\"\",#REF!)","v":{"$error":"#REF!"}},{"$f":"IF(#REF!=\"\",\"\",#REF!)","v":{"$error":"#REF!"}},{"$f":"IF(#REF!=\"\",\"\",#REF!)","v":{"$error":"#REF!"}},{"$f":"IF(#REF!=\"\",\"\",#REF!)","v":{"$error":"#REF!"}},{"$f":"IF(#REF!=\"\",\"\",#REF!)","v":{"$error":"#REF!"}},{"$f":"IF(#REF!=\"\",\"\",#REF!)","v":{"$error":"#REF!"}},{"$f":"IF(#REF!=\"\",\"\",#REF!)","v":{"$error":"#REF!"}}]
[null,3,{"$f":"IF(DersYükü!C16=\"\",\"\",DersYükü!C16)","v":""},null,null,null,null,null,null,null,null,null,{"$f":"IF(VLOOKUP(DersYükü!M16,#REF!,2,FALSE)=\"\",\"\",VLOOKUP(DersYükü!M16,#REF!,2,FALSE))","v":{"$error":"#REF!"}},null,null,null,{"$error":"#REF!"},{"$f":"IF(DersYükü!T16=0,\"\",DersYükü!T16)","v":""},null,{"$f":"IF(DersYükü!V16=0,\"\",DersYükü!V16)","v":""},{"$f":"IF(OR('Sınav Ücret'!AD17<1,'Sınav Ücret'!AD17>5),\"\",'Sınav Ücret'!AD17)","v":""},null,{"$f":"IF(U26=\"\",\"\",'Sınav Ücret'!P17)","v":""},null,{"$f":"IF(hesap!C8=\"\",\"\",hesap!C8)","v":""},null,null,{"$f":"IF(hesap!D8=\"\",\"\",hesap!D8)","v":""},null,{"$f":"IF($AN$77<2,\"\",IF(hesap!AH8=\"\",\"\",hesap!AH8))","v":{"$error":"#VALUE!"}},null,{"$f":"IF($AN$77<2,\"\",IF(hesap!AI8=\"\",\"\",hesap!AI8))","v":{"$error":"#VALUE!"}},null,{"$f":"IF($AN$77<3,\"\",IF(hesap!C62=\"\",\"\",hesap!C62))","v":{"$error":"#VALUE!"}},null,null,{"$f":"IF($AN$77<3,\"\",IF(hesap!D62=\"\",\"\",hesap!D62))","v":{"$error":"#VALUE!"}},null,{"$f":"IF($AN$77<4,\"\",IF(hesap!AH62=\"\",\"\",hesap!AH62))","v":{"$error":"#VALUE!"}},null,{"$f":"IF($AN$77<4,\"\",IF(hesap!AI62=\"\",\"\",hesap!AI62))","v":{"$error":"#VALUE!"}},null,{"$f":"IF($AN$77<5,\"\",IF(hesap!C116=\"\",\"\",hesap!C116))","v":{"$error":"#VALUE!"}},null,null,{"$f":"IF($AN$77<5,\"\",IF(hesap!D116=\"\",\"\",hesap!D116))","v":{"$error":"#VALUE!"}},null,{"$f":"IF(UPPER(DersYükü!X16)=\"UZ\",\"Uzak.E.\",\"\")","v":""},null,null,null,null,null,{"$f":"IF(#REF!=\"\",\"\",#REF!)","v":{"$error":"#REF!"}},{"$f":"IF(#REF!=\"\",\"\",#REF!)","v":{"$error":"#REF!"}},{"$f":"IF(#REF!=\"\",\"\",#REF!)","v":{"$error":"#REF!"}},{"$f":"IF(#REF!=\"\",\"\",#REF!)","v":{"$error":"#REF!"}},{"$f":"IF(#REF!=\"\",\"\",#REF!)","v":{"$error":"#REF!"}},{"$f":"IF(#REF!=\"\",\"\",#REF!)","v":{"$error":"#REF!"}},{"$f":"IF(#REF!=\"\",\"\",#REF!)","v":{"$error":"#REF!"}}]
[null,4,{"$f":"IF(DersYükü!C17=\"\",\"\",DersYükü!C17)","v":""},null,null,null,null,null,null,null,null,null,{"$f":"IF(VLOOKUP(DersYükü!M17,#REF!,2,FALSE)=\"\",\"\",VLOOKUP(DersYükü!M17,#REF!,2,FALSE))","v":{"$error":"#REF!"}},null,null,null,{"$error":"#REF!"},{"$f":"IF(DersYükü!T17=0,\"\",DersYükü!T17)","v":""},null,{"$f":"IF(DersYükü!V17=0,\"\",DersYükü!V17)","v":""},{"$f":"IF(OR('Sınav Ücret'!AD18<1,'Sınav Ücret'!AD18>5),\"\",'Sınav Ücret'!AD18)","v":""},null,{"$f":"IF(U27=\"\",\"\",'Sınav Ücret'!P18)","v":""},null,{"$f":"IF(hesap!C9=\"\",\"\",hesap!C9)","v":""},null,null,{"$f":"IF(hesap!D9=\"\",\"\",hesap!D9)","v":""},null,{"$f":"IF($AN$77<2,\"\",IF(hesap!AH9=\"\",\"\",hesap!AH9))","v":{"$error":"#VALUE!"}},null,{"$f":"IF($AN$77<2,\"\",IF(hesap!AI9=\"\",\"\",hesap!AI9))","v":{"$error":"#VALUE!"}},null,{"$f":"IF($AN$77<3,\"\",IF(hesap!C63=\"\",\"\",hesap!C63))","v":{"$error":"#VALUE!"}},null,null,{"$f":"IF($AN$77<3,\"\",IF(hesap!D63=\"\",\"\",hesap!D63))","v":{"$error":"#VALUE!"}},null,{"$f":"IF($AN$77<4,\"\",IF(hesap!AH63=\"\",\"\",hesap!AH63))","v":{"$error":"#VALUE!"}},null,{"$f":"IF($AN$77<4,\"\",IF(hesap!AI63=\"\",\"\",hesap!AI63))","v":{"$error":"#VALUE!"}},null,{"$f":"IF($AN$77<5,\"\",IF(hesap!C117=\"\",\"\",hesap!C117))","v":{"$error":"#VALUE!"}},null,null,{"$f":"IF($AN$77<5,\"\",IF(hesap!D117=\"\",\"\",hesap!D117))","v":{"$error":"#VALUE!"}},null,{"$f":"IF(UPPER(DersYükü!X17)=\"UZ\",\"Uzak.E.\",\"\")","v":""},null,null,null,null,null,{"$f":"IF(#REF!=\"\",\"\",#REF!)","v":{"$error":"#REF!"}},{"$f":"IF(#REF!=\"\",\"\",#REF!)","v":{"$error":"#REF!"}},{"$f":"IF(#REF!=\"\",\"\",#REF!)","v":{"$error":"#REF!"}},{"$f":"IF(#REF!=\"\",\"\",#REF!)","v":{"$error":"#REF!"}},{"$f":"IF(#REF!=\"\",\"\",#REF!)","v":{"$error":"#REF!"}},{"$f":"IF(#REF!=\"\",\"\",#REF!)","v":{"$error":"#REF!"}},{"$f":"IF(#REF!=\"\",\"\",#REF!)","v":{"$error":"#REF!"}}]
[null,5,{"$f":"IF(DersYükü!C18=\"\",\"\",DersYükü!C18)","v":""},null,null,null,null,null,null,null,null,null,{"$f":"IF(VLOOKUP(DersYükü!M18,#REF!,2,FALSE)=\"\",\"\",VLOOKUP(DersYükü!M18,#REF!,2,FALSE))","v":{"$error":"#REF!"}},null,null,null,{"$error":"#REF!"},{"$f":"IF(DersYükü!T18=0,\"\",DersYükü!T18)","v":""},null,{"$f":"IF(DersYükü!V18=0,\"\",DersYükü!V18)","v":""},{"$f":"IF(OR('Sınav Ücret'!AD19<1,'Sınav Ücret'!AD19>5),\"\",'Sınav Ücret'!AD19)","v":""},null,{"$f":"IF(U28=\"\",\"\",'Sınav Ücret'!P19)","v":""},null,{"$f":"IF(hesap!C10=\"\",\"\",hesap!C10)","v":""},null,null,{"$f":"IF(hesap!D10=\"\",\"\",hesap!D10)","v":""},null,{"$f":"IF($AN$77<2,\"\",IF(hesap!AH10=\"\",\"\",hesap!AH10))","v":{"$error":"#VALUE!"}},null,{"$f":"IF($AN$77<2,\"\",IF(hesap!AI10=\"\",\"\",hesap!AI10))","v":{"$error":"#VALUE!"}},null,{"$f":"IF($AN$77<3,\"\",IF(hesap!C64=\"\",\"\",hesap!C64))","v":{"$error":"#VALUE!"}},null,null,{"$f":"IF($AN$77<3,\"\",IF(hesap!D64=\"\",\"\",hesap!D64))","v":{"$error":"#VALUE!"}},null,{"$f":"IF($AN$77<4,\"\",IF(hesap!AH64=\"\",\"\",hesap!AH64))","v":{"$error":"#VALUE!"}},null,{"$f":"IF($AN$77<4,\"\",IF(hesap!AI64=\"\",\"\",hesap!AI64))","v":{"$error":"#VALUE!"}},null,{"$f":"IF($AN$77<5,\"\",IF(hesap!C118=\"\",\"\",hesap!C118))","v":{"$error":"#VALUE!"}},null,null,{"$f":"IF($AN$77<5,\"\",IF(hesap!D118=\"\",\"\",hesap!D118))","v":{"$error":"#VALUE!"}},null,{"$f":"IF(UPPER(DersYükü!X18)=\"UZ\",\"Uzak.E.\",\"\")","v":""},null,null,null,null,null,{"$f":"IF(#REF!=\"\",\"\",#REF!)","v":{"$error":"#REF!"}},{"$f":"IF(#REF!=\"\",\"\",#REF!)","v":{"$error":"#REF!"}},{"$f":"IF(#REF!=\"\",\"\",#REF!)","v":{"$error":"#REF!"}},{"$f":"IF(#REF!=\"\",\"\",#REF!)","v":{"$error":"#REF!"}},{"$f":"IF(#REF!=\"\",\"\",#REF!)","v":{"$error":"#REF!"}},{"$f":"IF(#REF!=\"\",\"\",#REF!)","v":{"$error":"#REF!"}},{"$f":"IF(#REF!=\"\",\"\",#REF!)","v":{"$error":"#REF!"}}]
[null,6,{"$f":"IF(DersYükü!C19=\"\",\"\",DersYükü!C19)","v":""},null,null,null,null,null,null,null,null,null,{"$f":"IF(VLOOKUP(DersYükü!M19,#REF!,2,FALSE)=\"\",\"\",VLOOKUP(DersYükü!M19,#REF!,2,FALSE))","v":{"$error":"#REF!"}},null,null,null,{"$error":"#REF!"},{"$f":"IF(DersYükü!T19=0,\"\",DersYükü!T19)","v":""},null,{"$f":"IF(DersYükü!V19=0,\"\",DersYükü!V19)","v":""},{"$f":"IF(OR('Sınav Ücret'!AD20<1,'Sınav Ücret'!AD20>5),\"\",'Sınav Ücret'!AD20)","v":""},null,{"$f":"IF(U29=\"\",\"\",'Sınav Ücret'!P20)","v":""},null,{"$f":"IF(hesap!C11=\"\",\"\",hesap!C11)","v":""},null,null,{"$f":"IF(hesap!D11=\"\",\"\",hesap!D11)","v":""},null,{"$f":"IF($AN$77<2,\"\",IF(hesap!AH11=\"\",\"\",hesap!AH11))","v":{"$error":"#VALUE!"}},null,{"$f":"IF($AN$77<2,\"\",IF(hesap!AI11=\"\",\"\",hesap!AI11))","v":{"$error":"#VALUE!"}},null,{"$f":"IF($AN$77<3,\"\",IF(hesap!C65=\"\",\"\",hesap!C65))","v":{"$error":"#VALUE!"}},null,null,{"$f":"IF($AN$77<3,\"\",IF(hesap!D65=\"\",\"\",hesap!D65))","v":{"$error":"#VALUE!"}},null,{"$f":"IF($AN$77<4,\"\",IF(hesap!AH65=\"\",\"\",hesap!AH65))","v":{"$error":"#VALUE!"}},null,{"$f":"IF($AN$77<4,\"\",IF(hesap!AI65=\"\",\"\",hesap!AI65))","v":{"$error":"#VALUE!"}},null,{"$f":"IF($AN$77<5,\"\",IF(hesap!C119=\"\",\"\",hesap!C119))","v":{"$error":"#VALUE!"}},null,null,{"$f":"IF($AN$77<5,\"\",IF(hesap!D119=\"\",\"\",hesap!D119))","v":{"$error":"#VALUE!"}},null,{"$f":"IF(UPPER(DersYükü!X19)=\"UZ\",\"Uzak.E.\",\"\")","v":""},null,null,null,null,null,{"$f":"IF(#REF!=\"\",\"\",#REF!)","v":{"$error":"#REF!"}},{"$f":"IF(#REF!=\"\",\"\",#REF!)","v":{"$error":"#REF!"}},{"$f":"IF(#REF!=\"\",\"\",#REF!)","v":{"$error":"#REF!"}},{"$f":"IF(#REF!=\"\",\"\",#REF!)","v":{"$error":"#REF!"}},{"$f":"IF(#REF!=\"\",\"\",#REF!)","v":{"$error":"#REF!"}},{"$f":"IF(#REF!=\"\",\"\",#REF!)","v":{"$error":"#REF!"}},{"$f":"IF(#REF!=\"\",\"\",#REF!)","v":{"$error":"#REF!"}}]
[null,7,{"$f":"IF(DersYükü!C20=\"\",\"\",DersYükü!C20)","v":""},null,null,null,null,null,null,null,null,null,{"$f":"IF(VLOOKUP(DersYükü!M20,#REF!,2,FALSE)=\"\",\"\",VLOOKUP(DersYükü!M20,#REF!,2,FALSE))","v":{"$error":"#REF!"}},null,null,null,{"$error":"#REF!"},{"$f":"IF(DersYükü!T20=0,\"\",DersYükü!T20)","v":""},null,{"$f":"IF(DersYükü!V20=0,\"\",DersYükü!V20)","v":""},{"$f":"IF(OR('Sınav Ücret'!AD21<1,'Sınav Ücret'!AD21>5),\"\",'Sınav Ücret'!AD21)","v":""},null,{"$f":"IF(U30=\"\",\"\",'Sınav Ücret'!P21)","v":""},null,{"$f":"IF(hesap!C12=\"\",\"\",hesap!C12)","v":""},null,null,{"$f":"IF(hesap!D12=\"\",\"\",hesap!D12)","v":""},null,{"$f":"IF($AN$77<2,\"\",IF(hesap!AH12=\"\",\"\",hesap!AH12))","v":{"$error":"#VALUE!"}},null,{"$f":"IF($AN$77<2,\"\",IF(hesap!AI12=\"\",\"\",hesap!AI12))","v":{"$error":"#VALUE!"}},null,{"$f":"IF($AN$77<3,\"\",IF(hesap!C66=\"\",\"\",hesap!C66))","v":{"$error":"#VALUE!"}},null,null,{"$f":"IF($AN$77<3,\"\",IF(hesap!D66=\"\",\"\",hesap!D66))","v":{"$error":"#VALUE!"}},null,{"$f":"IF($AN$77<4,\"\",IF(hesap!AH66=\"\",\"\",hesap!AH66))","v":{"$error":"#VALUE!"}},null,{"$f":"IF($AN$77<4,\"\",IF(hesap!AI66=\"\",\"\",hesap!AI66))","v":{"$error":"#VALUE!"}},null,{"$f":"IF($AN$77<5,\"\",IF(hesap!C120=\"\",\"\",hesap!C120))","v":{"$error":"#VALUE!"}},null,null,{"$f":"IF($AN$77<5,\"\",IF(hesap!D120=\"\",\"\",hesap!D120))","v":{"$error":"#VALUE!"}},null,{"$f":"IF(UPPER(DersYükü!X20)=\"UZ\",\"Uzak.E.\",\"\")","v":""}]
[null,8,{"$f":"IF(DersYükü!C21=\"\",\"\",DersYükü!C21)","v":""},null,null,null,null,null,null,null,null,null,{"$f":"IF(VLOOKUP(DersYükü!M21,#REF!,2,FALSE)=\"\",\"\",VLOOKUP(DersYükü!M21,#REF!,2,FALSE))","v":{"$error":"#REF!"}},null,null,null,{"$error":"#REF!"},{"$f":"IF(DersYükü!T21=0,\"\",DersYükü!T21)","v":""},null,{"$f":"IF(DersYükü!V21=0,\"\",DersYükü!V21)","v":""},{"$f":"IF(OR('Sınav Ücret'!AD22<1,'Sınav Ücret'!AD22>5),\"\",'Sınav Ücret'!AD22)","v":""},null,{"$f":"IF(U31=\"\",\"\",'Sınav Ücret'!P22)","v":""},null,{"$f":"IF(hesap!C13=\"\",\"\",hesap!C13)","v":""},null,null,{"$f":"IF(hesap!D13=\"\",\"\",hesap!D13)","v":""},null,{"$f":"IF($AN$77<2,\"\",IF(hesap!AH13=\"\",\"\",hesap!AH13))","v":{"$error":"#VALUE!"}},null,{"$f":"IF($AN$77<2,\"\",IF(hesap!AI13=\"\",\"\",hesap!AI13))","v":{"$error":"#VALUE!"}},null,{"$f":"IF($AN$77<3,\"\",IF(hesap!C67=\"\",\"\",hesap!C67))","v":{"$error":"#VALUE!"}},null,null,{"$f":"IF($AN$77<3,\"\",IF(hesap!D67=\"\",\"\",hesap!D67))","v":{"$error":"#VALUE!"}},null,{"$f":"IF($AN$77<4,\"\",IF(hesap!AH67=\"\",\"\",hesap!AH67))","v":{"$error":"#VALUE!"}},null,{"$f":"IF($AN$77<4,\"\",IF(hesap!AI67=\"\",\"\",hesap!AI67))","v":{"$error":"#VALUE!"}},null,{"$f":"IF($AN$77<5,\"\",IF(hesap!C121=\"\",\"\",hesap!C121))","v":{"$error":"#VALUE!"}},null,null,{"$f":"IF($AN$77<5,\"\",IF(hesap!D121=\"\",\"\",hesap!D121))","v":{"$error":"#VALUE!"}},null,{"$f":"IF(UPPER(DersYükü!X21)=\"UZ\",\"Uzak.E.\",\"\")","v":""}]
[null,9,{"$f":"IF(DersYükü!C22=\"\",\"\",DersYükü!C22)","v":""},null,null,null,null,null,null,null,null,null,{"$f":"IF(VLOOKUP(DersYükü!M22,#REF!,2,FALSE)=\"\",\"\",VLOOKUP(DersYükü!M22,#REF!,2,FALSE))","v":{"$error":"#REF!"}},null,null,null,{"$error":"#REF!"},{"$f":"IF(DersYükü!T22=0,\"\",DersYükü!T22)","v":""},null,{"$f":"IF(DersYükü!V22=0,\"\",DersYükü!V22)","v":""},{"$f":"IF(OR('Sınav Ücret'!AD23<1,'Sınav Ücret'!AD23>5),\"\",'Sınav Ücret'!AD23)","v":""},null,{"$f":"IF(U32=\"\",\"\",'Sınav Ücret'!P23)","v":""},null,{"$f":"IF(hesap!C14=\"\",\"\",hesap!C14)","v":""},null,null,{"$f":"IF(hesap!D14=\"\",\"\",hesap!D14)","v":""},null,{"$f":"IF($AN$77<2,\"\",IF(hesap!AH14=\"\",\"\",hesap!AH14))","v":{"$error":"#VALUE!"}},null,{"$f":"IF($AN$77<2,\"\",IF(hesap!AI14=\"\",\"\",hesap!AI14))","v":{"$error":"#VALUE!"}},null,{"$f":"IF($AN$77<3,\"\",IF(hesap!C68=\"\",\"\",hesap!C68))","v":{"$error":"#VALUE!"}},null,null,{"$f":"IF($AN$77<3,\"\",IF(hesap!D68=\"\",\"\",hesap!D68))","v":{"$error":"#VALUE!"}},null,{"$f":"IF($AN$77<4,\"\",IF(hesap!AH68=\"\",\"\",hesap!AH68))","v":{"$error":"#VALUE!"}},null,{"$f":"IF($AN$77<4,\"\",IF(hesap!AI68=\"\",\"\",hesap!AI68))","v":{"$error":"#VALUE!"}},null,{"$f":"IF($AN$77<5,\"\",IF(hesap!C122=\"\",\"\",hesap!C122))","v":{"$error":"#VALUE!"}},null,null,{"$f":"IF($AN$77<5,\"\",IF(hesap!D122=\"\",\"\",hesap!D122))","v":{"$error":"#VALUE!"}},null,{"$f":"IF(UPPER(DersYükü!X22)=\"UZ\",\"Uzak.E.\",\"\")","v":""}]
[null,10,{"$f":"IF(DersYükü!C23=\"\",\"\",DersYükü!C23)","v":""},null,null,null,null,null,null,null,null,null,{"$f":"IF(VLOOKUP(DersYükü!M23,#REF!,2,FALSE)=\"\",\"\",VLOOKUP(DersYükü!M23,#REF!,2,FALSE))","v":{"$error":"#REF!"}},null,null,null,{"$f":"IF(M33=\"\",\"\",VLOOKUP(M33,$BI$41:$BJ$45,2,FALSE))","v":{"$error":"#REF!"}},{"$f":"IF(DersYükü!T23=0,\"\",DersYükü!T23)","v":""},null,{"$f":"IF(DersYükü!V23=0,\"\",DersYükü!V23)","v":""},{"$f":"IF(OR('Sınav Ücret'!AD24<1,'Sınav Ücret'!AD24>5),\"\",'Sınav Ücret'!AD24)","v":""},null,{"$f":"IF(U33=\"\",\"\",'Sınav Ücret'!P24)","v":""},null,{"$f":"IF(hesap!C15=\"\",\"\",hesap!C15)","v":""},null,null,{"$f":"IF(hesap!D15=\"\",\"\",hesap!D15)","v":""},null,{"$f":"IF($AN$77<2,\"\",IF(hesap!AH15=\"\",\"\",hesap!AH15))","v":{"$error":"#VALUE!"}},null,{"$f":"IF($AN$77<2,\"\",IF(hesap!AI15=\"\",\"\",hesap!AI15))","v":{"$error":"#VALUE!"}},null,{"$f":"IF($AN$77<3,\"\",IF(hesap!C69=\"\",\"\",hesap!C69))","v":{"$error":"#VALUE!"}},null,null,{"$f":"IF($AN$77<3,\"\",IF(hesap!D69=\"\",\"\",hesap!D69))","v":{"$error":"#VALUE!"}},null,{"$f":"IF($AN$77<4,\"\",IF(hesap!AH69=\"\",\"\",hesap!AH69))","v":{"$error":"#VALUE!"}},null,{"$f":"IF($AN$77<4,\"\",IF(hesap!AI69=\"\",\"\",hesap!AI69))","v":{"$error":"#VALUE!"}},null,{"$f":"IF($AN$77<5,\"\",IF(hesap!C123=\"\",\"\",hesap!C123))","v":{"$error":"#VALUE!"}},null,null,{"$f":"IF($AN$77<5,\"\",IF(hesap!D123=\"\",\"\",hesap!D123))","v":{"$error":"#VALUE!"}},null,{"$f":"IF(UPPER(DersYükü!X23)=\"UZ\",\"Uzak.E.\",\"\")","v":""}]
[null,11,{"$f":"IF(DersYükü!C24=\"\",\"\",DersYükü!C24)","v":""},null,null,null,null,null,null,null,null,null,{"$f":"IF(VLOOKUP(DersYükü!M24,#REF!,2,FALSE)=\"\",\"\",VLOOKUP(DersYükü!M24,#REF!,2,FALSE))","v":{"$error":"#REF!"}},null,null,null,{"$error":"#REF!"},{"$f":"IF(DersYükü!T24=0,\"\",DersYükü!T24)","v":""},null,{"$f":"IF(DersYükü!V24=0,\"\",DersYükü!V24)","v":""},{"$f":"IF(OR('Sınav Ücret'!AD25<1,'Sınav Ücret'!AD25>5),\"\",'Sınav Ücret'!AD25)","v":""},null,{"$f":"IF(U34=\"\",\"\",'Sınav Ücret'!P25)","v":""},null,{"$f":"IF(hesap!C17=\"\",\"\",hesap!C17)","v":""},null,null,{"$f":"IF(hesap!D17=\"\",\"\",hesap!D17)","v":""},null,{"$f":"IF($AN$77<2,\"\",IF(hesap!AH17=\"\",\"\",hesap!AH17))","v":{"$error":"#VALUE!"}},null,{"$f":"IF($AN$77<2,\"\",IF(hesap!AI17=\"\",\"\",hesap!AI17))","v":{"$error":"#VALUE!"}},null,{"$f":"IF($AN$77<3,\"\",IF(hesap!C71=\"\",\"\",hesap!C71))","v":{"$error":"#VALUE!"}},null,null,{"$f":"IF($AN$77<3,\"\",IF(hesap!D71=\"\",\"\",hesap!D71))","v":{"$error":"#VALUE!"}},null,{"$f":"IF($AN$77<4,\"\",IF(hesap!AH71=\"\",\"\",hesap!AH71))","v":{"$error":"#VALUE!"}},null,{"$f":"IF($AN$77<4,\"\",IF(hesap!AI71=\"\",\"\",hesap!AI71))","v":{"$error":"#VALUE!"}},null,{"$f":"IF($AN$77<5,\"\",IF(hesap!C125=\"\",\"\",hesap!C125))","v":{"$error":"#VALUE!"}},null,null,{"$f":"IF($AN$77<5,\"\",IF(hesap!D125=\"\",\"\",hesap!D125))","v":{"$error":"#VALUE!"}},null,{"$f":"IF(UPPER(DersYükü!X24)=\"UZ\",\"Uzak.E.\",\"\")","v":""}]
[null,12,{"$f":"IF(DersYükü!C25=\"\",\"\",DersYükü!C25)","v":""},null,null,null,null,null,null,null,null,null,{"$f":"IF(VLOOKUP(DersYükü!M25,#REF!,2,FALSE)=\"\",\"\",VLOOKUP(DersYükü!M25,#REF!,2,FALSE))","v":{"$error":"#REF!"}},null,null,null,{"$error":"#REF!"},{"$f":"IF(DersYükü!T25=0,\"\",DersYükü!T25)","v":""},null,{"$f":"IF(DersYükü!V25=0,\"\",DersYükü!V25)","v":""},{"$f":"IF(OR('Sınav Ücret'!AD26<1,'Sınav Ücret'!AD26>5),\"\",'Sınav Ücret'!AD26)","v":""},null,{"$f":"IF(U35=\"\",\"\",'Sınav Ücret'!P26)","v":""},null,{"$f":"IF(hesap!C18=\"\",\"\",hesap!C18)","v":""},null,null,{"$f":"IF(hesap!D18=\"\",\"\",hesap!D18)","v":""},null,{"$f":"IF($AN$77<2,\"\",IF(hesap!AH18=\"\",\"\",hesap!AH18))","v":{"$error":"#VALUE!"}},null,{"$f":"IF($AN$77<2,\"\",IF(hesap!AI18=\"\",\"\",hesap!AI18))","v":{"$error":"#VALUE!"}},null,{"$f":"IF($AN$77<3,\"\",IF(hesap!C72=\"\",\"\",hesap!C72))","v":{"$error":"#VALUE!"}},null,null,{"$f":"IF($AN$77<3,\"\",IF(hesap!D72=\"\",\"\",hesap!D72))","v":{"$error":"#VALUE!"}},null,{"$f":"IF($AN$77<4,\"\",IF(hesap!AH72=\"\",\"\",hesap!AH72))","v":{"$error":"#VALUE!"}},null,{"$f":"IF($AN$77<4,\"\",IF(hesap!AI72=\"\",\"\",hesap!AI72))","v":{"$error":"#VALUE!"}},null,{"$f":"IF($AN$77<5,\"\",IF(hesap!C126=\"\",\"\",hesap!C126))","v":{"$error":"#VALUE!"}},null,null,{"$f":"IF($AN$77<5,\"\",IF(hesap!D126=\"\",\"\",hesap!D126))","v":{"$error":"#VALUE!"}},null,{"$f":"IF(UPPER(DersYükü!X25)=\"UZ\",\"Uzak.E.\",\"\")","v":""}]
[null,13,{"$f":"IF(DersYükü!C26=\"\",\"\",DersYükü!C26)","v":""},null,null,null,null,null,null,null,null,null,{"$f":"IF(VLOOKUP(DersYükü!M26,#REF!,2,FALSE)=\"\",\"\",VLOOKUP(DersYükü!M26,#REF!,2,FALSE))","v":{"$error":"#REF!"}},null,null,null,{"$error":"#REF!"},{"$f":"IF(DersYükü!T26=0,\"\",DersYükü!T26)","v":""},null,{"$f":"IF(DersYükü!V26=0,\"\",DersYükü!V26)","v":""},{"$f":"IF(OR('Sınav Ücret'!AD27<1,'Sınav Ücret'!AD27>5),\"\",'Sınav Ücret'!AD27)","v":""},null,{"$f":"IF(U36=\"\",\"\",'Sınav Ücret'!P27)","v":""},null,{"$f":"IF(hesap!C19=\"\",\"\",hesap!C19)","v":""},null,null,{"$f":"IF(hesap!D19=\"\",\"\",hesap!D19)","v":""},null,{"$f":"IF($AN$77<2,\"\",IF(hesap!AH19=\"\",\"\",hesap!AH19))","v":{"$error":"#VALUE!"}},null,{"$f":"IF($AN$77<2,\"\",IF(hesap!AI19=\"\",\"\",hesap!AI19))","v":{"$error":"#VALUE!"}},null,{"$f":"IF($AN$77<3,\"\",IF(hesap!C73=\"\",\"\",hesap!C73))","v":{"$error":"#VALUE!"}},null,null,{"$f":"IF($AN$77<3,\"\",IF(hesap!D73=\"\",\"\",hesap!D73))","v":{"$error":"#VALUE!"}},null,{"$f":"IF($AN$77<4,\"\",IF(hesap!AH73=\"\",\"\",hesap!AH73))","v":{"$error":"#VALUE!"}},null,{"$f":"IF($AN$77<4,\"\",IF(hesap!AI73=\"\",\"\",hesap!AI73))","v":{"$error":"#VALUE!"}},null,{"$f":"IF($AN$77<5,\"\",IF(hesap!C127=\"\",\"\",hesap!C127))","v":{"$error":"#VALUE!"}},null,null,{"$f":"IF($AN$77<5,\"\",IF(hesap!D127=\"\",\"\",hesap!D127))","v":{"$error":"#VALUE!"}},null,{"$f":"IF(UPPER(DersYükü!X26)=\"UZ\",\"Uzak.E.\",\"\")","v":""}]
[null,14,{"$f":"IF(DersYükü!C27=\"\",\"\",DersYükü!C27)","v":""},null,null,null,null,null,null,null,null,null,{"$f":"IF(VLOOKUP(DersYükü!M27,#REF!,2,FALSE)=\"\",\"\",VLOOKUP(DersYükü!M27,#REF!,2,FALSE))","v":{"$error":"#REF!"}},null,null,null,{"$error":"#REF!"},{"$f":"IF(DersYükü!T27=0,\"\",DersYükü!T27)","v":""},null,{"$f":"IF(DersYükü!V27=0,\"\",DersYükü!V27)","v":""},{"$f":"IF(OR('Sınav Ücret'!AD28<1,'Sınav Ücret'!AD28>5),\"\",'Sınav Ücret'!AD28)","v":""},null,{"$f":"IF(U37=\"\",\"\",'Sınav Ücret'!P28)","v":""},null,{"$f":"IF(hesap!C20=\"\",\"\",hesap!C20)","v":""},null,null,{"$f":"IF(hesap!D20=\"\",\"\",hesap!D20)","v":""},null,{"$f":"IF($AN$77<2,\"\",IF(hesap!AH20=\"\",\"\",hesap!AH20))","v":{"$error":"#VALUE!"}},null,{"$f":"IF($AN$77<2,\"\",IF(hesap!AI20=\"\",\"\",hesap!AI20))","v":{"$error":"#VALUE!"}},null,{"$f":"IF($AN$77<3,\"\",IF(hesap!C74=\"\",\"\",hesap!C74))","v":{"$error":"#VALUE!"}},null,null,{"$f":"IF($AN$77<3,\"\",IF(hesap!D74=\"\",\"\",hesap!D74))","v":{"$error":"#VALUE!"}},null,{"$f":"IF($AN$77<4,\"\",IF(hesap!AH74=\"\",\"\",hesap!AH74))","v":{"$error":"#VALUE!"}},null,{"$f":"IF($AN$77<4,\"\",IF(hesap!AI74=\"\",\"\",hesap!AI74))","v":{"$error":"#VALUE!"}},null,{"$f":"IF($AN$77<5,\"\",IF(hesap!C128=\"\",\"\",hesap!C128))","v":{"$error":"#VALUE!"}},null,null,{"$f":"IF($AN$77<5,\"\",IF(hesap!D128=\"\",\"\",hesap!D128))","v":{"$error":"#VALUE!"}},null,{"$f":"IF(UPPER(DersYükü!X27)=\"UZ\",\"Uzak.E.\",\"\")","v":""}]
[null,15,{"$f":"IF(DersYükü!C28=\"\",\"\",DersYükü!C28)","v":""},null,null,null,null,null,null,null,null,null,{"$f":"IF(VLOOKUP(DersYükü!M28,#REF!,2,FALSE)=\"\",\"\",VLOOKUP(DersYükü!M28,#REF!,2,FALSE))","v":{"$error":"#REF!"}},null,null,null,{"$error":"#REF!"},{"$f":"IF(DersYükü!T28=0,\"\",DersYükü!T28)","v":""},null,{"$f":"IF(DersYükü!V28=0,\"\",DersYükü!V28)","v":""},{"$f":"IF(OR('Sınav Ücret'!AD29<1,'Sınav Ücret'!AD29>5),\"\",'Sınav Ücret'!AD29)","v":""},null,{"$f":"IF(U38=\"\",\"\",'Sınav Ücret'!P29)","v":""},null,{"$f":"IF(hesap!C21=\"\",\"\",hesap!C21)","v":""},null,null,{"$f":"IF(hesap!D21=\"\",\"\",hesap!D21)","v":""},null,{"$f":"IF($AN$77<2,\"\",IF(hesap!AH21=\"\",\"\",hesap!AH21))","v":{"$error":"#VALUE!"}},null,{"$f":"IF($AN$77<2,\"\",IF(hesap!AI21=\"\",\"\",hesap!AI21))","v":{"$error":"#VALUE!"}},null,{"$f":"IF($AN$77<3,\"\",IF(hesap!C75=\"\",\"\",hesap!C75))","v":{"$error":"#VALUE!"}},null,null,{"$f":"IF($AN$77<3,\"\",IF(hesap!D75=\"\",\"\",hesap!D75))","v":{"$error":"#VALUE!"}},null,{"$f":"IF($AN$77<4,\"\",IF(hesap!AH75=\"\",\"\",hesap!AH75))","v":{"$error":"#VALUE!"}},null,{"$f":"IF($AN$77<4,\"\",IF(hesap!AI75=\"\",\"\",hesap!AI75))","v":{"$error":"#VALUE!"}},null,{"$f":"IF($AN$77<5,\"\",IF(hesap!C129=\"\",\"\",hesap!C129))","v":{"$error":"#VALUE!"}},null,null,{"$f":"IF($AN$77<5,\"\",IF(hesap!D129=\"\",\"\",hesap!D129))","v":{"$error":"#VALUE!"}},null,{"$f":"IF(UPPER(DersYükü!X28)=\"UZ\",\"Uzak.E.\",\"\")","v":""}]
[null,null,null,null,"Kod","TOPLAM",null,null,null,null,null,null,null,null,null,null,null,null,null,null,{"$f":"30-(COUNTBLANK(U24:V38))","v":0},null,null,null,{"$f":"SUM(Y24:Y38)","v":0},null,null,{"$f":"SUM(AB24:AB38)","v":0},null,{"$f":"SUM(AD24:AD38)","v":{"$error":"#VALUE!"}},null,{"$f":"SUM(AF24:AF38)","v":{"$error":"#VALUE!"}},null,{"$f":"SUM(AH24:AH38)","v":{"$error":"#VALUE!"}},null,null,{"$f":"SUM(AK24:AK38)","v":{"$error":"#VALUE!"}},null,{"$f":"SUM(AM24:AM38)","v":{"$error":"#VALUE!"}},null,{"$f":"SUM(AO24:AO38)","v":{"$error":"#VALUE!"}},null,{"$f":"SUM(AQ24:AQ38)","v":{"$error":"#VALUE!"}},null,null,{"$f":"SUM(AT24:AT38)","v":{"$error":"#VALUE!"}}]
[null,"ÜTDS NIN BİRİMLERE DAĞILIMI",null,null,null,"ÜCRETE TABİ DERS SAYISI(ÜTDS)",null,null,null,null,null,null,null,null,null,null,null,null,null,null,null,null,null,null,{"$f":"IF(SUM(Y39,AB39)-K17<0,0,IF(AND(SUM(Y39,AB39)-K17<=20,AB39<=10),SUM(Y39,AB39)-K17,IF(AND(SUM(Y39,AB39)-K17<=20,AB39>10),SUM(Y39,10)-K17,IF(AND(SUM(Y39,AB39)-K17>20,AB39<=10),\"20\",IF(AND(SUM(Y39,AB39)-K17>20,AB39>10,SUM(Y39,10)-K17>20),\"20\",IF(AND(SUM(Y39,AB39)-K17>20,AB39>10,SUM(Y39,10)-K17<=20),SUM(Y39,10)-K17))))))","v":0},null,null,null,null,{"$f":"IF(SUM(AD39,AF39)-T17<0,0,IF(AND(SUM(AD39,AF39)-T17<=20,AF39<=10),SUM(AD39,AF39)-T17,IF(AND(SUM(AD39,AF39)-T17<=20,AF39>10),SUM(AD39,10)-T17,IF(AND(SUM(AD39,AF39)-T17>20,AF39<=10),\"20\",IF(AND(SUM(AD39,AF39)-T17>20,AF39>10,SUM(AD39,10)-T17>20),\"20\",IF(AND(SUM(AD39,AF39)-T17>20,AF39>10,SUM(AD39,10)-T17<=20),SUM(AD39,10)-T17))))))","v":{"$error":"#VALUE!"}},null,null,null,{"$f":"IF(SUM(AH39,AK39)-AC17<0,0,IF(AND(SUM(AH39,AK39)-AC17<=20,AK39<=10),SUM(AH39,AK39)-AC17,IF(AND(SUM(AH39,AK39)-AC17<=20,AK39>10),SUM(AH39,10)-AC17,IF(AND(SUM(AH39,AK39)-AC17>20,AK39<=10),\"20\",IF(AND(SUM(AH39,AK39)-AC17>20,AK39>10,SUM(AH39,10)-AC17>20),\"20\",IF(AND(SUM(AH39,AK39)-AC17>20,AK39>10,SUM(AH39,10)-AC17<=20),SUM(AH39,10)-AC17))))))","v":{"$error":"#VALUE!"}},null,null,null,null,{"$f":"IF(SUM(AM39,AO39)-AL17<0,0,IF(AND(SUM(AM39,AO39)-AL17<=20,AO39<=10),SUM(AM39,AO39)-AL17,IF(AND(SUM(AM39,AO39)-AL17<=20,AO39>10),SUM(AM39,10)-AL17,IF(AND(SUM(AM39,AO39)-AL17>20,AO39<=10),\"20\",IF(AND(SUM(AM39,AO39)-AL17>20,AO39>10,SUM(AM39,10)-AL17>20),\"20\",IF(AND(SUM(AM39,AO39)-AL17>20,AO39>10,SUM(AM39,10)-AL17<=20),SUM(AM39,10)-AL17))))))","v":{"$error":"#VALUE!"}},null,null,null,{"$f":"IF(SUM(AQ39,AT39)-AU17<0,0,IF(AND(SUM(AQ39,AT39)-AU17<=20,AT39<=10),SUM(AQ39,AT39)-AU17,IF(AND(SUM(AQ39,AT39)-AU17<=20,AT39>10),SUM(AQ39,10)-AU17,IF(AND(SUM(AQ39,AT39)-AU17>20,AT39<=10),\"20\",IF(AND(SUM(AQ39,AT39)-AU17>20,AT39>10,SUM(AQ39,10)-AU17>20),\"20\",IF(AND(SUM(AQ39,AT39)-AU17>20,AT39>10,SUM(AQ39,10)-AU17<=20),SUM(AQ39,10)-AU17))))))","v":{"$error":"#VALUE!"}},null,null,null,null,{"$f":"Y40+AD40+AH40+AM40+AQ40","v":{"$error":"#VALUE!"}}]
[null,null,null,null,1,"Mühendislik Fakültesi",null,null,null,null,null,null,null,null,null,null,null,null,null,null,null,null,null,null,{"$f":"IF(AND(SUMIF($Q$24:$Q$38,\"=1\",AB24:AB38)<=10,SUMIF($Q$24:$Q$38,\"=1\",Y24:Y38)+SUMIF($Q$24:$Q$38,\"=1\",AB24:AB38)<=VALUE(Y40)),SUMIF($Q$24:$Q$38,\"=1\",Y24:Y38)+SUMIF($Q$24:$Q$38,\"=1\",AB24:AB38),IF(AND(SUMIF($Q$24:$Q$38,\"=1\",AB24:AB38)<=10,SUMIF($Q$24:$Q$38,\"=1\",Y24:Y38)+SUMIF($Q$24:$Q$38,\"=1\",AB24:AB38)>VALUE(Y40)),VALUE(Y40),IF(AND(SUMIF($Q$24:$Q$38,\"=1\",AB24:AB38)>10,SUMIF($Q$24:$Q$38,\"=1\",Y24:Y38)+10<=VALUE(Y40)),SUMIF($Q$24:$Q$38,\"=1\",Y24:Y38)+10,IF(AND(SUMIF($Q$24:$Q$38,\"=1\",AB24:AB38)>10,SUMIF($Q$24:$Q$38,\"=1\",Y24:Y38)+10>VALUE(Y40)),VALUE(Y40)))))","v":0},null,null,null,null,{"$f":"IF(AND(SUMIF($Q$24:$Q$38,\"=1\",AF24:AF38)<=10,SUMIF($Q$24:$Q$38,\"=1\",AD24:AD38)+SUMIF($Q$24:$Q$38,\"=1\",AF24:AF38)<=VALUE(AD40)),SUMIF($Q$24:$Q$38,\"=1\",AD24:AD38)+SUMIF($Q$24:$Q$38,\"=1\",AF24:AF38),IF(AND(SUMIF($Q$24:$Q$38,\"=1\",AF24:AF38)<=10,SUMIF($Q$24:$Q$38,\"=1\",AD24:AD38)+SUMIF($Q$24:$Q$38,\"=1\",AF24:AF38)>VALUE(AD40)),VALUE(AD40),IF(AND(SUMIF($Q$24:$Q$38,\"=1\",AF24:AF38)>10,SUMIF($Q$24:$Q$38,\"=1\",AD24:AD38)+10<=VALUE(AD40)),SUMIF($Q$24:$Q$38,\"=1\",AD24:AD38)+10,IF(AND(SUMIF($Q$24:$Q$38,\"=1\",AF24:AF38)>10,SUMIF($Q$24:$Q$38,\"=1\",AD24:AD38)+10>VALUE(AD40)),VALUE(AD40)))))","v":{"$error":"#VALUE!"}},null,null,null,{"$f":"IF(AND(SUMIF($Q$24:$Q$38,\"=1\",AK24:AK38)<=10,SUMIF($Q$24:$Q$38,\"=1\",AH24:AH38)+SUMIF($Q$24:$Q$38,\"=1\",AK24:AK38)<=VALUE(AH40)),SUMIF($Q$24:$Q$38,\"=1\",AH24:AH38)+SUMIF($Q$24:$Q$38,\"=1\",AK24:AK38),IF(AND(SUMIF($Q$24:$Q$38,\"=1\",AK24:AK38)<=10,SUMIF($Q$24:$Q$38,\"=1\",AH24:AH38)+SUMIF($Q$24:$Q$38,\"=1\",AK24:AK38)>VALUE(AH40)),VALUE(AH40),IF(AND(SUMIF($Q$24:$Q$38,\"=1\",AK24:AK38)>10,SUMIF($Q$24:$Q$38,\"=1\",AH24:AH38)+10<=VALUE(AH40)),SUMIF($Q$24:$Q$38,\"=1\",AH24:AH38)+10,IF(AND(SUMIF($Q$24:$Q$38,\"=1\",AK24:AK38)>10,SUMIF($Q$24:$Q$38,\"=1\",AH24:AH38)+10>VALUE(AH40)),VALUE(AH40)))))","v":{"$error":"#VALUE!"}},null,null,null,null,{"$f":"IF(AND(SUMIF($Q$24:$Q$38,\"=1\",AO24:AO38)<=10,SUMIF($Q$24:$Q$38,\"=1\",AM24:AM38)+SUMIF($Q$24:$Q$38,\"=1\",AO24:AO38)<=VALUE(AM40)),SUMIF($Q$24:$Q$38,\"=1\",AM24:AM38)+SUMIF($Q$24:$Q$38,\"=1\",AO24:AO38),IF(AND(SUMIF($Q$24:$Q$38,\"=1\",AO24:AO38)<=10,SUMIF($Q$24:$Q$38,\"=1\",AM24:AM38)+SUMIF($Q$24:$Q$38,\"=1\",AO24:AO38)>VALUE(AM40)),VALUE(AM40),IF(AND(SUMIF($Q$24:$Q$38,\"=1\",AO24:AO38)>10,SUMIF($Q$24:$Q$38,\"=1\",AM24:AM38)+10<=VALUE(AM40)),SUMIF($Q$24:$Q$38,\"=1\",AM24:AM38)+10,IF(AND(SUMIF($Q$24:$Q$38,\"=1\",AO24:AO38)>10,SUMIF($Q$24:$Q$38,\"=1\",AM24:AM38)+10>VALUE(AM40)),VALUE(AM40)))))","v":{"$error":"#VALUE!"}},null,null,null,{"$f":"IF(AND(SUMIF($Q$24:$Q$38,\"=1\",AT24:AT38)<=10,SUMIF($Q$24:$Q$38,\"=1\",AQ24:AQ38)+SUMIF($Q$24:$Q$38,\"=1\",AT24:AT38)<=VALUE(AQ40)),SUMIF($Q$24:$Q$38,\"=1\",AQ24:AQ38)+SUMIF($Q$24:$Q$38,\"=1\",AT24:AT38),IF(AND(SUMIF($Q$24:$Q$38,\"=1\",AT24:AT38)<=10,SUMIF($Q$24:$Q$38,\"=1\",AQ24:AQ38)+SUMIF($Q$24:$Q$38,\"=1\",AT24:AT38)>VALUE(AQ40)),VALUE(AQ40),IF(AND(SUMIF($Q$24:$Q$38,\"=1\",AT24:AT38)>10,SUMIF($Q$24:$Q$38,\"=1\",AQ24:AQ38)+10<=VALUE(AQ40)),SUMIF($Q$24:$Q$38,\"=1\",AQ24:AQ38)+10,IF(AND(SUMIF($Q$24:$Q$38,\"=1\",AT24:AT38)>10,SUMIF($Q$24:$Q$38,\"=1\",AQ24:AQ38)+10>VALUE(AQ40)),VALUE(AQ40)))))","v":{"$error":"#VALUE!"}},null,null,null,null,{"$f":"SUM(Y41:AQ41)","v":{"$error":"#VALUE!"}},null,null,null,null,null,null,null,null,null,null,null,{"$f":"IF(F41=\"\",\"\",F41)","v":"Mühendislik Fakültesi"},{"$f":"IF(BH41=\"\",\"\",VLOOKUP(BH41,#REF!,2,FALSE))","v":{"$error":"#REF!"}},1]
[null,null,null,null,2,null,null,null,null,null,null,null,null,null,null,null,null,null,null,null,null,null,null,null,{"$f":"IF(SUMIF($Q$24:$Q$38,\"=2\",Y24:Y38)+SUMIF($Q$24:$Q$38,\"=2\",AB24:AB38)<=VALUE(Y40-Y41),SUMIF($Q$24:$Q$38,\"=2\",Y24:Y38)+SUMIF($Q$24:$Q$38,\"=2\",AB24:AB38),VALUE(Y40-Y41))","v":0},null,null,null,null,{"$f":"IF(SUMIF($Q$24:$Q$38,\"=2\",AD24:AD38)+SUMIF($Q$24:$Q$38,\"=2\",AF24:AF38)<=VALUE(AD40-AD41),SUMIF($Q$24:$Q$38,\"=2\",AD24:AD38)+SUMIF($Q$24:$Q$38,\"=2\",AF24:AF38),VALUE(AD40-AD41))","v":{"$error":"#VALUE!"}},null,null,null,{"$f":"IF(SUMIF($Q$24:$Q$38,\"=2\",AH24:AH38)+SUMIF($Q$24:$Q$38,\"=2\",AK24:AK38)<=VALUE(AH40-AH41),SUMIF($Q$24:$Q$38,\"=2\",AH24:AH38)+SUMIF($Q$24:$Q$38,\"=2\",AK24:AK38),VALUE(AH40-AH41))","v":{"$error":"#VALUE!"}},null,null,null,null,{"$f":"IF(SUMIF($Q$24:$Q$38,\"=2\",AM24:AM38)+SUMIF($Q$24:$Q$38,\"=2\",AO24:AO38)<=VALUE(AM40-AM41),SUMIF($Q$24:$Q$38,\"=2\",AM24:AM38)+SUMIF($Q$24:$Q$38,\"=2\",AO24:AO38),VALUE(AM40-AM41))","v":{"$error":"#VALUE!"}},null,null,null,{"$f":"IF(SUMIF($Q$24:$Q$38,\"=2\",AQ24:AQ38)+SUMIF($Q$24:$Q$38,\"=2\",AT24:AT38)<=VALUE(AQ40-AQ41),SUMIF($Q$24:$Q$38,\"=2\",AQ24:AQ38)+SUMIF($Q$24:$Q$38,\"=2\",AT24:AT38),VALUE(AQ40-AQ41))","v":{"$error":"#VALUE!"}},null,null,null,null,{"$f":"SUM(Y42:AQ42)","v":{"$error":"#VALUE!"}},null,null,null,null,null,null,null,null,null,null,null,{"$f":"IF(F42=\"\",\"\",F42)","v":""},{"$f":"IF(BH42=\"\",\"\",VLOOKUP(BH42,#REF!,2,FALSE))","v":""},2]
[null,null,null,null,3,null,null,null,null,null,null,null,null,null,null,null,null,null,null,null,null,null,null,null,{"$f":"IF(SUMIF($Q$24:$Q$38,\"=3\",Y24:Y38)+SUMIF($Q$24:$Q$38,\"=3\",AB24:AB38)<=VALUE(Y40-(Y41+Y42)),SUMIF($Q$24:$Q$38,\"=3\",Y24:Y38)+SUMIF($Q$24:$Q$38,\"=3\",AB24:AB38),VALUE(Y40-(Y41+Y42)))","v":0},null,null,null,null,{"$f":"IF(SUMIF($Q$24:$Q$38,\"=3\",AD24:AD38)+SUMIF($Q$24:$Q$38,\"=3\",AF24:AF38)<=VALUE(AD40-(AD41+AD42)),SUMIF($Q$24:$Q$38,\"=3\",AD24:AD38)+SUMIF($Q$24:$Q$38,\"=3\",AF24:AF38),VALUE(AD40-(AD41+AD42)))","v":{"$error":"#VALUE!"}},null,null,null,{"$f":"IF(SUMIF($Q$24:$Q$38,\"=3\",AH24:AH38)+SUMIF($Q$24:$Q$38,\"=3\",AK24:AK38)<=VALUE(AH40-(AH41+AH42)),SUMIF($Q$24:$Q$38,\"=3\",AH24:AH38)+SUMIF($Q$24:$Q$38,\"=3\",AK24:AK38),VALUE(AH40-(AH41+AH42)))","v":{"$error":"#VALUE!"}},null,null,null,null,{"$f":"IF(SUMIF($Q$24:$Q$38,\"=3\",AM24:AM38)+SUMIF($Q$24:$Q$38,\"=3\",AO24:AO38)<=VALUE(AM40-(AM41+AM42)),SUMIF($Q$24:$Q$38,\"=3\",AM24:AM38)+SUMIF($Q$24:$Q$38,\"=3\",AO24:AO38),VALUE(AM40-(AM41+AM42)))","v":{"$error":"#VALUE!"}},null,null,null,{"$f":"IF(SUMIF($Q$24:$Q$38,\"=3\",AQ24:AQ38)+SUMIF($Q$24:$Q$38,\"=3\",AT24:AT38)<=VALUE(AQ40-(AQ41+AQ42)),SUMIF($Q$24:$Q$38,\"=3\",AQ24:AQ38)+SUMIF($Q$24:$Q$38,\"=3\",AT24:AT38),VALUE(AQ40-(AQ41+AQ42)))","v":{"$error":"#VALUE!"}},null,null,null,null,{"$f":"SUM(Y43:AQ43)","v":{"$error":"#VALUE!"}},null,null,null,null,null,null,null,null,null,null,null,{"$f":"IF(F43=\"\",\"\",F43)","v":""},{"$f":"IF(BH43=\"\",\"\",VLOOKUP(BH43,#REF!,2,FALSE))","v":""},3]
[null,null,null,null,4,null,null,null,null,null,null,null,null,null,null,null,null,null,null,null,null,null,null,null,{"$f":"IF(SUMIF($Q$24:$Q$38,\"=4\",Y24:Y38)+SUMIF($Q$24:$Q$38,\"=4\",AB24:AB38)<=VALUE(Y40-(Y41+Y42+Y43)),SUMIF($Q$24:$Q$38,\"=4\",Y24:Y38)+SUMIF($Q$24:$Q$38,\"=4\",AB24:AB38),VALUE(Y40-(Y41+Y42+Y43)))","v":0},null,null,null,null,{"$f":"IF(SUMIF($Q$24:$Q$38,\"=4\",AD24:AD38)+SUMIF($Q$24:$Q$38,\"=4\",AF24:AF38)<=VALUE(AD40-(AD41+AD42+AD43)),SUMIF($Q$24:$Q$38,\"=4\",AD24:AD38)+SUMIF($Q$24:$Q$38,\"=4\",AF24:AF38),VALUE(AD40-(AD41+AD42+AD43)))","v":{"$error":"#VALUE!"}},null,null,null,{"$f":"IF(SUMIF($Q$24:$Q$38,\"=4\",AH24:AH38)+SUMIF($Q$24:$Q$38,\"=4\",AK24:AK38)<=VALUE(AH40-(AH41+AH42+AH43)),SUMIF($Q$24:$Q$38,\"=4\",AH24:AH38)+SUMIF($Q$24:$Q$38,\"=4\",AK24:AK38),VALUE(AH40-(AH41+AH42+AH43)))","v":{"$error":"#VALUE!"}},null,null,null,null,{"$f":"IF(SUMIF($Q$24:$Q$38,\"=4\",AM24:AM38)+SUMIF($Q$24:$Q$38,\"=4\",AO24:AO38)<=VALUE(AM40-(AM41+AM42+AM43)),SUMIF($Q$24:$Q$38,\"=4\",AM24:AM38)+SUMIF($Q$24:$Q$38,\"=4\",AO24:AO38),VALUE(AM40-(AM41+AM42+AM43)))","v":{"$error":"#VALUE!"}},null,null,null,{"$f":"IF(SUMIF($Q$24:$Q$38,\"=4\",AQ24:AQ38)+SUMIF($Q$24:$Q$38,\"=4\",AT24:AT38)<=VALUE(AQ40-(AQ41+AQ42+AQ43)),SUMIF($Q$24:$Q$38,\"=4\",AQ24:AQ38)+SUMIF($Q$24:$Q$38,\"=4\",AT24:AT38),VALUE(AQ40-(AQ41+AQ42+AQ43)))","v":{"$error":"#VALUE!"}},null,null,null,null,{"$f":"SUM(Y44:AQ44)","v":{"$error":"#VALUE!"}},null,null,null,null,null,null,null,null,null,null,null,{"$f":"IF(F44=\"\",\"\",F44)","v":""},{"$f":"IF(BH44=\"\",\"\",VLOOKUP(BH44,#REF!,2,FALSE))","v":""},4]
[null,null,null,null,5,null,null,null,null,null,null,null,null,null,null,null,null,null,null,null,null,null,null,null,{"$f":"IF(SUMIF($Q$24:$Q$38,\"=5\",Y24:Y38)+SUMIF($Q$24:$Q$38,\"=5\",AB24:AB38)<=VALUE(Y40-(Y41+Y42+Y43+Y44)),SUMIF($Q$24:$Q$38,\"=5\",Y24:Y38)+SUMIF($Q$24:$Q$38,\"=5\",AB24:AB38),VALUE(Y40-(Y41+Y42+Y43+Y44)))","v":0},null,null,null,null,{"$f":"IF(SUMIF($Q$24:$Q$38,\"=5\",AD24:AD38)+SUMIF($Q$24:$Q$38,\"=5\",AF24:AF38)<=VALUE(AD40-(AD41+AD42+AD43+AD44)),SUMIF($Q$24:$Q$38,\"=5\",AD24:AD38)+SUMIF($Q$24:$Q$38,\"=5\",AF24:AF38),VALUE(AD40-(AD41+AD42+AD43+AD44)))","v":{"$error":"#VALUE!"}},null,null,null,{"$f":"IF(SUMIF($Q$24:$Q$38,\"=5\",AH24:AH38)+SUMIF($Q$24:$Q$38,\"=5\",AK24:AK38)<=VALUE(AH40-(AH41+AH42+AH43+AH44)),SUMIF($Q$24:$Q$38,\"=5\",AH24:AH38)+SUMIF($Q$24:$Q$38,\"=5\",AK24:AK38),VALUE(AH40-(AH41+AH42+AH43+AH44)))","v":{"$error":"#VALUE!"}},null,null,null,null,{"$f":"IF(SUMIF($Q$24:$Q$38,\"=5\",AM24:AM38)+SUMIF($Q$24:$Q$38,\"=5\",AO24:AO38)<=VALUE(AM40-(AM41+AM42+AM43+AM44)),SUMIF($Q$24:$Q$38,\"=5\",AM24:AM38)+SUMIF($Q$24:$Q$38,\"=5\",AO24:AO38),VALUE(AM40-(AM41+AM42+AM43+AM44)))","v":{"$error":"#VALUE!"}},null,null,null,{"$f":"IF(SUMIF($Q$24:$Q$38,\"=5\",AQ24:AQ38)+SUMIF($Q$24:$Q$38,\"=5\",AT24:AT38)<=VALUE(AQ40-(AQ41+AQ42+AQ43+AQ44)),SUMIF($Q$24:$Q$38,\"=5\",AQ24:AQ38)+SUMIF($Q$24:$Q$38,\"=5\",AT24:AT38),VALUE(AQ40-(AQ41+AQ42+AQ43+AQ44)))","v":{"$error":"#VALUE!"}},null,null,null,null,{"$f":"SUM(Y45:AQ45)","v":{"$error":"#VALUE!"}},null,null,null,null,null,null,null,null,null,null,null,{"$f":"IF(F45=\"\",\"\",F45)","v":""},{"$f":"IF(BH45=\"\",\"\",VLOOKUP(BH45,#REF!,2,FALSE))","v":""},5]
[null,null,null,null,1,null,null,null,null,null,null,null,null,null,null,null,null,null,null,null,null,null,null,null,null,null,null,null,null,null,null,null,null,null,null,null,null,null,null,null,null,null,null,null,null,null,null,null,null,null,null,null,null,1,2,3,4,5]
[null,null,null,null,1,null,null,null,null,null,null,null,null,null,null,null,null,null,null,null,null,null,null,null,{"$f":"IF(SUMIF($Q$24:$Q$38,\"=1\",Y24:Y38)<=VALUE(Y40),SUMIF($Q$24:$Q$38,\"=1\",Y24:Y38),VALUE(Y40))","v":0},null,null,{"$f":"IF(BB47>=10,10,BB47)","v":0},null,{"$f":"IF(SUMIF($Q$24:$Q$38,\"=1\",AD24:AD38)<=VALUE(AD40),SUMIF($Q$24:$Q$38,\"=1\",AD24:AD38),VALUE(AD40))","v":{"$error":"#VALUE!"}},null,{"$f":"IF(BC47>=10,10,BC47)","v":{"$error":"#VALUE!"}},null,{"$f":"IF(SUMIF($Q$24:$Q$38,\"=1\",AH24:AH38)<=VALUE(AH40),SUMIF($Q$24:$Q$38,\"=1\",AH24:AH38),VALUE(AH40))","v":{"$error":"#VALUE!"}},null,null,{"$f":"IF(BD47>=10,10,BD47)","v":{"$error":"#VALUE!"}},null,{"$f":"IF(SUMIF($Q$24:$Q$38,\"=1\",AM24:AM38)<=VALUE(AM40),SUMIF($Q$24:$Q$38,\"=1\",AM24:AM38),VALUE(AM40))","v":{"$error":"#VALUE!"}},null,{"$f":"IF(BE47>=10,10,BE47)","v":{"$error":"#VALUE!"}},null,{"$f":"IF(SUMIF($Q$24:$Q$38,\"=1\",AQ24:AQ38)<=VALUE(AQ40),SUMIF($Q$24:$Q$38,\"=1\",AQ24:AQ38),VALUE(AQ40))","v":{"$error":"#VALUE!"}},null,null,{"$f":"IF(BF47>=10,10,BF47)","v":{"$error":"#VALUE!"}},null,null,null,null,null,null,1,{"$f":"IF(SUMIF($Q$24:$Q$38,\"=1\",AB24:AB38)<=VALUE(Y40-Y47),SUMIF($Q$24:$Q$38,\"=1\",AB24:AB38),VALUE(Y40-Y47))","v":0},{"$f":"IF(SUMIF($Q$24:$Q$38,\"=1\",AF24:AF38)<=VALUE(AD40-AD47),SUMIF($Q$24:$Q$38,\"=1\",AF24:AF38),VALUE(AD40-AD47))","v":{"$error":"#VALUE!"}},{"$f":"IF(SUMIF($Q$24:$Q$38,\"=1\",AK24:AK38)<=VALUE(AH40-AH47),SUMIF($Q$24:$Q$38,\"=1\",AK24:AK38),VALUE(AH40-AH47))","v":{"$error":"#VALUE!"}},{"$f":"IF(SUMIF($Q$24:$Q$38,\"=1\",AO24:AO38)<=VALUE(AM40-AM47),SUMIF($Q$24:$Q$38,\"=1\",AO24:AO38),VALUE(AM40-AM47))","v":{"$error":"#VALUE!"}},{"$f":"IF(SUMIF($Q$24:$Q$38,\"=1\",AT24:AT38)<=VALUE(AQ40-AQ47),SUMIF($Q$24:$Q$38,\"=1\",AT24:AT38),VALUE(AQ40-AQ47))","v":{"$error":"#VALUE!"}}]
[null,null,null,null,2,null,null,null,null,null,null,null,null,null,null,null,null,null,null,null,null,null,null,null,{"$f":"IF(SUMIF($Q$24:$Q$38,\"=2\",Y24:Y38)<=VALUE(Y40-(Y41)),SUMIF($Q$24:$Q$38,\"=2\",Y24:Y38),VALUE(Y40-(Y41)))","v":0},null,null,{"$f":"IF(BB48>=10,10,BB48)","v":0},null,{"$f":"IF(SUMIF($Q$24:$Q$38,\"=2\",AD24:AD38)<=VALUE(AD40-(AD41)),SUMIF($Q$24:$Q$38,\"=2\",AD24:AD38),VALUE(AD40-(AD41)))","v":{"$error":"#VALUE!"}},null,{"$f":"IF(BC48>=10,10,BC48)","v":{"$error":"#VALUE!"}},null,{"$f":"IF(SUMIF($Q$24:$Q$38,\"=2\",AH24:AH38)<=VALUE(AH40-(AH41)),SUMIF($Q$24:$Q$38,\"=2\",AH24:AH38),VALUE(AH40-(AH41)))","v":{"$error":"#VALUE!"}},null,null,{"$f":"IF(BD48>=10,10,BD48)","v":{"$error":"#VALUE!"}},null,{"$f":"IF(SUMIF($Q$24:$Q$38,\"=2\",AM24:AM38)<=VALUE(AM40-(AM41)),SUMIF($Q$24:$Q$38,\"=2\",AM24:AM38),VALUE(AM40-(AM41)))","v":{"$error":"#VALUE!"}},null,{"$f":"IF(BE48>=10,10,BE48)","v":{"$error":"#VALUE!"}},null,{"$f":"IF(SUMIF($Q$24:$Q$38,\"=2\",AQ24:AQ38)<=VALUE(AQ40-(AQ41)),SUMIF($Q$24:$Q$38,\"=2\",AQ24:AQ38),VALUE(AQ40-(AQ41)))","v":{"$error":"#VALUE!"}},null,null,{"$f":"IF(BF48>=10,10,BF48)","v":{"$error":"#VALUE!"}},null,null,null,null,null,null,2,{"$f":"IF(SUMIF($Q$24:$Q$38,\"=2\",AB24:AB38)<=VALUE(Y40-(Y41+Y48)),SUMIF($Q$24:$Q$38,\"=2\",AB24:AB38),VALUE(Y40-(Y41+Y48)))","v":0},{"$f":"IF(SUMIF($Q$24:$Q$38,\"=2\",AF24:AF38)<=VALUE(AD40-(AD41+AD48)),SUMIF($Q$24:$Q$38,\"=2\",AF24:AF38),VALUE(AD40-(AD41+AD48)))","v":{"$error":"#VALUE!"}},{"$f":"IF(SUMIF($Q$24:$Q$38,\"=2\",AK24:AK38)<=VALUE(AH40-(AH41+AH48)),SUMIF($Q$24:$Q$38,\"=2\",AK24:AK38),VALUE(AH40-(AH41+AH48)))","v":{"$error":"#VALUE!"}},{"$f":"IF(SUMIF($Q$24:$Q$38,\"=2\",AO24:AO38)<=VALUE(AM40-(AM41+AM48)),SUMIF($Q$24:$Q$38,\"=2\",AO24:AO38),VALUE(AM40-(AM41+AM48)))","v":{"$error":"#VALUE!"}},{"$f":"IF(SUMIF($Q$24:$Q$38,\"=2\",AT24:AT38)<=VALUE(AQ40-(AQ41+AQ48)),SUMIF($Q$24:$Q$38,\"=2\",AT24:AT38),VALUE(AQ40-(AQ41+AQ48)))","v":{"$error":"#VALUE!"}}]
[null,null,null,null,3,null,null,null,null,null,null,null,null,null,null,null,null,null,null,null,null,null,null,null,{"$f":"IF(SUMIF($Q$24:$Q$38,\"=3\",Y24:Y38)<=VALUE(Y40-(Y41+Y42)),SUMIF($Q$24:$Q$38,\"=3\",Y24:Y38),VALUE(Y40-(Y41+Y42)))","v":0},null,null,0,null,{"$f":"IF(SUMIF($Q$24:$Q$38,\"=3\",AD24:AD38)<=VALUE(AD40-(AD41+AD42)),SUMIF($Q$24:$Q$38,\"=3\",AD24:AD38),VALUE(AD40-(AD41+AD42)))","v":{"$error":"#VALUE!"}},null,{"$error":"#VALUE!"},null,{"$f":"IF(SUMIF($Q$24:$Q$38,\"=3\",AH24:AH38)<=VALUE(AH40-(AH41+AH42)),SUMIF($Q$24:$Q$38,\"=3\",AH24:AH38),VALUE(AH40-(AH41+AH42)))","v":{"$error":"#VALUE!"}},null,null,{"$error":"#VALUE!"},null,{"$f":"IF(SUMIF($Q$24:$Q$38,\"=3\",AM24:AM38)<=VALUE(AM40-(AM41+AM42)),SUMIF($Q$24:$Q$38,\"=3\",AM24:AM38),VALUE(AM40-(AM41+AM42)))","v":{"$error":"#VALUE!"}},null,{"$error":"#VALUE!"},null,{"$f":"IF(SUMIF($Q$24:$Q$38,\"=3\",AQ24:AQ38)<=VALUE(AQ40-(AQ41+AQ42)),SUMIF($Q$24:$Q$38,\"=3\",AQ24:AQ38),VALUE(AQ40-(AQ41+AQ42)))","v":{"$error":"#VALUE!"}},null,null,{"$error":"#VALUE!"},null,null,null,null,null,null,3,{"$f":"IF(SUMIF($Q$24:$Q$38,\"=3\",AB24:AB38)<=VALUE(Y40-(Y41+Y42+Y49)),SUMIF($Q$24:$Q$38,\"=3\",AB24:AB38),VALUE(Y40-(Y41+Y42+Y49)))","v":0},{"$f":"IF(SUMIF($Q$24:$Q$38,\"=3\",AF24:AF38)<=VALUE(AD40-(AD41+AD42+AD49)),SUMIF($Q$24:$Q$38,\"=3\",AF24:AF38),VALUE(AD40-(AD41+AD42+AD49)))","v":{"$error":"#VALUE!"}},{"$f":"IF(SUMIF($Q$24:$Q$38,\"=3\",AK24:AK38)<=VALUE(AH40-(AH41+AH42+AH49)),SUMIF($Q$24:$Q$38,\"=3\",AK24:AK38),VALUE(AH40-(AH41+AH42+AH49)))","v":{"$error":"#VALUE!"}},{"$f":"IF(SUMIF($Q$24:$Q$38,\"=3\",AO24:AO38)<=VALUE(AM40-(AM41+AM42+AM49)),SUMIF($Q$24:$Q$38,\"=3\",AO24:AO38),VALUE(AM40-(AM41+AM42+AM49)))","v":{"$error":"#VALUE!"}},{"$f":"IF(SUMIF($Q$24:$Q$38,\"=3\",AT24:AT38)<=VALUE(AQ40-(AQ41+AQ42+AQ49)),SUMIF($Q$24:$Q$38,\"=3\",AT24:AT38),VALUE(AQ40-(AQ41+AQ42+AQ49)))","v":{"$error":"#VALUE!"}}]
[null,null,null,null,4,null,null,null,null,null,null,null,null,null,null,null,null,null,null,null,null,null,null,null,{"$f":"IF(SUMIF($Q$24:$Q$38,\"=4\",Y24:Y38)<=VALUE(Y40-(Y41+Y42+Y43)),SUMIF($Q$24:$Q$38,\"=4\",Y24:Y38),VALUE(Y40-(Y41+Y42+Y43)))","v":0},null,null,0,null,{"$f":"IF(SUMIF($Q$24:$Q$38,\"=4\",AD24:AD38)<=VALUE(AD40-(AD41+AD42+AD43)),SUMIF($Q$24:$Q$38,\"=4\",AD24:AD38),VALUE(AD40-(AD41+AD42+AD43)))","v":{"$error":"#VALUE!"}},null,{"$error":"#VALUE!"},null,{"$f":"IF(SUMIF($Q$24:$Q$38,\"=4\",AH24:AH38)<=VALUE(AH40-(AH41+AH42+AH43)),SUMIF($Q$24:$Q$38,\"=4\",AH24:AH38),VALUE(AH40-(AH41+AH42+AH43)))","v":{"$error":"#VALUE!"}},null,null,{"$error":"#VALUE!"},null,{"$f":"IF(SUMIF($Q$24:$Q$38,\"=4\",AM24:AM38)<=VALUE(AM40-(AM41+AM42+AM43)),SUMIF($Q$24:$Q$38,\"=4\",AM24:AM38),VALUE(AM40-(AM41+AM42+AM43)))","v":{"$error":"#VALUE!"}},null,{"$error":"#VALUE!"},null,{"$f":"IF(SUMIF($Q$24:$Q$38,\"=4\",AQ24:AQ38)<=VALUE(AQ40-(AQ41+AQ42+AQ43)),SUMIF($Q$24:$Q$38,\"=4\",AQ24:AQ38),VALUE(AQ40-(AQ41+AQ42+AQ43)))","v":{"$error":"#VALUE!"}},null,null,{"$error":"#VALUE!"},null,null,null,null,null,null,4,{"$f":"IF(SUMIF($Q$24:$Q$38,\"=4\",AB24:AB38)<=VALUE(Y40-(Y41+Y42+Y43+Y50)),SUMIF($Q$24:$Q$38,\"=4\",AB24:AB38),VALUE(Y40-(Y41+Y42+Y43+Y50)))","v":0},{"$f":"IF(SUMIF($Q$24:$Q$38,\"=4\",AF24:AF38)<=VALUE(AD40-(AD41+AD42+AD43+AD50)),SUMIF($Q$24:$Q$38,\"=4\",AF24:AF38),VALUE(AD40-(AD41+AD42+AD43+AD50)))","v":{"$error":"#VALUE!"}},{"$f":"IF(SUMIF($Q$24:$Q$38,\"=4\",AK24:AK38)<=VALUE(AH40-(AH41+AH42+AH43+AH50)),SUMIF($Q$24:$Q$38,\"=4\",AK24:AK38),VALUE(AH40-(AH41+AH42+AH43+AH50)))","v":{"$error":"#VALUE!"}},{"$f":"IF(SUMIF($Q$24:$Q$38,\"=4\",AO24:AO38)<=VALUE(AM40-(AM41+AM42+AM43+AM50)),SUMIF($Q$24:$Q$38,\"=4\",AO24:AO38),VALUE(AM40-(AM41+AM42+AM43+AM50)))","v":{"$error":"#VALUE!"}},{"$f":"IF(SUMIF($Q$24:$Q$38,\"=4\",AT24:AT38)<=VALUE(AQ40-(AQ41+AQ42+AQ43+AQ50)),SUMIF($Q$24:$Q$38,\"=4\",AT24:AT38),VALUE(AQ40-(AQ41+AQ42+AQ43+AQ50)))","v":{"$error":"#VALUE!"}}]
[null,null,null,null,5,null,null,null,null,null,null,null,null,null,null,null,null,null,null,null,null,null,null,null,{"$f":"IF(SUMIF($Q$24:$Q$38,\"=5\",Y24:Y38)<=VALUE(Y40-(Y41+Y42+Y43+Y44)),SUMIF($Q$24:$Q$38,\"=5\",Y24:Y38),VALUE(Y40-(Y41+Y42+Y43+Y44)))","v":0},null,null,0,null,{"$f":"IF(SUMIF($Q$24:$Q$38,\"=5\",AD24:AD38)<=VALUE(AD40-(AD41+AD42+AD43+AD44)),SUMIF($Q$24:$Q$38,\"=5\",AD24:AD38),VALUE(AD40-(AD41+AD42+AD43+AD44)))","v":{"$error":"#VALUE!"}},null,{"$error":"#VALUE!"},null,{"$f":"IF(SUMIF($Q$24:$Q$38,\"=5\",AH24:AH38)<=VALUE(AH40-(AH41+AH42+AH43+AH44)),SUMIF($Q$24:$Q$38,\"=5\",AH24:AH38),VALUE(AH40-(AH41+AH42+AH43+AH44)))","v":{"$error":"#VALUE!"}},null,null,{"$error":"#VALUE!"},null,{"$f":"IF(SUMIF($Q$24:$Q$38,\"=5\",AM24:AM38)<=VALUE(AM40-(AM41+AM42+AM43+AM44)),SUMIF($Q$24:$Q$38,\"=5\",AM24:AM38),VALUE(AM40-(AM41+AM42+AM43+AM44)))","v":{"$error":"#VALUE!"}},null,{"$error":"#VALUE!"},null,{"$f":"IF(SUMIF($Q$24:$Q$38,\"=5\",AQ24:AQ38)<=VALUE(AQ40-(AQ41+AQ42+AQ43+AQ44)),SUMIF($Q$24:$Q$38,\"=5\",AQ24:AQ38),VALUE(AQ40-(AQ41+AQ42+AQ43+AQ44)))","v":{"$error":"#VALUE!"}},null,null,{"$error":"#VALUE!"},null,null,null,null,null,null,5,{"$f":"IF(SUMIF($Q$24:$Q$38,\"=5\",AB24:AB38)<=VALUE(Y40-(Y41+Y42+Y43+Y44+Y51)),SUMIF($Q$24:$Q$38,\"=5\",AB24:AB38),VALUE(Y40-(Y41+Y42+Y43+Y44+Y51)))","v":0},{"$f":"IF(SUMIF($Q$24:$Q$38,\"=5\",AF24:AF38)<=VALUE(AD40-(AD41+AD42+AD43+AD44+AD51)),SUMIF($Q$24:$Q$38,\"=5\",AF24:AF38),VALUE(AD40-(AD41+AD42+AD43+AD44+AD51)))","v":{"$error":"#VALUE!"}},{"$f":"IF(SUMIF($Q$24:$Q$38,\"=5\",AK24:AK38)<=VALUE(AH40-(AH41+AH42+AH43+AH44+AH51)),SUMIF($Q$24:$Q$38,\"=5\",AK24:AK38),VALUE(AH40-(AH41+AH42+AH43+AH44+AH51)))","v":{"$error":"#VALUE!"}},{"$f":"IF(SUMIF($Q$24:$Q$38,\"=5\",AO24:AO38)<=VALUE(AM40-(AM41+AM42+AM43+AM44+AM51)),SUMIF($Q$24:$Q$38,\"=5\",AO24:AO38),VALUE(AM40-(AM41+AM42+AM43+AM44+AM51)))","v":{"$error":"#VALUE!"}},{"$f":"IF(SUMIF($Q$24:$Q$38,\"=5\",AT24:AT38)<=VALUE(AQ40-(AQ41+AQ42+AQ43+AQ44+AQ51)),SUMIF($Q$24:$Q$38,\"=5\",AT24:AT38),VALUE(AQ40-(AQ41+AQ42+AQ43+AQ44+AQ51)))","v":{"$error":"#VALUE!"}}]
[null,null,null,null,null,null,null,null,null,null,null,null,null,null,null,null,null,null,"İ.ÖĞRETİM",null,null,null,null,null,null,null,null,null,null,null,null,null,null,null,null,null,null,null,null,null,null,null,null,null,null,null,null,null,null,null,null,null,{"$f":"IF(AND(J20<=10,J56>10,K19>0,J55>=10),10,IF(AND(J20<=10,J56>10,K19>0,J55<10,J55+10-J20>10),10,))","v":0},{"$f":"IF(AND(AB39<=10,AB69>10,Y40>0,Y69>=10),10,IF(AND(AB39<=10,AB69>10,Y40>0,Y69<10,Y69+10-AB39>10),10,))","v":0},"1. hafta"]
[null,null,"1.HAFTA",null,null,null,null,null,null,null,null,"2.HAFTA",null,null,null,null,null,null,null,null,"3.HAFTA",null,null,null,null,null,null,null,null,"4.HAFTA",null,null,null,null,null,null,null,null,"5.HAFTA",null,null,null,null,null,null,null,null,"ÜT DS",null,null,null,null,{"$f":"IF(AND(J20<=10,J56>10,K19>0,J55<10,J55+10-J20<=10),J55+10-J20,IF(AND(J20<=10,J56>10,K19=0,J19+J20+J55+10-J20-K17>10),10,IF(AND(J20<=10,J56>10,K19=0,J19+J20+J55+10-J20-K17<0),0,IF(AND(J20<=10,J56>10,K19=0,J19+J20+J55+10-J20-K17>0,J19+J20+J55+10-J20-K17<=10),J19+J20+J55+10-J20-K17,BA52))))","v":0},{"$f":"IF(AND(AB39<=10,AB69>10,Y40>0,Y69<10,Y69+10-AB39<=10),Y69+10-AB39,IF(AND(AB39<=10,AB69>10,Y40=0,Y39+AB39+Y69+10-AB39-K17>10),10,IF(AND(AB39<=10,AB69>10,Y40=0,Y39+AB39+Y69+10-AB39-K17<0),0,IF(AND(AB39<=10,AB69>10,Y40=0,Y39+AB39+Y69+10-AB39-K17>0,Y39+AB39+Y69+10-AB39-K17<=10),Y39+AB39+Y69+10-AB39-K17,BB52))))","v":0}]
[null,null,"Pt","S","Ç","Pe","C","Ct","Pz","T","ÜD","Pt","S","Ç","Pe","C","Ct","Pz","T","ÜD","Pt","S","Ç","Pe","C","Ct","Pz","T","ÜD","Pt","S","Ç","Pe","C","Ct","Pz","T","ÜD","Pt","S","Ç","Pe","C","Ct","Pz","T","ÜD",null,null,null,null,null,{"$f":"IF(AND(J20<=10,J56<=10,J20+J56>=10,K19>0,J55<10,J55+10-J20<=10),J55+10-J20,IF(AND(J20<=10,J56<=10,J20+J56>=10,K19=0,J19+J20+J55+10-J20-K17>10),10,IF(AND(J20<=10,J56<=10,J20+J56>=10,K19=0,J19+J20+J55+10-J20-K17<0),0,IF(AND(J20<=10,J56<=10,J20+J56>=10,K19=0,J19+J20+J55+10-J20-K17>0,J19+J20+J55+10-J20-K17<=10),J19+J20+J55+10-J20-K17,BA53))))","v":0},{"$f":"IF(AND(AB39<=10,AB69<=10,AB39+AB69>=10,Y40>0,Y69<10,Y69+10-AB39<=10),Y69+10-AB39,IF(AND(AB39<=10,AB69<=10,AB39+AB69>=10,Y40=0,Y39+AB39+Y69+10-AB39-K17>10),10,IF(AND(AB39<=10,AB69<=10,AB39+AB69>=10,Y40=0,Y39+AB39+Y69+10-AB39-K17<0),0,IF(AND(AB39<=10,AB69<=10,AB39+AB69>=10,Y40=0,Y39+AB39+Y69+10-AB39-K17>0,Y39+AB39+Y69+10-AB39-K17<=10),Y39+AB39+Y69+10-AB39-K17,BB53))))","v":0}]
[null,"Te",{"$f":"IF(hesap!L24=0,\"\",hesap!L24)","v":""},{"$f":"IF(hesap!N24=0,\"\",hesap!N24)","v":""},{"$f":"IF(hesap!P24=0,\"\",hesap!P24)","v":""},{"$f":"IF(hesap!R24=0,\"\",hesap!R24)","v":""},{"$f":"IF(hesap!T24=0,\"\",hesap!T24)","v":""},{"$f":"IF(hesap!X24=0,\"\",hesap!X24)","v":""},{"$f":"IF(hesap!AB24=0,\"\",hesap!AB24)","v":""},{"$f":"SUM(C55:I55)","v":0},{"$f":"IF(AND(J20>=10,K19>0,J55>=10),10,IF(AND(J20>=10,K19>0,J55<10),J55,IF(AND(J20>=10,K19=0,(J19+10+J55-K17)>0,(J19+10+J55-K17)<10),(J19+10+J55-K17),IF(AND(J20>=10,K19=0,(J19+10+J55-K17)>10),10,IF(AND(J20>=10,K19=0,J20+10+J55-K17<0),0,IF(AND(J20<=10,J20+J56<10,K19>0,J55+J56<=10),J55+J56,BA55))))))","v":0},{"$f":"IF($AN$77<2,\"\",IF(hesap!AQ24=0,\"\",hesap!AQ24))","v":{"$error":"#VALUE!"}},{"$f":"IF($AN$77<2,\"\",IF(hesap!AS24=0,\"\",hesap!AS24))","v":{"$error":"#VALUE!"}},{"$f":"IF($AN$77<2,\"\",IF(hesap!AU24=0,\"\",hesap!AU24))","v":{"$error":"#VALUE!"}},{"$f":"IF($AN$77<2,\"\",IF(hesap!AW24=0,\"\",hesap!AW24))","v":{"$error":"#VALUE!"}},{"$f":"IF($AN$77<2,\"\",IF(hesap!AY24=0,\"\",hesap!AY24))","v":{"$error":"#VALUE!"}},{"$f":"IF($AN$77<2,\"\",IF(hesap!BC24=0,\"\",hesap!BC24))","v":{"$error":"#VALUE!"}},{"$f":"IF($AN$77<2,\"\",IF(hesap!BG24=0,\"\",hesap!BG24))","v":{"$error":"#VALUE!"}},{"$f":"SUM(L55:R55)","v":{"$error":"#VALUE!"}},{"$f":"IF(AND(S20>=10,T19>0,S55>=10),10,IF(AND(S20>=10,T19>0,S55<10),S55,IF(AND(S20>=10,T19=0,(S19+10+S55-T17)>0,(S19+10+S55-T17)<10),(S19+10+S55-T17),IF(AND(S20>=10,T19=0,(S19+10+S55-T17)>10),10,IF(AND(S20>=10,T19=0,S20+10+S55-T17<0),0,IF(AND(S20<=10,S20+S56<10,T19>0,S55+S56<=10),S55+S56,BA60))))))","v":{"$error":"#VALUE!"}},{"$f":"IF($AN$77<3,\"\",IF(hesap!L78=0,\"\",hesap!L78))","v":{"$error":"#VALUE!"}},{"$f":"IF($AN$77<3,\"\",IF(hesap!N78=0,\"\",hesap!N78))","v":{"$error":"#VALUE!"}},{"$f":"IF($AN$77<3,\"\",IF(hesap!P78=0,\"\",hesap!P78))","v":{"$error":"#VALUE!"}},{"$f":"IF($AN$77<3,\"\",IF(hesap!R78=0,\"\",hesap!R78))","v":{"$error":"#VALUE!"}},{"$f":"IF($AN$77<3,\"\",IF(hesap!T78=0,\"\",hesap!T78))","v":{"$error":"#VALUE!"}},{"$f":"IF($AN$77<3,\"\",IF(hesap!X78=0,\"\",hesap!X78))","v":{"$error":"#VALUE!"}},{"$f":"IF($AN$77<3,\"\",IF(hesap!AB78=0,\"\",hesap!AB78))","v":{"$error":"#VALUE!"}},{"$f":"SUM(U55:AA55)","v":{"$error":"#VALUE!"}},{"$f":"IF(AND(AB20>=10,AC19>0,AB55>=10),10,IF(AND(AB20>=10,AC19>0,AB55<10),AB55,IF(AND(AB20>=10,AC19=0,(AB19+10+AB55-AC17)>0,(AB19+10+AB55-AC17)<10),(AB19+10+AB55-AC17),IF(AND(AB20>=10,AC19=0,(AB19+10+AB55-AC17)>10),10,IF(AND(AB20>=10,AC19=0,AB20+10+AB55-AC17<0),0,IF(AND(AB20<=10,AB20+AB56<10,AC19>0,AB55+AB56<=10),AB55+AB56,BA69))))))","v":{"$error":"#VALUE!"}},{"$f":"IF($AN$77<4,\"\",IF(hesap!AQ78=0,\"\",hesap!AQ78))","v":{"$error":"#VALUE!"}},{"$f":"IF($AN$77<4,\"\",IF(hesap!AS78=0,\"\",hesap!AS78))","v":{"$error":"#VALUE!"}},{"$f":"IF($AN$77<4,\"\",IF(hesap!AU78=0,\"\",hesap!AU78))","v":{"$error":"#VALUE!"}},{"$f":"IF($AN$77<4,\"\",IF(hesap!AW78=0,\"\",hesap!AW78))","v":{"$error":"#VALUE!"}},{"$f":"IF($AN$77<4,\"\",IF(hesap!AY78=0,\"\",hesap!AY78))","v":{"$error":"#VALUE!"}},{"$f":"IF($AN$77<4,\"\",IF(hesap!BC78=0,\"\",hesap!BC78))","v":{"$error":"#VALUE!"}},{"$f":"IF($AN$77<4,\"\",IF(hesap!BG78=0,\"\",hesap!BG78))","v":{"$error":"#VALUE!"}},{"$f":"SUM(AD55:AJ55)","v":{"$error":"#VALUE!"}},{"$f":"IF(AND(AK20>=10,AL19>0,AK55>=10),10,IF(AND(AK20>=10,AL19>0,AK55<10),AK55,IF(AND(AK20>=10,AL19=0,(AK19+10+AK55-AL17)>0,(AK19+10+AK55-AL17)<10),(AK19+10+AK55-AL17),IF(AND(AK20>=10,AL19=0,(AK19+10+AK55-AL17)>10),10,IF(AND(AK20>=10,AL19=0,AK20+10+AK55-AL17<0),0,IF(AND(AK20<=10,AK20+AK56<10,AL19>0,AK55+AK56<=10),AK55+AK56,BA74))))))","v":{"$error":"#VALUE!"}},{"$f":"IF($AN$77<5,\"\",IF(hesap!L132=0,\"\",hesap!L132))","v":{"$error":"#VALUE!"}},{"$f":"IF($AN$77<5,\"\",IF(hesap!N132=0,\"\",hesap!N132))","v":{"$error":"#VALUE!"}},{"$f":"IF($AN$77<5,\"\",IF(hesap!P132=0,\"\",hesap!P132))","v":{"$error":"#VALUE!"}},{"$f":"IF($AN$77<5,\"\",IF(hesap!R132=0,\"\",hesap!R132))","v":{"$error":"#VALUE!"}},{"$f":"IF($AN$77<5,\"\",IF(hesap!T132=0,\"\",hesap!T132))","v":{"$error":"#VALUE!"}},{"$f":"IF($AN$77<5,\"\",IF(hesap!X132=0,\"\",hesap!X132))","v":{"$error":"#VALUE!"}},{"$f":"IF($AN$77<5,\"\",IF(hesap!AB132=0,\"\",hesap!AB132))","v":{"$error":"#VALUE!"}},{"$f":"SUM(AM55:AS55)","v":{"$error":"#VALUE!"}},{"$f":"IF(AND(AT20>=10,AU19>0,AT55>=10),10,IF(AND(AT20>=10,AU19>0,AT55<10),AT55,IF(AND(AT20>=10,AU19=0,(AT19+10+AT55-AU17)>0,(AT19+10+AT55-AU17)<10),(AT19+10+AT55-AU17),IF(AND(AT20>=10,AU19=0,(AT19+10+AT55-AU17)>10),10,IF(AND(AT20>=10,AU19=0,AT20+10+AT55-AU17<0),0,IF(AND(AT20<=10,AT20+AT56<10,AU19>0,AT55+AT56<=10),AT55+AT56,BA80))))))","v":{"$error":"#VALUE!"}},{"$f":"SUM(K55+T55+AC55+AL55+AU55)","v":{"$error":"#VALUE!"}},null,null,null,null,{"$f":"IF(AND(J20<=10,J20+J56<=10,K19>0,J55+J56>10),10,IF(AND(J20<=10,J20+J56<=10,K19=0,SUM(J19,J20,J55,J56,-K17)<=0),0,IF(AND(J20<=10,J20+J56<=10,K19=0,SUM(J19,J20,J55,J56,-K17)>0,SUM(J19,J20,J55,J56,-K17)<=10),SUM(J19,J20,J55,J56,-K17),IF(AND(J20<=10,J20+J56<=10,K19=0,SUM(J19,J20,J55,J56,-K17)>10),10,IF(AND(J20<=10,J56<=10,J20+J56>=10,K19>0,J55>=10),10,IF(AND(J20<=10,J56<=10,J20+J56>=10,K19>0,J55<10,J55+10-J20>10),10,   BA54))))))","v":0},{"$f":"IF(AND(AB39<=10,AB39+AB69<=10,Y40>0,Y69+AB69>10),10,IF(AND(AB39<=10,AB39+AB69<=10,Y40=0,SUM(Y39,AB39,Y69,AB69,-K17)<=0),0,IF(AND(AB39<=10,AB39+AB69<=10,Y40=0,SUM(Y39,AB39,Y69,AB69,-K17)>0,SUM(Y39,AB39,Y69,AB69,-K17)<=10),SUM(Y39,AB39,Y69,AB69,-K17),IF(AND(AB39<=10,AB39+AB69<=10,Y40=0,SUM(Y39,AB39,Y69,AB69,-K17)>10),10,IF(AND(AB39<=10,AB69<=10,AB39+AB69>=10,Y40>0,Y69>=10),10,IF(AND(AB39<=10,AB69<=10,AB39+AB69>=10,Y40>0,Y69<10,Y69+10-AB39>10),10,   BB54))))))","v":0}]
[null,"DF",{"$f":"IF(hesap!M24=0,\"\",hesap!M24)","v":""},{"$f":"IF(hesap!O24=0,\"\",hesap!O24)","v":""},{"$f":"IF(hesap!Q24=0,\"\",hesap!Q24)","v":""},{"$f":"IF(hesap!S24=0,\"\",hesap!S24)","v":""},{"$f":"IF(hesap!U24=0,\"\",hesap!U24)","v":""},{"$f":"IF(hesap!Y24=0,\"\",hesap!Y24)","v":""},{"$f":"IF(hesap!AC24=0,\"\",hesap!AC24)","v":""},{"$f":"SUM(C56:I56)","v":0},null,{"$f":"IF($AN$77<2,\"\",IF(hesap!AR24=0,\"\",hesap!AR24))","v":{"$error":"#VALUE!"}},{"$f":"IF($AN$77<2,\"\",IF(hesap!AT24=0,\"\",hesap!AT24))","v":{"$error":"#VALUE!"}},{"$f":"IF($AN$77<2,\"\",IF(hesap!AV24=0,\"\",hesap!AV24))","v":{"$error":"#VALUE!"}},{"$f":"IF($AN$77<2,\"\",IF(hesap!AX24=0,\"\",hesap!AX24))","v":{"$error":"#VALUE!"}},{"$f":"IF($AN$77<2,\"\",IF(hesap!AZ24=0,\"\",hesap!AZ24))","v":{"$error":"#VALUE!"}},{"$f":"IF($AN$77<2,\"\",IF(hesap!BD24=0,\"\",hesap!BD24))","v":{"$error":"#VALUE!"}},{"$f":"IF($AN$77<2,\"\",IF(hesap!BH24=0,\"\",hesap!BH24))","v":{"$error":"#VALUE!"}},{"$f":"SUM(L56:R56)","v":{"$error":"#VALUE!"}},null,{"$f":"IF($AN$77<3,\"\",IF(hesap!M78=0,\"\",hesap!M78))","v":{"$error":"#VALUE!"}},{"$f":"IF($AN$77<3,\"\",IF(hesap!O78=0,\"\",hesap!O78))","v":{"$error":"#VALUE!"}},{"$f":"IF($AN$77<3,\"\",IF(hesap!Q78=0,\"\",hesap!Q78))","v":{"$error":"#VALUE!"}},{"$f":"IF($AN$77<3,\"\",IF(hesap!S78=0,\"\",hesap!S78))","v":{"$error":"#VALUE!"}},{"$f":"IF($AN$77<3,\"\",IF(hesap!U78=0,\"\",hesap!U78))","v":{"$error":"#VALUE!"}},{"$f":"IF($AN$77<3,\"\",IF(hesap!Y78=0,\"\",hesap!Y78))","v":{"$error":"#VALUE!"}},{"$f":"IF($AN$77<3,\"\",IF(hesap!AC78=0,\"\",hesap!AC78))","v":{"$error":"#VALUE!"}},{"$f":"SUM(U56:AA56)","v":{"$error":"#VALUE!"}},null,{"$f":"IF($AN$77<4,\"\",IF(hesap!AR78=0,\"\",hesap!AR78))","v":{"$error":"#VALUE!"}},{"$f":"IF($AN$77<4,\"\",IF(hesap!AT78=0,\"\",hesap!AT78))","v":{"$error":"#VALUE!"}},{"$f":"IF($AN$77<4,\"\",IF(hesap!AV78=0,\"\",hesap!AV78))","v":{"$error":"#VALUE!"}},{"$f":"IF($AN$77<4,\"\",IF(hesap!AX78=0,\"\",hesap!AX78))","v":{"$error":"#VALUE!"}},{"$f":"IF($AN$77<4,\"\",IF(hesap!AZ78=0,\"\",hesap!AZ78))","v":{"$error":"#VALUE!"}},{"$f":"IF($AN$77<4,\"\",IF(hesap!BD78=0,\"\",hesap!BD78))","v":{"$error":"#VALUE!"}},{"$f":"IF($AN$77<4,\"\",IF(hesap!BH78=0,\"\",hesap!BH78))","v":{"$error":"#VALUE!"}},{"$f":"SUM(AD56:AJ56)","v":{"$error":"#VALUE!"}},null,{"$f":"IF($AN$77<5,\"\",IF(hesap!M132=0,\"\",hesap!M132))","v":{"$error":"#VALUE!"}},{"$f":"IF($AN$77<5,\"\",IF(hesap!O132=0,\"\",hesap!O132))","v":{"$error":"#VALUE!"}},{"$f":"IF($AN$77<5,\"\",IF(hesap!Q132=0,\"\",hesap!Q132))","v":{"$error":"#VALUE!"}},{"$f":"IF($AN$77<5,\"\",IF(hesap!S132=0,\"\",hesap!S132))","v":{"$error":"#VALUE!"}},{"$f":"IF($AN$77<5,\"\",IF(hesap!U132=0,\"\",hesap!U132))","v":{"$error":"#VALUE!"}},{"$f":"IF($AN$77<5,\"\",IF(hesap!Y132=0,\"\",hesap!Y132))","v":{"$error":"#VALUE!"}},{"$f":"IF($AN$77<5,\"\",IF(hesap!AC132=0,\"\",hesap!AC132))","v":{"$error":"#VALUE!"}},{"$f":"SUM(AM56:AS56)","v":{"$error":"#VALUE!"}}]
[null,null,null,null,null,null,null,null,null,null,null,null,null,null,null,null,null,null,null,null,null,null,null,null,null,null,null,null,null,null,null,null,null,null,null,null,null,null,null,null,null,null,null,null,null,null,null,null,null,null,null,null,{"$f":"IF(AND(S20<=10,S56>10,T19>0,S55>=10),10,IF(AND(S20<=10,S56>10,T19>0,S55<10,S55+10-S20>10),10,))","v":{"$error":"#VALUE!"}},{"$f":"IF(AND(AF39<=10,AF69>10,AD40>0,AD69>=10),10,IF(AND(AF39<=10,AF69>10,AD40>0,AD69<10,AD69+10-AF39>10),10,))","v":{"$error":"#VALUE!"}},"2. hafta"]
[null,"No","Dersin Adı",null,null,null,null,null,null,null,null,null,"Fak/MYO",null,null,null,"KOD","H.D.S.",null,null,"H",null,"Ö.S",null,"Teo.",null,null,"D.F.",null,"Teo.",null,"D.F.",null,"Teo.",null,null,"D.F.",null,"Teo.",null,"D.F.",null,"Teo.",null,null,"D.F.",null,"GN.D.S",null,null,null,null,{"$f":"IF(AND(S20<=10,S56>10,T19>0,S55<10,S55+10-S20<=10),S55+10-S20,IF(AND(S20<=10,S56>10,T19=0,S19+S20+S55+10-S20-T17>10),10,IF(AND(S20<=10,S56>10,T19=0,S19+S20+S55+10-S20-T17<0),0,IF(AND(S20<=10,S56>10,T19=0,S19+S20+S55+10-S20-T17>0,S19+S20+S55+10-S20-T17<=10),S19+S20+S55+10-S20-T17,BA57))))","v":{"$error":"#VALUE!"}},{"$f":"IF(AND(AF39<=10,AF69>10,AD40>0,AD69<10,AD69+10-AF39<=10),AD69+10-AF39,IF(AND(AF39<=10,AF69>10,AD40=0,AD39+AF39+AD69+10-AF39-T17>10),10,IF(AND(AF39<=10,AF69>10,AD40=0,AD39+AF39+AD69+10-AF39-T17<0),0,IF(AND(AF39<=10,AF69>10,AD40=0,AD39+AF39+AD69+10-AF39-T17>0,AD39+AF39+AD69+10-AF39-T17<=10),AD39+AF39+AD69+10-AF39-T17,BB57))))","v":{"$error":"#VALUE!"}}]
[null,1,{"$f":"IF(DersYükü!C30=\"\",\"\",DersYükü!C30)","v":""},null,null,null,null,null,null,null,null,null,{"$f":"IF(VLOOKUP(DersYükü!M30,#REF!,2,FALSE)=\"\",\"\",VLOOKUP(DersYükü!M30,#REF!,2,FALSE))","v":{"$error":"#REF!"}},null,null,null,{"$f":"IF(M59=\"\",\"\",VLOOKUP(M59,$BI$71:$BJ$74,2,FALSE))","v":{"$error":"#REF!"}},{"$f":"IF(DersYükü!T30=0,\"\",DersYükü!T30)","v":""},null,{"$f":"IF(DersYükü!V30=0,\"\",DersYükü!V30)","v":""},{"$f":"IF(OR('Sınav Ücret'!AD34<1,'Sınav Ücret'!AD34>5),\"\",'Sınav Ücret'!AD34)","v":""},null,{"$f":"IF(U59=\"\",\"\",'Sınav Ücret'!P34)","v":""},null,{"$f":"IF(hesap!C26=\"\",\"\",hesap!C26)","v":""},null,null,{"$f":"IF(hesap!D26=\"\",\"\",hesap!D26)","v":""},null,{"$f":"IF($AN$77<2,\"\",IF(hesap!AH26=\"\",\"\",hesap!AH26))","v":{"$error":"#VALUE!"}},null,{"$f":"IF($AN$77<2,\"\",IF(hesap!AI26=\"\",\"\",hesap!AI26))","v":{"$error":"#VALUE!"}},null,{"$f":"IF($AN$77<3,\"\",IF(hesap!C80=\"\",\"\",hesap!C80))","v":{"$error":"#VALUE!"}},null,null,{"$f":"IF($AN$77<3,\"\",IF(hesap!D80=\"\",\"\",hesap!D80))","v":{"$error":"#VALUE!"}},null,{"$f":"IF($AN$77<4,\"\",IF(hesap!AH80=\"\",\"\",hesap!AH80))","v":{"$error":"#VALUE!"}},null,{"$f":"IF($AN$77<4,\"\",IF(hesap!AI80=\"\",\"\",hesap!AI80))","v":{"$error":"#VALUE!"}},null,{"$f":"IF($AN$77<5,\"\",IF(hesap!C134=\"\",\"\",hesap!C134))","v":{"$error":"#VALUE!"}},null,null,{"$f":"IF($AN$77<5,\"\",IF(hesap!D134=\"\",\"\",hesap!D134))","v":{"$error":"#VALUE!"}},null,{"$f":"IF(DersYükü!X30=0,\"\",IF(DersYükü!X30>GD59,GD59,DersYükü!X30))","v":""},null,null,null,null,{"$f":"IF(AND(S20<=10,S56<=10,S20+S56>=10,T19>0,S55<10,S55+10-S20<=10),S55+10-S20,IF(AND(S20<=10,S56<=10,S20+S56>=10,T19=0,S19+S20+S55+10-S20-T17>10),10,IF(AND(S20<=10,S56<=10,S20+S56>=10,T19=0,S19+S20+S55+10-S20-T17<0),0,IF(AND(S20<=10,S56<=10,S20+S56>=10,T19=0,S19+S20+S55+10-S20-T17>0,S19+S20+S55+10-S20-T17<=10),S19+S20+S55+10-S20-T17,BA58))))","v":{"$error":"#VALUE!"}},{"$f":"IF(AND(AF39<=10,AF69<=10,AF39+AF69>=10,AD40>0,AD69<10,AD69+10-AF39<=10),AD69+10-AF39,IF(AND(AF39<=10,AF69<=10,AF39+AF69>=10,AD40=0,AD39+AF39+AD69+10-AF39-T17>10),10,IF(AND(AF39<=10,AF69<=10,AF39+AF69>=10,AD40=0,AD39+AF39+AD69+10-AF39-T17<0),0,IF(AND(AF39<=10,AF69<=10,AF39+AF69>=10,AD40=0,AD39+AF39+AD69+10-AF39-T17>0,AD39+AF39+AD69+10-AF39-T17<=10),AD39+AF39+AD69+10-AF39-T17,BB58))))","v":{"$error":"#VALUE!"}}]
[null,2,{"$f":"IF(DersYükü!C31=\"\",\"\",DersYükü!C31)","v":""},null,null,null,null,null,null,null,null,null,{"$f":"IF(VLOOKUP(DersYükü!M31,#REF!,2,FALSE)=\"\",\"\",VLOOKUP(DersYükü!M31,#REF!,2,FALSE))","v":{"$error":"#REF!"}},null,null,null,{"$f":"IF(M60=\"\",\"\",VLOOKUP(M60,$BI$71:$BJ$74,2,FALSE))","v":{"$error":"#REF!"}},{"$f":"IF(DersYükü!T31=0,\"\",DersYükü!T31)","v":""},null,{"$f":"IF(DersYükü!V31=0,\"\",DersYükü!V31)","v":""},{"$f":"IF(OR('Sınav Ücret'!AD35<1,'Sınav Ücret'!AD35>5),\"\",'Sınav Ücret'!AD35)","v":""},null,{"$f":"IF(U60=\"\",\"\",'Sınav Ücret'!P35)","v":""},null,{"$f":"IF(hesap!C27=\"\",\"\",hesap!C27)","v":""},null,null,{"$f":"IF(hesap!D27=\"\",\"\",hesap!D27)","v":""},null,{"$f":"IF($AN$77<2,\"\",IF(hesap!AH27=\"\",\"\",hesap!AH27))","v":{"$error":"#VALUE!"}},null,{"$f":"IF($AN$77<2,\"\",IF(hesap!AI27=\"\",\"\",hesap!AI27))","v":{"$error":"#VALUE!"}},null,{"$f":"IF($AN$77<3,\"\",IF(hesap!C81=\"\",\"\",hesap!C81))","v":{"$error":"#VALUE!"}},null,null,{"$f":"IF($AN$77<3,\"\",IF(hesap!D81=\"\",\"\",hesap!D81))","v":{"$error":"#VALUE!"}},null,{"$f":"IF($AN$77<4,\"\",IF(hesap!AH81=\"\",\"\",hesap!AH81))","v":{"$error":"#VALUE!"}},null,{"$f":"IF($AN$77<4,\"\",IF(hesap!AI81=\"\",\"\",hesap!AI81))","v":{"$error":"#VALUE!"}},null,{"$f":"IF($AN$77<5,\"\",IF(hesap!C135=\"\",\"\",hesap!C135))","v":{"$error":"#VALUE!"}},null,null,{"$f":"IF($AN$77<5,\"\",IF(hesap!D135=\"\",\"\",hesap!D135))","v":{"$error":"#VALUE!"}},null,{"$f":"IF(DersYükü!X31=0,\"\",IF(DersYükü!X31>GD60,GD60,DersYükü!X31))","v":""},null,null,null,null,{"$f":"IF(AND(S20<=10,S20+S56<=10,T19>0,S55+S56>10),10,IF(AND(S20<=10,S20+S56<=10,T19=0,SUM(S19,S20,S55,S56,-T17)<=0),0,IF(AND(S20<=10,S20+S56<=10,T19=0,SUM(S19,S20,S55,S56,-T17)>0,SUM(S19,S20,S55,S56,-T17)<=10),SUM(S19,S20,S55,S56,-T17),IF(AND(S20<=10,S20+S56<=10,T19=0,SUM(S19,S20,S55,S56,-T17)>10),10,IF(AND(S20<=10,S56<=10,S20+S56>=10,T19>0,S55>=10),10,IF(AND(S20<=10,S56<=10,S20+S56>=10,T19>0,S55<10,S55+10-S20>10),10,   BA59))))))","v":{"$error":"#VALUE!"}},{"$f":"IF(AND(AF39<=10,AF39+AF69<=10,AD40>0,AD69+AF69>10),10,IF(AND(AF39<=10,AF39+AF69<=10,AD40=0,SUM(AD39,AF39,AD69,AF69,-T17)<=0),0,IF(AND(AF39<=10,AF39+AF69<=10,AD40=0,SUM(AD39,AF39,AD69,AF69,-T17)>0,SUM(AD39,AF39,AD69,AF69,-T17)<=10),SUM(AD39,AF39,AD69,AF69,-T17),IF(AND(AF39<=10,AF39+AF69<=10,AD40=0,SUM(AD39,AF39,AD69,AF69,-T17)>10),10,IF(AND(AF39<=10,AF69<=10,AF39+AF69>=10,AD40>0,AD69>=10),10,IF(AND(AF39<=10,AF69<=10,AF39+AF69>=10,AD40>0,AD69<10,AD69+10-AF39>10),10,   BB59))))))","v":{"$error":"#VALUE!"}}]
[null,3,{"$f":"IF(DersYükü!C32=\"\",\"\",DersYükü!C32)","v":""},null,null,null,null,null,null,null,null,null,{"$f":"IF(VLOOKUP(DersYükü!M32,#REF!,2,FALSE)=\"\",\"\",VLOOKUP(DersYükü!M32,#REF!,2,FALSE))","v":{"$error":"#REF!"}},null,null,null,{"$error":"#REF!"},{"$f":"IF(DersYükü!T32=0,\"\",DersYükü!T32)","v":""},null,{"$f":"IF(DersYükü!V32=0,\"\",DersYükü!V32)","v":""},{"$f":"IF(OR('Sınav Ücret'!AD36<1,'Sınav Ücret'!AD36>5),\"\",'Sınav Ücret'!AD36)","v":""},null,{"$f":"IF(U61=\"\",\"\",'Sınav Ücret'!P36)","v":""},null,{"$f":"IF(hesap!C28=\"\",\"\",hesap!C28)","v":""},null,null,{"$f":"IF(hesap!D28=\"\",\"\",hesap!D28)","v":""},null,{"$f":"IF($AN$77<2,\"\",IF(hesap!AH28=\"\",\"\",hesap!AH28))","v":{"$error":"#VALUE!"}},null,{"$f":"IF($AN$77<2,\"\",IF(hesap!AI28=\"\",\"\",hesap!AI28))","v":{"$error":"#VALUE!"}},null,{"$f":"IF($AN$77<3,\"\",IF(hesap!C82=\"\",\"\",hesap!C82))","v":{"$error":"#VALUE!"}},null,null,{"$f":"IF($AN$77<3,\"\",IF(hesap!D82=\"\",\"\",hesap!D82))","v":{"$error":"#VALUE!"}},null,{"$f":"IF($AN$77<4,\"\",IF(hesap!AH82=\"\",\"\",hesap!AH82))","v":{"$error":"#VALUE!"}},null,{"$f":"IF($AN$77<4,\"\",IF(hesap!AI82=\"\",\"\",hesap!AI82))","v":{"$error":"#VALUE!"}},null,{"$f":"IF($AN$77<5,\"\",IF(hesap!C136=\"\",\"\",hesap!C136))","v":{"$error":"#VALUE!"}},null,null,{"$f":"IF($AN$77<5,\"\",IF(hesap!D136=\"\",\"\",hesap!D136))","v":{"$error":"#VALUE!"}},null,{"$f":"IF(DersYükü!X32=0,\"\",IF(DersYükü!X32>GD61,GD61,DersYükü!X32))","v":""}]
[null,4,{"$f":"IF(DersYükü!C33=\"\",\"\",DersYükü!C33)","v":""},null,null,null,null,null,null,null,null,null,{"$f":"IF(VLOOKUP(DersYükü!M33,#REF!,2,FALSE)=\"\",\"\",VLOOKUP(DersYükü!M33,#REF!,2,FALSE))","v":{"$error":"#REF!"}},null,null,null,{"$error":"#REF!"},{"$f":"IF(DersYükü!T33=0,\"\",DersYükü!T33)","v":""},null,{"$f":"IF(DersYükü!V33=0,\"\",DersYükü!V33)","v":""},{"$f":"IF(OR('Sınav Ücret'!AD37<1,'Sınav Ücret'!AD37>5),\"\",'Sınav Ücret'!AD37)","v":""},null,{"$f":"IF(U62=\"\",\"\",'Sınav Ücret'!P37)","v":""},null,{"$f":"IF(hesap!C29=\"\",\"\",hesap!C29)","v":""},null,null,{"$f":"IF(hesap!D29=\"\",\"\",hesap!D29)","v":""},null,{"$f":"IF($AN$77<2,\"\",IF(hesap!AH29=\"\",\"\",hesap!AH29))","v":{"$error":"#VALUE!"}},null,{"$f":"IF($AN$77<2,\"\",IF(hesap!AI29=\"\",\"\",hesap!AI29))","v":{"$error":"#VALUE!"}},null,{"$f":"IF($AN$77<3,\"\",IF(hesap!C83=\"\",\"\",hesap!C83))","v":{"$error":"#VALUE!"}},null,null,{"$f":"IF($AN$77<3,\"\",IF(hesap!D83=\"\",\"\",hesap!D83))","v":{"$error":"#VALUE!"}},null,{"$f":"IF($AN$77<4,\"\",IF(hesap!AH83=\"\",\"\",hesap!AH83))","v":{"$error":"#VALUE!"}},null,{"$f":"IF($AN$77<4,\"\",IF(hesap!AI83=\"\",\"\",hesap!AI83))","v":{"$error":"#VALUE!"}},null,{"$f":"IF($AN$77<5,\"\",IF(hesap!C137=\"\",\"\",hesap!C137))","v":{"$error":"#VALUE!"}},null,null,{"$f":"IF($AN$77<5,\"\",IF(hesap!D137=\"\",\"\",hesap!D137))","v":{"$error":"#VALUE!"}},null,{"$f":"IF(DersYükü!X33=0,\"\",IF(DersYükü!X33>GD62,GD62,DersYükü!X33))","v":""}]
[null,5,{"$f":"IF(DersYükü!C34=\"\",\"\",DersYükü!C34)","v":""},null,null,null,null,null,null,null,null,null,{"$f":"IF(VLOOKUP(DersYükü!M34,#REF!,2,FALSE)=\"\",\"\",VLOOKUP(DersYükü!M34,#REF!,2,FALSE))","v":{"$error":"#REF!"}},null,null,null,{"$error":"#REF!"},{"$f":"IF(DersYükü!T34=0,\"\",DersYükü!T34)","v":""},null,{"$f":"IF(DersYükü!V34=0,\"\",DersYükü!V34)","v":""},{"$f":"IF(OR('Sınav Ücret'!AD38<1,'Sınav Ücret'!AD38>5),\"\",'Sınav Ücret'!AD38)","v":""},null,{"$f":"IF(U63=\"\",\"\",'Sınav Ücret'!P38)","v":""},null,{"$f":"IF(hesap!C30=\"\",\"\",hesap!C30)","v":""},null,null,{"$f":"IF(hesap!D30=\"\",\"\",hesap!D30)","v":""},null,{"$f":"IF($AN$77<2,\"\",IF(hesap!AH30=\"\",\"\",hesap!AH30))","v":{"$error":"#VALUE!"}},null,{"$f":"IF($AN$77<2,\"\",IF(hesap!AI30=\"\",\"\",hesap!AI30))","v":{"$error":"#VALUE!"}},null,{"$f":"IF($AN$77<3,\"\",IF(hesap!C84=\"\",\"\",hesap!C84))","v":{"$error":"#VALUE!"}},null,null,{"$f":"IF($AN$77<3,\"\",IF(hesap!D84=\"\",\"\",hesap!D84))","v":{"$error":"#VALUE!"}},null,{"$f":"IF($AN$77<4,\"\",IF(hesap!AH84=\"\",\"\",hesap!AH84))","v":{"$error":"#VALUE!"}},null,{"$f":"IF($AN$77<4,\"\",IF(hesap!AI84=\"\",\"\",hesap!AI84))","v":{"$error":"#VALUE!"}},null,{"$f":"IF($AN$77<5,\"\",IF(hesap!C138=\"\",\"\",hesap!C138))","v":{"$error":"#VALUE!"}},null,null,{"$f":"IF($AN$77<5,\"\",IF(hesap!D138=\"\",\"\",hesap!D138))","v":{"$error":"#VALUE!"}},null,{"$f":"IF(DersYükü!X34=0,\"\",IF(DersYükü!X34>GD63,GD63,DersYükü!X34))","v":""}]
[null,6,{"$f":"IF(DersYükü!C35=\"\",\"\",DersYükü!C35)","v":""},null,null,null,null,null,null,null,null,null,{"$f":"IF(VLOOKUP(DersYükü!M35,#REF!,2,FALSE)=\"\",\"\",VLOOKUP(DersYükü!M35,#REF!,2,FALSE))","v":{"$error":"#REF!"}},null,null,null,{"$error":"#REF!"},{"$f":"IF(DersYükü!T35=0,\"\",DersYükü!T35)","v":""},null,{"$f":"IF(DersYükü!V35=0,\"\",DersYükü!V35)","v":""},{"$f":"IF(OR('Sınav Ücret'!AD39<1,'Sınav Ücret'!AD39>5),\"\",'Sınav Ücret'!AD39)","v":""},null,{"$f":"IF(U64=\"\",\"\",'Sınav Ücret'!P39)","v":""},null,{"$f":"IF(hesap!C31=\"\",\"\",hesap!C31)","v":""},null,null,{"$f":"IF(hesap!D31=\"\",\"\",hesap!D31)","v":""},null,{"$f":"IF($AN$77<2,\"\",IF(hesap!AH31=\"\",\"\",hesap!AH31))","v":{"$error":"#VALUE!"}},null,{"$f":"IF($AN$77<2,\"\",IF(hesap!AI31=\"\",\"\",hesap!AI31))","v":{"$error":"#VALUE!"}},null,{"$f":"IF($AN$77<3,\"\",IF(hesap!C85=\"\",\"\",hesap!C85))","v":{"$error":"#VALUE!"}},null,null,{"$f":"IF($AN$77<3,\"\",IF(hesap!D85=\"\",\"\",hesap!D85))","v":{"$error":"#VALUE!"}},null,{"$f":"IF($AN$77<4,\"\",IF(hesap!AH85=\"\",\"\",hesap!AH85))","v":{"$error":"#VALUE!"}},null,{"$f":"IF($AN$77<4,\"\",IF(hesap!AI85=\"\",\"\",hesap!AI85))","v":{"$error":"#VALUE!"}},null,{"$f":"IF($AN$77<5,\"\",IF(hesap!C139=\"\",\"\",hesap!C139))","v":{"$error":"#VALUE!"}},null,null,{"$f":"IF($AN$77<5,\"\",IF(hesap!D139=\"\",\"\",hesap!D139))","v":{"$error":"#VALUE!"}},null,{"$f":"IF(DersYükü!X35=0,\"\",IF(DersYükü!X35>GD64,GD64,DersYükü!X35))","v":""}]
[null,7,{"$f":"IF(DersYükü!C36=\"\",\"\",DersYükü!C36)","v":""},null,null,null,null,null,null,null,null,null,{"$f":"IF(VLOOKUP(DersYükü!M36,#REF!,2,FALSE)=\"\",\"\",VLOOKUP(DersYükü!M36,#REF!,2,FALSE))","v":{"$error":"#REF!"}},null,null,null,{"$error":"#REF!"},{"$f":"IF(DersYükü!T36=0,\"\",DersYükü!T36)","v":""},null,{"$f":"IF(DersYükü!V36=0,\"\",DersYükü!V36)","v":""},{"$f":"IF(OR('Sınav Ücret'!AD40<1,'Sınav Ücret'!AD40>5),\"\",'Sınav Ücret'!AD40)","v":""},null,{"$f":"IF(U65=\"\",\"\",'Sınav Ücret'!P40)","v":""},null,{"$f":"IF(hesap!C32=\"\",\"\",hesap!C32)","v":""},null,null,{"$f":"IF(hesap!D32=\"\",\"\",hesap!D32)","v":""},null,{"$f":"IF($AN$77<2,\"\",IF(hesap!AH32=\"\",\"\",hesap!AH32))","v":{"$error":"#VALUE!"}},null,{"$f":"IF($AN$77<2,\"\",IF(hesap!AI32=\"\",\"\",hesap!AI32))","v":{"$error":"#VALUE!"}},null,{"$f":"IF($AN$77<3,\"\",IF(hesap!C86=\"\",\"\",hesap!C86))","v":{"$error":"#VALUE!"}},null,null,{"$f":"IF($AN$77<3,\"\",IF(hesap!D86=\"\",\"\",hesap!D86))","v":{"$error":"#VALUE!"}},null,{"$f":"IF($AN$77<4,\"\",IF(hesap!AH86=\"\",\"\",hesap!AH86))","v":{"$error":"#VALUE!"}},null,{"$f":"IF($AN$77<4,\"\",IF(hesap!AI86=\"\",\"\",hesap!AI86))","v":{"$error":"#VALUE!"}},null,{"$f":"IF($AN$77<5,\"\",IF(hesap!C140=\"\",\"\",hesap!C140))","v":{"$error":"#VALUE!"}},null,null,{"$f":"IF($AN$77<5,\"\",IF(hesap!D140=\"\",\"\",hesap!D140))","v":{"$error":"#VALUE!"}},null,{"$f":"IF(DersYükü!X36=0,\"\",IF(DersYükü!X36>GD65,GD65,DersYükü!X36))","v":""}]
[null,8,{"$f":"IF(DersYükü!C37=\"\",\"\",DersYükü!C37)","v":""},null,null,null,null,null,null,null,null,null,{"$f":"IF(VLOOKUP(DersYükü!M37,#REF!,2,FALSE)=\"\",\"\",VLOOKUP(DersYükü!M37,#REF!,2,FALSE))","v":{"$error":"#REF!"}},null,null,null,{"$error":"#REF!"},{"$f":"IF(DersYükü!T37=0,\"\",DersYükü!T37)","v":""},null,{"$f":"IF(DersYükü!V37=0,\"\",DersYükü!V37)","v":""},{"$f":"IF(OR('Sınav Ücret'!AD41<1,'Sınav Ücret'!AD41>5),\"\",'Sınav Ücret'!AD41)","v":""},null,{"$f":"IF(U66=\"\",\"\",'Sınav Ücret'!P41)","v":""},null,{"$f":"IF(hesap!C33=\"\",\"\",hesap!C33)","v":""},null,null,{"$f":"IF(hesap!D33=\"\",\"\",hesap!D33)","v":""},null,{"$f":"IF($AN$77<2,\"\",IF(hesap!AH33=\"\",\"\",hesap!AH33))","v":{"$error":"#VALUE!"}},null,{"$f":"IF($AN$77<2,\"\",IF(hesap!AI33=\"\",\"\",hesap!AI33))","v":{"$error":"#VALUE!"}},null,{"$f":"IF($AN$77<3,\"\",IF(hesap!C87=\"\",\"\",hesap!C87))","v":{"$error":"#VALUE!"}},null,null,{"$f":"IF($AN$77<3,\"\",IF(hesap!D87=\"\",\"\",hesap!D87))","v":{"$error":"#VALUE!"}},null,{"$f":"IF($AN$77<4,\"\",IF(hesap!AH87=\"\",\"\",hesap!AH87))","v":{"$error":"#VALUE!"}},null,{"$f":"IF($AN$77<4,\"\",IF(hesap!AI87=\"\",\"\",hesap!AI87))","v":{"$error":"#VALUE!"}},null,{"$f":"IF($AN$77<5,\"\",IF(hesap!C141=\"\",\"\",hesap!C141))","v":{"$error":"#VALUE!"}},null,null,{"$f":"IF($AN$77<5,\"\",IF(hesap!D141=\"\",\"\",hesap!D141))","v":{"$error":"#VALUE!"}},null,{"$f":"IF(DersYükü!X37=0,\"\",IF(DersYükü!X37>GD66,GD66,DersYükü!X37))","v":""},null,null,null,null,{"$f":"IF(AND(AB20<=10,AB56>10,AC19>0,AB55>=10),10,IF(AND(AB20<=10,AB56>10,AC19>0,AB55<10,AB55+10-AB20>10),10,))","v":{"$error":"#VALUE!"}},{"$f":"IF(AND(AK39<=10,AK69>10,AH40>0,AH69>=10),10,IF(AND(AK39<=10,AK69>10,AH40>0,AH69<10,AH69+10-AK39>10),10,))","v":{"$error":"#VALUE!"}},"3. hafta"]
[null,9,{"$f":"IF(DersYükü!C38=\"\",\"\",DersYükü!C38)","v":""},null,null,null,null,null,null,null,null,null,{"$f":"IF(VLOOKUP(DersYükü!M38,#REF!,2,FALSE)=\"\",\"\",VLOOKUP(DersYükü!M38,#REF!,2,FALSE))","v":{"$error":"#REF!"}},null,null,null,{"$error":"#REF!"},{"$f":"IF(DersYükü!T38=0,\"\",DersYükü!T38)","v":""},null,{"$f":"IF(DersYükü!V38=0,\"\",DersYükü!V38)","v":""},{"$f":"IF(OR('Sınav Ücret'!AD42<1,'Sınav Ücret'!AD42>5),\"\",'Sınav Ücret'!AD42)","v":""},null,{"$f":"IF(U67=\"\",\"\",'Sınav Ücret'!P42)","v":""},null,{"$f":"IF(hesap!C34=\"\",\"\",hesap!C34)","v":""},null,null,{"$f":"IF(hesap!D34=\"\",\"\",hesap!D34)","v":""},null,{"$f":"IF($AN$77<2,\"\",IF(hesap!AH34=\"\",\"\",hesap!AH34))","v":{"$error":"#VALUE!"}},null,{"$f":"IF($AN$77<2,\"\",IF(hesap!AI34=\"\",\"\",hesap!AI34))","v":{"$error":"#VALUE!"}},null,{"$f":"IF($AN$77<3,\"\",IF(hesap!C88=\"\",\"\",hesap!C88))","v":{"$error":"#VALUE!"}},null,null,{"$f":"IF($AN$77<3,\"\",IF(hesap!D88=\"\",\"\",hesap!D88))","v":{"$error":"#VALUE!"}},null,{"$f":"IF($AN$77<4,\"\",IF(hesap!AH88=\"\",\"\",hesap!AH88))","v":{"$error":"#VALUE!"}},null,{"$f":"IF($AN$77<4,\"\",IF(hesap!AI88=\"\",\"\",hesap!AI88))","v":{"$error":"#VALUE!"}},null,{"$f":"IF($AN$77<5,\"\",IF(hesap!C142=\"\",\"\",hesap!C142))","v":{"$error":"#VALUE!"}},null,null,{"$f":"IF($AN$77<5,\"\",IF(hesap!D142=\"\",\"\",hesap!D142))","v":{"$error":"#VALUE!"}},null,{"$f":"IF(DersYükü!X38=0,\"\",IF(DersYükü!X38>GD67,GD67,DersYükü!X38))","v":""},null,null,null,null,{"$f":"IF(AND(AB20<=10,AB56>10,AC19>0,AB55<10,AB55+10-AB20<=10),AB55+10-AB20,IF(AND(AB20<=10,AB56>10,AC19=0,AB19+AB20+AB55+10-AB20-AC17>10),10,IF(AND(AB20<=10,AB56>10,AC19=0,AB19+AB20+AB55+10-AB20-AC17<0),0,IF(AND(AB20<=10,AB56>10,AC19=0,AB19+AB20+AB55+10-AB20-AC17>0,AB19+AB20+AB55+10-AB20-AC17<=10),AB19+AB20+AB55+10-AB20-AC17,BA66))))","v":{"$error":"#VALUE!"}},{"$f":"IF(AND(AK39<=10,AK69>10,AH40>0,AH69<10,AH69+10-AK39<=10),AH69+10-AK39,IF(AND(AK39<=10,AK69>10,AH40=0,AH39+AK39+AH69+10-AK39-AC17>10),10,IF(AND(AK39<=10,AK69>10,AH40=0,AH39+AK39+AH69+10-AK39-AC17<0),0,IF(AND(AK39<=10,AK69>10,AH40=0,AH39+AK39+AH69+10-AK39-AC17>0,AH39+AK39+AH69+10-AK39-AC17<=10),AH39+AK39+AH69+10-AK39-AC17,BB66))))","v":{"$error":"#VALUE!"}}]
[null,10,{"$f":"IF(DersYükü!C39=\"\",\"\",DersYükü!C39)","v":""},null,null,null,null,null,null,null,null,null,{"$f":"IF(VLOOKUP(DersYükü!M39,#REF!,2,FALSE)=\"\",\"\",VLOOKUP(DersYükü!M39,#REF!,2,FALSE))","v":{"$error":"#REF!"}},null,null,null,{"$error":"#REF!"},{"$f":"IF(DersYükü!T39=0,\"\",DersYükü!T39)","v":""},null,{"$f":"IF(DersYükü!V39=0,\"\",DersYükü!V39)","v":""},{"$f":"IF(OR('Sınav Ücret'!AD43<1,'Sınav Ücret'!AD43>5),\"\",'Sınav Ücret'!AD43)","v":""},null,{"$f":"IF(U68=\"\",\"\",'Sınav Ücret'!P43)","v":""},null,{"$f":"IF(hesap!C35=\"\",\"\",hesap!C35)","v":""},null,null,{"$f":"IF(hesap!D35=\"\",\"\",hesap!D35)","v":""},null,{"$f":"IF($AN$77<2,\"\",IF(hesap!AH35=\"\",\"\",hesap!AH35))","v":{"$error":"#VALUE!"}},null,{"$f":"IF($AN$77<2,\"\",IF(hesap!AI35=\"\",\"\",hesap!AI35))","v":{"$error":"#VALUE!"}},null,{"$f":"IF($AN$77<3,\"\",IF(hesap!C89=\"\",\"\",hesap!C89))","v":{"$error":"#VALUE!"}},null,null,{"$f":"IF($AN$77<3,\"\",IF(hesap!D89=\"\",\"\",hesap!D89))","v":{"$error":"#VALUE!"}},null,{"$f":"IF($AN$77<4,\"\",IF(hesap!AH89=\"\",\"\",hesap!AH89))","v":{"$error":"#VALUE!"}},null,{"$f":"IF($AN$77<4,\"\",IF(hesap!AI89=\"\",\"\",hesap!AI89))","v":{"$error":"#VALUE!"}},null,{"$f":"IF($AN$77<5,\"\",IF(hesap!C143=\"\",\"\",hesap!C143))","v":{"$error":"#VALUE!"}},null,null,{"$f":"IF($AN$77<5,\"\",IF(hesap!D143=\"\",\"\",hesap!D143))","v":{"$error":"#VALUE!"}},null,{"$f":"IF(DersYükü!X39=0,\"\",IF(DersYükü!X39>GD68,GD68,DersYükü!X39))","v":""},null,null,null,null,{"$f":"IF(AND(AB20<=10,AB56<=10,AB20+AB56>=10,AC19>0,AB55<10,AB55+10-AB20<=10),AB55+10-AB20,IF(AND(AB20<=10,AB56<=10,AB20+AB56>=10,AC19=0,AB19+AB20+AB55+10-AB20-AC17>10),10,IF(AND(AB20<=10,AB56<=10,AB20+AB56>=10,AC19=0,AB19+AB20+AB55+10-AB20-AC17<0),0,IF(AND(AB20<=10,AB56<=10,AB20+AB56>=10,AC19=0,AB19+AB20+AB55+10-AB20-AC17>0,AB19+AB20+AB55+10-AB20-AC17<=10),AB19+AB20+AB55+10-AB20-AC17,BA67))))","v":{"$error":"#VALUE!"}},{"$f":"IF(AND(AK39<=10,AK69<=10,AK39+AK69>=10,AH40>0,AH69<10,AH69+10-AK39<=10),AH69+10-AK39,IF(AND(AK39<=10,AK69<=10,AK39+AK69>=10,AH40=0,AH39+AK39+AH69+10-AK39-AC17>10),10,IF(AND(AK39<=10,AK69<=10,AK39+AK69>=10,AH40=0,AH39+AK39+AH69+10-AK39-AC17<0),0,IF(AND(AK39<=10,AK69<=10,AK39+AK69>=10,AH40=0,AH39+AK39+AH69+10-AK39-AC17>0,AH39+AK39+AH69+10-AK39-AC17<=10),AH39+AK39+AH69+10-AK39-AC17,BA67))))","v":{"$error":"#VALUE!"}}]
[null,null,null,null,"Kod","TOPLAM",null,null,null,null,null,null,null,null,null,null,null,null,null,null,{"$f":"20-(COUNTBLANK(U59:V68))","v":0},null,null,null,{"$f":"SUM(Y59:Y68)","v":0},null,null,{"$f":"SUM(AB59:AB68)","v":0},null,{"$f":"SUM(AD59:AD68)","v":{"$error":"#VALUE!"}},null,{"$f":"SUM(AF59:AF68)","v":{"$error":"#VALUE!"}},null,{"$f":"SUM(AH59:AH68)","v":{"$error":"#VALUE!"}},null,null,{"$f":"SUM(AK59:AK68)","v":{"$error":"#VALUE!"}},null,{"$f":"SUM(AM59:AM68)","v":{"$error":"#VALUE!"}},null,{"$f":"SUM(AO59:AO68)","v":{"$error":"#VALUE!"}},null,{"$f":"SUM(AQ59:AQ68)","v":{"$error":"#VALUE!"}},null,null,{"$f":"SUM(AT59:AT68)","v":{"$error":"#VALUE!"}},null,null,null,null,null,null,{"$f":"IF(AND(AB20<=10,AB20+AB56<=10,AC19>0,AB55+AB56>10),10,IF(AND(AB20<=10,AB20+AB56<=10,AC19=0,SUM(AB19,AB20,AB55,AB56,-AC17)<=0),0,IF(AND(AB20<=10,AB20+AB56<=10,AC19=0,SUM(AB19,AB20,AB55,AB56,-AC17)>0,SUM(AB19,AB20,AB55,AB56,-AC17)<=10),SUM(AB19,AB20,AB55,AB56,-AC17),IF(AND(AB20<=10,AB20+AB56<=10,AC19=0,SUM(AB19,AB20,AB55,AB56,-AC17)>10),10,IF(AND(AB20<=10,AB56<=10,AB20+AB56>=10,AC19>0,AB55>=10),10,IF(AND(AB20<=10,AB56<=10,AB20+AB56>=10,AC19>0,AB55<10,AB55+10-AB20>10),10,   BA68))))))","v":{"$error":"#VALUE!"}},{"$f":"IF(AND(AK39<=10,AK39+AK69<=10,AH40>0,AH69+AK69>10),10,IF(AND(AK39<=10,AK39+AK69<=10,AH40=0,SUM(AH39,AK39,AH69,AK69,-AC17)<=0),0,IF(AND(AK39<=10,AK39+AK69<=10,AH40=0,SUM(AH39,AK39,AH69,AK69,-AC17)>0,SUM(AH39,AK39,AH69,AK69,-AC17)<=10),SUM(AH39,AK39,AH69,AK69,-AC17),IF(AND(AK39<=10,AK39+AK69<=10,AH40=0,SUM(AH39,AK39,AH69,AK69,-AC17)>10),10,IF(AND(AK39<=10,AK69<=10,AK39+AK69>=10,AH40>0,AH69>=10),10,IF(AND(AK39<=10,AK69<=10,AK39+AK69>=10,AH40>0,AH69<10,AH69+10-AK39>10),10,   BB68))))))","v":{"$error":"#VALUE!"}}]
[null,"ÜTDS NIN BİRİMLERE DAĞILIMI",null,null,null,"ÜCRETE TABİ DERS SAYISI(ÜTDS)",null,null,null,null,null,null,null,null,null,null,null,null,null,null,null,null,null,null,{"$f":"IF(AND(AB39>=10,Y40>0,Y69>=10),10,IF(AND(AB39>=10,Y40>0,Y69<10),Y69,IF(AND(AB39>=10,Y40=0,(Y39+10+Y69-K17)>0,(Y39+10+Y69-K17)<10),(Y39+10+Y69-K17),IF(AND(AB39>=10,Y40=0,(Y39+10+Y69-K17)>10),10,IF(AND(AB39>=10,Y40=0,AB39+10+Y69-K17<0),0,IF(AND(AB39<=10,AB39+AB69<10,Y40>0,Y69+AB69<=10),Y69+AB69,BB55))))))","v":0},null,null,null,null,{"$f":"IF(AND(AF39>=10,AD40>0,AD69>=10),10,IF(AND(AF39>=10,AD40>0,AD69<10),AD69,IF(AND(AF39>=10,AD40=0,(AD39+10+AD69-T17)>0,(AD39+10+AD69-T17)<10),(AD39+10+AD69-T17),IF(AND(AF39>=10,AD40=0,(AD39+10+AD69-T17)>10),10,IF(AND(AF39>=10,AD40=0,AF39+10+AD69-T17<0),0,IF(AND(AF39<=10,AF39+AF69<10,AD40>0,AD69+AF69<=10),AD69+AF69,BB60))))))","v":{"$error":"#VALUE!"}},null,null,null,{"$f":"IF(AND(AK39>=10,AH40>0,AH69>=10),10,IF(AND(AK39>=10,AH40>0,AH69<10),AH69,IF(AND(AK39>=10,AH40=0,(AH39+10+AH69-AC17)>0,(AH39+10+AH69-AC17)<10),(AH39+10+AH69-AC17),IF(AND(AK39>=10,AH40=0,(AH39+10+AH69-AC17)>10),10,IF(AND(AK39>=10,AH40=0,AK39+10+AH69-AC17<0),0,IF(AND(AK39<=10,AK39+AK69<10,AH40>0,AH69+AK69<=10),AH69+AK69,BB69))))))","v":{"$error":"#VALUE!"}},null,null,null,null,{"$f":"IF(AND(AO39>=10,AM40>0,AM69>=10),10,IF(AND(AO39>=10,AM40>0,AM69<10),AM69,IF(AND(AO39>=10,AM40=0,(AM39+10+AM69-AL17)>0,(AM39+10+AM69-AL17)<10),(AM39+10+AM69-AL17),IF(AND(AO39>=10,AM40=0,(AM39+10+AM69-AL17)>10),10,IF(AND(AO39>=10,AM40=0,AO39+10+AM69-AL17<0),0,IF(AND(AO39<=10,AO39+AO69<10,AM40>0,AM69+AO69<=10),AM69+AO69,BB74))))))","v":{"$error":"#VALUE!"}},null,null,null,{"$f":"IF(AND(AT39>=10,AQ40>0,AQ69>=10),10,IF(AND(AT39>=10,AQ40>0,AQ69<10),AQ69,IF(AND(AT39>=10,AQ40=0,(AQ39+10+AQ69-AU17)>0,(AQ39+10+AQ69-AU17)<10),(AQ39+10+AQ69-AU17),IF(AND(AT39>=10,AQ40=0,(AQ39+10+AQ69-AU17)>10),10,IF(AND(AT39>=10,AQ40=0,AT39+10+AQ69-AU17<0),0,IF(AND(AT39<=10,AT39+AT69<10,AQ40>0,AQ69+AT69<=10),AQ69+AT69,BB80))))))","v":{"$error":"#VALUE!"}},null,null,null,null,{"$f":"SUM(Y70:AQ70)","v":{"$error":"#VALUE!"}}]
[null,null,null,null,1,null,null,null,null,null,null,null,null,null,null,null,null,null,null,null,null,null,null,null,{"$f":"IF(AB39>=10,MIN(SUMIF($Q$59:$Q$68,\"=1\",Y59:Y68),VALUE(Y70)),IF(AND(AB39<=10,AB69<=10,AB39+AB69>=10),MIN(SUMIF($Q$59:$Q$68,\"=1\",Y59:Y68)+SUMIF($Q$59:$Q$68,\"=1\",AB59:AB68),SUMIF($Q$59:$Q$68,\"=1\",Y59:Y68)+(10-AB39),VALUE(Y70)),IF(AND(AB39<10,AB69>=10),MIN(SUMIF($Q$59:$Q$68,\"=1\",Y59:Y68)+SUMIF($Q$59:$Q$68,\"=1\",AB59:AB68),SUMIF($Q$59:$Q$68,\"=1\",Y59:Y68)+(10-AB39),VALUE(Y70)),IF(AND(AB39<=10,AB69<=10,AB39+AB69<10),MIN(SUMIF($Q$59:$Q$68,\"=1\",Y59:Y68)+SUMIF($Q$59:$Q$68,\"=1\",AB59:AB68),VALUE(Y70))))))","v":0},null,null,null,null,{"$f":"IF(AF39>=10,MIN(SUMIF($Q$59:$Q$68,\"=1\",AD59:AD68),VALUE(AD70)),IF(AND(AF39<=10,AF69<=10,AF39+AF69>=10),MIN(SUMIF($Q$59:$Q$68,\"=1\",AD59:AD68)+SUMIF($Q$59:$Q$68,\"=1\",AF59:AF68),SUMIF($Q$59:$Q$68,\"=1\",AD59:AD68)+(10-AF39),VALUE(AD70)),IF(AND(AF39<10,AF69>=10),MIN(SUMIF($Q$59:$Q$68,\"=1\",AD59:AD68)+SUMIF($Q$59:$Q$68,\"=1\",AF59:AF68),SUMIF($Q$59:$Q$68,\"=1\",AD59:AD68)+(10-AF39),VALUE(AD70)),IF(AND(AF39<=10,AF69<=10,AF39+AF69<10),MIN(SUMIF($Q$59:$Q$68,\"=1\",AD59:AD68)+SUMIF($Q$59:$Q$68,\"=1\",AF59:AF68),VALUE(AD70))))))","v":{"$error":"#VALUE!"}},null,null,null,{"$f":"IF(AK39>=10,MIN(SUMIF($Q$59:$Q$68,\"=1\",AH59:AH68),VALUE(AH70)),IF(AND(AK39<=10,AK69<=10,AK39+AK69>=10),MIN(SUMIF($Q$59:$Q$68,\"=1\",AH59:AH68)+SUMIF($Q$59:$Q$68,\"=1\",AK59:AK68),SUMIF($Q$59:$Q$68,\"=1\",AH59:AH68)+(10-AK39),VALUE(AH70)),IF(AND(AK39<10,AK69>=10),MIN(SUMIF($Q$59:$Q$68,\"=1\",AH59:AH68)+SUMIF($Q$59:$Q$68,\"=1\",AK59:AK68),SUMIF($Q$59:$Q$68,\"=1\",AH59:AH68)+(10-AK39),VALUE(AH70)),IF(AND(AK39<=10,AK69<=10,AK39+AK69<10),MIN(SUMIF($Q$59:$Q$68,\"=1\",AH59:AH68)+SUMIF($Q$59:$Q$68,\"=1\",AK59:AK68),VALUE(AH70))))))","v":{"$error":"#VALUE!"}},null,null,null,null,{"$f":"IF(AO39>=10,MIN(SUMIF($Q$59:$Q$68,\"=1\",AM59:AM68),VALUE(AM70)),IF(AND(AO39<=10,AO69<=10,AO39+AO69>=10),MIN(SUMIF($Q$59:$Q$68,\"=1\",AM59:AM68)+SUMIF($Q$59:$Q$68,\"=1\",AO59:AO68),SUMIF($Q$59:$Q$68,\"=1\",AM59:AM68)+(10-AO39),VALUE(AM70)),IF(AND(AO39<10,AO69>=10),MIN(SUMIF($Q$59:$Q$68,\"=1\",AM59:AM68)+SUMIF($Q$59:$Q$68,\"=1\",AO59:AO68),SUMIF($Q$59:$Q$68,\"=1\",AM59:AM68)+(10-AO39),VALUE(AM70)),IF(AND(AO39<=10,AO69<=10,AO39+AO69<10),MIN(SUMIF($Q$59:$Q$68,\"=1\",AM59:AM68)+SUMIF($Q$59:$Q$68,\"=1\",AO59:AO68),VALUE(AM70))))))","v":{"$error":"#VALUE!"}},null,null,null,{"$f":"IF(AT39>=10,MIN(SUMIF($Q$59:$Q$68,\"=1\",AQ59:AQ68),VALUE(AQ70)),IF(AND(AT39<=10,AT69<=10,AT39+AT69>=10),MIN(SUMIF($Q$59:$Q$68,\"=1\",AQ59:AQ68)+SUMIF($Q$59:$Q$68,\"=1\",AT59:AT68),SUMIF($Q$59:$Q$68,\"=1\",AQ59:AQ68)+(10-AT39),VALUE(AQ70)),IF(AND(AT39<10,AT69>=10),MIN(SUMIF($Q$59:$Q$68,\"=1\",AQ59:AQ68)+SUMIF($Q$59:$Q$68,\"=1\",AT59:AT68),SUMIF($Q$59:$Q$68,\"=1\",AQ59:AQ68)+(10-AT39),VALUE(AQ70)),IF(AND(AT39<=10,AT69<=10,AT39+AT69<10),MIN(SUMIF($Q$59:$Q$68,\"=1\",AQ59:AQ68)+SUMIF($Q$59:$Q$68,\"=1\",AT59:AT68),VALUE(AQ70))))))","v":{"$error":"#VALUE!"}},null,null,null,null,{"$f":"SUM(Y71:AQ71)","v":{"$error":"#VALUE!"}},null,null,null,null,{"$f":"IF(AND(AK20<=10,AK56>10,AL19>0,AK55>=10),10,IF(AND(AK20<=10,AK56>10,AL19>0,AK55<10,AK55+10-AK20>10),10,))","v":{"$error":"#VALUE!"}},{"$f":"IF(AND(AO39<=10,AO69>10,AM40>0,AM69>=10),10,IF(AND(AO39<=10,AO69>10,AM40>0,AM69<10,AM69+10-AO39>10),10,))","v":{"$error":"#VALUE!"}},"4. hafta",null,{"$f":"IF(Q9=\"SOSYAL BİLİMLER ENSTİTÜSÜ\",\"II Ö TEZSİZ YÜKSEK LİSANS\",\"\")","v":""},null,null,{"$f":"IF(F71=\"\",\"\",F71)","v":""},{"$f":"IF(BH71=\"\",\"\",VLOOKUP(BH71,#REF!,2,FALSE))","v":""},1]
[null,null,null,null,2,null,null,null,null,null,null,null,null,null,null,null,null,null,null,null,null,null,null,null,{"$f":"IF(SUMIF($Q$59:$Q$68,\"=2\",Y59:Y68)+SUMIF($Q$59:$Q$68,\"=2\",AB59:AB68)<=VALUE(Y70-Y71),SUMIF($Q$59:$Q$68,\"=2\",Y59:Y68)+SUMIF($Q$59:$Q$68,\"=2\",AB59:AB68),VALUE(Y70-Y71))","v":0},null,null,null,null,{"$f":"IF(SUMIF($Q$59:$Q$68,\"=2\",AD59:AD68)+SUMIF($Q$59:$Q$68,\"=2\",AF59:AF68)<=VALUE(AD70-AD71),SUMIF($Q$59:$Q$68,\"=2\",AD59:AD68)+SUMIF($Q$59:$Q$68,\"=2\",AF59:AF68),VALUE(AD70-AD71))","v":{"$error":"#VALUE!"}},null,null,null,{"$f":"IF(SUMIF($Q$59:$Q$68,\"=2\",AH59:AH68)+SUMIF($Q$59:$Q$68,\"=2\",AK59:AK68)<=VALUE(AH70-AH71),SUMIF($Q$59:$Q$68,\"=2\",AH59:AH68)+SUMIF($Q$59:$Q$68,\"=2\",AK59:AK68),VALUE(AH70-AH71))","v":{"$error":"#VALUE!"}},null,null,null,null,{"$f":"IF(SUMIF($Q$59:$Q$68,\"=2\",AM59:AM68)+SUMIF($Q$59:$Q$68,\"=2\",AO59:AO68)<=VALUE(AM70-AM71),SUMIF($Q$59:$Q$68,\"=2\",AM59:AM68)+SUMIF($Q$59:$Q$68,\"=2\",AO59:AO68),VALUE(AM70-AM71))","v":{"$error":"#VALUE!"}},null,null,null,{"$f":"IF(SUMIF($Q$59:$Q$68,\"=2\",AQ59:AQ68)+SUMIF($Q$59:$Q$68,\"=2\",AT59:AT68)<=VALUE(AQ70-AQ71),SUMIF($Q$59:$Q$68,\"=2\",AQ59:AQ68)+SUMIF($Q$59:$Q$68,\"=2\",AT59:AT68),VALUE(AQ70-AQ71))","v":{"$error":"#VALUE!"}},null,null,null,null,{"$f":"SUM(Y72:AQ72)","v":{"$error":"#VALUE!"}},null,null,null,null,{"$f":"IF(AND(AK20<=10,AK56>10,AL19>0,AK55<10,AK55+10-AK20<=10),AK55+10-AK20,IF(AND(AK20<=10,AK56>10,AL19=0,AK19+AK20+AK55+10-AK20-AL17>10),10,IF(AND(AK20<=10,AK56>10,AL19=0,AK19+AK20+AK55+10-AK20-AL17<0),0,IF(AND(AK20<=10,AK56>10,AL19=0,AK19+AK20+AK55+10-AK20-AL17>0,AK19+AK20+AK55+10-AK20-AL17<=10),AK19+AK20+AK55+10-AK20-AL17,BA71))))","v":{"$error":"#VALUE!"}},{"$f":"IF(AND(AO39<=10,AO69>10,AM40>0,AM69<10,AM69+10-AO39<=10),AM69+10-AO39,IF(AND(AO39<=10,AO69>10,AM40=0,AM39+AO39+AM69+10-AO39-AL17>10),10,IF(AND(AO39<=10,AO69>10,AM40=0,AM39+AO39+AM69+10-AO39-AL17<0),0,IF(AND(AO39<=10,AO69>10,AM40=0,AM39+AO39+AM69+10-AO39-AL17>0,AM39+AO39+AM69+10-AO39-AL17<=10),AM39+AO39+AM69+10-AO39-AL17,BB71))))","v":{"$error":"#VALUE!"}},null,null,null,null,null,{"$f":"IF(F72=\"\",\"\",F72)","v":""},{"$f":"IF(BH72=\"\",\"\",VLOOKUP(BH72,#REF!,2,FALSE))","v":""},2]
[null,null,null,null,3,null,null,null,null,null,null,null,null,null,null,null,null,null,null,null,null,null,null,null,{"$f":"IF(SUMIF($Q$59:$Q$68,\"=3\",Y59:Y68)+SUMIF($Q$59:$Q$68,\"=3\",AB59:AB68)<=VALUE(Y70-(Y71+Y72)),SUMIF($Q$59:$Q$68,\"=3\",Y59:Y68)+SUMIF($Q$59:$Q$68,\"=3\",AB59:AB68),VALUE(Y70-(Y71+Y72)))","v":0},null,null,null,null,{"$f":"IF(SUMIF($Q$59:$Q$68,\"=3\",AD59:AD68)+SUMIF($Q$59:$Q$68,\"=3\",AF59:AF68)<=VALUE(AD70-(AD71+AD72)),SUMIF($Q$59:$Q$68,\"=3\",AD59:AD68)+SUMIF($Q$59:$Q$68,\"=3\",AF59:AF68),VALUE(AD70-(AD71+AD72)))","v":{"$error":"#VALUE!"}},null,null,null,{"$f":"IF(SUMIF($Q$59:$Q$68,\"=3\",AH59:AH68)+SUMIF($Q$59:$Q$68,\"=3\",AK59:AK68)<=VALUE(AH70-(AH71+AH72)),SUMIF($Q$59:$Q$68,\"=3\",AH59:AH68)+SUMIF($Q$59:$Q$68,\"=3\",AK59:AK68),VALUE(AH70-(AH71+AH72)))","v":{"$error":"#VALUE!"}},null,null,null,null,{"$f":"IF(SUMIF($Q$59:$Q$68,\"=3\",AM59:AM68)+SUMIF($Q$59:$Q$68,\"=3\",AO59:AO68)<=VALUE(AM70-(AM71+AM72)),SUMIF($Q$59:$Q$68,\"=3\",AM59:AM68)+SUMIF($Q$59:$Q$68,\"=3\",AO59:AO68),VALUE(AM70-(AM71+AM72)))","v":{"$error":"#VALUE!"}},null,null,null,{"$f":"IF(SUMIF($Q$59:$Q$68,\"=3\",AQ59:AQ68)+SUMIF($Q$59:$Q$68,\"=3\",AT59:AT68)<=VALUE(AQ70-(AQ71+AQ72)),SUMIF($Q$59:$Q$68,\"=3\",AQ59:AQ68)+SUMIF($Q$59:$Q$68,\"=3\",AT59:AT68),VALUE(AQ70-(AQ71+AQ72)))","v":{"$error":"#VALUE!"}},null,null,null,null,{"$f":"SUM(Y73:AQ73)","v":{"$error":"#VALUE!"}},null,null,null,null,{"$f":"IF(AND(AK20<=10,AK56<=10,AK20+AK56>=10,AL19>0,AK55<10,AK55+10-AK20<=10),AK55+10-AK20,IF(AND(AK20<=10,AK56<=10,AK20+AK56>=10,AL19=0,AK19+AK20+AK55+10-AK20-AL17>10),10,IF(AND(AK20<=10,AK56<=10,AK20+AK56>=10,AL19=0,AK19+AK20+AK55+10-AK20-AL17<0),0,IF(AND(AK20<=10,AK56<=10,AK20+AK56>=10,AL19=0,AK19+AK20+AK55+10-AK20-AL17>0,AK19+AK20+AK55+10-AK20-AL17<=10),AK19+AK20+AK55+10-AK20-AL17,BA72))))","v":{"$error":"#VALUE!"}},{"$f":"IF(AND(AO39<=10,AO69<=10,AO39+AO69>=10,AM40>0,AM69<10,AM69+10-AO39<=10),AM69+10-AO39,IF(AND(AO39<=10,AO69<=10,AO39+AO69>=10,AM40=0,AM39+AO39+AM69+10-AO39-AL17>10),10,IF(AND(AO39<=10,AO69<=10,AO39+AO69>=10,AM40=0,AM39+AO39+AM69+10-AO39-AL17<0),0,IF(AND(AO39<=10,AO69<=10,AO39+AO69>=10,AM40=0,AM39+AO39+AM69+10-AO39-AL17>0,AM39+AO39+AM69+10-AO39-AL17<=10),AM39+AO39+AM69+10-AO39-AL17,BB72))))","v":{"$error":"#VALUE!"}},null,null,null,null,null,{"$f":"IF(F73=\"\",\"\",F73)","v":""},{"$f":"IF(BH73=\"\",\"\",VLOOKUP(BH73,#REF!,2,FALSE))","v":""},3]
[null,null,null,null,4,null,null,null,null,null,null,null,null,null,null,null,null,null,null,null,null,null,null,null,{"$f":"IF(SUMIF($Q$59:$Q$68,\"=4\",Y59:Y68)+SUMIF($Q$59:$Q$68,\"=4\",AB59:AB68)<=VALUE(Y70-(Y71+Y72+Y73)),SUMIF($Q$59:$Q$68,\"=4\",Y59:Y68)+SUMIF($Q$59:$Q$68,\"=4\",AB59:AB68),VALUE(Y70-(Y71+Y72+Y73)))","v":0},null,null,null,null,{"$f":"IF(SUMIF($Q$59:$Q$68,\"=4\",AD59:AD68)+SUMIF($Q$59:$Q$68,\"=4\",AF59:AF68)<=VALUE(AD70-(AD71+AD72+AD73)),SUMIF($Q$59:$Q$68,\"=4\",AD59:AD68)+SUMIF($Q$59:$Q$68,\"=4\",AF59:AF68),VALUE(AD70-(AD71+AD72+AD73)))","v":{"$error":"#VALUE!"}},null,null,null,{"$f":"IF(SUMIF($Q$59:$Q$68,\"=4\",AH59:AH68)+SUMIF($Q$59:$Q$68,\"=4\",AK59:AK68)<=VALUE(AH70-(AH71+AH72+AH73)),SUMIF($Q$59:$Q$68,\"=4\",AH59:AH68)+SUMIF($Q$59:$Q$68,\"=4\",AK59:AK68),VALUE(AH70-(AH71+AH72+AH73)))","v":{"$error":"#VALUE!"}},null,null,null,null,{"$f":"IF(SUMIF($Q$59:$Q$68,\"=4\",AM59:AM68)+SUMIF($Q$59:$Q$68,\"=4\",AO59:AO68)<=VALUE(AM70-(AM71+AM72+AM73)),SUMIF($Q$59:$Q$68,\"=4\",AM59:AM68)+SUMIF($Q$59:$Q$68,\"=4\",AO59:AO68),VALUE(AM70-(AM71+AM72+AM73)))","v":{"$error":"#VALUE!"}},null,null,null,{"$f":"IF(SUMIF($Q$59:$Q$68,\"=4\",AQ59:AQ68)+SUMIF($Q$59:$Q$68,\"=4\",AT59:AT68)<=VALUE(AQ70-(AQ71+AQ72+AQ73)),SUMIF($Q$59:$Q$68,\"=4\",AQ59:AQ68)+SUMIF($Q$59:$Q$68,\"=4\",AT59:AT68),VALUE(AQ70-(AQ71+AQ72+AQ73)))","v":{"$error":"#VALUE!"}},null,null,null,null,{"$f":"SUM(Y74:AQ74)","v":{"$error":"#VALUE!"}},null,null,null,null,{"$f":"IF(AND(AK20<=10,AK20+AK56<=10,AL19>0,AK55+AK56>10),10,IF(AND(AK20<=10,AK20+AK56<=10,AL19=0,SUM(AK19,AK20,AK55,AK56,-AL17)<=0),0,IF(AND(AK20<=10,AK20+AK56<=10,AL19=0,SUM(AK19,AK20,AK55,AK56,-AL17)>0,SUM(AK19,AK20,AK55,AK56,-AL17)<=10),SUM(AK19,AK20,AK55,AK56,-AL17),IF(AND(AK20<=10,AK20+AK56<=10,AL19=0,SUM(AK19,AK20,AK55,AK56,-AL17)>10),10,IF(AND(AK20<=10,AK56<=10,AK20+AK56>=10,AL19>0,AK55>=10),10,IF(AND(AK20<=10,AK56<=10,AK20+AK56>=10,AL19>0,AK55<10,AK55+10-AK20>10),10,   BA73))))))","v":{"$error":"#VALUE!"}},{"$f":"IF(AND(AO39<=10,AO39+AO69<=10,AM40>0,AM69+AO69>10),10,IF(AND(AO39<=10,AO39+AO69<=10,AM40=0,SUM(AM39,AO39,AM69,AO69,-AL17)<=0),0,IF(AND(AO39<=10,AO39+AO69<=10,AM40=0,SUM(AM39,AO39,AM69,AO69,-AL17)>0,SUM(AM39,AO39,AM69,AO69,-AL17)<=10),SUM(AM39,AO39,AM69,AO69,-AL17),IF(AND(AO39<=10,AO39+AO69<=10,AM40=0,SUM(AM39,AO39,AM69,AO69,-AL17)>10),10,IF(AND(AO39<=10,AO69<=10,AO39+AO69>=10,AM40>0,AM69>=10),10,IF(AND(AO39<=10,AO69<=10,AO39+AO69>=10,AM40>0,AM69<10,AM69+10-AO39>10),10,   BB73))))))","v":{"$error":"#VALUE!"}},null,null,null,null,null,{"$f":"IF(F74=\"\",\"\",F74)","v":""},{"$f":"IF(BH74=\"\",\"\",VLOOKUP(BH74,#REF!,2,FALSE))","v":""},4]
[null,null,null,null,null,null,null,null,null,null,null,null,null,null,null,null,null,null,null,null,null,null,null,null,null,null,null,null,null,null,null,null,null,null,null,null,null,null,null,null,null,null,null,null,null,null,null,null,null,null,null,null,null,null,null,null,{"$f":"IF(VLOOKUP(BE71,BH71:BI74,1,FALSE)=\"\",\"\",VLOOKUP(BE71,BH71:BI74,1,FALSE))","v":""}]
[null,{"$f":"AN12","v":"00.01.1900-00.01.1900"},null,null,null,null,null,null,null,null,"TARİHLERİ ARASINDA TOPLAM OLARAK Ö. ÖĞRETİMDE",null,null,null,null,null,null,null,null,null,null,null,null,null,null,null,null,null,null,{"$f":"AV19","v":{"$error":"#VALUE!"}},null,null,"İ. ÖĞRETİMDE",null,null,null,null,{"$f":"AV55","v":{"$error":"#VALUE!"}},null,"SAAT EK DERS YAPILMIŞTIR."]
[null,{"$f":"AN12","v":"00.01.1900-00.01.1900"},null,null,null,null,null,null,null,null,"Tarihleri arasında",null,null,null,null,{"$f":"AP10","v":"00:00:00"},null,null,null,"döneminde Ö.Ö. de",null,null,null,null,null,{"$f":"AV19","v":{"$error":"#VALUE!"}},null,null,"İ.Ö. de",null,null,{"$f":"AV55","v":{"$error":"#VALUE!"}},null,null,"SAAT EK DERS; ",null,null,null,null,{"$f":"ROUNDUP((DATEVALUE(RIGHT(AN12,10))-DATEVALUE(LEFT(AN12,10))-1)/7,0)","v":{"$error":"#VALUE!"}},null,null,null,null,null,"HAFTADA",null,null,null,null,null,null,{"$f":"IF(AND(AT20<=10,AT56>10,AU19>0,AT55>=10),10,IF(AND(AT20<=10,AT56>10,AU19>0,AT55<10,AT55+10-AT20>10),10,))","v":{"$error":"#VALUE!"}},{"$f":"IF(AND(AT39<=10,AT69>10,AQ40>0,AQ69>=10),10,IF(AND(AT39<=10,AT69>10,AQ40>0,AQ69<10,AQ69+10-AT39>10),10,))","v":{"$error":"#VALUE!"}},"5. hafta",{"$f":"DATEVALUE(RIGHT(AN12,10))","v":{"$error":"#VALUE!"}}]
[null,{"$f":"U39+U69","v":0},null,null,null,null,null,null,null,null,null,null,null,"BİRİMİMİZDE Ö.Ö. DE",null,null,null,null,null,null,{"$f":"IF(Q9=F41,AV41,IF(Q9=F42,AV42,IF(Q9=F43,AV43,IF(Q9=F44,AV44,IF(Q9=F45,AV45,0)))))","v":{"$error":"#VALUE!"}},null,null,null,"İ.Ö. DE",null,null,{"$f":"IF(Q9=F71,AV71,IF(Q9=F72,AV72,IF(Q9=F73,AV73,IF(Q9=F74,AV74,0))))","v":{"$error":"#VALUE!"}},null,null,null,{"$f":"IFERROR(VLOOKUP(BE75,BH71:BI74,2,FALSE),\"\")","v":""},null,null,null,null,null,{"$f":"IF(BE81=0,\"\",BE81)","v":{"$error":"#VALUE!"}},null,null,"SAAT EK DERS YAPILMIŞTIR.",null,null,null,null,null,null,null,null,null,null,null,{"$f":"IF(AND(AT20<=10,AT56>10,AU19>0,AT55<10,AT55+10-AT20<=10),AT55+10-AT20,IF(AND(AT20<=10,AT56>10,AU19=0,AT19+AT20+AT55+10-AT20-AU17>10),10,IF(AND(AT20<=10,AT56>10,AU19=0,AT19+AT20+AT55+10-AT20-AU17<0),0,IF(AND(AT20<=10,AT56>10,AU19=0,AT19+AT20+AT55+10-AT20-AU17>0,AT19+AT20+AT55+10-AT20-AU17<=10),AT19+AT20+AT55+10-AT20-AU17,BA77))))","v":{"$error":"#VALUE!"}},{"$f":"IF(AND(AT39<=10,AT69>10,AQ40>0,AQ69<10,AQ69+10-AT39<=10),AQ69+10-AT39,IF(AND(AT39<=10,AT69>10,AQ40=0,AQ39+AT39+AQ69+10-AT39-AU17>10),10,IF(AND(AT39<=10,AT69>10,AQ40=0,AQ39+AT39+AQ69+10-AT39-AU17<0),0,IF(AND(AT39<=10,AT69>10,AQ40=0,AQ39+AT39+AQ69+10-AT39-AU17>0,AQ39+AT39+AQ69+10-AT39-AU17<=10),AQ39+AT39+AQ69+10-AT39-AU17,BB77))))","v":{"$error":"#VALUE!"}},null,null,{"$f":"IFERROR(VLOOKUP(BE75,BH71:BI74,1,FALSE),\"\")","v":""}]
[null,null,null,null,null,null,null,null,null,null,null,null,null,null,null,null,null,null,null,null,null,null,null,null,null,null,null,null,null,null,null,null,null,null,null,null,null,null,null,null,null,null,null,null,null,null,null,null,null,null,null,null,{"$f":"IF(AND(AT20<=10,AT56<=10,AT20+AT56>=10,AU19>0,AT55<10,AT55+10-AT20<=10),AT55+10-AT20,IF(AND(AT20<=10,AT56<=10,AT20+AT56>=10,AU19=0,AT19+AT20+AT55+10-AT20-AU17>10),10,IF(AND(AT20<=10,AT56<=10,AT20+AT56>=10,AU19=0,AT19+AT20+AT55+10-AT20-AU17<0),0,IF(AND(AT20<=10,AT56<=10,AT20+AT56>=10,AU19=0,AT19+AT20+AT55+10-AT20-AU17>0,AT19+AT20+AT55+10-AT20-AU17<=10),AT19+AT20+AT55+10-AT20-AU17,BA78))))","v":{"$error":"#VALUE!"}},{"$f":"IF(AND(AT39<=10,AT69<=10,AT39+AT69>=10,AQ40>0,AQ69<10,AQ69+10-AT39<=10),AQ69+10-AT39,IF(AND(AT39<=10,AT69<=10,AT39+AT69>=10,AQ40=0,AQ39+AT39+AQ69+10-AT39-AU17>10),10,IF(AND(AT39<=10,AT69<=10,AT39+AT69>=10,AQ40=0,AQ39+AT39+AQ69+10-AT39-AU17<0),0,IF(AND(AT39<=10,AT69<=10,AT39+AT69>=10,AQ40=0,AQ39+AT39+AQ69+10-AT39-AU17>0,AQ39+AT39+AQ69+10-AT39-AU17<=10),AQ39+AT39+AQ69+10-AT39-AU17,BB78))))","v":{"$error":"#VALUE!"}}]
[null,null,null,null,null,null,null,null,null,null,null,null,{"$f":"TODAY()","v":"2024-02-07"},null,null,null,null,null,null,null,null,null,null,null,null,null,null,null,null,null,null,"BİRİMİN ADI",null,null,null,null,null,null,{"$f":"Q9","v":0},null,null,null,null,null,null,null,null,null,null,null,null,null,{"$f":"IF(AND(AT20<=10,AT20+AT56<=10,AU19>0,AT55+AT56>10),10,IF(AND(AT20<=10,AT20+AT56<=10,AU19=0,SUM(AT19,AT20,AT55,AT56,-AU17)<=0),0,IF(AND(AT20<=10,AT20+AT56<=10,AU19=0,SUM(AT19,AT20,AT55,AT56,-AU17)>0,SUM(AT19,AT20,AT55,AT56,-AU17)<=10),SUM(AT19,AT20,AT55,AT56,-AU17),IF(AND(AT20<=10,AT20+AT56<=10,AU19=0,SUM(AT19,AT20,AT55,AT56,-AU17)>10),10,IF(AND(AT20<=10,AT56<=10,AT20+AT56>=10,AU19>0,AT55>=10),10,IF(AND(AT20<=10,AT56<=10,AT20+AT56>=10,AU19>0,AT55<10,AT55+10-AT20>10),10,   BA79))))))","v":{"$error":"#VALUE!"}},{"$f":"IF(AND(AT39<=10,AT39+AT69<=10,AQ40>0,AQ69+AT69>10),10,IF(AND(AT39<=10,AT39+AT69<=10,AQ40=0,SUM(AQ39,AT39,AQ69,AT69,-AU17)<=0),0,IF(AND(AT39<=10,AT39+AT69<=10,AQ40=0,SUM(AQ39,AT39,AQ69,AT69,-AU17)>0,SUM(AQ39,AT39,AQ69,AT69,-AU17)<=10),SUM(AQ39,AT39,AQ69,AT69,-AU17),IF(AND(AT39<=10,AT39+AT69<=10,AQ40=0,SUM(AQ39,AT39,AQ69,AT69,-AU17)>10),10,IF(AND(AT39<=10,AT69<=10,AT39+AT69>=10,AQ40>0,AQ69>=10),10,IF(AND(AT39<=10,AT69<=10,AT39+AT69>=10,AQ40>0,AQ69<10,AQ69+10-AT39>10),10,   BB79))))))","v":{"$error":"#VALUE!"}},null,"AF72",{"$f":"IF(VLOOKUP(BE71,#REF!,2,FALSE)=\"\",\"\",VLOOKUP(BE71,#REF!,2,FALSE))","v":{"$error":"#REF!"}}]
[null,"ÖĞR. ELEMANININ","İmzası",null,null,null,null,null,null,null,null,null,null,null,null,{"$f":"DersYükü!AD2","v":"Bölüm Başkanı"},null,null,"İmzası",null,null,null,null,null,null,null,null,null,null,null,null,"BİRİM YETKİLİSİNİN",null,"İmzası",null,null,null,null,null,null,null,null,null,null,null,null,null,null,null,null,null,null,null,null,null,"AL72",{"$f":"IF(BE78=F71,AV71,IF(BE78=F72,AV72,IF(BE78=F73,AV73,IF(BE78=F74,AV74,0))))","v":{"$error":"#VALUE!"}}]
[]
[]
[null,null,"Adı ve Soyadı",null,null,null,{"$f":"N12","v":""},null,null,null,null,null,null,null,null,null,null,"Adı ve Soyadı",null,null,null,null,null,null,null,null,null,null,null,null,null,null,null,"Adı ve Soyadı"]
[]
[null,null,null,null,null,null,null,null,null,null,null,null,null,null,null,null,null,null,null,null,null,null,null,null,null,null,null,null,null,null,null,null,null,"Görevi",null,null,null,null,null,null,null,null,null,null,null,null,null,null,null,null,null,null,null,{"$f":"IF(DersYükü!S1=\"\",\"\",DersYükü!S1)","v":""}]
[null,{"$f":"IF(AV19=AV40,\"D\",\"Y\")","v":{"$error":"#VALUE!"}},{"$f":"IF(SUM(Y41:AC45)=VALUE(Y40),\"D\",\"Y\")","v":"D"},{"$f":"IF(SUM(AD41:AG45)=VALUE(AD40),\"D\",\"Y\")","v":{"$error":"#VALUE!"}},{"$f":"IF(SUM(AH41:AL45)=VALUE(AH40),\"D\",\"Y\")","v":{"$error":"#VALUE!"}},{"$f":"IF(SUM(AM41:AP45)=VALUE(AM40),\"D\",\"Y\")","v":{"$error":"#VALUE!"}},{"$f":"IF(SUM(AQ41:AU45)=VALUE(AQ40),\"D\",\"Y\")","v":{"$error":"#VALUE!"}},{"$f":"IF(M140>20,\"Y\",\"D\")","v":"D"},{"$f":"IF(T140>20,\"Y\",\"D\")","v":"D"},{"$f":"IF(AV55=AV70,\"D\",\"Y\")","v":{"$error":"#VALUE!"}},{"$f":"IF(SUM(Y71:Y74)=VALUE(Y70),\"D\",\"Y\")","v":"D"},{"$f":"IF(SUM(AD71:AD74)=VALUE(AD70),\"D\",\"Y\")","v":{"$error":"#VALUE!"}},{"$f":"IF(SUM(AH71:AH74)=VALUE(AH70),\"D\",\"Y\")","v":{"$error":"#VALUE!"}},{"$f":"IF(SUM(AM71:AM74)=VALUE(AM70),\"D\",\"Y\")","v":{"$error":"#VALUE!"}},{"$f":"IF(SUM(AQ71:AQ74)=VALUE(AQ70),\"D\",\"Y\")","v":{"$error":"#VALUE!"}},{"$f":"IF(AA140>20,\"Y\",\"D\")","v":"D"},{"$f":"IF(VALUE(K19)=VALUE(Y40),\"D\",\"Y\")","v":"D"},{"$f":"IF(AH140>20,\"Y\",\"D\")","v":"D"},{"$f":"IF(VALUE(J20)=VALUE(AB39),\"D\",\"Y\")","v":"D"},{"$f":"IF(VALUE(T19)=VALUE(AD40),\"D\",\"Y\")","v":{"$error":"#VALUE!"}},{"$f":"IF(VALUE(S20)=VALUE(AF39),\"D\",\"Y\")","v":{"$error":"#VALUE!"}},{"$f":"IF(VALUE(AC19)=VALUE(AH40),\"D\",\"Y\")","v":{"$error":"#VALUE!"}},{"$f":"IF(VALUE(AB20)=VALUE(AK39),\"D\",\"Y\")","v":{"$error":"#VALUE!"}},{"$f":"IF(VALUE(AL19)=VALUE(AM40),\"D\",\"Y\")","v":{"$error":"#VALUE!"}},{"$f":"IF(VALUE(AK20)=VALUE(AO39),\"D\",\"Y\")","v":{"$error":"#VALUE!"}},{"$f":"IF(VALUE(AU19)=VALUE(AQ40),\"D\",\"Y\")","v":{"$error":"#VALUE!"}},{"$f":"IF(AO140>20,\"Y\",\"D\")","v":"D"},{"$f":"IF(VALUE(AT20)=VALUE(AT39),\"D\",\"Y\")","v":{"$error":"#VALUE!"}},{"$f":"IF(AW91=AV41,\"D\",\"Y\")","v":{"$error":"#VALUE!"}},{"$f":"IF(K55=Y70,\"D\",\"Y\")","v":"D"},{"$f":"IF(J56=AB69,\"D\",\"Y\")","v":"D"},{"$f":"IF(T55=AD70,\"D\",\"Y\")","v":{"$error":"#VALUE!"}},{"$f":"IF(S56=AF69,\"D\",\"Y\")","v":{"$error":"#VALUE!"}},{"$f":"IF(AC55=AH70,\"D\",\"Y\")","v":{"$error":"#VALUE!"}},{"$f":"IF(AB56=AK69,\"D\",\"Y\")","v":{"$error":"#VALUE!"}},{"$f":"IF(AW95=AV42,\"D\",\"Y\")","v":{"$error":"#VALUE!"}},{"$f":"IF(AL55=AM70,\"D\",\"Y\")","v":{"$error":"#VALUE!"}},{"$f":"IF(AK56=AO69,\"D\",\"Y\")","v":{"$error":"#VALUE!"}},{"$f":"IF(AU55=AQ70,\"D\",\"Y\")","v":{"$error":"#VALUE!"}},{"$f":"IF(AT56=AT69,\"D\",\"Y\")","v":{"$error":"#VALUE!"}},{"$f":"IF(AW99=AV43,\"D\",\"Y\")","v":{"$error":"#VALUE!"}},{"$f":"IF(AW103=AV44,\"D\",\"Y\")","v":{"$error":"#VALUE!"}},{"$f":"IF(AX137=AV45,\"D\",\"Y\")","v":{"$error":"#VALUE!"}},{"$f":"IF(AW93=AV71,\"D\",\"Y\")","v":{"$error":"#VALUE!"}},{"$f":"IF(AW97=AV72,\"D\",\"Y\")","v":{"$error":"#VALUE!"}},{"$f":"IF(AW101=AV73,\"D\",\"Y\")","v":{"$error":"#VALUE!"}},{"$f":"IF(AW105=AV74,\"D\",\"Y\")","v":{"$error":"#VALUE!"}}]
[]
[null,"İCMAL"]
[null,"BİRİM ADI",null,null,null,null,null,{"$f":"DersYükü!M1","v":"00:00:00"},null,null,null,null,{"$f":"DersYükü!M1","v":"00:00:00"},{"$f":"IF(M90=\"\",\"\",IF(VALUE(M90)+1>VALUE(DersYükü!$S$1),\"\",M90+1))","v":""},{"$f":"IF(N90=\"\",\"\",IF(VALUE(N90)+1>VALUE(DersYükü!$S$1),\"\",N90+1))","v":""},{"$f":"IF(O90=\"\",\"\",IF(VALUE(O90)+1>VALUE(DersYükü!$S$1),\"\",O90+1))","v":""},{"$f":"IF(P90=\"\",\"\",IF(VALUE(P90)+1>VALUE(DersYükü!$S$1),\"\",P90+1))","v":""},{"$f":"IF(Q90=\"\",\"\",IF(VALUE(Q90)+1>VALUE(DersYükü!$S$1),\"\",Q90+1))","v":""},{"$f":"IF(R90=\"\",\"\",IF(VALUE(R90)+1>VALUE(DersYükü!$S$1),\"\",R90+1))","v":""},{"$f":"IF(S90=\"\",\"\",IF(VALUE(S90)+1>VALUE(DersYükü!$S$1),\"\",S90+1))","v":""},{"$f":"IF(T90=\"\",\"\",IF(VALUE(T90)+1>VALUE(DersYükü!$S$1),\"\",T90+1))","v":""},{"$f":"IF(U90=\"\",\"\",IF(VALUE(U90)+1>VALUE(DersYükü!$S$1),\"\",U90+1))","v":""},{"$f":"IF(V90=\"\",\"\",IF(VALUE(V90)+1>VALUE(DersYükü!$S$1),\"\",V90+1))","v":""},{"$f":"IF(W90=\"\",\"\",IF(VALUE(W90)+1>VALUE(DersYükü!$S$1),\"\",W90+1))","v":""},{"$f":"IF(X90=\"\",\"\",IF(VALUE(X90)+1>VALUE(DersYükü!$S$1),\"\",X90+1))","v":""},{"$f":"IF(Y90=\"\",\"\",IF(VALUE(Y90)+1>VALUE(DersYükü!$S$1),\"\",Y90+1))","v":""},{"$f":"IF(Z90=\"\",\"\",IF(VALUE(Z90)+1>VALUE(DersYükü!$S$1),\"\",Z90+1))","v":""},{"$f":"IF(AA90=\"\",\"\",IF(VALUE(AA90)+1>VALUE(DersYükü!$S$1),\"\",AA90+1))","v":""},{"$f":"IF(AB90=\"\",\"\",IF(VALUE(AB90)+1>VALUE(DersYükü!$S$1),\"\",AB90+1))","v":""},{"$f":"IF(AC90=\"\",\"\",IF(VALUE(AC90)+1>VALUE(DersYükü!$S$1),\"\",AC90+1))","v":""},{"$f":"IF(AD90=\"\",\"\",IF(VALUE(AD90)+1>VALUE(DersYükü!$S$1),\"\",AD90+1))","v":""},{"$f":"IF(AE90=\"\",\"\",IF(VALUE(AE90)+1>VALUE(DersYükü!$S$1),\"\",AE90+1))","v":""},{"$f":"IF(AF90=\"\",\"\",IF(VALUE(AF90)+1>VALUE(DersYükü!$S$1),\"\",AF90+1))","v":""},{"$f":"IF(AG90=\"\",\"\",IF(VALUE(AG90)+1>VALUE(DersYükü!$S$1),\"\",AG90+1))","v":""},{"$f":"IF(AH90=\"\",\"\",IF(VALUE(AH90)+1>VALUE(DersYükü!$S$1),\"\",AH90+1))","v":""},{"$f":"IF(AI90=\"\",\"\",IF(VALUE(AI90)+1>VALUE(DersYükü!$S$1),\"\",AI90+1))","v":""},{"$f":"IF(AJ90=\"\",\"\",IF(VALUE(AJ90)+1>VALUE(DersYükü!$S$1),\"\",AJ90+1))","v":""},{"$f":"IF(AK90=\"\",\"\",IF(VALUE(AK90)+1>VALUE(DersYükü!$S$1),\"\",AK90+1))","v":""},{"$f":"IF(AL90=\"\",\"\",IF(VALUE(AL90)+1>VALUE(DersYükü!$S$1),\"\",AL90+1))","v":""},{"$f":"IF(AM90=\"\",\"\",IF(VALUE(AM90)+1>VALUE(DersYükü!$S$1),\"\",AM90+1))","v":""},{"$f":"IF(AN90=\"\",\"\",IF(VALUE(AN90)+1>VALUE(DersYükü!$S$1),\"\",AN90+1))","v":""},{"$f":"IF(AO90=\"\",\"\",IF(VALUE(AO90)+1>VALUE(DersYükü!$S$1),\"\",AO90+1))","v":""},{"$f":"IF(AP90=\"\",\"\",IF(VALUE(AP90)+1>VALUE(DersYükü!$S$1),\"\",AP90+1))","v":""},{"$f":"IF(AQ90=\"\",\"\",IF(VALUE(AQ90)+1>VALUE(DersYükü!$S$1),\"\",AQ90+1))","v":""},{"$f":"IF(AR90=\"\",\"\",IF(VALUE(AR90)+1>VALUE(DersYükü!$S$1),\"\",AR90+1))","v":""},{"$f":"IF(AS90=\"\",\"\",IF(VALUE(AS90)+1>VALUE(DersYükü!$S$1),\"\",AS90+1))","v":""},{"$f":"IF(AT90=\"\",\"\",IF(VALUE(AT90)+1>VALUE(DersYükü!$S$1),\"\",AT90+1))","v":""},"TOPLAM","KONTROL"]
[null,{"$f":"CONCATENATE(IF(BI41=\"\",\"\",BI41),\"-1\")","v":{"$error":"#REF!"}},null,null,null,null,null,"N.Ö.",null,null,"Teo",null,{"$f":"IF(M129=\"\",\"\",M129)","v":""},{"$f":"IF(N129=\"\",\"\",N129)","v":""},"","","","","","","","","","","","","","","","","","","","","","","","","","","","","","","","","",{"$f":"SUM(M91:AU91)","v":0},{"$f":"SUM(AV91:AV92)","v":0}]
[null,{"$f":"CONCATENATE(IF(BI41=\"\",\"\",BI41),\"-2\")","v":{"$error":"#REF!"}},null,null,null,null,null,null,null,null,"DF",null,{"$f":"IF(M130=\"\",\"\",M130)","v":""},"","","","","","","","","","","","","","","","","","","","","","","","","","","","","","","","","","",0]
[null,{"$f":"CONCATENATE(IF(BI71=\"\",\"\",BI71),\"-1\")","v":"-1"},null,null,null,null,null,"İ.Ö.",null,null,"Teo",null,{"$f":"IF(M141=\"\",\"\",M141)","v":""},{"$f":"IF(N141=\"\",\"\",N141)","v":""},"","","","","","","","","","","","","","","","","","","","","","","","","","","","","","","","","",{"$f":"SUM(M93:AU93)","v":0},{"$f":"SUM(AV93:AV94)","v":0}]
[null,{"$f":"CONCATENATE(IF(BI71=\"\",\"\",BI71),\"-2\")","v":"-2"},null,null,null,null,null,null,null,null,"DF",null,"","","","","","","","","","","","","","","","","","","","","","","","","","","","","","","","","","","",0]
[null,{"$f":"CONCATENATE(IF(BI42=\"\",\"\",BI42),\"-1\")","v":"-1"},null,null,null,null,null,"N.Ö.",null,null,"Teo",null,{"$f":"IF(M131=\"\",\"\",M131)","v":""},"","","","","","","","","","","","","","","","","","","","","","","","","","","","","","","","","","",0,{"$f":"SUM(AV95:AV96)","v":0}]
[null,{"$f":"CONCATENATE(IF(BI42=\"\",\"\",BI42),\"-2\")","v":"-2"},null,null,null,null,null,null,null,null,"DF",null,"","",{"$f":"IF(O132=\"\",\"\",O132)","v":""},"","","","","","","","","","","","","","","","","","","","","","","","","","","","","","","","",0]
[null,{"$f":"CONCATENATE(IF(BI72=\"\",\"\",BI72),\"-1\")","v":"-1"},null,null,null,null,null,"İ.Ö.",null,null,"Teo",null,{"$f":"IF(M143=\"\",\"\",M143)","v":""},{"$f":"IF(N143=\"\",\"\",N143)","v":""},"","","","","","","","","","","","","","","","","","","","","","","","","","","","","","","","","",0,{"$f":"SUM(AV97:AV98)","v":0}]
[null,{"$f":"CONCATENATE(IF(BI72=\"\",\"\",BI72),\"-2\")","v":"-2"},null,null,null,null,null,null,null,null,"DF",null,{"$f":"IF(M144=\"\",\"\",M144)","v":""},"","","","","","","","","","","","","","","","","","","","","","","","","","","","","","","","","","",0]
[null,{"$f":"CONCATENATE(IF(BI43=\"\",\"\",BI43),\"-1\")","v":"-1"},null,null,null,null,null,"N.Ö.",null,null,"Teo",null,{"$f":"IF(M133=\"\",\"\",M133)","v":""},"","","","","","","","","","","","","","","","","","","","","","","","","","","","","","","","","","",0,{"$f":"SUM(AV99:AV100)","v":0}]
[null,{"$f":"CONCATENATE(IF(BI43=\"\",\"\",BI43),\"-2\")","v":"-2"},null,null,null,null,null,null,null,null,"DF",null,{"$f":"IF(M134=\"\",\"\",M134)","v":""},{"$f":"IF(N134=\"\",\"\",N134)","v":""},{"$f":"IF(O134=\"\",\"\",O134)","v":""},{"$f":"IF(P134=\"\",\"\",P134)","v":""},{"$f":"IF(Q134=\"\",\"\",Q134)","v":""},"","","","","","","","","","","","","","","","","","","","","","","","","",{"$f":"IF(AQ134=\"\",\"\",AQ134)","v":""},{"$f":"IF(AR134=\"\",\"\",AR134)","v":""},{"$f":"IF(AS134=\"\",\"\",AS134)","v":""},{"$f":"IF(AT134=\"\",\"\",AT134)","v":""},{"$f":"IF(AU134=\"\",\"\",AU134)","v":""},0]
[null,{"$f":"CONCATENATE(IF(BI73=\"\",\"\",BI73),\"-1\")","v":"-1"},null,null,null,null,null,"İ.Ö.",null,null,"Teo",null,{"$f":"IF(M145=\"\",\"\",M145)","v":""},"","","","","","","","","","","","","","","","","","","","","","","","","","","","","","","","","","",0,{"$f":"SUM(AV101:AV102)","v":0}]
[null,{"$f":"CONCATENATE(IF(BI73=\"\",\"\",BI73),\"-2\")","v":"-2"},null,null,null,null,null,null,null,null,"DF",null,"","","","","","","","","","","","","","","","","","","","","","","","","","","","","","","","","","","",0]
[null,{"$f":"CONCATENATE(IF(BI44=\"\",\"\",BI44),\"-1\")","v":"-1"},null,null,null,null,null,"N.Ö.",null,null,"Teo",null,{"$f":"IF(M135=\"\",\"\",M135)","v":""},"","","","","","","","","","","","","","","","","","","","","","","","","","","","","","","","","","",0,{"$f":"SUM(AV103:AV104)","v":0}]
[null,{"$f":"CONCATENATE(IF(BI44=\"\",\"\",BI44),\"-2\")","v":"-2"},null,null,null,null,null,null,null,null,"DF",null,"","","","","","","","","","","","","","","","","","","","","","","","","","","","","","","","","","","",0]
[null,{"$f":"CONCATENATE(IF(BI74=\"\",\"\",BI74),\"-1\")","v":"-1"},null,null,null,null,null,"İ.Ö.",null,null,"Teo",null,{"$f":"IF(M147=\"\",\"\",M147)","v":""},"","","","","","","","","","","","","","","","","","","","","","","","","","","","","","","","","","",0,{"$f":"SUM(AV105:AV106)","v":0}]
[null,{"$f":"CONCATENATE(IF(BI74=\"\",\"\",BI74),\"-2\")","v":"-2"},null,null,null,null,null,null,null,null,"DF",null,"","","","","","","","","","","","","","","","","","","","","","","","","","","","","","","","","","","",0]
[null,{"$f":"CONCATENATE(IF(BI45=\"\",\"\",BI45),\"-1\")","v":"-1"},null,null,null,null,null,"N.Ö.",null,null,"Teo",null,{"$f":"IF(M137=\"\",\"\",M137)","v":""},"","","","","","","","","","","","","","","","","","","","","","","","","","","","","","","","","","",0,{"$f":"SUM(AV107:AV108)","v":0}]
[null,{"$f":"CONCATENATE(IF(BI45=\"\",\"\",BI45),\"-2\")","v":"-2"},null,null,null,null,null,null,null,null,"DF",null,"","","","","","","","","","","","","","","","","","","","","","","","","","","","","","","","","","","",0]
[null,null,null,null,null,null,null,null,null,null,null,null,null,null,null,null,null,null,null,null,null,null,null,null,null,null,null,null,null,null,null,null,null,null,null,null,null,null,null,null,null,null,null,null,null,"N.Ö. TOPLAM",null,null,{"$f":"SUM(AW91+AW95+AW99+AW103+AW107)","v":0}]
[null,null,null,null,null,null,null,null,null,null,null,null,null,null,null,null,null,null,null,null,null,null,null,null,null,null,null,null,null,null,null,null,null,null,null,null,null,null,null,null,null,null,null,null,null,"II. Ö. TOPLAM",null,null,{"$f":"SUM(AW93+AW97+AW101+AW105)","v":0}]
[]
[{"$f":"IFERROR(CONCATENATE(VLOOKUP($B$112,$BH$41:$BI$45,2,FALSE),\"-1\"),\"\")","v":"-1"},{"$f":"IFERROR(IF($Q$9=VLOOKUP($Q$9,$F$41:$T$45,1,FALSE),VLOOKUP($Q$9,$F$41:$T$45,1,FALSE),\"\"),\"\")","v":""},null,null,null,null,null,"N.Ö.",null,null,"Teo",null,{"$f":"IFERROR(VLOOKUP($A112,$A$129:$AU$138,13,FALSE),\"\")","v":""},{"$f":"IFERROR(VLOOKUP($A112,$A$129:$AU$138,14,FALSE),\"\")","v":""},{"$f":"IFERROR(VLOOKUP($A112,$A$129:$AU$138,15,FALSE),\"\")","v":""},{"$f":"IFERROR(VLOOKUP($A112,$A$129:$AU$138,16,FALSE),\"\")","v":""},{"$f":"IFERROR(VLOOKUP($A112,$A$129:$AU$138,17,FALSE),\"\")","v":""},{"$f":"IFERROR(VLOOKUP($A112,$A$129:$AU$138,18,FALSE),\"\")","v":""},{"$f":"IFERROR(VLOOKUP($A112,$A$129:$AU$138,19,FALSE),\"\")","v":""},{"$f":"IFERROR(VLOOKUP($A112,$A$129:$AU$138,20,FALSE),\"\")","v":""},{"$f":"IFERROR(VLOOKUP($A112,$A$129:$AU$138,21,FALSE),\"\")","v":""},{"$f":"IFERROR(VLOOKUP($A112,$A$129:$AU$138,22,FALSE),\"\")","v":""},{"$f":"IFERROR(VLOOKUP($A112,$A$129:$AU$138,23,FALSE),\"\")","v":""},{"$f":"IFERROR(VLOOKUP($A112,$A$129:$AU$138,24,FALSE),\"\")","v":""},{"$f":"IFERROR(VLOOKUP($A112,$A$129:$AU$138,25,FALSE),\"\")","v":""},{"$f":"IFERROR(VLOOKUP($A112,$A$129:$AU$138,26,FALSE),\"\")","v":""},{"$f":"IFERROR(VLOOKUP($A112,$A$129:$AU$138,27,FALSE),\"\")","v":""},{"$f":"IFERROR(VLOOKUP($A112,$A$129:$AU$138,28,FALSE),\"\")","v":""},{"$f":"IFERROR(VLOOKUP($A112,$A$129:$AU$138,29,FALSE),\"\")","v":""},{"$f":"IFERROR(VLOOKUP($A112,$A$129:$AU$138,30,FALSE),\"\")","v":""},{"$f":"IFERROR(VLOOKUP($A112,$A$129:$AU$138,31,FALSE),\"\")","v":""},{"$f":"IFERROR(VLOOKUP($A112,$A$129:$AU$138,32,FALSE),\"\")","v":""},{"$f":"IFERROR(VLOOKUP($A112,$A$129:$AU$138,33,FALSE),\"\")","v":""},{"$f":"IFERROR(VLOOKUP($A112,$A$129:$AU$138,34,FALSE),\"\")","v":""},{"$f":"IFERROR(VLOOKUP($A112,$A$129:$AU$138,35,FALSE),\"\")","v":""},{"$f":"IFERROR(VLOOKUP($A112,$A$129:$AU$138,36,FALSE),\"\")","v":""},{"$f":"IFERROR(VLOOKUP($A112,$A$129:$AU$138,37,FALSE),\"\")","v":""},{"$f":"IFERROR(VLOOKUP($A112,$A$129:$AU$138,38,FALSE),\"\")","v":""},{"$f":"IFERROR(VLOOKUP($A112,$A$129:$AU$138,39,FALSE),\"\")","v":""},{"$f":"IFERROR(VLOOKUP($A112,$A$129:$AU$138,40,FALSE),\"\")","v":""},{"$f":"IFERROR(VLOOKUP($A112,$A$129:$AU$138,41,FALSE),\"\")","v":""},{"$f":"IFERROR(VLOOKUP($A112,$A$129:$AU$138,42,FALSE),\"\")","v":""},{"$f":"IFERROR(VLOOKUP($A112,$A$129:$AU$138,43,FALSE),\"\")","v":""},{"$f":"IFERROR(VLOOKUP($A112,$A$129:$AU$138,44,FALSE),\"\")","v":""},{"$f":"IFERROR(VLOOKUP($A112,$A$129:$AU$138,45,FALSE),\"\")","v":""},{"$f":"IFERROR(VLOOKUP($A112,$A$129:$AU$138,46,FALSE),\"\")","v":""},{"$f":"IFERROR(VLOOKUP($A112,$A$129:$AU$138,47,FALSE),\"\")","v":""},{"$f":"SUM(M112:AU112)","v":0},{"$f":"SUM(AV112:AV113)","v":0}]
[{"$f":"IFERROR(CONCATENATE(VLOOKUP($B$112,$BH$41:$BI$45,2,FALSE),\"-2\"),\"\")","v":"-2"},null,null,null,null,null,null,null,null,null,"DF",null,{"$f":"IFERROR(VLOOKUP($A113,$A$129:$AU$138,13,FALSE),\"\")","v":""},{"$f":"IFERROR(VLOOKUP($A113,$A$129:$AU$138,14,FALSE),\"\")","v":""},{"$f":"IFERROR(VLOOKUP($A113,$A$129:$AU$138,15,FALSE),\"\")","v":""},{"$f":"IFERROR(VLOOKUP($A113,$A$129:$AU$138,16,FALSE),\"\")","v":""},{"$f":"IFERROR(VLOOKUP($A113,$A$129:$AU$138,17,FALSE),\"\")","v":""},{"$f":"IFERROR(VLOOKUP($A113,$A$129:$AU$138,18,FALSE),\"\")","v":""},{"$f":"IFERROR(VLOOKUP($A113,$A$129:$AU$138,19,FALSE),\"\")","v":""},{"$f":"IFERROR(VLOOKUP($A113,$A$129:$AU$138,20,FALSE),\"\")","v":""},{"$f":"IFERROR(VLOOKUP($A113,$A$129:$AU$138,21,FALSE),\"\")","v":""},{"$f":"IFERROR(VLOOKUP($A113,$A$129:$AU$138,22,FALSE),\"\")","v":""},{"$f":"IFERROR(VLOOKUP($A113,$A$129:$AU$138,23,FALSE),\"\")","v":""},{"$f":"IFERROR(VLOOKUP($A113,$A$129:$AU$138,24,FALSE),\"\")","v":""},{"$f":"IFERROR(VLOOKUP($A113,$A$129:$AU$138,25,FALSE),\"\")","v":""},{"$f":"IFERROR(VLOOKUP($A113,$A$129:$AU$138,26,FALSE),\"\")","v":""},{"$f":"IFERROR(VLOOKUP($A113,$A$129:$AU$138,27,FALSE),\"\")","v":""},{"$f":"IFERROR(VLOOKUP($A113,$A$129:$AU$138,28,FALSE),\"\")","v":""},{"$f":"IFERROR(VLOOKUP($A113,$A$129:$AU$138,29,FALSE),\"\")","v":""},{"$f":"IFERROR(VLOOKUP($A113,$A$129:$AU$138,30,FALSE),\"\")","v":""},{"$f":"IFERROR(VLOOKUP($A113,$A$129:$AU$138,31,FALSE),\"\")","v":""},{"$f":"IFERROR(VLOOKUP($A113,$A$129:$AU$138,32,FALSE),\"\")","v":""},{"$f":"IFERROR(VLOOKUP($A113,$A$129:$AU$138,33,FALSE),\"\")","v":""},{"$f":"IFERROR(VLOOKUP($A113,$A$129:$AU$138,34,FALSE),\"\")","v":""},{"$f":"IFERROR(VLOOKUP($A113,$A$129:$AU$138,35,FALSE),\"\")","v":""},{"$f":"IFERROR(VLOOKUP($A113,$A$129:$AU$138,36,FALSE),\"\")","v":""},{"$f":"IFERROR(VLOOKUP($A113,$A$129:$AU$138,37,FALSE),\"\")","v":""},{"$f":"IFERROR(VLOOKUP($A113,$A$129:$AU$138,38,FALSE),\"\")","v":""},{"$f":"IFERROR(VLOOKUP($A113,$A$129:$AU$138,39,FALSE),\"\")","v":""},{"$f":"IFERROR(VLOOKUP($A113,$A$129:$AU$138,40,FALSE),\"\")","v":""},{"$f":"IFERROR(VLOOKUP($A113,$A$129:$AU$138,41,FALSE),\"\")","v":""},{"$f":"IFERROR(VLOOKUP($A113,$A$129:$AU$138,42,FALSE),\"\")","v":""},{"$f":"IFERROR(VLOOKUP($A113,$A$129:$AU$138,43,FALSE),\"\")","v":""},{"$f":"IFERROR(VLOOKUP($A113,$A$129:$AU$138,44,FALSE),\"\")","v":""},{"$f":"IFERROR(VLOOKUP($A113,$A$129:$AU$138,45,FALSE),\"\")","v":""},{"$f":"IFERROR(VLOOKUP($A113,$A$129:$AU$138,46,FALSE),\"\")","v":""},{"$f":"IFERROR(VLOOKUP($A113,$A$129:$AU$138,47,FALSE),\"\")","v":""},0]
[{"$f":"IFERROR(CONCATENATE(VLOOKUP($B$114,$BH$71:$BI$74,2,FALSE),\"-1\"),\"\")","v":"-1"},{"$f":"IFERROR(IF($Q$9=VLOOKUP($Q$9,$F$71:$T$74,1,FALSE),VLOOKUP($Q$9,$F$71:$T$74,1,FALSE),\"\"),\"\")","v":""},null,null,null,null,null,"İ.Ö.",null,null,"Teo",null,{"$f":"IFERROR(VLOOKUP($A114,$A$141:$AU$148,13,FALSE),\"\")","v":""},{"$f":"IFERROR(VLOOKUP($A114,$A$141:$AU$148,14,FALSE),\"\")","v":""},{"$f":"IFERROR(VLOOKUP($A114,$A$141:$AU$148,15,FALSE),\"\")","v":""},{"$f":"IFERROR(VLOOKUP($A114,$A$141:$AU$148,16,FALSE),\"\")","v":""},{"$f":"IFERROR(VLOOKUP($A114,$A$141:$AU$148,17,FALSE),\"\")","v":""},{"$f":"IFERROR(VLOOKUP($A114,$A$141:$AU$148,18,FALSE),\"\")","v":""},{"$f":"IFERROR(VLOOKUP($A114,$A$141:$AU$148,19,FALSE),\"\")","v":""},{"$f":"IFERROR(VLOOKUP($A114,$A$141:$AU$148,20,FALSE),\"\")","v":""},{"$f":"IFERROR(VLOOKUP($A114,$A$141:$AU$148,21,FALSE),\"\")","v":""},{"$f":"IFERROR(VLOOKUP($A114,$A$141:$AU$148,22,FALSE),\"\")","v":""},{"$f":"IFERROR(VLOOKUP($A114,$A$141:$AU$148,23,FALSE),\"\")","v":""},{"$f":"IFERROR(VLOOKUP($A114,$A$141:$AU$148,24,FALSE),\"\")","v":""},{"$f":"IFERROR(VLOOKUP($A114,$A$141:$AU$148,25,FALSE),\"\")","v":""},{"$f":"IFERROR(VLOOKUP($A114,$A$141:$AU$148,26,FALSE),\"\")","v":""},{"$f":"IFERROR(VLOOKUP($A114,$A$141:$AU$148,27,FALSE),\"\")","v":""},{"$f":"IFERROR(VLOOKUP($A114,$A$141:$AU$148,28,FALSE),\"\")","v":""},{"$f":"IFERROR(VLOOKUP($A114,$A$141:$AU$148,29,FALSE),\"\")","v":""},{"$f":"IFERROR(VLOOKUP($A114,$A$141:$AU$148,30,FALSE),\"\")","v":""},{"$f":"IFERROR(VLOOKUP($A114,$A$141:$AU$148,31,FALSE),\"\")","v":""},{"$f":"IFERROR(VLOOKUP($A114,$A$141:$AU$148,32,FALSE),\"\")","v":""},{"$f":"IFERROR(VLOOKUP($A114,$A$141:$AU$148,33,FALSE),\"\")","v":""},{"$f":"IFERROR(VLOOKUP($A114,$A$141:$AU$148,34,FALSE),\"\")","v":""},{"$f":"IFERROR(VLOOKUP($A114,$A$141:$AU$148,35,FALSE),\"\")","v":""},{"$f":"IFERROR(VLOOKUP($A114,$A$141:$AU$148,36,FALSE),\"\")","v":""},{"$f":"IFERROR(VLOOKUP($A114,$A$141:$AU$148,37,FALSE),\"\")","v":""},{"$f":"IFERROR(VLOOKUP($A114,$A$141:$AU$148,38,FALSE),\"\")","v":""},{"$f":"IFERROR(VLOOKUP($A114,$A$141:$AU$148,39,FALSE),\"\")","v":""},{"$f":"IFERROR(VLOOKUP($A114,$A$141:$AU$148,40,FALSE),\"\")","v":""},{"$f":"IFERROR(VLOOKUP($A114,$A$141:$AU$148,41,FALSE),\"\")","v":""},{"$f":"IFERROR(VLOOKUP($A114,$A$141:$AU$148,42,FALSE),\"\")","v":""},{"$f":"IFERROR(VLOOKUP($A114,$A$141:$AU$148,43,FALSE),\"\")","v":""},{"$f":"IFERROR(VLOOKUP($A114,$A$141:$AU$148,44,FALSE),\"\")","v":""},{"$f":"IFERROR(VLOOKUP($A114,$A$141:$AU$148,45,FALSE),\"\")","v":""},{"$f":"IFERROR(VLOOKUP($A114,$A$141:$AU$148,46,FALSE),\"\")","v":""},{"$f":"IFERROR(VLOOKUP($A114,$A$141:$AU$148,47,FALSE),\"\")","v":""},0,{"$f":"SUM(AV114:AV115)","v":0}]
[{"$f":"IFERROR(CONCATENATE(VLOOKUP($B$114,$BH$71:$BI$74,2,FALSE),\"-2\"),\"\")","v":"-2"},null,null,null,null,null,null,null,null,null,"DF",null,{"$f":"IFERROR(VLOOKUP($A115,$A$141:$AU$148,13,FALSE),\"\")","v":""},{"$f":"IFERROR(VLOOKUP($A115,$A$141:$AU$148,14,FALSE),\"\")","v":""},{"$f":"IFERROR(VLOOKUP($A115,$A$141:$AU$148,15,FALSE),\"\")","v":""},{"$f":"IFERROR(VLOOKUP($A115,$A$141:$AU$148,16,FALSE),\"\")","v":""},{"$f":"IFERROR(VLOOKUP($A115,$A$141:$AU$148,17,FALSE),\"\")","v":""},{"$f":"IFERROR(VLOOKUP($A115,$A$141:$AU$148,18,FALSE),\"\")","v":""},{"$f":"IFERROR(VLOOKUP($A115,$A$141:$AU$148,19,FALSE),\"\")","v":""},{"$f":"IFERROR(VLOOKUP($A115,$A$141:$AU$148,20,FALSE),\"\")","v":""},{"$f":"IFERROR(VLOOKUP($A115,$A$141:$AU$148,21,FALSE),\"\")","v":""},{"$f":"IFERROR(VLOOKUP($A115,$A$141:$AU$148,22,FALSE),\"\")","v":""},{"$f":"IFERROR(VLOOKUP($A115,$A$141:$AU$148,23,FALSE),\"\")","v":""},{"$f":"IFERROR(VLOOKUP($A115,$A$141:$AU$148,24,FALSE),\"\")","v":""},{"$f":"IFERROR(VLOOKUP($A115,$A$141:$AU$148,25,FALSE),\"\")","v":""},{"$f":"IFERROR(VLOOKUP($A115,$A$141:$AU$148,26,FALSE),\"\")","v":""},{"$f":"IFERROR(VLOOKUP($A115,$A$141:$AU$148,27,FALSE),\"\")","v":""},{"$f":"IFERROR(VLOOKUP($A115,$A$141:$AU$148,28,FALSE),\"\")","v":""},{"$f":"IFERROR(VLOOKUP($A115,$A$141:$AU$148,29,FALSE),\"\")","v":""},{"$f":"IFERROR(VLOOKUP($A115,$A$141:$AU$148,30,FALSE),\"\")","v":""},{"$f":"IFERROR(VLOOKUP($A115,$A$141:$AU$148,31,FALSE),\"\")","v":""},{"$f":"IFERROR(VLOOKUP($A115,$A$141:$AU$148,32,FALSE),\"\")","v":""},{"$f":"IFERROR(VLOOKUP($A115,$A$141:$AU$148,33,FALSE),\"\")","v":""},{"$f":"IFERROR(VLOOKUP($A115,$A$141:$AU$148,34,FALSE),\"\")","v":""},{"$f":"IFERROR(VLOOKUP($A115,$A$141:$AU$148,35,FALSE),\"\")","v":""},{"$f":"IFERROR(VLOOKUP($A115,$A$141:$AU$148,36,FALSE),\"\")","v":""},{"$f":"IFERROR(VLOOKUP($A115,$A$141:$AU$148,37,FALSE),\"\")","v":""},{"$f":"IFERROR(VLOOKUP($A115,$A$141:$AU$148,38,FALSE),\"\")","v":""},{"$f":"IFERROR(VLOOKUP($A115,$A$141:$AU$148,39,FALSE),\"\")","v":""},{"$f":"IFERROR(VLOOKUP($A115,$A$141:$AU$148,40,FALSE),\"\")","v":""},{"$f":"IFERROR(VLOOKUP($A115,$A$141:$AU$148,41,FALSE),\"\")","v":""},{"$f":"IFERROR(VLOOKUP($A115,$A$141:$AU$148,42,FALSE),\"\")","v":""},{"$f":"IFERROR(VLOOKUP($A115,$A$141:$AU$148,43,FALSE),\"\")","v":""},{"$f":"IFERROR(VLOOKUP($A115,$A$141:$AU$148,44,FALSE),\"\")","v":""},{"$f":"IFERROR(VLOOKUP($A115,$A$141:$AU$148,45,FALSE),\"\")","v":""},{"$f":"IFERROR(VLOOKUP($A115,$A$141:$AU$148,46,FALSE),\"\")","v":""},{"$f":"IFERROR(VLOOKUP($A115,$A$141:$AU$148,47,FALSE),\"\")","v":""},0]
[{"$f":"IFERROR(CONCATENATE(VLOOKUP($B$116,$BH$71:$BI$74,2,FALSE),\"-1\"),\"\")","v":"-1"},{"$f":"IFERROR(IF($BE$75=VLOOKUP($BE$75,$F$71:$T$74,1,FALSE),VLOOKUP($BE$75,$F$71:$T$74,1,FALSE),\"\"),\"\")","v":""},null,null,null,null,null,"İ.Ö.",null,null,"Teo",null,{"$f":"IFERROR(VLOOKUP($A116,$A$141:$AU$148,13,FALSE),\"\")","v":""},{"$f":"IFERROR(VLOOKUP($A116,$A$141:$AU$148,14,FALSE),\"\")","v":""},{"$f":"IFERROR(VLOOKUP($A116,$A$141:$AU$148,15,FALSE),\"\")","v":""},{"$f":"IFERROR(VLOOKUP($A116,$A$141:$AU$148,16,FALSE),\"\")","v":""},{"$f":"IFERROR(VLOOKUP($A116,$A$141:$AU$148,17,FALSE),\"\")","v":""},{"$f":"IFERROR(VLOOKUP($A116,$A$141:$AU$148,18,FALSE),\"\")","v":""},{"$f":"IFERROR(VLOOKUP($A116,$A$141:$AU$148,19,FALSE),\"\")","v":""},{"$f":"IFERROR(VLOOKUP($A116,$A$141:$AU$148,20,FALSE),\"\")","v":""},{"$f":"IFERROR(VLOOKUP($A116,$A$141:$AU$148,21,FALSE),\"\")","v":""},{"$f":"IFERROR(VLOOKUP($A116,$A$141:$AU$148,22,FALSE),\"\")","v":""},{"$f":"IFERROR(VLOOKUP($A116,$A$141:$AU$148,23,FALSE),\"\")","v":""},{"$f":"IFERROR(VLOOKUP($A116,$A$141:$AU$148,24,FALSE),\"\")","v":""},{"$f":"IFERROR(VLOOKUP($A116,$A$141:$AU$148,25,FALSE),\"\")","v":""},{"$f":"IFERROR(VLOOKUP($A116,$A$141:$AU$148,26,FALSE),\"\")","v":""},{"$f":"IFERROR(VLOOKUP($A116,$A$141:$AU$148,27,FALSE),\"\")","v":""},{"$f":"IFERROR(VLOOKUP($A116,$A$141:$AU$148,28,FALSE),\"\")","v":""},{"$f":"IFERROR(VLOOKUP($A116,$A$141:$AU$148,29,FALSE),\"\")","v":""},{"$f":"IFERROR(VLOOKUP($A116,$A$141:$AU$148,30,FALSE),\"\")","v":""},{"$f":"IFERROR(VLOOKUP($A116,$A$141:$AU$148,31,FALSE),\"\")","v":""},{"$f":"IFERROR(VLOOKUP($A116,$A$141:$AU$148,32,FALSE),\"\")","v":""},{"$f":"IFERROR(VLOOKUP($A116,$A$141:$AU$148,33,FALSE),\"\")","v":""},{"$f":"IFERROR(VLOOKUP($A116,$A$141:$AU$148,34,FALSE),\"\")","v":""},{"$f":"IFERROR(VLOOKUP($A116,$A$141:$AU$148,35,FALSE),\"\")","v":""},{"$f":"IFERROR(VLOOKUP($A116,$A$141:$AU$148,36,FALSE),\"\")","v":""},{"$f":"IFERROR(VLOOKUP($A116,$A$141:$AU$148,37,FALSE),\"\")","v":""},{"$f":"IFERROR(VLOOKUP($A116,$A$141:$AU$148,38,FALSE),\"\")","v":""},{"$f":"IFERROR(VLOOKUP($A116,$A$141:$AU$148,39,FALSE),\"\")","v":""},{"$f":"IFERROR(VLOOKUP($A116,$A$141:$AU$148,40,FALSE),\"\")","v":""},{"$f":"IFERROR(VLOOKUP($A116,$A$141:$AU$148,41,FALSE),\"\")","v":""},{"$f":"IFERROR(VLOOKUP($A116,$A$141:$AU$148,42,FALSE),\"\")","v":""},{"$f":"IFERROR(VLOOKUP($A116,$A$141:$AU$148,43,FALSE),\"\")","v":""},{"$f":"IFERROR(VLOOKUP($A116,$A$141:$AU$148,44,FALSE),\"\")","v":""},{"$f":"IFERROR(VLOOKUP($A116,$A$141:$AU$148,45,FALSE),\"\")","v":""},{"$f":"IFERROR(VLOOKUP($A116,$A$141:$AU$148,46,FALSE),\"\")","v":""},{"$f":"IFERROR(VLOOKUP($A116,$A$141:$AU$148,47,FALSE),\"\")","v":""},0,{"$f":"SUM(AV116:AV117)","v":0}]
[{"$f":"IFERROR(CONCATENATE(VLOOKUP($B$116,$BH$71:$BI$74,2,FALSE),\"-2\"),\"\")","v":"-2"},null,null,null,null,null,null,null,null,null,"DF",null,{"$f":"IFERROR(VLOOKUP($A117,$A$141:$AU$148,13,FALSE),\"\")","v":""},{"$f":"IFERROR(VLOOKUP($A117,$A$141:$AU$148,14,FALSE),\"\")","v":""},{"$f":"IFERROR(VLOOKUP($A117,$A$141:$AU$148,15,FALSE),\"\")","v":""},{"$f":"IFERROR(VLOOKUP($A117,$A$141:$AU$148,16,FALSE),\"\")","v":""},{"$f":"IFERROR(VLOOKUP($A117,$A$141:$AU$148,17,FALSE),\"\")","v":""},{"$f":"IFERROR(VLOOKUP($A117,$A$141:$AU$148,18,FALSE),\"\")","v":""},{"$f":"IFERROR(VLOOKUP($A117,$A$141:$AU$148,19,FALSE),\"\")","v":""},{"$f":"IFERROR(VLOOKUP($A117,$A$141:$AU$148,20,FALSE),\"\")","v":""},{"$f":"IFERROR(VLOOKUP($A117,$A$141:$AU$148,21,FALSE),\"\")","v":""},{"$f":"IFERROR(VLOOKUP($A117,$A$141:$AU$148,22,FALSE),\"\")","v":""},{"$f":"IFERROR(VLOOKUP($A117,$A$141:$AU$148,23,FALSE),\"\")","v":""},{"$f":"IFERROR(VLOOKUP($A117,$A$141:$AU$148,24,FALSE),\"\")","v":""},{"$f":"IFERROR(VLOOKUP($A117,$A$141:$AU$148,25,FALSE),\"\")","v":""},{"$f":"IFERROR(VLOOKUP($A117,$A$141:$AU$148,26,FALSE),\"\")","v":""},{"$f":"IFERROR(VLOOKUP($A117,$A$141:$AU$148,27,FALSE),\"\")","v":""},{"$f":"IFERROR(VLOOKUP($A117,$A$141:$AU$148,28,FALSE),\"\")","v":""},{"$f":"IFERROR(VLOOKUP($A117,$A$141:$AU$148,29,FALSE),\"\")","v":""},{"$f":"IFERROR(VLOOKUP($A117,$A$141:$AU$148,30,FALSE),\"\")","v":""},{"$f":"IFERROR(VLOOKUP($A117,$A$141:$AU$148,31,FALSE),\"\")","v":""},{"$f":"IFERROR(VLOOKUP($A117,$A$141:$AU$148,32,FALSE),\"\")","v":""},{"$f":"IFERROR(VLOOKUP($A117,$A$141:$AU$148,33,FALSE),\"\")","v":""},{"$f":"IFERROR(VLOOKUP($A117,$A$141:$AU$148,34,FALSE),\"\")","v":""},{"$f":"IFERROR(VLOOKUP($A117,$A$141:$AU$148,35,FALSE),\"\")","v":""},{"$f":"IFERROR(VLOOKUP($A117,$A$141:$AU$148,36,FALSE),\"\")","v":""},{"$f":"IFERROR(VLOOKUP($A117,$A$141:$AU$148,37,FALSE),\"\")","v":""},{"$f":"IFERROR(VLOOKUP($A117,$A$141:$AU$148,38,FALSE),\"\")","v":""},{"$f":"IFERROR(VLOOKUP($A117,$A$141:$AU$148,39,FALSE),\"\")","v":""},{"$f":"IFERROR(VLOOKUP($A117,$A$141:$AU$148,40,FALSE),\"\")","v":""},{"$f":"IFERROR(VLOOKUP($A117,$A$141:$AU$148,41,FALSE),\"\")","v":""},{"$f":"IFERROR(VLOOKUP($A117,$A$141:$AU$148,42,FALSE),\"\")","v":""},{"$f":"IFERROR(VLOOKUP($A117,$A$141:$AU$148,43,FALSE),\"\")","v":""},{"$f":"IFERROR(VLOOKUP($A117,$A$141:$AU$148,44,FALSE),\"\")","v":""},{"$f":"IFERROR(VLOOKUP($A117,$A$141:$AU$148,45,FALSE),\"\")","v":""},{"$f":"IFERROR(VLOOKUP($A117,$A$141:$AU$148,46,FALSE),\"\")","v":""},{"$f":"IFERROR(VLOOKUP($A117,$A$141:$AU$148,47,FALSE),\"\")","v":""},0]
[]
[]
[]
[]
[]
[]
[]
[]
[]
[]
[null,null,null,null,null,null,null,null,null,null,null,null,"PT","S","Ç","P","C","CT","P","PT","C","Ç","P","C","CT","P","PT","S","Ç","P","C","CT","P","PT","S","Ç","P","C","CT","P","PT","S","Ç","P","C","CT","P"]
[{"$f":"CONCATENATE(BB129,\"-1\")","v":{"$error":"#REF!"}},{"$f":"IF(F41=\"\",\"\",F41)","v":"Mühendislik Fakültesi"},null,null,null,null,null,"N.Ö",null,null,"Teo",null,{"$f":"IF(M$90=\"\",\"\",IF($Y$157=0,\"\",IF(M176=0,\"\",IF(SUM($M176)>=$Y$157,$Y$157,IF(SUM($M176)<$Y$157,M176,)))))","v":""},{"$f":"IF(N$90=\"\",\"\",IF($Y$157=0,\"\",IF(N176=0,\"\",IF(SUM($M176:$N176)<$Y$157,N176,IF($Y$157-SUM($M176)>=N176,N176,IF($Y$157-SUM($M176)<0,\"\",$Y$157-SUM($M176)))))))","v":""},{"$f":"IF(O$90=\"\",\"\",IF($Y$157=0,\"\",IF(O176=0,\"\",IF(SUM($M176:$O176)<$Y$157,O176,IF($Y$157-SUM($M176:$N176)>=O176,O176,IF($Y$157-SUM($M176:$N176)<0,\"\",$Y$157-SUM($M176:$N176)))))))","v":""},{"$f":"IF(P$90=\"\",\"\",IF($Y$157=0,\"\",IF(P176=0,\"\",IF(SUM($M176:$P176)<$Y$157,P176,IF($Y$157-SUM($M176:$O176)>=P176,P176,IF($Y$157-SUM($M176:$O176)<0,\"\",$Y$157-SUM($M176:$O176)))))))","v":""},{"$f":"IF(Q$90=\"\",\"\",IF($Y$157=0,\"\",IF(Q176=0,\"\",IF(SUM($M176:$Q176)<$Y$157,Q176,IF($Y$157-SUM($M176:$P176)>=Q176,Q176,IF($Y$157-SUM($M176:$P176)<0,\"\",$Y$157-SUM($M176:$P176)))))))","v":""},{"$f":"IF(R$90=\"\",\"\",IF($Y$157=0,\"\",IF(R176=0,\"\",IF(SUM($M176:$R176)<$Y$157,R176,IF($Y$157-SUM($M176:$Q176)>=R176,R176,IF($Y$157-SUM($M176:$Q176)<0,\"\",$Y$157-SUM($M176:$Q176)))))))","v":""},{"$f":"IF(Q$90=\"\",\"\",IF($Y$157=0,\"\",IF(S176=0,\"\",IF(SUM($M176:$S176)<$Y$157,S176,IF($Y$157-SUM($M176:$R176)>=S176,S176,IF($Y$157-SUM($M176:$R176)<0,\"\",$Y$157-SUM($M176:$R176)))))))","v":""},{"$f":"IF(T$90=\"\",\"\",IF($AD$157=0,\"\",IF(T176=0,\"\",IF(SUM($T176)>=$AD$157,$AD$157,IF(SUM($T176)<$AD$157,T176,)))))","v":""},{"$f":"IF(U$90=\"\",\"\",IF($AD$157=0,\"\",IF(U176=0,\"\",IF(SUM($T176:$U176)<$AD$157,U176,IF($AD$157-SUM($T176)>=U176,U176,IF($AD$157-SUM($T176)<0,\"\",$AD$157-SUM($T176)))))))","v":""},{"$f":"IF(V$90=\"\",\"\",IF($AD$157=0,\"\",IF(V176=0,\"\",IF(SUM($T176:$V176)<$AD$157,V176,IF($AD$157-SUM($T176:$U176)>=V176,V176,IF($AD$157-SUM($T176:$U176)<0,\"\",$AD$157-SUM($T176:$U176)))))))","v":""},{"$f":"IF(W$90=\"\",\"\",IF($AD$157=0,\"\",IF(W176=0,\"\",IF(SUM($T176:$W176)<$AD$157,W176,IF($AD$157-SUM($T176:$V176)>=W176,W176,IF($AD$157-SUM($T176:$V176)<0,\"\",$AD$157-SUM($T176:$V176)))))))","v":""},{"$f":"IF(X$90=\"\",\"\",IF($AD$157=0,\"\",IF(X176=0,\"\",IF(SUM($T176:$X176)<$AD$157,X176,IF($AD$157-SUM($T176:$W176)>=X176,X176,IF($AD$157-SUM($T176:$W176)<0,\"\",$AD$157-SUM($T176:$W176)))))))","v":""},{"$f":"IF(Y$90=\"\",\"\",IF($AD$157=0,\"\",IF(Y176=0,\"\",IF(SUM($T176:$Y176)<$AD$157,Y176,IF($AD$157-SUM($T176:$X176)>=Y176,Y176,IF($AD$157-SUM($T176:$X176)<0,\"\",$AD$157-SUM($T176:$X176)))))))","v":""},{"$f":"IF(Z$90=\"\",\"\",IF($AD$157=0,\"\",IF(Z176=0,\"\",IF(SUM($T176:$Z176)<$AD$157,Z176,IF($AD$157-SUM($T176:$Y176)>=Z176,Z176,IF($AD$157-SUM($T176:$Y176)<0,\"\",$AD$157-SUM($T176:$Y176)))))))","v":""},{"$f":"IF(AA$90=\"\",\"\",IF($AH$157=0,\"\",IF(AA176=0,\"\",IF(SUM(AA176)>=$AH$157,$AH$157,IF(SUM(AA176)<$AH$157,AA176,)))))","v":""},{"$f":"IF(AB$90=\"\",\"\",IF($AH$157=0,\"\",IF(AB176=0,\"\",IF(SUM($AA176:$AB176)<$AH$157,AB176,IF($AH$157-SUM($AA176)>=AB176,AB176,IF($AH$157-SUM($AA176)<0,\"\",$AH$157-SUM($AA176)))))))","v":""},{"$f":"IF(AC$90=\"\",\"\",IF($AH$157=0,\"\",IF(AC176=0,\"\",IF(SUM($AA176:$AC176)<$AH$157,AC176,IF($AH$157-SUM($AA176:$AB176)>=AC176,AC176,IF($AH$157-SUM($AA176:$AB176)<0,\"\",$AH$157-SUM($AA176:$AB176)))))))","v":""},{"$f":"IF(AD$90=\"\",\"\",IF($AH$157=0,\"\",IF(AD176=0,\"\",IF(SUM($AA176:$AD176)<$AH$157,AD176,IF($AH$157-SUM($AA176:$AC176)>=AD176,AD176,IF($AH$157-SUM($AA176:$AC176)<0,\"\",$AH$157-SUM($AA176:$AC176)))))))","v":""},{"$f":"IF(AE$90=\"\",\"\",IF($AH$157=0,\"\",IF(AE176=0,\"\",IF(SUM($AA176:$AE176)<$AH$157,AE176,IF($AH$157-SUM($AA176:$AD176)>=AE176,AE176,IF($AH$157-SUM($AA176:$AD176)<0,\"\",$AH$157-SUM($AA176:$AD176)))))))","v":""},{"$f":"IF(AF$90=\"\",\"\",IF($AH$157=0,\"\",IF(AF176=0,\"\",IF(SUM($AA176:$AF176)<$AH$157,AF176,IF($AH$157-SUM($AA176:$AE176)>=AF176,AF176,IF($AH$157-SUM($AA176:$AE176)<0,\"\",$AH$157-SUM($AA176:$AE176)))))))","v":""},{"$f":"IF(AG$90=\"\",\"\",IF($AH$157=0,\"\",IF(AG176=0,\"\",IF(SUM($AA176:$AG176)<$AH$157,AG176,IF($AH$157-SUM($AA176:$AF176)>=AG176,AG176,IF($AH$157-SUM($AA176:$AF176)<0,\"\",$AH$157-SUM($AA176:$AF176)))))))","v":""},{"$f":"IF(AH$90=\"\",\"\",IF($AM$157=0,\"\",IF(AH176=0,\"\",IF(SUM(AH176)>=$AM$157,$AM$157,IF(SUM(AH176)<$AM$157,AH176,)))))","v":""},{"$f":"IF(AI$90=\"\",\"\",IF($AM$157=0,\"\",IF(AI176=0,\"\",IF(SUM($AH176:$AI176)<$AM$157,AI176,IF($AM$157-SUM($AH176)>=AI176,AI176,IF($AM$157-SUM($AH176)<0,\"\",$AM$157-SUM($AH176)))))))","v":""},{"$f":"IF(AJ$90=\"\",\"\",IF($AM$157=0,\"\",IF(AJ176=0,\"\",IF(SUM($AH176:$AJ176)<$AM$157,AJ176,IF($AM$157-SUM($AH176:$AI176)>=AJ176,AJ176,IF($AM$157-SUM($AH176:$AI176)<0,\"\",$AM$157-SUM($AH176:$AI176)))))))","v":""},{"$f":"IF(AK$90=\"\",\"\",IF($AM$157=0,\"\",IF(AK176=0,\"\",IF(SUM($AH176:$AK176)<$AM$157,AK176,IF($AM$157-SUM($AH176:$AJ176)>=AK176,AK176,IF($AM$157-SUM($AH176:$AJ176)<0,\"\",$AM$157-SUM($AH176:$AJ176)))))))","v":""},{"$f":"IF(AL$90=\"\",\"\",IF($AM$157=0,\"\",IF(AL176=0,\"\",IF(SUM($AH176:$AL176)<$AM$157,AL176,IF($AM$157-SUM($AH176:$AK176)>=AL176,AL176,IF($AM$157-SUM($AH176:$AK176)<0,\"\",$AM$157-SUM($AH176:$AK176)))))))","v":""},{"$f":"IF(AM$90=\"\",\"\",IF($AM$157=0,\"\",IF(AM176=0,\"\",IF(SUM($AH176:$AM176)<$AM$157,AM176,IF($AM$157-SUM($AH176:$AL176)>=AM176,AM176,IF($AM$157-SUM($AH176:$AL176)<0,\"\",$AM$157-SUM($AH176:$AL176)))))))","v":""},{"$f":"IF(AN$90=\"\",\"\",IF($AM$157=0,\"\",IF(AN176=0,\"\",IF(SUM($AH176:$AN176)<$AM$157,AN176,IF($AM$157-SUM($AH176:$AM176)>=AN176,AN176,IF($AM$157-SUM($AH176:$AM176)<0,\"\",$AM$157-SUM($AH176:$AM176)))))))","v":""},{"$f":"IF(AO$90=\"\",\"\",IF($AQ$157=0,\"\",IF(AO176=0,\"\",IF(SUM(AO176)>=$AQ$157,$AQ$157,IF(SUM(AO176)<$AQ$157,AO176,)))))","v":""},{"$f":"IF(AP$90=\"\",\"\",IF($AQ$157=0,\"\",IF(AP176=0,\"\",IF(SUM($AO176:$AP176)<$AQ$157,AP176,IF($AQ$157-SUM($AO176)>=AP176,AP176,IF($AQ$157-SUM($AO176)<0,\"\",$AQ$157-SUM($AO176)))))))","v":""},{"$f":"IF(AQ$90=\"\",\"\",IF($AQ$157=0,\"\",IF(AQ176=0,\"\",IF(SUM($AO176:$AQ176)<$AQ$157,AQ176,IF($AQ$157-SUM($AO176:$AP176)>=AQ176,AQ176,IF($AQ$157-SUM($AO176:$AP176)<0,\"\",$AQ$157-SUM($AO176:$AP176)))))))","v":""},{"$f":"IF(AR$90=\"\",\"\",IF($AQ$157=0,\"\",IF(AR176=0,\"\",IF(SUM($AO176:$AR176)<$AQ$157,AR176,IF($AQ$157-SUM($AO176:$AQ176)>=AR176,AR176,IF($AQ$157-SUM($AO176:$AQ176)<0,\"\",$AQ$157-SUM($AO176:$AQ176)))))))","v":""},{"$f":"IF(AS$90=\"\",\"\",IF($AQ$157=0,\"\",IF(AS176=0,\"\",IF(SUM($AO176:$AS176)<$AQ$157,AS176,IF($AQ$157-SUM($AO176:$AR176)>=AS176,AS176,IF($AQ$157-SUM($AO176:$AR176)<0,\"\",$AQ$157-SUM($AO176:$AR176)))))))","v":""},{"$f":"IF(AT$90=\"\",\"\",IF($AQ$157=0,\"\",IF(AT176=0,\"\",IF(SUM($AO176:$AT176)<=$AQ$157,AT176,IF($AQ$157-SUM($AO176:$AS176)>=AT176,AT176,IF($AQ$157-SUM($AO176:$AS176)<0,\"\",$AQ$157-SUM($AO176:$AS176)))))))","v":""},{"$f":"IF(AU$90=\"\",\"\",IF($AQ$157=0,\"\",IF(AU176=0,\"\",IF(SUM($AO176:$AU176)<=$AQ$157,AU176,IF($AQ$157-SUM($AO176:$AT176)>=AU176,AU176,IF($AQ$157-SUM($AO176:$AT176)<0,\"\",$AQ$157-SUM($AO176:$AT176)))))))","v":""},{"$f":"SUM(M129:AU129)","v":0},null,{"$f":"SUM(AV129:AW130)","v":0},null,null,null,{"$f":"VLOOKUP(B129,$BH$41:$BI$45,2,FALSE)","v":{"$error":"#REF!"}}]
[{"$f":"CONCATENATE(BB129,\"-2\")","v":{"$error":"#REF!"}},null,null,null,null,null,null,null,null,null,"DF",null,{"$f":"IF(M$90=\"\",\"\",IF($Y$167=0,\"\",IF(M177=0,\"\",IF(SUM($M177)>=$Y$167,$Y$167,IF(SUM($M177)<$Y$167,M177,)))))","v":""},{"$f":"IF(N$90=\"\",\"\",IF($Y$167=0,\"\",IF(N177=0,\"\",IF(SUM($M177:$N177)<$Y$167,N177,IF($Y$167-SUM($M177)>=N177,N177,IF($Y$167-SUM($M177)<0,\"\",$Y$167-SUM($M177)))))))","v":""},{"$f":"IF(O$90=\"\",\"\",IF($Y$167=0,\"\",IF(O177=0,\"\",IF(SUM($M177:$O177)<$Y$167,O177,IF($Y$167-SUM($M177:$N177)>=O177,O177,IF($Y$167-SUM($M177:$N177)<0,\"\",$Y$167-SUM($M177:$N177)))))))","v":""},{"$f":"IF(P$90=\"\",\"\",IF($Y$167=0,\"\",IF(P177=0,\"\",IF(SUM($M177:$P177)<$Y$167,P177,IF($Y$167-SUM($M177:$O177)>=P177,P177,IF($Y$167-SUM($M177:$O177)<0,\"\",$Y$167-SUM($M177:$O177)))))))","v":""},{"$f":"IF(Q$90=\"\",\"\",IF($Y$167=0,\"\",IF(Q177=0,\"\",IF(SUM($M177:$Q177)<$Y$167,Q177,IF($Y$167-SUM($M177:$P177)>=Q177,Q177,IF($Y$167-SUM($M177:$P177)<0,\"\",$Y$167-SUM($M177:$P177)))))))","v":""},{"$f":"IF(R$90=\"\",\"\",IF($Y$167=0,\"\",IF(R177=0,\"\",IF(SUM($M177:$R177)<$Y$167,R177,IF($Y$167-SUM($M177:$Q177)>=R177,R177,IF($Y$167-SUM($M177:$Q177)<0,\"\",$Y$167-SUM($M177:$Q177)))))))","v":""},{"$f":"IF(Q$90=\"\",\"\",IF($Y$167=0,\"\",IF(S177=0,\"\",IF(SUM($M177:$S177)<$Y$167,S177,IF($Y$167-SUM($M177:$R177)>=S177,S177,IF($Y$167-SUM($M177:$R177)<0,\"\",$Y$167-SUM($M177:$R177)))))))","v":""},{"$f":"IF(T$90=\"\",\"\",IF($AD$167=0,\"\",IF(T177=0,\"\",IF(SUM($T177)>=$AD$167,$AD$167,IF(SUM($T177)<$AD$167,T177,)))))","v":""},{"$f":"IF(U$90=\"\",\"\",IF($AD$167=0,\"\",IF(U177=0,\"\",IF(SUM($T177:$U177)<$AD$167,U177,IF($AD$167-SUM($T177)>=U177,U177,IF($AD$167-SUM($T177)<0,\"\",$AD$167-SUM($T177)))))))","v":""},{"$f":"IF(V$90=\"\",\"\",IF($AD$167=0,\"\",IF(V177=0,\"\",IF(SUM($T177:$V177)<$AD$167,V177,IF($AD$167-SUM($T177:$U177)>=V177,V177,IF($AD$167-SUM($T177:$U177)<0,\"\",$AD$167-SUM($T177:$U177)))))))","v":""},{"$f":"IF(W$90=\"\",\"\",IF($AD$167=0,\"\",IF(W177=0,\"\",IF(SUM($T177:$W177)<$AD$167,W177,IF($AD$167-SUM($T177:$V177)>=W177,W177,IF($AD$167-SUM($T177:$V177)<0,\"\",$AD$167-SUM($T177:$V177)))))))","v":""},{"$f":"IF(X$90=\"\",\"\",IF($AD$167=0,\"\",IF(X177=0,\"\",IF(SUM($T177:$X177)<$AD$167,X177,IF($AD$167-SUM($T177:$W177)>=X177,X177,IF($AD$167-SUM($T177:$W177)<0,\"\",$AD$167-SUM($T177:$W177)))))))","v":""},{"$f":"IF(Y$90=\"\",\"\",IF($AD$167=0,\"\",IF(Y177=0,\"\",IF(SUM($T177:$Y177)<$AD$167,Y177,IF($AD$167-SUM($T177:$X177)>=Y177,Y177,IF($AD$167-SUM($T177:$X177)<0,\"\",$AD$167-SUM($T177:$X177)))))))","v":""},{"$f":"IF(Z$90=\"\",\"\",IF($AD$167=0,\"\",IF(Z177=0,\"\",IF(SUM($T177:$Z177)<$AD$167,Z177,IF($AD$167-SUM($T177:$Y177)>=Z177,Z177,IF($AD$167-SUM($T177:$Y177)<0,\"\",$AD$167-SUM($T177:$Y177)))))))","v":""},{"$f":"IF(AA$90=\"\",\"\",IF($AH$167=0,\"\",IF(AA177=0,\"\",IF(SUM(AA177)>=$AH$167,$AH$167,IF(SUM(AA177)<$AH$167,AA177,)))))","v":""},{"$f":"IF(AB$90=\"\",\"\",IF($AH$167=0,\"\",IF(AB177=0,\"\",IF(SUM($AA177:$AB177)<$AH$167,AB177,IF($AH$167-SUM($AA177)>=AB177,AB177,IF($AH$167-SUM($AA177)<0,\"\",$AH$167-SUM($AA177)))))))","v":""},{"$f":"IF(AC$90=\"\",\"\",IF($AH$167=0,\"\",IF(AC177=0,\"\",IF(SUM($AA177:$AC177)<$AH$167,AC177,IF($AH$167-SUM($AA177:$AB177)>=AC177,AC177,IF($AH$167-SUM($AA177:$AB177)<0,\"\",$AH$167-SUM($AA177:$AB177)))))))","v":""},{"$f":"IF(AD$90=\"\",\"\",IF($AH$167=0,\"\",IF(AD177=0,\"\",IF(SUM($AA177:$AD177)<$AH$167,AD177,IF($AH$167-SUM($AA177:$AC177)>=AD177,AD177,IF($AH$167-SUM($AA177:$AC177)<0,\"\",$AH$167-SUM($AA177:$AC177)))))))","v":""},{"$f":"IF(AE$90=\"\",\"\",IF($AH$167=0,\"\",IF(AE177=0,\"\",IF(SUM($AA177:$AE177)<$AH$167,AE177,IF($AH$167-SUM($AA177:$AD177)>=AE177,AE177,IF($AH$167-SUM($AA177:$AD177)<0,\"\",$AH$167-SUM($AA177:$AD177)))))))","v":""},{"$f":"IF(AF$90=\"\",\"\",IF($AH$167=0,\"\",IF(AF177=0,\"\",IF(SUM($AA177:$AF177)<$AH$167,AF177,IF($AH$167-SUM($AA177:$AE177)>=AF177,AF177,IF($AH$167-SUM($AA177:$AE177)<0,\"\",$AH$167-SUM($AA177:$AE177)))))))","v":""},{"$f":"IF(AG$90=\"\",\"\",IF($AH$167=0,\"\",IF(AG177=0,\"\",IF(SUM($AA177:$AG177)<$AH$167,AG177,IF($AH$167-SUM($AA177:$AF177)>=AG177,AG177,IF($AH$167-SUM($AA177:$AF177)<0,\"\",$AH$167-SUM($AA177:$AF177)))))))","v":""},{"$f":"IF(AH$90=\"\",\"\",IF($AM$167=0,\"\",IF(AH177=0,\"\",IF(SUM(AH177)>=$AM$167,$AM$167,IF(SUM(AH177)<$AM$167,AH177,)))))","v":""},{"$f":"IF(AI$90=\"\",\"\",IF($AM$167=0,\"\",IF(AI177=0,\"\",IF(SUM($AH177:$AI177)<$AM$167,AI177,IF($AM$167-SUM($AH177)>=AI177,AI177,IF($AM$167-SUM($AH177)<0,\"\",$AM$167-SUM($AH177)))))))","v":""},{"$f":"IF(AJ$90=\"\",\"\",IF($AM$167=0,\"\",IF(AJ177=0,\"\",IF(SUM($AH177:$AJ177)<$AM$167,AJ177,IF($AM$167-SUM($AH177:$AI177)>=AJ177,AJ177,IF($AM$167-SUM($AH177:$AI177)<0,\"\",$AM$167-SUM($AH177:$AI177)))))))","v":""},{"$f":"IF(AK$90=\"\",\"\",IF($AM$167=0,\"\",IF(AK177=0,\"\",IF(SUM($AH177:$AK177)<$AM$167,AK177,IF($AM$167-SUM($AH177:$AJ177)>=AK177,AK177,IF($AM$167-SUM($AH177:$AJ177)<0,\"\",$AM$167-SUM($AH177:$AJ177)))))))","v":""},{"$f":"IF(AL$90=\"\",\"\",IF($AM$167=0,\"\",IF(AL177=0,\"\",IF(SUM($AH177:$AL177)<$AM$167,AL177,IF($AM$167-SUM($AH177:$AK177)>=AL177,AL177,IF($AM$167-SUM($AH177:$AK177)<0,\"\",$AM$167-SUM($AH177:$AK177)))))))","v":""},{"$f":"IF(AM$90=\"\",\"\",IF($AM$167=0,\"\",IF(AM177=0,\"\",IF(SUM($AH177:$AM177)<$AM$167,AM177,IF($AM$167-SUM($AH177:$AL177)>=AM177,AM177,IF($AM$167-SUM($AH177:$AL177)<0,\"\",$AM$167-SUM($AH177:$AL177)))))))","v":""},{"$f":"IF(AN$90=\"\",\"\",IF($AM$167=0,\"\",IF(AN177=0,\"\",IF(SUM($AH177:$AN177)<$AM$167,AN177,IF($AM$167-SUM($AH177:$AM177)>=AN177,AN177,IF($AM$167-SUM($AH177:$AM177)<0,\"\",$AM$167-SUM($AH177:$AM177)))))))","v":""},{"$f":"IF(AO$90=\"\",\"\",IF($AQ$167=0,\"\",IF(AO177=0,\"\",IF(SUM(AO177)>=$AQ$167,$AQ$167,IF(SUM(AO177)<$AQ$167,AO177,)))))","v":""},{"$f":"IF(AP$90=\"\",\"\",IF($AQ$167=0,\"\",IF(AP177=0,\"\",IF(SUM($AO177:$AP177)<$AQ$167,AP177,IF($AQ$167-SUM($AO177)>=AP177,AP177,IF($AQ$167-SUM($AO177)<0,\"\",$AQ$167-SUM($AO177)))))))","v":""},{"$f":"IF(AQ$90=\"\",\"\",IF($AQ$167=0,\"\",IF(AQ177=0,\"\",IF(SUM($AO177:$AQ177)<$AQ$167,AQ177,IF($AQ$167-SUM($AO177:$AP177)>=AQ177,AQ177,IF($AQ$167-SUM($AO177:$AP177)<0,\"\",$AQ$167-SUM($AO177:$AP177)))))))","v":""},{"$f":"IF(AR$90=\"\",\"\",IF($AQ$167=0,\"\",IF(AR177=0,\"\",IF(SUM($AO177:$AR177)<$AQ$167,AR177,IF($AQ$167-SUM($AO177:$AQ177)>=AR177,AR177,IF($AQ$167-SUM($AO177:$AQ177)<0,\"\",$AQ$167-SUM($AO177:$AQ177)))))))","v":""},{"$f":"IF(AS$90=\"\",\"\",IF($AQ$167=0,\"\",IF(AS177=0,\"\",IF(SUM($AO177:$AS177)<$AQ$167,AS177,IF($AQ$167-SUM($AO177:$AR177)>=AS177,AS177,IF($AQ$167-SUM($AO177:$AR177)<0,\"\",$AQ$167-SUM($AO177:$AR177)))))))","v":""},{"$f":"IF(AT$90=\"\",\"\",IF($AQ$167=0,\"\",IF(AT177=0,\"\",IF(SUM($AO177:$AT177)<=$AQ$167,AT177,IF($AQ$167-SUM($AO177:$AS177)>=AT177,AT177,IF($AQ$167-SUM($AO177:$AS177)<0,\"\",$AQ$167-SUM($AO177:$AS177)))))))","v":""},{"$f":"IF(AU$90=\"\",\"\",IF($AQ$167=0,\"\",IF(AU177=0,\"\",IF(SUM($AO177:$AU177)<=$AQ$167,AU177,IF($AQ$167-SUM($AO177:$AT177)>=AU177,AU177,IF($AQ$167-SUM($AO177:$AT177)<0,\"\",$AQ$167-SUM($AO177:$AT177)))))))","v":""},0,null,null,null,null,null,{"$error":"#N/A"}]
[{"$f":"CONCATENATE(BB131,\"-1\")","v":"-1"},{"$f":"IF(F42=\"\",\"\",F42)","v":""},null,null,null,null,null,"N.Ö",null,null,"Teo",null,{"$f":"IF(M$90=\"\",\"\",IF($Y$158=0,\"\",IF(M178=0,\"\",IF(SUM($M178)>=$Y$158,$Y$158,IF(SUM($M178)<$Y$158,M178,)))))","v":""},{"$f":"IF(N$90=\"\",\"\",IF($Y$158=0,\"\",IF(N178=0,\"\",IF(SUM($M178:$N178)<$Y$158,N178,IF($Y$158-SUM($M178)>=N178,N178,IF($Y$158-SUM($M178)<0,\"\",$Y$158-SUM($M178)))))))","v":""},{"$f":"IF(O$90=\"\",\"\",IF($Y$158=0,\"\",IF(O178=0,\"\",IF(SUM($M178:$O178)<$Y$158,O178,IF($Y$158-SUM($M178:$N178)>=O178,O178,IF($Y$158-SUM($M178:$N178)<0,\"\",$Y$158-SUM($M178:$N178)))))))","v":""},{"$f":"IF(P$90=\"\",\"\",IF($Y$158=0,\"\",IF(P178=0,\"\",IF(SUM($M178:$P178)<$Y$158,P178,IF($Y$158-SUM($M178:$O178)>=P178,P178,IF($Y$158-SUM($M178:$O178)<0,\"\",$Y$158-SUM($M178:$O178)))))))","v":""},{"$f":"IF(Q$90=\"\",\"\",IF($Y$158=0,\"\",IF(Q178=0,\"\",IF(SUM($M178:$S178)<$Y$158,Q178,IF($Y$158-SUM($M178:$P178)>=Q178,Q178,IF($Y$158-SUM($M178:$P178)<0,\"\",$Y$158-SUM($M178:$P178)))))))","v":""},{"$f":"IF(R$90=\"\",\"\",IF($Y$158=0,\"\",IF(R178=0,\"\",IF(SUM($M178:$R178)<$Y$158,R178,IF($Y$158-SUM($M178:$Q178)>=R178,R178,IF($Y$158-SUM($M178:$Q178)<0,\"\",$Y$158-SUM($M178:$Q178)))))))","v":""},{"$f":"IF(Q$90=\"\",\"\",IF($Y$158=0,\"\",IF(S178=0,\"\",IF(SUM($M178:$S178)<$Y$158,S178,IF($Y$158-SUM($M178:$R178)>=S178,S178,IF($Y$158-SUM($M178:$R178)<0,\"\",$Y$158-SUM($M178:$R178)))))))","v":""},{"$f":"IF(T$90=\"\",\"\",IF($AD$158=0,\"\",IF(T178=0,\"\",IF(SUM($T178)>=$AD$158,$AD$158,IF(SUM($T178)<$AD$158,T178,)))))","v":""},{"$f":"IF(U$90=\"\",\"\",IF($AD$158=0,\"\",IF(U178=0,\"\",IF(SUM($T178:$U178)<$AD$158,U178,IF($AD$158-SUM($T178)>=U178,U178,IF($AD$158-SUM($T178)<0,\"\",$AD$158-SUM($T178)))))))","v":""},{"$f":"IF(V$90=\"\",\"\",IF($AD$158=0,\"\",IF(V178=0,\"\",IF(SUM($T178:$V178)<$AD$158,V178,IF($AD$158-SUM($T178:$U178)>=V178,V178,IF($AD$158-SUM($T178:$U178)<0,\"\",$AD$158-SUM($T178:$U178)))))))","v":""},{"$f":"IF(W$90=\"\",\"\",IF($AD$158=0,\"\",IF(W178=0,\"\",IF(SUM($T178:$W178)<$AD$158,W178,IF($AD$158-SUM($T178:$V178)>=W178,W178,IF($AD$158-SUM($T178:$V178)<0,\"\",$AD$158-SUM($T178:$V178)))))))","v":""},{"$f":"IF(X$90=\"\",\"\",IF($AD$158=0,\"\",IF(X178=0,\"\",IF(SUM($T178:$X178)<$AD$158,X178,IF($AD$158-SUM($T178:$W178)>=X178,X178,IF($AD$158-SUM($T178:$W178)<0,\"\",$AD$158-SUM($T178:$W178)))))))","v":""},{"$f":"IF(Y$90=\"\",\"\",IF($AD$158=0,\"\",IF(Y178=0,\"\",IF(SUM($T178:$Y178)<$AD$158,Y178,IF($AD$158-SUM($T178:$X178)>=Y178,Y178,IF($AD$158-SUM($T178:$X178)<0,\"\",$AD$158-SUM($T178:$X178)))))))","v":""},{"$f":"IF(Z$90=\"\",\"\",IF($AD$158=0,\"\",IF(Z178=0,\"\",IF(SUM($T178:$Z178)<$AD$158,Z178,IF($AD$158-SUM($T178:$Y178)>=Z178,Z178,IF($AD$158-SUM($T178:$Y178)<0,\"\",$AD$158-SUM($T178:$Y178)))))))","v":""},{"$f":"IF(AA$90=\"\",\"\",IF($AH$158=0,\"\",IF(AA178=0,\"\",IF(SUM(AA178)>=$AH$158,$AH$158,IF(SUM(AA178)<$AH$158,AA178,)))))","v":""},{"$f":"IF(AB$90=\"\",\"\",IF($AH$158=0,\"\",IF(AB178=0,\"\",IF(SUM($AA178:$AB178)<$AH$158,AB178,IF($AH$158-SUM($AA178)>=AB178,AB178,IF($AH$158-SUM($AA178)<0,\"\",$AH$158-SUM($AA178)))))))","v":""},{"$f":"IF(AC$90=\"\",\"\",IF($AH$158=0,\"\",IF(AC178=0,\"\",IF(SUM($AA178:$AC178)<$AH$158,AC178,IF($AH$158-SUM($AA178:$AB178)>=AC178,AC178,IF($AH$158-SUM($AA178:$AB178)<0,\"\",$AH$158-SUM($AA178:$AB178)))))))","v":""},{"$f":"IF(AD$90=\"\",\"\",IF($AH$158=0,\"\",IF(AD178=0,\"\",IF(SUM($AA178:$AD178)<$AH$158,AD178,IF($AH$158-SUM($AA178:$AC178)>=AD178,AD178,IF($AH$158-SUM($AA178:$AC178)<0,\"\",$AH$158-SUM($AA178:$AC178)))))))","v":""},{"$f":"IF(AE$90=\"\",\"\",IF($AH$158=0,\"\",IF(AE178=0,\"\",IF(SUM($AA178:$AE178)<$AH$158,AE178,IF($AH$158-SUM($AA178:$AD178)>=AE178,AE178,IF($AH$158-SUM($AA178:$AD178)<0,\"\",$AH$158-SUM($AA178:$AD178)))))))","v":""},{"$f":"IF(AF$90=\"\",\"\",IF($AH$158=0,\"\",IF(AF178=0,\"\",IF(SUM($AA178:$AF178)<$AH$158,AF178,IF($AH$158-SUM($AA178:$AE178)>=AF178,AF178,IF($AH$158-SUM($AA178:$AE178)<0,\"\",$AH$158-SUM($AA178:$AE178)))))))","v":""},{"$f":"IF(AG$90=\"\",\"\",IF($AH$158=0,\"\",IF(AG178=0,\"\",IF(SUM($AA178:$AG178)<$AH$158,AG178,IF($AH$158-SUM($AA178:$AF178)>=AG178,AG178,IF($AH$158-SUM($AA178:$AF178)<0,\"\",$AH$158-SUM($AA178:$AF178)))))))","v":""},{"$f":"IF(AH$90=\"\",\"\",IF($AM$158=0,\"\",IF(AH178=0,\"\",IF(SUM(AH178)>=$AM$158,$AM$158,IF(SUM(AH178)<$AM$158,AH178,)))))","v":""},{"$f":"IF(AI$90=\"\",\"\",IF($AM$158=0,\"\",IF(AI178=0,\"\",IF(SUM($AH178:$AI178)<$AM$158,AI178,IF($AM$158-SUM($AH178)>=AI178,AI178,IF($AM$158-SUM($AH178)<0,\"\",$AM$158-SUM($AH178)))))))","v":""},{"$f":"IF(AJ$90=\"\",\"\",IF($AM$158=0,\"\",IF(AJ178=0,\"\",IF(SUM($AH178:$AJ178)<$AM$158,AJ178,IF($AM$158-SUM($AH178:$AI178)>=AJ178,AJ178,IF($AM$158-SUM($AH178:$AI178)<0,\"\",$AM$158-SUM($AH178:$AI178)))))))","v":""},{"$f":"IF(AK$90=\"\",\"\",IF($AM$158=0,\"\",IF(AK178=0,\"\",IF(SUM($AH178:$AK178)<$AM$158,AK178,IF($AM$158-SUM($AH178:$AJ178)>=AK178,AK178,IF($AM$158-SUM($AH178:$AJ178)<0,\"\",$AM$158-SUM($AH178:$AJ178)))))))","v":""},{"$f":"IF(AL$90=\"\",\"\",IF($AM$158=0,\"\",IF(AL178=0,\"\",IF(SUM($AH178:$AL178)<$AM$158,AL178,IF($AM$158-SUM($AH178:$AK178)>=AL178,AL178,IF($AM$158-SUM($AH178:$AK178)<0,\"\",$AM$158-SUM($AH178:$AK178)))))))","v":""},{"$f":"IF(AM$90=\"\",\"\",IF($AM$158=0,\"\",IF(AM178=0,\"\",IF(SUM($AH178:$AM178)<$AM$158,AM178,IF($AM$158-SUM($AH178:$AL178)>=AM178,AM178,IF($AM$158-SUM($AH178:$AL178)<0,\"\",$AM$158-SUM($AH178:$AL178)))))))","v":""},{"$f":"IF(AN$90=\"\",\"\",IF($AM$158=0,\"\",IF(AN178=0,\"\",IF(SUM($AH178:$AN178)<$AM$158,AN178,IF($AM$158-SUM($AH178:$AM178)>=AN178,AN178,IF($AM$158-SUM($AH178:$AM178)<0,\"\",$AM$158-SUM($AH178:$AM178)))))))","v":""},{"$f":"IF(AO$90=\"\",\"\",IF($AQ$158=0,\"\",IF(AO178=0,\"\",IF(SUM(AO178)>=$AQ$158,$AQ$158,IF(SUM(AO178)<$AQ$158,AO178,)))))","v":""},{"$f":"IF(AP$90=\"\",\"\",IF($AQ$158=0,\"\",IF(AP178=0,\"\",IF(SUM($AO178:$AP178)<$AQ$158,AP178,IF($AQ$158-SUM($AO178)>=AP178,AP178,IF($AQ$158-SUM($AO178)<0,\"\",$AQ$158-SUM($AO178)))))))","v":""},{"$f":"IF(AQ$90=\"\",\"\",IF($AQ$158=0,\"\",IF(AQ178=0,\"\",IF(SUM($AO178:$AQ178)<$AQ$158,AQ178,IF($AQ$158-SUM($AO178:$AP178)>=AQ178,AQ178,IF($AQ$158-SUM($AO178:$AP178)<0,\"\",$AQ$158-SUM($AO178:$AP178)))))))","v":""},{"$f":"IF(AR$90=\"\",\"\",IF($AQ$158=0,\"\",IF(AR178=0,\"\",IF(SUM($AO178:$AR178)<$AQ$158,AR178,IF($AQ$158-SUM($AO178:$AQ178)>=AR178,AR178,IF($AQ$158-SUM($AO178:$AQ178)<0,\"\",$AQ$158-SUM($AO178:$AQ178)))))))","v":""},{"$f":"IF(AS$90=\"\",\"\",IF($AQ$158=0,\"\",IF(AS178=0,\"\",IF(SUM($AO178:$AS178)<$AQ$158,AS178,IF($AQ$158-SUM($AO178:$AR178)>=AS178,AS178,IF($AQ$158-SUM($AO178:$AR178)<0,\"\",$AQ$158-SUM($AO178:$AR178)))))))","v":""},{"$f":"IF(AT$90=\"\",\"\",IF($AQ$158=0,\"\",IF(AT178=0,\"\",IF(SUM($AO178:$AT178)<=$AQ$158,AT178,IF($AQ$158-SUM($AO178:$AS178)>=AT178,AT178,IF($AQ$158-SUM($AO178:$AS178)<0,\"\",$AQ$158-SUM($AO178:$AS178)))))))","v":""},{"$f":"IF(AU$90=\"\",\"\",IF($AQ$158=0,\"\",IF(AU178=0,\"\",IF(SUM($AO178:$AU178)<=$AQ$158,AU178,IF($AQ$158-SUM($AO178:$AT178)>=AU178,AU178,IF($AQ$158-SUM($AO178:$AT178)<0,\"\",$AQ$158-SUM($AO178:$AT178)))))))","v":""},0,null,{"$f":"SUM(AV131:AW132)","v":0},null,null,null,""]
[{"$f":"CONCATENATE(BB131,\"-2\")","v":"-2"},null,null,null,null,null,null,null,null,null,"DF",null,{"$f":"IF(M$90=\"\",\"\",IF($Y$168=0,\"\",IF(M179=0,\"\",IF(SUM($M179)>=$Y$168,$Y$168,IF(SUM($M179)<$Y$168,M179,)))))","v":""},{"$f":"IF(N$90=\"\",\"\",IF($Y$168=0,\"\",IF(N179=0,\"\",IF(SUM($M179:$N179)<$Y$168,N179,IF($Y$168-SUM($M179)>=N179,N179,IF($Y$168-SUM($M179)<0,\"\",$Y$168-SUM($M179)))))))","v":""},{"$f":"IF(O$90=\"\",\"\",IF($Y$168=0,\"\",IF(O179=0,\"\",IF(SUM($M179:$O179)<$Y$168,O179,IF($Y$168-SUM($M179:$N179)>=O179,O179,IF($Y$168-SUM($M179:$N179)<0,\"\",$Y$168-SUM($M179:$N179)))))))","v":""},{"$f":"IF(P$90=\"\",\"\",IF($Y$168=0,\"\",IF(P179=0,\"\",IF(SUM($M179:$P179)<$Y$168,P179,IF($Y$168-SUM($M179:$O179)>=P179,P179,IF($Y$168-SUM($M179:$O179)<0,\"\",$Y$168-SUM($M179:$O179)))))))","v":""},{"$f":"IF(Q$90=\"\",\"\",IF($Y$168=0,\"\",IF(Q179=0,\"\",IF(SUM($M179:$S179)<$Y$168,Q179,IF($Y$168-SUM($M179:$P179)>=Q179,Q179,IF($Y$168-SUM($M179:$P179)<0,\"\",$Y$168-SUM($M179:$P179)))))))","v":""},{"$f":"IF(R$90=\"\",\"\",IF($Y$168=0,\"\",IF(R179=0,\"\",IF(SUM($M179:$R179)<$Y$168,R179,IF($Y$168-SUM($M179:$Q179)>=R179,R179,IF($Y$168-SUM($M179:$Q179)<0,\"\",$Y$168-SUM($M179:$Q179)))))))","v":""},{"$f":"IF(Q$90=\"\",\"\",IF($Y$168=0,\"\",IF(S179=0,\"\",IF(SUM($M179:$S179)<$Y$168,S179,IF($Y$168-SUM($M179:$R179)>=S179,S179,IF($Y$168-SUM($M179:$R179)<0,\"\",$Y$168-SUM($M179:$R179)))))))","v":""},{"$f":"IF(T$90=\"\",\"\",IF($AD$168=0,\"\",IF(T179=0,\"\",IF(SUM($T179)>=$AD$168,$AD$168,IF(SUM($T179)<$AD$168,T179,)))))","v":""},{"$f":"IF(U$90=\"\",\"\",IF($AD$168=0,\"\",IF(U179=0,\"\",IF(SUM($T179:$U179)<$AD$168,U179,IF($AD$168-SUM($T179)>=U179,U179,IF($AD$168-SUM($T179)<0,\"\",$AD$168-SUM($T179)))))))","v":""},{"$f":"IF(V$90=\"\",\"\",IF($AD$168=0,\"\",IF(V179=0,\"\",IF(SUM($T179:$V179)<$AD$168,V179,IF($AD$168-SUM($T179:$U179)>=V179,V179,IF($AD$168-SUM($T179:$U179)<0,\"\",$AD$168-SUM($T179:$U179)))))))","v":""},{"$f":"IF(W$90=\"\",\"\",IF($AD$168=0,\"\",IF(W179=0,\"\",IF(SUM($T179:$W179)<$AD$168,W179,IF($AD$168-SUM($T179:$V179)>=W179,W179,IF($AD$168-SUM($T179:$V179)<0,\"\",$AD$168-SUM($T179:$V179)))))))","v":""},{"$f":"IF(X$90=\"\",\"\",IF($AD$168=0,\"\",IF(X179=0,\"\",IF(SUM($T179:$X179)<$AD$168,X179,IF($AD$168-SUM($T179:$W179)>=X179,X179,IF($AD$168-SUM($T179:$W179)<0,\"\",$AD$168-SUM($T179:$W179)))))))","v":""},{"$f":"IF(Y$90=\"\",\"\",IF($AD$168=0,\"\",IF(Y179=0,\"\",IF(SUM($T179:$Y179)<$AD$168,Y179,IF($AD$168-SUM($T179:$X179)>=Y179,Y179,IF($AD$168-SUM($T179:$X179)<0,\"\",$AD$168-SUM($T179:$X179)))))))","v":""},{"$f":"IF(Z$90=\"\",\"\",IF($AD$168=0,\"\",IF(Z179=0,\"\",IF(SUM($T179:$Z179)<$AD$168,Z179,IF($AD$168-SUM($T179:$Y179)>=Z179,Z179,IF($AD$168-SUM($T179:$Y179)<0,\"\",$AD$168-SUM($T179:$Y179)))))))","v":""},{"$f":"IF(AA$90=\"\",\"\",IF($AH$168=0,\"\",IF(AA179=0,\"\",IF(SUM(AA179)>=$AH$168,$AH$168,IF(SUM(AA179)<$AH$168,AA179,)))))","v":""},{"$f":"IF(AB$90=\"\",\"\",IF($AH$168=0,\"\",IF(AB179=0,\"\",IF(SUM($AA179:$AB179)<$AH$168,AB179,IF($AH$168-SUM($AA179)>=AB179,AB179,IF($AH$168-SUM($AA179)<0,\"\",$AH$168-SUM($AA179)))))))","v":""},{"$f":"IF(AC$90=\"\",\"\",IF($AH$168=0,\"\",IF(AC179=0,\"\",IF(SUM($AA179:$AC179)<$AH$168,AC179,IF($AH$168-SUM($AA179:$AB179)>=AC179,AC179,IF($AH$168-SUM($AA179:$AB179)<0,\"\",$AH$168-SUM($AA179:$AB179)))))))","v":""},{"$f":"IF(AD$90=\"\",\"\",IF($AH$168=0,\"\",IF(AD179=0,\"\",IF(SUM($AA179:$AD179)<$AH$168,AD179,IF($AH$168-SUM($AA179:$AC179)>=AD179,AD179,IF($AH$168-SUM($AA179:$AC179)<0,\"\",$AH$168-SUM($AA179:$AC179)))))))","v":""},{"$f":"IF(AE$90=\"\",\"\",IF($AH$168=0,\"\",IF(AE179=0,\"\",IF(SUM($AA179:$AE179)<$AH$168,AE179,IF($AH$168-SUM($AA179:$AD179)>=AE179,AE179,IF($AH$168-SUM($AA179:$AD179)<0,\"\",$AH$168-SUM($AA179:$AD179)))))))","v":""},{"$f":"IF(AF$90=\"\",\"\",IF($AH$168=0,\"\",IF(AF179=0,\"\",IF(SUM($AA179:$AF179)<$AH$168,AF179,IF($AH$168-SUM($AA179:$AE179)>=AF179,AF179,IF($AH$168-SUM($AA179:$AE179)<0,\"\",$AH$168-SUM($AA179:$AE179)))))))","v":""},{"$f":"IF(AG$90=\"\",\"\",IF($AH$168=0,\"\",IF(AG179=0,\"\",IF(SUM($AA179:$AG179)<$AH$168,AG179,IF($AH$168-SUM($AA179:$AF179)>=AG179,AG179,IF($AH$168-SUM($AA179:$AF179)<0,\"\",$AH$168-SUM($AA179:$AF179)))))))","v":""},{"$f":"IF(AH$90=\"\",\"\",IF($AM$168=0,\"\",IF(AH179=0,\"\",IF(SUM(AH179)>=$AM$168,$AM$168,IF(SUM(AH179)<$AM$168,AH179,)))))","v":""},{"$f":"IF(AI$90=\"\",\"\",IF($AM$168=0,\"\",IF(AI179=0,\"\",IF(SUM($AH179:$AI179)<$AM$168,AI179,IF($AM$168-SUM($AH179)>=AI179,AI179,IF($AM$168-SUM($AH179)<0,\"\",$AM$168-SUM($AH179)))))))","v":""},{"$f":"IF(AJ$90=\"\",\"\",IF($AM$168=0,\"\",IF(AJ179=0,\"\",IF(SUM($AH179:$AJ179)<$AM$168,AJ179,IF($AM$168-SUM($AH179:$AI179)>=AJ179,AJ179,IF($AM$168-SUM($AH179:$AI179)<0,\"\",$AM$168-SUM($AH179:$AI179)))))))","v":""},{"$f":"IF(AK$90=\"\",\"\",IF($AM$168=0,\"\",IF(AK179=0,\"\",IF(SUM($AH179:$AK179)<$AM$168,AK179,IF($AM$168-SUM($AH179:$AJ179)>=AK179,AK179,IF($AM$168-SUM($AH179:$AJ179)<0,\"\",$AM$168-SUM($AH179:$AJ179)))))))","v":""},{"$f":"IF(AL$90=\"\",\"\",IF($AM$168=0,\"\",IF(AL179=0,\"\",IF(SUM($AH179:$AL179)<$AM$168,AL179,IF($AM$168-SUM($AH179:$AK179)>=AL179,AL179,IF($AM$168-SUM($AH179:$AK179)<0,\"\",$AM$168-SUM($AH179:$AK179)))))))","v":""},{"$f":"IF(AM$90=\"\",\"\",IF($AM$168=0,\"\",IF(AM179=0,\"\",IF(SUM($AH179:$AM179)<$AM$168,AM179,IF($AM$168-SUM($AH179:$AL179)>=AM179,AM179,IF($AM$168-SUM($AH179:$AL179)<0,\"\",$AM$168-SUM($AH179:$AL179)))))))","v":""},{"$f":"IF(AN$90=\"\",\"\",IF($AM$168=0,\"\",IF(AN179=0,\"\",IF(SUM($AH179:$AN179)<$AM$168,AN179,IF($AM$168-SUM($AH179:$AM179)>=AN179,AN179,IF($AM$168-SUM($AH179:$AM179)<0,\"\",$AM$168-SUM($AH179:$AM179)))))))","v":""},{"$f":"IF(AO$90=\"\",\"\",IF($AQ$168=0,\"\",IF(AO179=0,\"\",IF(SUM(AO179)>=$AQ$168,$AQ$168,IF(SUM(AO179)<$AQ$168,AO179,)))))","v":""},{"$f":"IF(AP$90=\"\",\"\",IF($AQ$168=0,\"\",IF(AP179=0,\"\",IF(SUM($AO179:$AP179)<$AQ$168,AP179,IF($AQ$168-SUM($AO179)>=AP179,AP179,IF($AQ$168-SUM($AO179)<0,\"\",$AQ$168-SUM($AO179)))))))","v":""},{"$f":"IF(AQ$90=\"\",\"\",IF($AQ$168=0,\"\",IF(AQ179=0,\"\",IF(SUM($AO179:$AQ179)<$AQ$168,AQ179,IF($AQ$168-SUM($AO179:$AP179)>=AQ179,AQ179,IF($AQ$168-SUM($AO179:$AP179)<0,\"\",$AQ$168-SUM($AO179:$AP179)))))))","v":""},{"$f":"IF(AR$90=\"\",\"\",IF($AQ$168=0,\"\",IF(AR179=0,\"\",IF(SUM($AO179:$AR179)<$AQ$168,AR179,IF($AQ$168-SUM($AO179:$AQ179)>=AR179,AR179,IF($AQ$168-SUM($AO179:$AQ179)<0,\"\",$AQ$168-SUM($AO179:$AQ179)))))))","v":""},{"$f":"IF(AS$90=\"\",\"\",IF($AQ$168=0,\"\",IF(AS179=0,\"\",IF(SUM($AO179:$AS179)<$AQ$168,AS179,IF($AQ$168-SUM($AO179:$AR179)>=AS179,AS179,IF($AQ$168-SUM($AO179:$AR179)<0,\"\",$AQ$168-SUM($AO179:$AR179)))))))","v":""},{"$f":"IF(AT$90=\"\",\"\",IF($AQ$168=0,\"\",IF(AT179=0,\"\",IF(SUM($AO179:$AT179)<=$AQ$168,AT179,IF($AQ$168-SUM($AO179:$AS179)>=AT179,AT179,IF($AQ$168-SUM($AO179:$AS179)<0,\"\",$AQ$168-SUM($AO179:$AS179)))))))","v":""},{"$f":"IF(AU$90=\"\",\"\",IF($AQ$168=0,\"\",IF(AU179=0,\"\",IF(SUM($AO179:$AU179)<=$AQ$168,AU179,IF($AQ$168-SUM($AO179:$AT179)>=AU179,AU179,IF($AQ$168-SUM($AO179:$AT179)<0,\"\",$AQ$168-SUM($AO179:$AT179)))))))","v":""},0,null,null,null,null,null,{"$error":"#N/A"}]
["-1",{"$f":"IF(F43=\"\",\"\",F43)","v":""},null,null,null,null,null,"N.Ö",null,null,"Teo",null,{"$f":"IF(M$90=\"\",\"\",IF($Y$159=0,\"\",IF(M180=0,\"\",IF(SUM($M180)>=$Y$159,$Y$159,IF(SUM($M180)<$Y$159,M180,)))))","v":""},{"$f":"IF(N$90=\"\",\"\",IF($Y$159=0,\"\",IF(N180=0,\"\",IF(SUM($M180:$N180)<$Y$159,N180,IF($Y$159-SUM($M180)>=N180,N180,IF($Y$159-SUM($M180)<0,\"\",$Y$159-SUM($M180)))))))","v":""},{"$f":"IF(O$90=\"\",\"\",IF($Y$159=0,\"\",IF(O180=0,\"\",IF(SUM($M180:$O180)<$Y$159,O180,IF($Y$159-SUM($M180:$N180)>=O180,O180,IF($Y$159-SUM($M180:$N180)<0,\"\",$Y$159-SUM($M180:$N180)))))))","v":""},{"$f":"IF(P$90=\"\",\"\",IF($Y$159=0,\"\",IF(P180=0,\"\",IF(SUM($M180:$P180)<$Y$159,P180,IF($Y$159-SUM($M180:$O180)>=P180,P180,IF($Y$159-SUM($M180:$O180)<0,\"\",$Y$159-SUM($M180:$O180)))))))","v":""},{"$f":"IF(Q$90=\"\",\"\",IF($Y$159=0,\"\",IF(Q180=0,\"\",IF(SUM($M180:$Q180)<$Y$159,Q180,IF($Y$159-SUM($M180:$P180)>=Q180,Q180,IF($Y$159-SUM($M180:$P180)<0,\"\",$Y$159-SUM($M180:$P180)))))))","v":""},{"$f":"IF(Q$90=\"\",\"\",IF($Y$159=0,\"\",IF(R180=0,\"\",IF(SUM($M180:$R180)<$Y$159,R180,IF($Y$159-SUM($M180:$Q180)>=R180,R180,IF($Y$159-SUM($M180:$Q180)<0,\"\",$Y$159-SUM($M180:$Q180)))))))","v":""},{"$f":"IF(Q$90=\"\",\"\",IF($Y$159=0,\"\",IF(S180=0,\"\",IF(SUM($M180:$S180)<$Y$159,S180,IF($Y$159-SUM($M180:$R180)>=S180,S180,IF($Y$159-SUM($M180:$R180)<0,\"\",$Y$159-SUM($M180:$R180)))))))","v":""},{"$f":"IF(T$90=\"\",\"\",IF($AD$159=0,\"\",IF(T180=0,\"\",IF(SUM($T180)>=$AD$159,$AD$159,IF(SUM($T180)<$AD$159,T180,)))))","v":""},{"$f":"IF(U$90=\"\",\"\",IF($AD$159=0,\"\",IF(U180=0,\"\",IF(SUM($T180:$U180)<$AD$159,U180,IF($AD$159-SUM($T180)>=U180,U180,IF($AD$159-SUM($T180)<0,\"\",$AD$159-SUM($T180)))))))","v":""},{"$f":"IF(V$90=\"\",\"\",IF($AD$159=0,\"\",IF(V180=0,\"\",IF(SUM($T180:$V180)<$AD$159,V180,IF($AD$159-SUM($T180:$U180)>=V180,V180,IF($AD$159-SUM($T180:$U180)<0,\"\",$AD$159-SUM($T180:$U180)))))))","v":""},{"$f":"IF(W$90=\"\",\"\",IF($AD$159=0,\"\",IF(W180=0,\"\",IF(SUM($T180:$W180)<$AD$159,W180,IF($AD$159-SUM($T180:$V180)>=W180,W180,IF($AD$159-SUM($T180:$V180)<0,\"\",$AD$159-SUM($T180:$V180)))))))","v":""},{"$f":"IF(X$90=\"\",\"\",IF($AD$159=0,\"\",IF(X180=0,\"\",IF(SUM($T180:$X180)<$AD$159,X180,IF($AD$159-SUM($T180:$W180)>=X180,X180,IF($AD$159-SUM($T180:$W180)<0,\"\",$AD$159-SUM($T180:$W180)))))))","v":""},{"$f":"IF(Y$90=\"\",\"\",IF($AD$159=0,\"\",IF(Y180=0,\"\",IF(SUM($T180:$Y180)<$AD$159,Y180,IF($AD$159-SUM($T180:$X180)>=Y180,Y180,IF($AD$159-SUM($T180:$X180)<0,\"\",$AD$159-SUM($T180:$X180)))))))","v":""},{"$f":"IF(Z$90=\"\",\"\",IF($AD$159=0,\"\",IF(Z180=0,\"\",IF(SUM($T180:$Z180)<$AD$159,Z180,IF($AD$159-SUM($T180:$Y180)>=Z180,Z180,IF($AD$159-SUM($T180:$Y180)<0,\"\",$AD$159-SUM($T180:$Y180)))))))","v":""},{"$f":"IF(AA$90=\"\",\"\",IF($AH$159=0,\"\",IF(AA180=0,\"\",IF(SUM(AA180)>=$AH$159,$AH$159,IF(SUM(AA180)<$AH$159,AA180,)))))","v":""},{"$f":"IF(AB$90=\"\",\"\",IF($AH$159=0,\"\",IF(AB180=0,\"\",IF(SUM($AA180:$AB180)<$AH$159,AB180,IF($AH$159-SUM($AA180)>=AB180,AB180,IF($AH$159-SUM($AA180)<0,\"\",$AH$159-SUM($AA180)))))))","v":""},{"$f":"IF(AC$90=\"\",\"\",IF($AH$159=0,\"\",IF(AC180=0,\"\",IF(SUM($AA180:$AC180)<$AH$159,AC180,IF($AH$159-SUM($AA180:$AB180)>=AC180,AC180,IF($AH$159-SUM($AA180:$AB180)<0,\"\",$AH$159-SUM($AA180:$AB180)))))))","v":""},{"$f":"IF(AD$90=\"\",\"\",IF($AH$159=0,\"\",IF(AD180=0,\"\",IF(SUM($AA180:$AD180)<$AH$159,AD180,IF($AH$159-SUM($AA180:$AC180)>=AD180,AD180,IF($AH$159-SUM($AA180:$AC180)<0,\"\",$AH$159-SUM($AA180:$AC180)))))))","v":""},{"$f":"IF(AE$90=\"\",\"\",IF($AH$159=0,\"\",IF(AE180=0,\"\",IF(SUM($AA180:$AE180)<$AH$159,AE180,IF($AH$159-SUM($AA180:$AD180)>=AE180,AE180,IF($AH$159-SUM($AA180:$AD180)<0,\"\",$AH$159-SUM($AA180:$AD180)))))))","v":""},{"$f":"IF(AF$90=\"\",\"\",IF($AH$159=0,\"\",IF(AF180=0,\"\",IF(SUM($AA180:$AF180)<$AH$159,AF180,IF($AH$159-SUM($AA180:$AE180)>=AF180,AF180,IF($AH$159-SUM($AA180:$AE180)<0,\"\",$AH$159-SUM($AA180:$AE180)))))))","v":""},{"$f":"IF(AG$90=\"\",\"\",IF($AH$159=0,\"\",IF(AG180=0,\"\",IF(SUM($AA180:$AG180)<$AH$159,AG180,IF($AH$159-SUM($AA180:$AF180)>=AG180,AG180,IF($AH$159-SUM($AA180:$AF180)<0,\"\",$AH$159-SUM($AA180:$AF180)))))))","v":""},{"$f":"IF(AH$90=\"\",\"\",IF($AM$159=0,\"\",IF(AH180=0,\"\",IF(SUM(AH180)>=$AM$159,$AM$159,IF(SUM(AH180)<$AM$159,AH180,)))))","v":""},{"$f":"IF(AI$90=\"\",\"\",IF($AM$159=0,\"\",IF(AI180=0,\"\",IF(SUM($AH180:$AI180)<$AM$159,AI180,IF($AM$159-SUM($AH180)>=AI180,AI180,IF($AM$159-SUM($AH180)<0,\"\",$AM$159-SUM($AH180)))))))","v":""},{"$f":"IF(AJ$90=\"\",\"\",IF($AM$159=0,\"\",IF(AJ180=0,\"\",IF(SUM($AH180:$AJ180)<$AM$159,AJ180,IF($AM$159-SUM($AH180:$AI180)>=AJ180,AJ180,IF($AM$159-SUM($AH180:$AI180)<0,\"\",$AM$159-SUM($AH180:$AI180)))))))","v":""},{"$f":"IF(AK$90=\"\",\"\",IF($AM$159=0,\"\",IF(AK180=0,\"\",IF(SUM($AH180:$AK180)<$AM$159,AK180,IF($AM$159-SUM($AH180:$AJ180)>=AK180,AK180,IF($AM$159-SUM($AH180:$AJ180)<0,\"\",$AM$159-SUM($AH180:$AJ180)))))))","v":""},{"$f":"IF(AL$90=\"\",\"\",IF($AM$159=0,\"\",IF(AL180=0,\"\",IF(SUM($AH180:$AL180)<$AM$159,AL180,IF($AM$159-SUM($AH180:$AK180)>=AL180,AL180,IF($AM$159-SUM($AH180:$AK180)<0,\"\",$AM$159-SUM($AH180:$AK180)))))))","v":""},{"$f":"IF(AM$90=\"\",\"\",IF($AM$159=0,\"\",IF(AM180=0,\"\",IF(SUM($AH180:$AM180)<$AM$159,AM180,IF($AM$159-SUM($AH180:$AL180)>=AM180,AM180,IF($AM$159-SUM($AH180:$AL180)<0,\"\",$AM$159-SUM($AH180:$AL180)))))))","v":""},{"$f":"IF(AN$90=\"\",\"\",IF($AM$159=0,\"\",IF(AN180=0,\"\",IF(SUM($AH180:$AN180)<$AM$159,AN180,IF($AM$159-SUM($AH180:$AM180)>=AN180,AN180,IF($AM$159-SUM($AH180:$AM180)<0,\"\",$AM$159-SUM($AH180:$AM180)))))))","v":""},{"$f":"IF(AO$90=\"\",\"\",IF($AQ$159=0,\"\",IF(AO180=0,\"\",IF(SUM(AO180)>=$AQ$159,$AQ$159,IF(SUM(AO180)<$AQ$159,AO180,)))))","v":""},{"$f":"IF(AP$90=\"\",\"\",IF($AQ$159=0,\"\",IF(AP180=0,\"\",IF(SUM($AO180:$AP180)<$AQ$159,AP180,IF($AQ$159-SUM($AO180)>=AP180,AP180,IF($AQ$159-SUM($AO180)<0,\"\",$AQ$159-SUM($AO180)))))))","v":""},{"$f":"IF(AQ$90=\"\",\"\",IF($AQ$159=0,\"\",IF(AQ180=0,\"\",IF(SUM($AO180:$AQ180)<$AQ$159,AQ180,IF($AQ$159-SUM($AO180:$AP180)>=AQ180,AQ180,IF($AQ$159-SUM($AO180:$AP180)<0,\"\",$AQ$159-SUM($AO180:$AP180)))))))","v":""},{"$f":"IF(AR$90=\"\",\"\",IF($AQ$159=0,\"\",IF(AR180=0,\"\",IF(SUM($AO180:$AR180)<$AQ$159,AR180,IF($AQ$159-SUM($AO180:$AQ180)>=AR180,AR180,IF($AQ$159-SUM($AO180:$AQ180)<0,\"\",$AQ$159-SUM($AO180:$AQ180)))))))","v":""},{"$f":"IF(AS$90=\"\",\"\",IF($AQ$159=0,\"\",IF(AS180=0,\"\",IF(SUM($AO180:$AS180)<$AQ$159,AS180,IF($AQ$159-SUM($AO180:$AR180)>=AS180,AS180,IF($AQ$159-SUM($AO180:$AR180)<0,\"\",$AQ$159-SUM($AO180:$AR180)))))))","v":""},{"$f":"IF(AT$90=\"\",\"\",IF($AQ$159=0,\"\",IF(AT180=0,\"\",IF(SUM($AO180:$AT180)<=$AQ$159,AT180,IF($AQ$159-SUM($AO180:$AS180)>=AT180,AT180,IF($AQ$159-SUM($AO180:$AS180)<0,\"\",$AQ$159-SUM($AO180:$AS180)))))))","v":""},{"$f":"IF(AU$90=\"\",\"\",IF($AQ$159=0,\"\",IF(AU180=0,\"\",IF(SUM($AO180:$AU180)<=$AQ$159,AU180,IF($AQ$159-SUM($AO180:$AT180)>=AU180,AU180,IF($AQ$159-SUM($AO180:$AT180)<0,\"\",$AQ$159-SUM($AO180:$AT180)))))))","v":""},0,null,{"$f":"SUM(AV133:AW134)","v":0},null,null,null,""]
[{"$f":"CONCATENATE(BB133,\"-2\")","v":"-2"},null,null,null,null,null,null,null,null,null,"DF",null,{"$f":"IF(M$90=\"\",\"\",IF($Y$169=0,\"\",IF(M181=0,\"\",IF(SUM($M181)>=$Y$169,$Y$169,IF(SUM($M181)<$Y$169,M181,)))))","v":""},{"$f":"IF(N$90=\"\",\"\",IF($Y$169=0,\"\",IF(N181=0,\"\",IF(SUM($M181:$N181)<$Y$169,N181,IF($Y$169-SUM($M181)>=N181,N181,IF($Y$169-SUM($M181)<0,\"\",$Y$169-SUM($M181)))))))","v":""},{"$f":"IF(O$90=\"\",\"\",IF($Y$169=0,\"\",IF(O181=0,\"\",IF(SUM($M181:$O181)<$Y$169,O181,IF($Y$169-SUM($M181:$N181)>=O181,O181,IF($Y$169-SUM($M181:$N181)<0,\"\",$Y$169-SUM($M181:$N181)))))))","v":""},{"$f":"IF(P$90=\"\",\"\",IF($Y$169=0,\"\",IF(P181=0,\"\",IF(SUM($M181:$P181)<$Y$169,P181,IF($Y$169-SUM($M181:$O181)>=P181,P181,IF($Y$169-SUM($M181:$O181)<0,\"\",$Y$169-SUM($M181:$O181)))))))","v":""},{"$f":"IF(Q$90=\"\",\"\",IF($Y$169=0,\"\",IF(Q181=0,\"\",IF(SUM($M181:$Q181)<$Y$169,Q181,IF($Y$169-SUM($M181:$P181)>=Q181,Q181,IF($Y$169-SUM($M181:$P181)<0,\"\",$Y$169-SUM($M181:$P181)))))))","v":""},{"$f":"IF(Q$90=\"\",\"\",IF($Y$169=0,\"\",IF(R181=0,\"\",IF(SUM($M181:$R181)<$Y$169,R181,IF($Y$169-SUM($M181:$Q181)>=R181,R181,IF($Y$169-SUM($M181:$Q181)<0,\"\",$Y$169-SUM($M181:$Q181)))))))","v":""},{"$f":"IF(Q$90=\"\",\"\",IF($Y$169=0,\"\",IF(S181=0,\"\",IF(SUM($M181:$S181)<$Y$169,S181,IF($Y$169-SUM($M181:$R181)>=S181,S181,IF($Y$169-SUM($M181:$R181)<0,\"\",$Y$169-SUM($M181:$R181)))))))","v":""},{"$f":"IF(T$90=\"\",\"\",IF($AD$169=0,\"\",IF(T181=0,\"\",IF(SUM($T181)>=$AD$169,$AD$169,IF(SUM($T181)<$AD$169,T181,)))))","v":""},{"$f":"IF(U$90=\"\",\"\",IF($AD$169=0,\"\",IF(U181=0,\"\",IF(SUM($T181:$U181)<$AD$169,U181,IF($AD$169-SUM($T181)>=U181,U181,IF($AD$169-SUM($T181)<0,\"\",$AD$169-SUM($T181)))))))","v":""},{"$f":"IF(V$90=\"\",\"\",IF($AD$169=0,\"\",IF(V181=0,\"\",IF(SUM($T181:$V181)<$AD$169,V181,IF($AD$169-SUM($T181:$U181)>=V181,V181,IF($AD$169-SUM($T181:$U181)<0,\"\",$AD$169-SUM($T181:$U181)))))))","v":""},{"$f":"IF(W$90=\"\",\"\",IF($AD$169=0,\"\",IF(W181=0,\"\",IF(SUM($T181:$W181)<$AD$169,W181,IF($AD$169-SUM($T181:$V181)>=W181,W181,IF($AD$169-SUM($T181:$V181)<0,\"\",$AD$169-SUM($T181:$V181)))))))","v":""},{"$f":"IF(X$90=\"\",\"\",IF($AD$169=0,\"\",IF(X181=0,\"\",IF(SUM($T181:$X181)<$AD$169,X181,IF($AD$169-SUM($T181:$W181)>=X181,X181,IF($AD$169-SUM($T181:$W181)<0,\"\",$AD$169-SUM($T181:$W181)))))))","v":""},{"$f":"IF(Y$90=\"\",\"\",IF($AD$169=0,\"\",IF(Y181=0,\"\",IF(SUM($T181:$Y181)<$AD$169,Y181,IF($AD$169-SUM($T181:$X181)>=Y181,Y181,IF($AD$169-SUM($T181:$X181)<0,\"\",$AD$169-SUM($T181:$X181)))))))","v":""},{"$f":"IF(Z$90=\"\",\"\",IF($AD$169=0,\"\",IF(Z181=0,\"\",IF(SUM($T181:$Z181)<$AD$169,Z181,IF($AD$169-SUM($T181:$Y181)>=Z181,Z181,IF($AD$169-SUM($T181:$Y181)<0,\"\",$AD$169-SUM($T181:$Y181)))))))","v":""},{"$f":"IF(AA$90=\"\",\"\",IF($AH$169=0,\"\",IF(AA181=0,\"\",IF(SUM(AA181)>=$AH$169,$AH$169,IF(SUM(AA181)<$AH$169,AA181,)))))","v":""},{"$f":"IF(AB$90=\"\",\"\",IF($AH$169=0,\"\",IF(AB181=0,\"\",IF(SUM($AA181:$AB181)<$AH$169,AB181,IF($AH$169-SUM($AA181)>=AB181,AB181,IF($AH$169-SUM($AA181)<0,\"\",$AH$169-SUM($AA181)))))))","v":""},{"$f":"IF(AC$90=\"\",\"\",IF($AH$169=0,\"\",IF(AC181=0,\"\",IF(SUM($AA181:$AC181)<$AH$169,AC181,IF($AH$169-SUM($AA181:$AB181)>=AC181,AC181,IF($AH$169-SUM($AA181:$AB181)<0,\"\",$AH$169-SUM($AA181:$AB181)))))))","v":""},{"$f":"IF(AD$90=\"\",\"\",IF($AH$169=0,\"\",IF(AD181=0,\"\",IF(SUM($AA181:$AD181)<$AH$169,AD181,IF($AH$169-SUM($AA181:$AC181)>=AD181,AD181,IF($AH$169-SUM($AA181:$AC181)<0,\"\",$AH$169-SUM($AA181:$AC181)))))))","v":""},{"$f":"IF(AE$90=\"\",\"\",IF($AH$169=0,\"\",IF(AE181=0,\"\",IF(SUM($AA181:$AE181)<$AH$169,AE181,IF($AH$169-SUM($AA181:$AD181)>=AE181,AE181,IF($AH$169-SUM($AA181:$AD181)<0,\"\",$AH$169-SUM($AA181:$AD181)))))))","v":""},{"$f":"IF(AF$90=\"\",\"\",IF($AH$169=0,\"\",IF(AF181=0,\"\",IF(SUM($AA181:$AF181)<$AH$169,AF181,IF($AH$169-SUM($AA181:$AE181)>=AF181,AF181,IF($AH$169-SUM($AA181:$AE181)<0,\"\",$AH$169-SUM($AA181:$AE181)))))))","v":""},{"$f":"IF(AG$90=\"\",\"\",IF($AH$169=0,\"\",IF(AG181=0,\"\",IF(SUM($AA181:$AG181)<$AH$169,AG181,IF($AH$169-SUM($AA181:$AF181)>=AG181,AG181,IF($AH$169-SUM($AA181:$AF181)<0,\"\",$AH$169-SUM($AA181:$AF181)))))))","v":""},{"$f":"IF(AH$90=\"\",\"\",IF($AM$169=0,\"\",IF(AH181=0,\"\",IF(SUM(AH181)>=$AM$169,$AM$169,IF(SUM(AH181)<$AM$169,AH181,)))))","v":""},{"$f":"IF(AI$90=\"\",\"\",IF($AM$169=0,\"\",IF(AI181=0,\"\",IF(SUM($AH181:$AI181)<$AM$169,AI181,IF($AM$169-SUM($AH181)>=AI181,AI181,IF($AM$169-SUM($AH181)<0,\"\",$AM$169-SUM($AH181)))))))","v":""},{"$f":"IF(AJ$90=\"\",\"\",IF($AM$169=0,\"\",IF(AJ181=0,\"\",IF(SUM($AH181:$AJ181)<$AM$169,AJ181,IF($AM$169-SUM($AH181:$AI181)>=AJ181,AJ181,IF($AM$169-SUM($AH181:$AI181)<0,\"\",$AM$169-SUM($AH181:$AI181)))))))","v":""},{"$f":"IF(AK$90=\"\",\"\",IF($AM$169=0,\"\",IF(AK181=0,\"\",IF(SUM($AH181:$AK181)<$AM$169,AK181,IF($AM$169-SUM($AH181:$AJ181)>=AK181,AK181,IF($AM$169-SUM($AH181:$AJ181)<0,\"\",$AM$169-SUM($AH181:$AJ181)))))))","v":""},{"$f":"IF(AL$90=\"\",\"\",IF($AM$169=0,\"\",IF(AL181=0,\"\",IF(SUM($AH181:$AL181)<$AM$169,AL181,IF($AM$169-SUM($AH181:$AK181)>=AL181,AL181,IF($AM$169-SUM($AH181:$AK181)<0,\"\",$AM$169-SUM($AH181:$AK181)))))))","v":""},{"$f":"IF(AM$90=\"\",\"\",IF($AM$169=0,\"\",IF(AM181=0,\"\",IF(SUM($AH181:$AM181)<$AM$169,AM181,IF($AM$169-SUM($AH181:$AL181)>=AM181,AM181,IF($AM$169-SUM($AH181:$AL181)<0,\"\",$AM$169-SUM($AH181:$AL181)))))))","v":""},{"$f":"IF(AN$90=\"\",\"\",IF($AM$169=0,\"\",IF(AN181=0,\"\",IF(SUM($AH181:$AN181)<$AM$169,AN181,IF($AM$169-SUM($AH181:$AM181)>=AN181,AN181,IF($AM$169-SUM($AH181:$AM181)<0,\"\",$AM$169-SUM($AH181:$AM181)))))))","v":""},{"$f":"IF(AO$90=\"\",\"\",IF($AQ$169=0,\"\",IF(AO181=0,\"\",IF(SUM(AO181)>=$AQ$169,$AQ$169,IF(SUM(AO181)<$AQ$169,AO181,)))))","v":""},{"$f":"IF(AP$90=\"\",\"\",IF($AQ$169=0,\"\",IF(AP181=0,\"\",IF(SUM($AO181:$AP181)<$AQ$169,AP181,IF($AQ$169-SUM($AO181)>=AP181,AP181,IF($AQ$169-SUM($AO181)<0,\"\",$AQ$169-SUM($AO181)))))))","v":""},{"$f":"IF(AQ$90=\"\",\"\",IF($AQ$169=0,\"\",IF(AQ181=0,\"\",IF(SUM($AO181:$AQ181)<$AQ$169,AQ181,IF($AQ$169-SUM($AO181:$AP181)>=AQ181,AQ181,IF($AQ$169-SUM($AO181:$AP181)<0,\"\",$AQ$169-SUM($AO181:$AP181)))))))","v":""},{"$f":"IF(AR$90=\"\",\"\",IF($AQ$169=0,\"\",IF(AR181=0,\"\",IF(SUM($AO181:$AR181)<$AQ$169,AR181,IF($AQ$169-SUM($AO181:$AQ181)>=AR181,AR181,IF($AQ$169-SUM($AO181:$AQ181)<0,\"\",$AQ$169-SUM($AO181:$AQ181)))))))","v":""},{"$f":"IF(AS$90=\"\",\"\",IF($AQ$169=0,\"\",IF(AS181=0,\"\",IF(SUM($AO181:$AS181)<$AQ$169,AS181,IF($AQ$169-SUM($AO181:$AR181)>=AS181,AS181,IF($AQ$169-SUM($AO181:$AR181)<0,\"\",$AQ$169-SUM($AO181:$AR181)))))))","v":""},{"$f":"IF(AT$90=\"\",\"\",IF($AQ$169=0,\"\",IF(AT181=0,\"\",IF(SUM($AO181:$AT181)<=$AQ$169,AT181,IF($AQ$169-SUM($AO181:$AS181)>=AT181,AT181,IF($AQ$169-SUM($AO181:$AS181)<0,\"\",$AQ$169-SUM($AO181:$AS181)))))))","v":""},{"$f":"IF(AU$90=\"\",\"\",IF($AQ$169=0,\"\",IF(AU181=0,\"\",IF(SUM($AO181:$AU181)<=$AQ$169,AU181,IF($AQ$169-SUM($AO181:$AT181)>=AU181,AU181,IF($AQ$169-SUM($AO181:$AT181)<0,\"\",$AQ$169-SUM($AO181:$AT181)))))))","v":""},0,null,null,null,null,null,{"$error":"#N/A"}]
["-1",{"$f":"IF(F44=\"\",\"\",F44)","v":""},null,null,null,null,null,"N.Ö",null,null,"Teo",null,{"$f":"IF(M$90=\"\",\"\",IF($Y$160=0,\"\",IF(M182=0,\"\",IF(SUM($M182)>=$Y$160,$Y$160,IF(SUM($M182)<$Y$160,M182,)))))","v":""},{"$f":"IF(N$90=\"\",\"\",IF($Y$160=0,\"\",IF(N182=0,\"\",IF(SUM($M182:$N182)<$Y$160,N182,IF($Y$160-SUM($M182)>=N182,N182,IF($Y$160-SUM($M182)<0,\"\",$Y$160-SUM($M182)))))))","v":""},{"$f":"IF(O$90=\"\",\"\",IF($Y$160=0,\"\",IF(O182=0,\"\",IF(SUM($M182:$O182)<$Y$160,O182,IF($Y$160-SUM($M182:$N182)>=O182,O182,IF($Y$160-SUM($M182:$N182)<0,\"\",$Y$160-SUM($M182:$N182)))))))","v":""},{"$f":"IF(P$90=\"\",\"\",IF($Y$160=0,\"\",IF(P182=0,\"\",IF(SUM($M182:$P182)<$Y$160,P182,IF($Y$160-SUM($M182:$O182)>=P182,P182,IF($Y$160-SUM($M182:$O182)<0,\"\",$Y$160-SUM($M182:$O182)))))))","v":""},{"$f":"IF(Q$90=\"\",\"\",IF($Y$160=0,\"\",IF(Q182=0,\"\",IF(SUM($M182:$Q182)<$Y$160,Q182,IF($Y$160-SUM($M182:$P182)>=Q182,Q182,IF($Y$160-SUM($M182:$P182)<0,\"\",$Y$160-SUM($M182:$P182)))))))","v":""},{"$f":"IF(Q$90=\"\",\"\",IF($Y$160=0,\"\",IF(R182=0,\"\",IF(SUM($M182:$R182)<$Y$160,R182,IF($Y$160-SUM($M182:$Q182)>=R182,R182,IF($Y$160-SUM($M182:$Q182)<0,\"\",$Y$160-SUM($M182:$Q182)))))))","v":""},{"$f":"IF(Q$90=\"\",\"\",IF($Y$160=0,\"\",IF(S182=0,\"\",IF(SUM($M182:$S182)<$Y$160,S182,IF($Y$160-SUM($M182:$R182)>=S182,S182,IF($Y$160-SUM($M182:$R182)<0,\"\",$Y$160-SUM($M182:$R182)))))))","v":""},{"$f":"IF(T$90=\"\",\"\",IF($AD$160=0,\"\",IF(T182=0,\"\",IF(SUM($T182)>=$AD$160,$AD$160,IF(SUM($T182)<$AD$160,T182,)))))","v":""},{"$f":"IF(U$90=\"\",\"\",IF($AD$160=0,\"\",IF(U182=0,\"\",IF(SUM($T182:$U182)<$AD$160,U182,IF($AD$160-SUM($T182)>=U182,U182,IF($AD$160-SUM($T182)<0,\"\",$AD$160-SUM($T182)))))))","v":""},{"$f":"IF(V$90=\"\",\"\",IF($AD$160=0,\"\",IF(V182=0,\"\",IF(SUM($T182:$V182)<$AD$160,V182,IF($AD$160-SUM($T182:$U182)>=V182,V182,IF($AD$160-SUM($T182:$U182)<0,\"\",$AD$160-SUM($T182:$U182)))))))","v":""},{"$f":"IF(W$90=\"\",\"\",IF($AD$160=0,\"\",IF(W182=0,\"\",IF(SUM($T182:$W182)<$AD$160,W182,IF($AD$160-SUM($T182:$V182)>=W182,W182,IF($AD$160-SUM($T182:$V182)<0,\"\",$AD$160-SUM($T182:$V182)))))))","v":""},{"$f":"IF(X$90=\"\",\"\",IF($AD$160=0,\"\",IF(X182=0,\"\",IF(SUM($T182:$X182)<$AD$160,X182,IF($AD$160-SUM($T182:$W182)>=X182,X182,IF($AD$160-SUM($T182:$W182)<0,\"\",$AD$160-SUM($T182:$W182)))))))","v":""},{"$f":"IF(Y$90=\"\",\"\",IF($AD$160=0,\"\",IF(Y182=0,\"\",IF(SUM($T182:$Y182)<$AD$160,Y182,IF($AD$160-SUM($T182:$X182)>=Y182,Y182,IF($AD$160-SUM($T182:$X182)<0,\"\",$AD$160-SUM($T182:$X182)))))))","v":""},{"$f":"IF(Z$90=\"\",\"\",IF($AD$160=0,\"\",IF(Z182=0,\"\",IF(SUM($T182:$Z182)<$AD$160,Z182,IF($AD$160-SUM($T182:$Y182)>=Z182,Z182,IF($AD$160-SUM($T182:$Y182)<0,\"\",$AD$160-SUM($T182:$Y182)))))))","v":""},{"$f":"IF(AA$90=\"\",\"\",IF($AH$160=0,\"\",IF(AA182=0,\"\",IF(SUM(AA182)>=$AH$160,$AH$160,IF(SUM(AA182)<$AH$160,AA182,)))))","v":""},{"$f":"IF(AB$90=\"\",\"\",IF($AH$160=0,\"\",IF(AB182=0,\"\",IF(SUM($AA182:$AB182)<$AH$160,AB182,IF($AH$160-SUM($AA182)>=AB182,AB182,IF($AH$160-SUM($AA182)<0,\"\",$AH$160-SUM($AA182)))))))","v":""},{"$f":"IF(AC$90=\"\",\"\",IF($AH$160=0,\"\",IF(AC182=0,\"\",IF(SUM($AA182:$AC182)<$AH$160,AC182,IF($AH$160-SUM($AA182:$AB182)>=AC182,AC182,IF($AH$160-SUM($AA182:$AB182)<0,\"\",$AH$160-SUM($AA182:$AB182)))))))","v":""},{"$f":"IF(AD$90=\"\",\"\",IF($AH$160=0,\"\",IF(AD182=0,\"\",IF(SUM($AA182:$AD182)<$AH$160,AD182,IF($AH$160-SUM($AA182:$AC182)>=AD182,AD182,IF($AH$160-SUM($AA182:$AC182)<0,\"\",$AH$160-SUM($AA182:$AC182)))))))","v":""},{"$f":"IF(AE$90=\"\",\"\",IF($AH$160=0,\"\",IF(AE182=0,\"\",IF(SUM($AA182:$AE182)<$AH$160,AE182,IF($AH$160-SUM($AA182:$AD182)>=AE182,AE182,IF($AH$160-SUM($AA182:$AD182)<0,\"\",$AH$160-SUM($AA182:$AD182)))))))","v":""},{"$f":"IF(AF$90=\"\",\"\",IF($AH$160=0,\"\",IF(AF182=0,\"\",IF(SUM($AA182:$AF182)<$AH$160,AF182,IF($AH$160-SUM($AA182:$AE182)>=AF182,AF182,IF($AH$160-SUM($AA182:$AE182)<0,\"\",$AH$160-SUM($AA182:$AE182)))))))","v":""},{"$f":"IF(AG$90=\"\",\"\",IF($AH$160=0,\"\",IF(AG182=0,\"\",IF(SUM($AA182:$AG182)<$AH$160,AG182,IF($AH$160-SUM($AA182:$AF182)>=AG182,AG182,IF($AH$160-SUM($AA182:$AF182)<0,\"\",$AH$160-SUM($AA182:$AF182)))))))","v":""},{"$f":"IF(AH$90=\"\",\"\",IF($AM$160=0,\"\",IF(AH182=0,\"\",IF(SUM(AH182)>=$AM$160,$AM$160,IF(SUM(AH182)<$AM$160,AH182,)))))","v":""},{"$f":"IF(AI$90=\"\",\"\",IF($AM$160=0,\"\",IF(AI182=0,\"\",IF(SUM($AH182:$AI182)<$AM$160,AI182,IF($AM$160-SUM($AH182)>=AI182,AI182,IF($AM$160-SUM($AH182)<0,\"\",$AM$160-SUM($AH182)))))))","v":""},{"$f":"IF(AJ$90=\"\",\"\",IF($AM$160=0,\"\",IF(AJ182=0,\"\",IF(SUM($AH182:$AJ182)<$AM$160,AJ182,IF($AM$160-SUM($AH182:$AI182)>=AJ182,AJ182,IF($AM$160-SUM($AH182:$AI182)<0,\"\",$AM$160-SUM($AH182:$AI182)))))))","v":""},{"$f":"IF(AK$90=\"\",\"\",IF($AM$160=0,\"\",IF(AK182=0,\"\",IF(SUM($AH182:$AK182)<$AM$160,AK182,IF($AM$160-SUM($AH182:$AJ182)>=AK182,AK182,IF($AM$160-SUM($AH182:$AJ182)<0,\"\",$AM$160-SUM($AH182:$AJ182)))))))","v":""},{"$f":"IF(AL$90=\"\",\"\",IF($AM$160=0,\"\",IF(AL182=0,\"\",IF(SUM($AH182:$AL182)<$AM$160,AL182,IF($AM$160-SUM($AH182:$AK182)>=AL182,AL182,IF($AM$160-SUM($AH182:$AK182)<0,\"\",$AM$160-SUM($AH182:$AK182)))))))","v":""},{"$f":"IF(AM$90=\"\",\"\",IF($AM$160=0,\"\",IF(AM182=0,\"\",IF(SUM($AH182:$AM182)<$AM$160,AM182,IF($AM$160-SUM($AH182:$AL182)>=AM182,AM182,IF($AM$160-SUM($AH182:$AL182)<0,\"\",$AM$160-SUM($AH182:$AL182)))))))","v":""},{"$f":"IF(AN$90=\"\",\"\",IF($AM$160=0,\"\",IF(AN182=0,\"\",IF(SUM($AH182:$AN182)<$AM$160,AN182,IF($AM$160-SUM($AH182:$AM182)>=AN182,AN182,IF($AM$160-SUM($AH182:$AM182)<0,\"\",$AM$160-SUM($AH182:$AM182)))))))","v":""},{"$f":"IF(AO$90=\"\",\"\",IF($AQ$160=0,\"\",IF(AO182=0,\"\",IF(SUM(AO182)>=$AQ$160,$AQ$160,IF(SUM(AO182)<$AQ$160,AO182,)))))","v":""},{"$f":"IF(AP$90=\"\",\"\",IF($AQ$160=0,\"\",IF(AP182=0,\"\",IF(SUM($AO182:$AP182)<$AQ$160,AP182,IF($AQ$160-SUM($AO182)>=AP182,AP182,IF($AQ$160-SUM($AO182)<0,\"\",$AQ$160-SUM($AO182)))))))","v":""},{"$f":"IF(AQ$90=\"\",\"\",IF($AQ$160=0,\"\",IF(AQ182=0,\"\",IF(SUM($AO182:$AQ182)<$AQ$160,AQ182,IF($AQ$160-SUM($AO182:$AP182)>=AQ182,AQ182,IF($AQ$160-SUM($AO182:$AP182)<0,\"\",$AQ$160-SUM($AO182:$AP182)))))))","v":""},{"$f":"IF(AR$90=\"\",\"\",IF($AQ$160=0,\"\",IF(AR182=0,\"\",IF(SUM($AO182:$AR182)<$AQ$160,AR182,IF($AQ$160-SUM($AO182:$AQ182)>=AR182,AR182,IF($AQ$160-SUM($AO182:$AQ182)<0,\"\",$AQ$160-SUM($AO182:$AQ182)))))))","v":""},{"$f":"IF(AS$90=\"\",\"\",IF($AQ$160=0,\"\",IF(AS182=0,\"\",IF(SUM($AO182:$AS182)<$AQ$160,AS182,IF($AQ$160-SUM($AO182:$AR182)>=AS182,AS182,IF($AQ$160-SUM($AO182:$AR182)<0,\"\",$AQ$160-SUM($AO182:$AR182)))))))","v":""},{"$f":"IF(AT$90=\"\",\"\",IF($AQ$160=0,\"\",IF(AT182=0,\"\",IF(SUM($AO182:$AT182)<=$AQ$160,AT182,IF($AQ$160-SUM($AO182:$AS182)>=AT182,AT182,IF($AQ$160-SUM($AO182:$AS182)<0,\"\",$AQ$160-SUM($AO182:$AS182)))))))","v":""},{"$f":"IF(AU$90=\"\",\"\",IF($AQ$160=0,\"\",IF(AU182=0,\"\",IF(SUM($AO182:$AU182)<=$AQ$160,AU182,IF($AQ$160-SUM($AO182:$AT182)>=AU182,AU182,IF($AQ$160-SUM($AO182:$AT182)<0,\"\",$AQ$160-SUM($AO182:$AT182)))))))","v":""},0,null,{"$f":"SUM(AV135:AW136)","v":0},null,null,null,""]
[{"$f":"CONCATENATE(BB135,\"-2\")","v":"-2"},null,null,null,null,null,null,null,null,null,"DF",null,{"$f":"IF(M$90=\"\",\"\",IF($Y$170=0,\"\",IF(M183=0,\"\",IF(SUM($M183)>=$Y$170,$Y$170,IF(SUM($M183)<$Y$170,M183,)))))","v":""},{"$f":"IF(N$90=\"\",\"\",IF($Y$170=0,\"\",IF(N183=0,\"\",IF(SUM($M183:$N183)<$Y$170,N183,IF($Y$170-SUM($M183)>=N183,N183,IF($Y$170-SUM($M183)<0,\"\",$Y$170-SUM($M183)))))))","v":""},{"$f":"IF(O$90=\"\",\"\",IF($Y$170=0,\"\",IF(O183=0,\"\",IF(SUM($M183:$O183)<$Y$170,O183,IF($Y$170-SUM($M183:$N183)>=O183,O183,IF($Y$170-SUM($M183:$N183)<0,\"\",$Y$170-SUM($M183:$N183)))))))","v":""},{"$f":"IF(P$90=\"\",\"\",IF($Y$170=0,\"\",IF(P183=0,\"\",IF(SUM($M183:$P183)<$Y$170,P183,IF($Y$170-SUM($M183:$O183)>=P183,P183,IF($Y$170-SUM($M183:$O183)<0,\"\",$Y$170-SUM($M183:$O183)))))))","v":""},{"$f":"IF(Q$90=\"\",\"\",IF($Y$170=0,\"\",IF(Q183=0,\"\",IF(SUM($M183:$Q183)<$Y$170,Q183,IF($Y$170-SUM($M183:$P183)>=Q183,Q183,IF($Y$170-SUM($M183:$P183)<0,\"\",$Y$170-SUM($M183:$P183)))))))","v":""},{"$f":"IF(Q$90=\"\",\"\",IF($Y$170=0,\"\",IF(R183=0,\"\",IF(SUM($M183:$R183)<$Y$170,R183,IF($Y$170-SUM($M183:$Q183)>=R183,R183,IF($Y$170-SUM($M183:$Q183)<0,\"\",$Y$170-SUM($M183:$Q183)))))))","v":""},{"$f":"IF(Q$90=\"\",\"\",IF($Y$170=0,\"\",IF(S183=0,\"\",IF(SUM($M183:$S183)<$Y$170,S183,IF($Y$170-SUM($M183:$R183)>=S183,S183,IF($Y$170-SUM($M183:$R183)<0,\"\",$Y$170-SUM($M183:$R183)))))))","v":""},{"$f":"IF(T$90=\"\",\"\",IF($AD$170=0,\"\",IF(T183=0,\"\",IF(SUM($T183)>=$AD$170,$AD$170,IF(SUM($T183)<$AD$170,T183,)))))","v":""},{"$f":"IF(U$90=\"\",\"\",IF($AD$170=0,\"\",IF(U183=0,\"\",IF(SUM($T183:$U183)<$AD$170,U183,IF($AD$170-SUM($T183)>=U183,U183,IF($AD$170-SUM($T183)<0,\"\",$AD$170-SUM($T183)))))))","v":""},{"$f":"IF(V$90=\"\",\"\",IF($AD$170=0,\"\",IF(V183=0,\"\",IF(SUM($T183:$V183)<$AD$170,V183,IF($AD$170-SUM($T183:$U183)>=V183,V183,IF($AD$170-SUM($T183:$U183)<0,\"\",$AD$170-SUM($T183:$U183)))))))","v":""},{"$f":"IF(W$90=\"\",\"\",IF($AD$170=0,\"\",IF(W183=0,\"\",IF(SUM($T183:$W183)<$AD$170,W183,IF($AD$170-SUM($T183:$V183)>=W183,W183,IF($AD$170-SUM($T183:$V183)<0,\"\",$AD$170-SUM($T183:$V183)))))))","v":""},{"$f":"IF(X$90=\"\",\"\",IF($AD$170=0,\"\",IF(X183=0,\"\",IF(SUM($T183:$X183)<$AD$170,X183,IF($AD$170-SUM($T183:$W183)>=X183,X183,IF($AD$170-SUM($T183:$W183)<0,\"\",$AD$170-SUM($T183:$W183)))))))","v":""},{"$f":"IF(Y$90=\"\",\"\",IF($AD$170=0,\"\",IF(Y183=0,\"\",IF(SUM($T183:$Y183)<$AD$170,Y183,IF($AD$170-SUM($T183:$X183)>=Y183,Y183,IF($AD$170-SUM($T183:$X183)<0,\"\",$AD$170-SUM($T183:$X183)))))))","v":""},{"$f":"IF(Z$90=\"\",\"\",IF($AD$170=0,\"\",IF(Z183=0,\"\",IF(SUM($T183:$Z183)<$AD$170,Z183,IF($AD$170-SUM($T183:$Y183)>=Z183,Z183,IF($AD$170-SUM($T183:$Y183)<0,\"\",$AD$170-SUM($T183:$Y183)))))))","v":""},{"$f":"IF(AA$90=\"\",\"\",IF($AH$170=0,\"\",IF(AA183=0,\"\",IF(SUM(AA183)>=$AH$170,$AH$170,IF(SUM(AA183)<$AH$170,AA183,)))))","v":""},{"$f":"IF(AB$90=\"\",\"\",IF($AH$170=0,\"\",IF(AB183=0,\"\",IF(SUM($AA183:$AB183)<$AH$170,AB183,IF($AH$170-SUM($AA183)>=AB183,AB183,IF($AH$170-SUM($AA183)<0,\"\",$AH$170-SUM($AA183)))))))","v":""},{"$f":"IF(AC$90=\"\",\"\",IF($AH$170=0,\"\",IF(AC183=0,\"\",IF(SUM($AA183:$AC183)<$AH$170,AC183,IF($AH$170-SUM($AA183:$AB183)>=AC183,AC183,IF($AH$170-SUM($AA183:$AB183)<0,\"\",$AH$170-SUM($AA183:$AB183)))))))","v":""},{"$f":"IF(AD$90=\"\",\"\",IF($AH$170=0,\"\",IF(AD183=0,\"\",IF(SUM($AA183:$AD183)<$AH$170,AD183,IF($AH$170-SUM($AA183:$AC183)>=AD183,AD183,IF($AH$170-SUM($AA183:$AC183)<0,\"\",$AH$170-SUM($AA183:$AC183)))))))","v":""},{"$f":"IF(AE$90=\"\",\"\",IF($AH$170=0,\"\",IF(AE183=0,\"\",IF(SUM($AA183:$AE183)<$AH$170,AE183,IF($AH$170-SUM($AA183:$AD183)>=AE183,AE183,IF($AH$170-SUM($AA183:$AD183)<0,\"\",$AH$170-SUM($AA183:$AD183)))))))","v":""},{"$f":"IF(AF$90=\"\",\"\",IF($AH$170=0,\"\",IF(AF183=0,\"\",IF(SUM($AA183:$AF183)<$AH$170,AF183,IF($AH$170-SUM($AA183:$AE183)>=AF183,AF183,IF($AH$170-SUM($AA183:$AE183)<0,\"\",$AH$170-SUM($AA183:$AE183)))))))","v":""},{"$f":"IF(AG$90=\"\",\"\",IF($AH$170=0,\"\",IF(AG183=0,\"\",IF(SUM($AA183:$AG183)<$AH$170,AG183,IF($AH$170-SUM($AA183:$AF183)>=AG183,AG183,IF($AH$170-SUM($AA183:$AF183)<0,\"\",$AH$170-SUM($AA183:$AF183)))))))","v":""},{"$f":"IF(AH$90=\"\",\"\",IF($AM$170=0,\"\",IF(AH183=0,\"\",IF(SUM(AH183)>=$AM$170,$AM$170,IF(SUM(AH183)<$AM$170,AH183,)))))","v":""},{"$f":"IF(AI$90=\"\",\"\",IF($AM$170=0,\"\",IF(AI183=0,\"\",IF(SUM($AH183:$AI183)<$AM$170,AI183,IF($AM$170-SUM($AH183)>=AI183,AI183,IF($AM$170-SUM($AH183)<0,\"\",$AM$170-SUM($AH183)))))))","v":""},{"$f":"IF(AJ$90=\"\",\"\",IF($AM$170=0,\"\",IF(AJ183=0,\"\",IF(SUM($AH183:$AJ183)<$AM$170,AJ183,IF($AM$170-SUM($AH183:$AI183)>=AJ183,AJ183,IF($AM$170-SUM($AH183:$AI183)<0,\"\",$AM$170-SUM($AH183:$AI183)))))))","v":""},{"$f":"IF(AK$90=\"\",\"\",IF($AM$170=0,\"\",IF(AK183=0,\"\",IF(SUM($AH183:$AK183)<$AM$170,AK183,IF($AM$170-SUM($AH183:$AJ183)>=AK183,AK183,IF($AM$170-SUM($AH183:$AJ183)<0,\"\",$AM$170-SUM($AH183:$AJ183)))))))","v":""},{"$f":"IF(AL$90=\"\",\"\",IF($AM$170=0,\"\",IF(AL183=0,\"\",IF(SUM($AH183:$AL183)<$AM$170,AL183,IF($AM$170-SUM($AH183:$AK183)>=AL183,AL183,IF($AM$170-SUM($AH183:$AK183)<0,\"\",$AM$170-SUM($AH183:$AK183)))))))","v":""},{"$f":"IF(AM$90=\"\",\"\",IF($AM$170=0,\"\",IF(AM183=0,\"\",IF(SUM($AH183:$AM183)<$AM$170,AM183,IF($AM$170-SUM($AH183:$AL183)>=AM183,AM183,IF($AM$170-SUM($AH183:$AL183)<0,\"\",$AM$170-SUM($AH183:$AL183)))))))","v":""},{"$f":"IF(AN$90=\"\",\"\",IF($AM$170=0,\"\",IF(AN183=0,\"\",IF(SUM($AH183:$AN183)<$AM$170,AN183,IF($AM$170-SUM($AH183:$AM183)>=AN183,AN183,IF($AM$170-SUM($AH183:$AM183)<0,\"\",$AM$170-SUM($AH183:$AM183)))))))","v":""},{"$f":"IF(AO$90=\"\",\"\",IF($AQ$170=0,\"\",IF(AO183=0,\"\",IF(SUM(AO183)>=$AQ$170,$AQ$170,IF(SUM(AO183)<$AQ$170,AO183,)))))","v":""},{"$f":"IF(AP$90=\"\",\"\",IF($AQ$170=0,\"\",IF(AP183=0,\"\",IF(SUM($AO183:$AP183)<$AQ$170,AP183,IF($AQ$170-SUM($AO183)>=AP183,AP183,IF($AQ$170-SUM($AO183)<0,\"\",$AQ$170-SUM($AO183)))))))","v":""},{"$f":"IF(AQ$90=\"\",\"\",IF($AQ$170=0,\"\",IF(AQ183=0,\"\",IF(SUM($AO183:$AQ183)<$AQ$170,AQ183,IF($AQ$170-SUM($AO183:$AP183)>=AQ183,AQ183,IF($AQ$170-SUM($AO183:$AP183)<0,\"\",$AQ$170-SUM($AO183:$AP183)))))))","v":""},{"$f":"IF(AR$90=\"\",\"\",IF($AQ$170=0,\"\",IF(AR183=0,\"\",IF(SUM($AO183:$AR183)<$AQ$170,AR183,IF($AQ$170-SUM($AO183:$AQ183)>=AR183,AR183,IF($AQ$170-SUM($AO183:$AQ183)<0,\"\",$AQ$170-SUM($AO183:$AQ183)))))))","v":""},{"$f":"IF(AS$90=\"\",\"\",IF($AQ$170=0,\"\",IF(AS183=0,\"\",IF(SUM($AO183:$AS183)<$AQ$170,AS183,IF($AQ$170-SUM($AO183:$AR183)>=AS183,AS183,IF($AQ$170-SUM($AO183:$AR183)<0,\"\",$AQ$170-SUM($AO183:$AR183)))))))","v":""},{"$f":"IF(AT$90=\"\",\"\",IF($AQ$170=0,\"\",IF(AT183=0,\"\",IF(SUM($AO183:$AT183)<=$AQ$170,AT183,IF($AQ$170-SUM($AO183:$AS183)>=AT183,AT183,IF($AQ$170-SUM($AO183:$AS183)<0,\"\",$AQ$170-SUM($AO183:$AS183)))))))","v":""},{"$f":"IF(AU$90=\"\",\"\",IF($AQ$170=0,\"\",IF(AU183=0,\"\",IF(SUM($AO183:$AU183)<=$AQ$170,AU183,IF($AQ$170-SUM($AO183:$AT183)>=AU183,AU183,IF($AQ$170-SUM($AO183:$AT183)<0,\"\",$AQ$170-SUM($AO183:$AT183)))))))","v":""},0,null,null,null,null,null,{"$error":"#N/A"}]
["-1",{"$f":"IF(F45=\"\",\"\",F45)","v":""},null,null,null,null,null,"N.Ö",null,null,"Teo",null,{"$f":"IF(M$90=\"\",\"\",IF($Y$161=0,\"\",IF(M184=0,\"\",IF(SUM($M184)>=$Y$161,$Y$161,IF(SUM($M184)<$Y$161,M184,)))))","v":""},{"$f":"IF(N$90=\"\",\"\",IF($Y$161=0,\"\",IF(N184=0,\"\",IF(SUM($M184:$N184)<$Y$161,N184,IF($Y$161-SUM($M184)>=N184,N184,IF($Y$161-SUM($M184)<0,\"\",$Y$161-SUM($M184)))))))","v":""},{"$f":"IF(O$90=\"\",\"\",IF($Y$161=0,\"\",IF(O184=0,\"\",IF(SUM($M184:$O184)<$Y$161,O184,IF($Y$161-SUM($M184:$N184)>=O184,O184,IF($Y$161-SUM($M184:$N184)<0,\"\",$Y$161-SUM($M184:$N184)))))))","v":""},{"$f":"IF(P$90=\"\",\"\",IF($Y$161=0,\"\",IF(P184=0,\"\",IF(SUM($M184:$P184)<$Y$161,P184,IF($Y$161-SUM($M184:$O184)>=P184,P184,IF($Y$161-SUM($M184:$O184)<0,\"\",$Y$161-SUM($M184:$O184)))))))","v":""},{"$f":"IF(Q$90=\"\",\"\",IF($Y$161=0,\"\",IF(Q184=0,\"\",IF(SUM($M184:$Q184)<$Y$161,Q184,IF($Y$161-SUM($M184:$P184)>=Q184,Q184,IF($Y$161-SUM($M184:$P184)<0,\"\",$Y$161-SUM($M184:$P184)))))))","v":""},{"$f":"IF(Q$90=\"\",\"\",IF($Y$161=0,\"\",IF(R184=0,\"\",IF(SUM($M184:$R184)<$Y$161,R184,IF($Y$161-SUM($M184:$Q184)>=R184,R184,IF($Y$161-SUM($M184:$Q184)<0,\"\",$Y$161-SUM($M184:$Q184)))))))","v":""},{"$f":"IF(Q$90=\"\",\"\",IF($Y$161=0,\"\",IF(S184=0,\"\",IF(SUM($M184:$S184)<$Y$161,S184,IF($Y$161-SUM($M184:$R184)>=S184,S184,IF($Y$161-SUM($M184:$R184)<0,\"\",$Y$161-SUM($M184:$R184)))))))","v":""},{"$f":"IF(T$90=\"\",\"\",IF($AD$161=0,\"\",IF(T184=0,\"\",IF(SUM($T184)>=$AD$161,$AD$161,IF(SUM($T184)<$AD$161,T184,)))))","v":""},{"$f":"IF(U$90=\"\",\"\",IF($AD$161=0,\"\",IF(U184=0,\"\",IF(SUM($T184:$U184)<$AD$161,U184,IF($AD$161-SUM($T184)>=U184,U184,IF($AD$161-SUM($T184)<0,\"\",$AD$161-SUM($T184)))))))","v":""},{"$f":"IF(V$90=\"\",\"\",IF($AD$161=0,\"\",IF(V184=0,\"\",IF(SUM($T184:$V184)<$AD$161,V184,IF($AD$161-SUM($T184:$U184)>=V184,V184,IF($AD$161-SUM($T184:$U184)<0,\"\",$AD$161-SUM($T184:$U184)))))))","v":""},{"$f":"IF(W$90=\"\",\"\",IF($AD$161=0,\"\",IF(W184=0,\"\",IF(SUM($T184:$W184)<$AD$161,W184,IF($AD$161-SUM($T184:$V184)>=W184,W184,IF($AD$161-SUM($T184:$V184)<0,\"\",$AD$161-SUM($T184:$V184)))))))","v":""},{"$f":"IF(X$90=\"\",\"\",IF($AD$161=0,\"\",IF(X184=0,\"\",IF(SUM($T184:$X184)<$AD$161,X184,IF($AD$161-SUM($T184:$W184)>=X184,X184,IF($AD$161-SUM($T184:$W184)<0,\"\",$AD$161-SUM($T184:$W184)))))))","v":""},{"$f":"IF(Y$90=\"\",\"\",IF($AD$161=0,\"\",IF(Y184=0,\"\",IF(SUM($T184:$Y184)<$AD$161,Y184,IF($AD$161-SUM($T184:$X184)>=Y184,Y184,IF($AD$161-SUM($T184:$X184)<0,\"\",$AD$161-SUM($T184:$X184)))))))","v":""},{"$f":"IF(Z$90=\"\",\"\",IF($AD$161=0,\"\",IF(Z184=0,\"\",IF(SUM($T184:$Z184)<$AD$161,Z184,IF($AD$161-SUM($T184:$Y184)>=Z184,Z184,IF($AD$161-SUM($T184:$Y184)<0,\"\",$AD$161-SUM($T184:$Y184)))))))","v":""},{"$f":"IF(AA$90=\"\",\"\",IF($AH$161=0,\"\",IF(AA184=0,\"\",IF(SUM(AA184)>=$AH$161,$AH$161,IF(SUM(AA184)<$AH$161,AA184,)))))","v":""},{"$f":"IF(AB$90=\"\",\"\",IF($AH$161=0,\"\",IF(AB184=0,\"\",IF(SUM($AA184:$AB184)<$AH$161,AB184,IF($AH$161-SUM($AA184)>=AB184,AB184,IF($AH$161-SUM($AA184)<0,\"\",$AH$161-SUM($AA184)))))))","v":""},{"$f":"IF(AC$90=\"\",\"\",IF($AH$161=0,\"\",IF(AC184=0,\"\",IF(SUM($AA184:$AC184)<$AH$161,AC184,IF($AH$161-SUM($AA184:$AB184)>=AC184,AC184,IF($AH$161-SUM($AA184:$AB184)<0,\"\",$AH$161-SUM($AA184:$AB184)))))))","v":""},{"$f":"IF(AD$90=\"\",\"\",IF($AH$161=0,\"\",IF(AD184=0,\"\",IF(SUM($AA184:$AD184)<$AH$161,AD184,IF($AH$161-SUM($AA184:$AC184)>=AD184,AD184,IF($AH$161-SUM($AA184:$AC184)<0,\"\",$AH$161-SUM($AA184:$AC184)))))))","v":""},{"$f":"IF(AE$90=\"\",\"\",IF($AH$161=0,\"\",IF(AE184=0,\"\",IF(SUM($AA184:$AE184)<$AH$161,AE184,IF($AH$161-SUM($AA184:$AD184)>=AE184,AE184,IF($AH$161-SUM($AA184:$AD184)<0,\"\",$AH$161-SUM($AA184:$AD184)))))))","v":""},{"$f":"IF(AF$90=\"\",\"\",IF($AH$161=0,\"\",IF(AF184=0,\"\",IF(SUM($AA184:$AF184)<$AH$161,AF184,IF($AH$161-SUM($AA184:$AE184)>=AF184,AF184,IF($AH$161-SUM($AA184:$AE184)<0,\"\",$AH$161-SUM($AA184:$AE184)))))))","v":""},{"$f":"IF(AG$90=\"\",\"\",IF($AH$161=0,\"\",IF(AG184=0,\"\",IF(SUM($AA184:$AG184)<$AH$161,AG184,IF($AH$161-SUM($AA184:$AF184)>=AG184,AG184,IF($AH$161-SUM($AA184:$AF184)<0,\"\",$AH$161-SUM($AA184:$AF184)))))))","v":""},{"$f":"IF(AH$90=\"\",\"\",IF($AM$161=0,\"\",IF(AH184=0,\"\",IF(SUM(AH184)>=$AM$161,$AM$161,IF(SUM(AH184)<$AM$161,AH184,)))))","v":""},{"$f":"IF(AI$90=\"\",\"\",IF($AM$161=0,\"\",IF(AI184=0,\"\",IF(SUM($AH184:$AI184)<$AM$161,AI184,IF($AM$161-SUM($AH184)>=AI184,AI184,IF($AM$161-SUM($AH184)<0,\"\",$AM$161-SUM($AH184)))))))","v":""},{"$f":"IF(AJ$90=\"\",\"\",IF($AM$161=0,\"\",IF(AJ184=0,\"\",IF(SUM($AH184:$AJ184)<$AM$161,AJ184,IF($AM$161-SUM($AH184:$AI184)>=AJ184,AJ184,IF($AM$161-SUM($AH184:$AI184)<0,\"\",$AM$161-SUM($AH184:$AI184)))))))","v":""},{"$f":"IF(AK$90=\"\",\"\",IF($AM$161=0,\"\",IF(AK184=0,\"\",IF(SUM($AH184:$AK184)<$AM$161,AK184,IF($AM$161-SUM($AH184:$AJ184)>=AK184,AK184,IF($AM$161-SUM($AH184:$AJ184)<0,\"\",$AM$161-SUM($AH184:$AJ184)))))))","v":""},{"$f":"IF(AL$90=\"\",\"\",IF($AM$161=0,\"\",IF(AL184=0,\"\",IF(SUM($AH184:$AL184)<$AM$161,AL184,IF($AM$161-SUM($AH184:$AK184)>=AL184,AL184,IF($AM$161-SUM($AH184:$AK184)<0,\"\",$AM$161-SUM($AH184:$AK184)))))))","v":""},{"$f":"IF(AM$90=\"\",\"\",IF($AM$161=0,\"\",IF(AM184=0,\"\",IF(SUM($AH184:$AM184)<$AM$161,AM184,IF($AM$161-SUM($AH184:$AL184)>=AM184,AM184,IF($AM$161-SUM($AH184:$AL184)<0,\"\",$AM$161-SUM($AH184:$AL184)))))))","v":""},{"$f":"IF(AN$90=\"\",\"\",IF($AM$161=0,\"\",IF(AN184=0,\"\",IF(SUM($AH184:$AN184)<$AM$161,AN184,IF($AM$161-SUM($AH184:$AM184)>=AN184,AN184,IF($AM$161-SUM($AH184:$AM184)<0,\"\",$AM$161-SUM($AH184:$AM184)))))))","v":""},{"$f":"IF(AO$90=\"\",\"\",IF($AQ$161=0,\"\",IF(AO184=0,\"\",IF(SUM(AO184)>=$AQ$161,$AQ$161,IF(SUM(AO184)<$AQ$161,AO184,)))))","v":""},{"$f":"IF(AP$90=\"\",\"\",IF($AQ$161=0,\"\",IF(AP184=0,\"\",IF(SUM($AO184:$AP184)<$AQ$161,AP184,IF($AQ$161-SUM($AO184)>=AP184,AP184,IF($AQ$161-SUM($AO184)<0,\"\",$AQ$161-SUM($AO184)))))))","v":""},{"$f":"IF(AQ$90=\"\",\"\",IF($AQ$161=0,\"\",IF(AQ184=0,\"\",IF(SUM($AO184:$AQ184)<$AQ$161,AQ184,IF($AQ$161-SUM($AO184:$AP184)>=AQ184,AQ184,IF($AQ$161-SUM($AO184:$AP184)<0,\"\",$AQ$161-SUM($AO184:$AP184)))))))","v":""},{"$f":"IF(AR$90=\"\",\"\",IF($AQ$161=0,\"\",IF(AR184=0,\"\",IF(SUM($AO184:$AR184)<$AQ$161,AR184,IF($AQ$161-SUM($AO184:$AQ184)>=AR184,AR184,IF($AQ$161-SUM($AO184:$AQ184)<0,\"\",$AQ$161-SUM($AO184:$AQ184)))))))","v":""},{"$f":"IF(AS$90=\"\",\"\",IF($AQ$161=0,\"\",IF(AS184=0,\"\",IF(SUM($AO184:$AS184)<$AQ$161,AS184,IF($AQ$161-SUM($AO184:$AR184)>=AS184,AS184,IF($AQ$161-SUM($AO184:$AR184)<0,\"\",$AQ$161-SUM($AO184:$AR184)))))))","v":""},{"$f":"IF(AT$90=\"\",\"\",IF($AQ$161=0,\"\",IF(AT184=0,\"\",IF(SUM($AO184:$AT184)<=$AQ$161,AT184,IF($AQ$161-SUM($AO184:$AS184)>=AT184,AT184,IF($AQ$161-SUM($AO184:$AS184)<0,\"\",$AQ$161-SUM($AO184:$AS184)))))))","v":""},{"$f":"IF(AU$90=\"\",\"\",IF($AQ$161=0,\"\",IF(AU184=0,\"\",IF(SUM($AO184:$AU184)<=$AQ$161,AU184,IF($AQ$161-SUM($AO184:$AT184)>=AU184,AU184,IF($AQ$161-SUM($AO184:$AT184)<0,\"\",$AQ$161-SUM($AO184:$AT184)))))))","v":""},0,null,{"$f":"SUM(AV137:AW138)","v":0},null,null,null,""]
[{"$f":"CONCATENATE(BB137,\"-2\")","v":"-2"},null,null,null,null,null,null,null,null,null,"DF",null,{"$f":"IF(M$90=\"\",\"\",IF($Y$171=0,\"\",IF(M185=0,\"\",IF(SUM($M185)>=$Y$171,$Y$171,IF(SUM($M185)<$Y$171,M185,)))))","v":""},{"$f":"IF(N$90=\"\",\"\",IF($Y$171=0,\"\",IF(N185=0,\"\",IF(SUM($M185:$N185)<$Y$171,N185,IF($Y$171-SUM($M185)>=N185,N185,IF($Y$171-SUM($M185)<0,\"\",$Y$171-SUM($M185)))))))","v":""},{"$f":"IF(O$90=\"\",\"\",IF($Y$171=0,\"\",IF(O185=0,\"\",IF(SUM($M185:$O185)<$Y$171,O185,IF($Y$171-SUM($M185:$N185)>=O185,O185,IF($Y$171-SUM($M185:$N185)<0,\"\",$Y$171-SUM($M185:$N185)))))))","v":""},{"$f":"IF(P$90=\"\",\"\",IF($Y$171=0,\"\",IF(P185=0,\"\",IF(SUM($M185:$P185)<$Y$171,P185,IF($Y$171-SUM($M185:$O185)>=P185,P185,IF($Y$171-SUM($M185:$O185)<0,\"\",$Y$171-SUM($M185:$O185)))))))","v":""},{"$f":"IF(Q$90=\"\",\"\",IF($Y$171=0,\"\",IF(Q185=0,\"\",IF(SUM($M185:$Q185)<$Y$171,Q185,IF($Y$171-SUM($M185:$P185)>=Q185,Q185,IF($Y$171-SUM($M185:$P185)<0,\"\",$Y$171-SUM($M185:$P185)))))))","v":""},{"$f":"IF(Q$90=\"\",\"\",IF($Y$171=0,\"\",IF(R185=0,\"\",IF(SUM($M185:$R185)<$Y$171,R185,IF($Y$171-SUM($M185:$Q185)>=R185,R185,IF($Y$171-SUM($M185:$Q185)<0,\"\",$Y$171-SUM($M185:$Q185)))))))","v":""},{"$f":"IF(Q$90=\"\",\"\",IF($Y$171=0,\"\",IF(S185=0,\"\",IF(SUM($M185:$S185)<$Y$171,S185,IF($Y$171-SUM($M185:$R185)>=S185,S185,IF($Y$171-SUM($M185:$R185)<0,\"\",$Y$171-SUM($M185:$R185)))))))","v":""},{"$f":"IF(T$90=\"\",\"\",IF($AD$171=0,\"\",IF(T185=0,\"\",IF(SUM($T185)>=$AD$171,$AD$171,IF(SUM($T185)<$AD$171,T185,)))))","v":""},{"$f":"IF(U$90=\"\",\"\",IF($AD$171=0,\"\",IF(U185=0,\"\",IF(SUM($T185:$U185)<$AD$171,U185,IF($AD$171-SUM($T185)>=U185,U185,IF($AD$171-SUM($T185)<0,\"\",$AD$171-SUM($T185)))))))","v":""},{"$f":"IF(V$90=\"\",\"\",IF($AD$171=0,\"\",IF(V185=0,\"\",IF(SUM($T185:$V185)<$AD$171,V185,IF($AD$171-SUM($T185:$U185)>=V185,V185,IF($AD$171-SUM($T185:$U185)<0,\"\",$AD$171-SUM($T185:$U185)))))))","v":""},{"$f":"IF(W$90=\"\",\"\",IF($AD$171=0,\"\",IF(W185=0,\"\",IF(SUM($T185:$W185)<$AD$171,W185,IF($AD$171-SUM($T185:$V185)>=W185,W185,IF($AD$171-SUM($T185:$V185)<0,\"\",$AD$171-SUM($T185:$V185)))))))","v":""},{"$f":"IF(X$90=\"\",\"\",IF($AD$171=0,\"\",IF(X185=0,\"\",IF(SUM($T185:$X185)<$AD$171,X185,IF($AD$171-SUM($T185:$W185)>=X185,X185,IF($AD$171-SUM($T185:$W185)<0,\"\",$AD$171-SUM($T185:$W185)))))))","v":""},{"$f":"IF(Y$90=\"\",\"\",IF($AD$171=0,\"\",IF(Y185=0,\"\",IF(SUM($T185:$Y185)<$AD$171,Y185,IF($AD$171-SUM($T185:$X185)>=Y185,Y185,IF($AD$171-SUM($T185:$X185)<0,\"\",$AD$171-SUM($T185:$X185)))))))","v":""},{"$f":"IF(Z$90=\"\",\"\",IF($AD$171=0,\"\",IF(Z185=0,\"\",IF(SUM($T185:$Z185)<$AD$171,Z185,IF($AD$171-SUM($T185:$Y185)>=Z185,Z185,IF($AD$171-SUM($T185:$Y185)<0,\"\",$AD$171-SUM($T185:$Y185)))))))","v":""},{"$f":"IF(AA$90=\"\",\"\",IF($AH$171=0,\"\",IF(AA185=0,\"\",IF(SUM(AA185)>=$AH$171,$AH$171,IF(SUM(AA185)<$AH$171,AA185,)))))","v":""},{"$f":"IF(AB$90=\"\",\"\",IF($AH$171=0,\"\",IF(AB185=0,\"\",IF(SUM($AA185:$AB185)<$AH$171,AB185,IF($AH$171-SUM($AA185)>=AB185,AB185,IF($AH$171-SUM($AA185)<0,\"\",$AH$171-SUM($AA185)))))))","v":""},{"$f":"IF(AC$90=\"\",\"\",IF($AH$171=0,\"\",IF(AC185=0,\"\",IF(SUM($AA185:$AC185)<$AH$171,AC185,IF($AH$171-SUM($AA185:$AB185)>=AC185,AC185,IF($AH$171-SUM($AA185:$AB185)<0,\"\",$AH$171-SUM($AA185:$AB185)))))))","v":""},{"$f":"IF(AD$90=\"\",\"\",IF($AH$171=0,\"\",IF(AD185=0,\"\",IF(SUM($AA185:$AD185)<$AH$171,AD185,IF($AH$171-SUM($AA185:$AC185)>=AD185,AD185,IF($AH$171-SUM($AA185:$AC185)<0,\"\",$AH$171-SUM($AA185:$AC185)))))))","v":""},{"$f":"IF(AE$90=\"\",\"\",IF($AH$171=0,\"\",IF(AE185=0,\"\",IF(SUM($AA185:$AE185)<$AH$171,AE185,IF($AH$171-SUM($AA185:$AD185)>=AE185,AE185,IF($AH$171-SUM($AA185:$AD185)<0,\"\",$AH$171-SUM($AA185:$AD185)))))))","v":""},{"$f":"IF(AF$90=\"\",\"\",IF($AH$171=0,\"\",IF(AF185=0,\"\",IF(SUM($AA185:$AF185)<$AH$171,AF185,IF($AH$171-SUM($AA185:$AE185)>=AF185,AF185,IF($AH$171-SUM($AA185:$AE185)<0,\"\",$AH$171-SUM($AA185:$AE185)))))))","v":""},{"$f":"IF(AG$90=\"\",\"\",IF($AH$171=0,\"\",IF(AG185=0,\"\",IF(SUM($AA185:$AG185)<$AH$171,AG185,IF($AH$171-SUM($AA185:$AF185)>=AG185,AG185,IF($AH$171-SUM($AA185:$AF185)<0,\"\",$AH$171-SUM($AA185:$AF185)))))))","v":""},{"$f":"IF(AH$90=\"\",\"\",IF($AM$171=0,\"\",IF(AH185=0,\"\",IF(SUM(AH185)>=$AM$171,$AM$171,IF(SUM(AH185)<$AM$171,AH185,)))))","v":""},{"$f":"IF(AI$90=\"\",\"\",IF($AM$171=0,\"\",IF(AI185=0,\"\",IF(SUM($AH185:$AI185)<$AM$171,AI185,IF($AM$171-SUM($AH185)>=AI185,AI185,IF($AM$171-SUM($AH185)<0,\"\",$AM$171-SUM($AH185)))))))","v":""},{"$f":"IF(AJ$90=\"\",\"\",IF($AM$171=0,\"\",IF(AJ185=0,\"\",IF(SUM($AH185:$AJ185)<$AM$171,AJ185,IF($AM$171-SUM($AH185:$AI185)>=AJ185,AJ185,IF($AM$171-SUM($AH185:$AI185)<0,\"\",$AM$171-SUM($AH185:$AI185)))))))","v":""},{"$f":"IF(AK$90=\"\",\"\",IF($AM$171=0,\"\",IF(AK185=0,\"\",IF(SUM($AH185:$AK185)<$AM$171,AK185,IF($AM$171-SUM($AH185:$AJ185)>=AK185,AK185,IF($AM$171-SUM($AH185:$AJ185)<0,\"\",$AM$171-SUM($AH185:$AJ185)))))))","v":""},{"$f":"IF(AL$90=\"\",\"\",IF($AM$171=0,\"\",IF(AL185=0,\"\",IF(SUM($AH185:$AL185)<$AM$171,AL185,IF($AM$171-SUM($AH185:$AK185)>=AL185,AL185,IF($AM$171-SUM($AH185:$AK185)<0,\"\",$AM$171-SUM($AH185:$AK185)))))))","v":""},{"$f":"IF(AM$90=\"\",\"\",IF($AM$171=0,\"\",IF(AM185=0,\"\",IF(SUM($AH185:$AM185)<$AM$171,AM185,IF($AM$171-SUM($AH185:$AL185)>=AM185,AM185,IF($AM$171-SUM($AH185:$AL185)<0,\"\",$AM$171-SUM($AH185:$AL185)))))))","v":""},{"$f":"IF(AN$90=\"\",\"\",IF($AM$171=0,\"\",IF(AN185=0,\"\",IF(SUM($AH185:$AN185)<$AM$171,AN185,IF($AM$171-SUM($AH185:$AM185)>=AN185,AN185,IF($AM$171-SUM($AH185:$AM185)<0,\"\",$AM$171-SUM($AH185:$AM185)))))))","v":""},{"$f":"IF(AO$90=\"\",\"\",IF($AQ$171=0,\"\",IF(AO185=0,\"\",IF(SUM(AO185)>=$AQ$171,$AQ$171,IF(SUM(AO185)<$AQ$171,AO185,)))))","v":""},{"$f":"IF(AP$90=\"\",\"\",IF($AQ$171=0,\"\",IF(AP185=0,\"\",IF(SUM($AO185:$AP185)<$AQ$171,AP185,IF($AQ$171-SUM($AO185)>=AP185,AP185,IF($AQ$171-SUM($AO185)<0,\"\",$AQ$171-SUM($AO185)))))))","v":""},{"$f":"IF(AQ$90=\"\",\"\",IF($AQ$171=0,\"\",IF(AQ185=0,\"\",IF(SUM($AO185:$AQ185)<$AQ$171,AQ185,IF($AQ$171-SUM($AO185:$AP185)>=AQ185,AQ185,IF($AQ$171-SUM($AO185:$AP185)<0,\"\",$AQ$171-SUM($AO185:$AP185)))))))","v":""},{"$f":"IF(AR$90=\"\",\"\",IF($AQ$171=0,\"\",IF(AR185=0,\"\",IF(SUM($AO185:$AR185)<$AQ$171,AR185,IF($AQ$171-SUM($AO185:$AQ185)>=AR185,AR185,IF($AQ$171-SUM($AO185:$AQ185)<0,\"\",$AQ$171-SUM($AO185:$AQ185)))))))","v":""},{"$f":"IF(AS$90=\"\",\"\",IF($AQ$171=0,\"\",IF(AS185=0,\"\",IF(SUM($AO185:$AS185)<$AQ$171,AS185,IF($AQ$171-SUM($AO185:$AR185)>=AS185,AS185,IF($AQ$171-SUM($AO185:$AR185)<0,\"\",$AQ$171-SUM($AO185:$AR185)))))))","v":""},{"$f":"IF(AT$90=\"\",\"\",IF($AQ$171=0,\"\",IF(AT185=0,\"\",IF(SUM($AO185:$AT185)<=$AQ$171,AT185,IF($AQ$171-SUM($AO185:$AS185)>=AT185,AT185,IF($AQ$171-SUM($AO185:$AS185)<0,\"\",$AQ$171-SUM($AO185:$AS185)))))))","v":""},{"$f":"IF(AU$90=\"\",\"\",IF($AQ$171=0,\"\",IF(AU185=0,\"\",IF(SUM($AO185:$AU185)<=$AQ$171,AU185,IF($AQ$171-SUM($AO185:$AT185)>=AU185,AU185,IF($AQ$171-SUM($AO185:$AT185)<0,\"\",$AQ$171-SUM($AO185:$AT185)))))))","v":""},0,null,null,null,null,null,{"$error":"#N/A"}]
[null,null,null,null,null,null,null,null,null,null,null,null,{"$f":"SUM(M129:M138)","v":0},0,0,0,0,0,0,0,0,0,0,0,0,0,{"$f":"SUM(AA129:AA138)","v":0},0,0,0,0,0,0,0,0,0,0,0,0,0,0,0,0,0,0,0,0]
[null,null,null,null,null,null,null,null,null,null,null,null,{"$f":"SUM(M139:S139)","v":0},null,null,null,null,null,null,{"$f":"SUM(T139:Z139)","v":0},null,null,null,null,null,null,{"$f":"SUM(AA139:AG139)","v":0},null,null,null,null,null,null,{"$f":"SUM(AH139:AN139)","v":0},null,null,null,null,null,null,{"$f":"SUM(AO139:AU139)","v":0}]
[{"$f":"CONCATENATE(BB141,\"-1\")","v":"-1"},{"$f":"IF(F71=\"\",\"\",F71)","v":""},null,null,null,null,null,"İ.Ö",null,null,"Teo",null,{"$f":"IF(M$90=\"\",\"\",IF($Y$71=0,\"\",IF(M190=0,\"\",IF(SUM($M190)>=$Y$71,$Y$71,IF(SUM($M190)<=$Y$71,M190,)))))","v":""},{"$f":"IF(N$90=\"\",\"\",IF($Y$71=0,\"\",IF(N190=0,\"\",IF(SUM($M190:$N190)<=$Y$71,N190,IF($Y$71-SUM($M190)>=N190,N190,IF($Y$71-SUM($M190)<0,\"\",$Y$71-SUM($M190)))))))","v":""},{"$f":"IF(O$90=\"\",\"\",IF($Y$71=0,\"\",IF(O190=0,\"\",IF(SUM($M190:$O190)<=$Y$71,O190,IF($Y$71-SUM($M190:$N190)>=O190,O190,IF($Y$71-SUM($M190:$N190)<0,\"\",$Y$71-SUM($M190:$N190)))))))","v":""},{"$f":"IF(P$90=\"\",\"\",IF($Y$71=0,\"\",IF(P190=0,\"\",IF(SUM($M190:$P190)<=$Y$71,P190,IF($Y$71-SUM($M190:$O190)>=P190,P190,IF($Y$71-SUM($M190:$O190)<0,\"\",$Y$71-SUM($M190:$O190)))))))","v":""},{"$f":"IF(Q$90=\"\",\"\",IF($Y$71=0,\"\",IF(Q190=0,\"\",IF(SUM($M190:$Q190)<=$Y$71,Q190,IF($Y$71-SUM($M190:$P190)>=Q190,Q190,IF($Y$71-SUM($M190:$P190)<0,\"\",$Y$71-SUM($M190:$P190)))))))","v":""},{"$f":"IF(Q$90=\"\",\"\",IF($Y$71=0,\"\",IF(R190=0,\"\",IF(SUM($M190:$R190)<=$Y$71,R190,IF($Y$71-SUM($M190:$Q190)>=R190,R190,IF($Y$71-SUM($M190:$Q190)<0,\"\",$Y$71-SUM($M190:$Q190)))))))","v":""},{"$f":"IF(Q$90=\"\",\"\",IF($Y$71=0,\"\",IF(S190=0,\"\",IF(SUM($M190:$S190)<=$Y$71,S190,IF($Y$71-SUM($M190:$R190)>=S190,S190,IF($Y$71-SUM($M190:$R190)<0,\"\",$Y$71-SUM($M190:$R190)))))))","v":""},{"$f":"IF(T$90=\"\",\"\",IF($AD$71=0,\"\",IF(T190=0,\"\",IF(SUM(T190)>=$AD$71,$AD$71,IF(SUM(T190)<=$AD$71,T190,)))))","v":""},{"$f":"IF(U$90=\"\",\"\",IF($AD$71=0,\"\",IF(U190=0,\"\",IF(SUM($T190:$U190)<=$AD$71,U190,IF($AD$71-SUM($T190)>=U190,U190,IF($AD$71-SUM($T190)<0,\"\",$AD$71-SUM($T190)))))))","v":""},{"$f":"IF(V$90=\"\",\"\",IF($AD$71=0,\"\",IF(V190=0,\"\",IF(SUM($T190:$V190)<=$AD$71,V190,IF($AD$71-SUM($T190:$U190)>=V190,V190,IF($AD$71-SUM($T190:$U190)<0,\"\",$AD$71-SUM($T190:$U190)))))))","v":""},{"$f":"IF(W$90=\"\",\"\",IF($AD$71=0,\"\",IF(W190=0,\"\",IF(SUM($T190:$W190)<=$AD$71,W190,IF($AD$71-SUM($T190:$V190)>=W190,W190,IF($AD$71-SUM($T190:$V190)<0,\"\",$AD$71-SUM($T190:$V190)))))))","v":""},{"$f":"IF(X$90=\"\",\"\",IF($AD$71=0,\"\",IF(X190=0,\"\",IF(SUM($T190:$X190)<=$AD$71,X190,IF($AD$71-SUM($T190:$W190)>=X190,X190,IF($AD$71-SUM($T190:$W190)<0,\"\",$AD$71-SUM($T190:$W190)))))))","v":""},{"$f":"IF(Y$90=\"\",\"\",IF($AD$71=0,\"\",IF(Y190=0,\"\",IF(SUM($T190:$Y190)<=$AD$71,Y190,IF($AD$71-SUM($T190:$X190)>=Y190,Y190,IF($AD$71-SUM($T190:$X190)<0,\"\",$AD$71-SUM($T190:$X190)))))))","v":""},{"$f":"IF(Z$90=\"\",\"\",IF($AD$71=0,\"\",IF(Z190=0,\"\",IF(SUM($T190:$Z190)<=$AD$71,Z190,IF($AD$71-SUM($T190:$Y190)>=Z190,Z190,IF($AD$71-SUM($T190:$Y190)<0,\"\",$AD$71-SUM($T190:$Y190)))))))","v":""},{"$f":"IF(AA$90=\"\",\"\",IF($AH$71=0,\"\",IF(AA190=0,\"\",IF(SUM(AA190)>=$AH$71,$AH$71,IF(SUM(AA190)<=$AH$71,AA190,)))))","v":""},{"$f":"IF(AB$90=\"\",\"\",IF($AH$71=0,\"\",IF(AB190=0,\"\",IF(SUM($AA190:$AB190)<=$AH$71,AB190,IF($AH$71-SUM($AA190)>=AB190,AB190,IF($AH$71-SUM($AA190)<0,\"\",$AH$71-SUM($AA190)))))))","v":""},{"$f":"IF(AC$90=\"\",\"\",IF($AH$71=0,\"\",IF(AC190=0,\"\",IF(SUM($AA190:$AC190)<=$AH$71,AC190,IF($AH$71-SUM($AA190:$AB190)>=AC190,AC190,IF($AH$71-SUM($AA190:$AB190)<0,\"\",$AH$71-SUM($AA190:$AB190)))))))","v":""},{"$f":"IF(AD$90=\"\",\"\",IF($AH$71=0,\"\",IF(AD190=0,\"\",IF(SUM($AA190:$AD190)<=$AH$71,AD190,IF($AH$71-SUM($AA190:$AC190)>=AD190,AD190,IF($AH$71-SUM($AA190:$AC190)<0,\"\",$AH$71-SUM($AA190:$AC190)))))))","v":""},{"$f":"IF(AE$90=\"\",\"\",IF($AH$71=0,\"\",IF(AE190=0,\"\",IF(SUM($AA190:$AE190)<=$AH$71,AE190,IF($AH$71-SUM($AA190:$AD190)>=AE190,AE190,IF($AH$71-SUM($AA190:$AD190)<0,\"\",$AH$71-SUM($AA190:$AD190)))))))","v":""},{"$f":"IF(AF$90=\"\",\"\",IF($AH$71=0,\"\",IF(AF190=0,\"\",IF(SUM($AA190:$AF190)<=$AH$71,AF190,IF($AH$71-SUM($AA190:$AE190)>=AF190,AF190,IF($AH$71-SUM($AA190:$AE190)<0,\"\",$AH$71-SUM($AA190:$AE190)))))))","v":""},{"$f":"IF(AG$90=\"\",\"\",IF($AH$71=0,\"\",IF(AG190=0,\"\",IF(SUM($AA190:$AG190)<=$AH$71,AG190,IF($AH$71-SUM($AA190:$AF190)>=AG190,AG190,IF($AH$71-SUM($AA190:$AF190)<0,\"\",$AH$71-SUM($AA190:$AF190)))))))","v":""},{"$f":"IF(AH$90=\"\",\"\",IF($AM$71=0,\"\",IF(AH190=0,\"\",IF(SUM(AH190)>=$AM$71,$AM$71,IF(SUM(AH190)<=$AM$71,AH190,)))))","v":""},{"$f":"IF(AI$90=\"\",\"\",IF($AM$71=0,\"\",IF(AI190=0,\"\",IF(SUM($AH190:$AI190)<=$AM$71,AI190,IF($AM$71-SUM($AH190)>=AI190,AI190,IF($AM$71-SUM($AH190)<0,\"\",$AM$71-SUM($AH190)))))))","v":""},{"$f":"IF(AJ$90=\"\",\"\",IF($AM$71=0,\"\",IF(AJ190=0,\"\",IF(SUM($AH190:$AJ190)<=$AM$71,AJ190,IF($AM$71-SUM($AH190:$AI190)>=AJ190,AJ190,IF($AM$71-SUM($AH190:$AI190)<0,\"\",$AM$71-SUM($AH190:$AI190)))))))","v":""},{"$f":"IF(AK$90=\"\",\"\",IF($AM$71=0,\"\",IF(AK190=0,\"\",IF(SUM($AH190:$AK190)<=$AM$71,AK190,IF($AM$71-SUM($AH190:$AJ190)>=AK190,AK190,IF($AM$71-SUM($AH190:$AJ190)<0,\"\",$AM$71-SUM($AH190:$AJ190)))))))","v":""},{"$f":"IF(AL$90=\"\",\"\",IF($AM$71=0,\"\",IF(AL190=0,\"\",IF(SUM($AH190:$AL190)<=$AM$71,AL190,IF($AM$71-SUM($AH190:$AK190)>=AL190,AL190,IF($AM$71-SUM($AH190:$AK190)<0,\"\",$AM$71-SUM($AH190:$AK190)))))))","v":""},{"$f":"IF(AM$90=\"\",\"\",IF($AM$71=0,\"\",IF(AM190=0,\"\",IF(SUM($AH190:$AM190)<=$AM$71,AM190,IF($AM$71-SUM($AH190:$AL190)>=AM190,AM190,IF($AM$71-SUM($AH190:$AL190)<0,\"\",$AM$71-SUM($AH190:$AL190)))))))","v":""},{"$f":"IF(AN$90=\"\",\"\",IF($AM$71=0,\"\",IF(AN190=0,\"\",IF(SUM($AH190:$AN190)<=$AM$71,AN190,IF($AM$71-SUM($AH190:$AM190)>=AN190,AN190,IF($AM$71-SUM($AH190:$AM190)<0,\"\",$AM$71-SUM($AH190:$AM190)))))))","v":""},{"$f":"IF(AO$90=\"\",\"\",IF($AQ$71=0,\"\",IF(AO190=0,\"\",IF(SUM(AO190)>=$AQ$71,$AQ$71,IF(SUM(AO190)<=$AQ$71,AO190,)))))","v":""},{"$f":"IF(AP$90=\"\",\"\",IF($AQ$71=0,\"\",IF(AP190=0,\"\",IF(SUM($AO190:$AP190)<=$AQ$71,AP190,IF($AQ$71-SUM($AO190)>=AP190,AP190,IF($AQ$71-SUM($AO190)<0,\"\",$AQ$71-SUM($AO190)))))))","v":""},{"$f":"IF(AQ$90=\"\",\"\",IF($AQ$71=0,\"\",IF(AQ190=0,\"\",IF(SUM($AO190:$AQ190)<=$AQ$71,AQ190,IF($AQ$71-SUM($AO190:$AP190)>=AQ190,AQ190,IF($AQ$71-SUM($AO190:$AP190)<0,\"\",$AQ$71-SUM($AO190:$AP190)))))))","v":""},{"$f":"IF(AR$90=\"\",\"\",IF($AQ$71=0,\"\",IF(AR190=0,\"\",IF(SUM($AO190:$AR190)<=$AQ$71,AR190,IF($AQ$71-SUM($AO190:$AQ190)>=AR190,AR190,IF($AQ$71-SUM($AO190:$AQ190)<0,\"\",$AQ$71-SUM($AO190:$AQ190)))))))","v":""},{"$f":"IF(AS$90=\"\",\"\",IF($AQ$71=0,\"\",IF(AS190=0,\"\",IF(SUM($AO190:$AS190)<=$AQ$71,AS190,IF($AQ$71-SUM($AO190:$AR190)>=AS190,AS190,IF($AQ$71-SUM($AO190:$AR190)<0,\"\",$AQ$71-SUM($AO190:$AR190)))))))","v":""},{"$f":"IF(AT$90=\"\",\"\",IF($AQ$71=0,\"\",IF(AT190=0,\"\",IF(SUM($AO190:$AT190)<=$AQ$71,AT190,IF($AQ$71-SUM($AO190:$AS190)>=AT190,AT190,IF($AQ$71-SUM($AO190:$AS190)<0,\"\",$AQ$71-SUM($AO190:$AS190)))))))","v":""},{"$f":"IF(AU$90=\"\",\"\",IF($AQ$71=0,\"\",IF(AU190=0,\"\",IF(SUM($AO190:$AU190)<=$AQ$71,AU190,IF($AQ$71-SUM($AO190:$AT190)>=AU190,AU190,IF($AQ$71-SUM($AO190:$AT190)<0,\"\",$AQ$71-SUM($AO190:$AT190)))))))","v":""},{"$f":"SUM(M141:AU141)","v":0},null,{"$f":"SUM(AV141:AW142)","v":0},null,null,null,{"$f":"VLOOKUP(B141,$BH$71:$BI$74,2,FALSE)","v":""}]
[{"$f":"CONCATENATE(BB141,\"-2\")","v":"-2"},null,null,null,null,null,null,null,null,null,"DF",null,{"$f":"IF(M$90=\"\",\"\",IF($Y$71=0,\"\",IF(M191=0,\"\",IF(SUM($M190:$S190,$M191)<=$Y$71,M191,IF($Y$71-SUM($M190:$S190)>=M191,M191,IF($Y$71-SUM($M190:$S190)<=0,\"\",$Y$71-SUM($M190:$S190)))))))","v":""},{"$f":"IF(N$90=\"\",\"\",IF($Y$71=0,\"\",IF(N191=0,\"\",IF(SUM($M190:$S190,$M191:$N191)<=$Y$71,N191,IF($Y$71-SUM($M190:$S190,$M191)>=N191,N191,IF($Y$71-SUM($M190:$S190,$M191)<0,\"\",$Y$71-SUM($M190:$S190,$M191)))))))","v":""},{"$f":"IF(O$90=\"\",\"\",IF($Y$71=0,\"\",IF(O191=0,\"\",IF(SUM($M190:$S190,$M191:$O191)<=$Y$71,O191,IF($Y$71-SUM($M190:$S190,$M191:$N191)>=O191,O191,IF($Y$71-SUM($M190:$S190,$M191:$N191)<0,\"\",$Y$71-SUM($M190:$S190,$M191:$N191)))))))","v":""},{"$f":"IF(P$90=\"\",\"\",IF($Y$71=0,\"\",IF(P191=0,\"\",IF(SUM($M190:$S190,$M191:$P191)<=$Y$71,P191,IF($Y$71-SUM($M190:$S190,$M191:$O191)>=P191,P191,IF($Y$71-SUM($M190:$S190,$M191:$O191)<0,\"\",$Y$71-SUM($M190:$S190,$M191:$O191)))))))","v":""},{"$f":"IF(Q$90=\"\",\"\",IF($Y$71=0,\"\",IF(Q191=0,\"\",IF(SUM($M190:$S190,$M191:$Q191)<=$Y$71,Q191,IF($Y$71-SUM($M190:$S190,$M191:$P191)>=Q191,Q191,IF($Y$71-SUM($M190:$S190,$M191:$P191)<0,\"\",$Y$71-SUM($M190:$S190,$M191:$P191)))))))","v":""},{"$f":"IF(R$90=\"\",\"\",IF($Y$71=0,\"\",IF(R191=0,\"\",IF(SUM($M190:$S190,$M191:$R191)<=$Y$71,R191,IF($Y$71-SUM($M190:$S190,$M191:$Q191)>=R191,R191,IF($Y$71-SUM($M190:$S190,$M191:$Q191)<0,\"\",$Y$71-SUM($M190:$S190,$M191:$Q191)))))))","v":""},{"$f":"IF(S$90=\"\",\"\",IF($Y$71=0,\"\",IF(S191=0,\"\",IF(SUM($M190:$S190,$M191:$S191)<=$Y$71,S191,IF($Y$71-SUM($M190:$S190,$M191:$R191)>=S191,S191,IF($Y$71-SUM($M190:$S190,$M191:$R191)<0,\"\",$Y$71-SUM($M190:$S190,$M191:$R191)))))))","v":""},{"$f":"IF(T$90=\"\",\"\",IF($AD$71=0,\"\",IF(T191=0,\"\",IF(SUM($T190:$Z190,$T191)<=$AD$71,T191,IF($AD$71-SUM($T190:$Z190)>=T191,T191,IF($AD$71-SUM($T190:$Z190)<=0,\"\",$AD$71-SUM($T190:$Z190)))))))","v":""},{"$f":"IF(U$90=\"\",\"\",IF($AD$71=0,\"\",IF(U191=0,\"\",IF(SUM($T190:$Z190,$T191:$U191)<=$AD$71,U191,IF($AD$71-SUM($T190:$Z190,$T191)>=U191,U191,IF($AD$71-SUM($T190:$Z190,$T191)<0,\"\",$AD$71-SUM($T190:$Z190,$T191)))))))","v":""},{"$f":"IF(V$90=\"\",\"\",IF($AD$71=0,\"\",IF(V191=0,\"\",IF(SUM($T190:$Z190,$T191:$V191)<=$AD$71,V191,IF($AD$71-SUM($T190:$Z190,$T191:$U191)>=V191,V191,IF($AD$71-SUM($T190:$Z190,$T191:$U191)<0,\"\",$AD$71-SUM($T190:$Z190,$T191:$U191)))))))","v":""},{"$f":"IF(W$90=\"\",\"\",IF($AD$71=0,\"\",IF(W191=0,\"\",IF(SUM($T190:$Z190,$T191:$W191)<=$AD$71,W191,IF($AD$71-SUM($T190:$Z190,$T191:$V191)>=W191,W191,IF($AD$71-SUM($T190:$Z190,$T191:$V191)<0,\"\",$AD$71-SUM($T190:$Z190,$T191:$V191)))))))","v":""},{"$f":"IF(X$90=\"\",\"\",IF($AD$71=0,\"\",IF(X191=0,\"\",IF(SUM($T190:$Z190,$T191:$X191)<=$AD$71,X191,IF($AD$71-SUM($T190:$Z190,$T191:$W191)>=X191,X191,IF($AD$71-SUM($T190:$Z190,$T191:$W191)<0,\"\",$AD$71-SUM($T190:$Z190,$T191:$W191)))))))","v":""},{"$f":"IF(Y$90=\"\",\"\",IF($AD$71=0,\"\",IF(Y191=0,\"\",IF(SUM($T190:$Z190,$T191:$Y191)<=$AD$71,Y191,IF($AD$71-SUM($T190:$Z190,$T191:$X191)>=Y191,Y191,IF($AD$71-SUM($T190:$Z190,$T191:$X191)<0,\"\",$AD$71-SUM($T190:$Z190,$T191:$X191)))))))","v":""},{"$f":"IF(Z$90=\"\",\"\",IF($AD$71=0,\"\",IF(Z191=0,\"\",IF(SUM($T190:$Z190,$T191:$Z191)<=$AD$71,Z191,IF($AD$71-SUM($T190:$Z190,$T191:$Y191)>=Z191,Z191,IF($AD$71-SUM($T190:$Z190,$T191:$Y191)<0,\"\",$AD$71-SUM($T190:$Z190,$T191:$Y191)))))))","v":""},{"$f":"IF(AA$90=\"\",\"\",IF($AH$71=0,\"\",IF(AA191=0,\"\",IF(SUM($AA190:$AG190,$AA191)<=$AH$71,AA191,IF($AH$71-SUM($AA190:$AG190)>=AA191,AA191,IF($AH$71-SUM($AA190:$AG190)<=0,\"\",$AH$71-SUM($AA190:$AG190)))))))","v":""},{"$f":"IF(AB$90=\"\",\"\",IF($AH$71=0,\"\",IF(AB191=0,\"\",IF(SUM($AA190:$AG190,$AA191:$AB191)<=$AH$71,AB191,IF($AH$71-SUM($AA190:$AG190,$AA191)>=AB191,AB191,IF($AH$71-SUM($AA190:$AG190,$AA191)<0,\"\",$AH$71-SUM($AA190:$AG190,$AA191)))))))","v":""},{"$f":"IF(AC$90=\"\",\"\",IF($AH$71=0,\"\",IF(AC191=0,\"\",IF(SUM($AA190:$AG190,$AA191:$AC191)<=$AH$71,AC191,IF($AH$71-SUM($AA190:$AG190,$AA191:$AB191)>=AC191,AC191,IF($AH$71-SUM($AA190:$AG190,$AA191:$AB191)<0,\"\",$AH$71-SUM($AA190:$AG190,$AA191:$AB191)))))))","v":""},{"$f":"IF(AD$90=\"\",\"\",IF($AH$71=0,\"\",IF(AD191=0,\"\",IF(SUM($AA190:$AG190,$AA191:$AD191)<=$AH$71,AD191,IF($AH$71-SUM($AA190:$AG190,$AA191:$AC191)>=AD191,AD191,IF($AH$71-SUM($AA190:$AG190,$AA191:$AC191)<0,\"\",$AH$71-SUM($AA190:$AG190,$AA191:$AC191)))))))","v":""},{"$f":"IF(AE$90=\"\",\"\",IF($AH$71=0,\"\",IF(AE191=0,\"\",IF(SUM($AA190:$AG190,$AA191:$AE191)<=$AH$71,AE191,IF($AH$71-SUM($AA190:$AG190,$AA191:$AD191)>=AE191,AE191,IF($AH$71-SUM($AA190:$AG190,$AA191:$AD191)<0,\"\",$AH$71-SUM($AA190:$AG190,$AA191:$AD191)))))))","v":""},{"$f":"IF(AF$90=\"\",\"\",IF($AH$71=0,\"\",IF(AF191=0,\"\",IF(SUM($AA190:$AG190,$AA191:$AF191)<=$AH$71,AF191,IF($AH$71-SUM($AA190:$AG190,$AA191:$AE191)>=AF191,AF191,IF($AH$71-SUM($AA190:$AG190,$AA191:$AE191)<0,\"\",$AH$71-SUM($AA190:$AG190,$AA191:$AE191)))))))","v":""},{"$f":"IF(AG$90=\"\",\"\",IF($AH$71=0,\"\",IF(AG191=0,\"\",IF(SUM($AA190:$AG190,$AA191:$AG191)<=$AH$71,AG191,IF($AH$71-SUM($AA190:$AG190,$AA191:$AF191)>=AG191,AG191,IF($AH$71-SUM($AA190:$AG190,$AA191:$AF191)<0,\"\",$AH$71-SUM($AA190:$AG190,$AA191:$AF191)))))))","v":""},{"$f":"IF(AH$90=\"\",\"\",IF($AM$71=0,\"\",IF(AH191=0,\"\",IF(SUM($AH190:$AN190,$AH191)<=$AM$71,AH191,IF($AM$71-SUM($AH190:$AN190)>=AH191,AH191,IF($AM$71-SUM($AH190:$AN190)<=0,\"\",$AM$71-SUM($AH190:$AN190)))))))","v":""},{"$f":"IF(AI$90=\"\",\"\",IF($AM$71=0,\"\",IF(AI191=0,\"\",IF(SUM($AH190:$AN190,$AH191:$AI191)<=$AM$71,AI191,IF($AM$71-SUM($AH190:$AN190,$AH191)>=AI191,AI191,IF($AM$71-SUM($AH190:$AN190,$AH191)<0,\"\",$AM$71-SUM($AH190:$AN190,$AH191)))))))","v":""},{"$f":"IF(AJ$90=\"\",\"\",IF($AM$71=0,\"\",IF(AJ191=0,\"\",IF(SUM($AH190:$AN190,$AH191:$AJ191)<=$AM$71,AJ191,IF($AM$71-SUM($AH190:$AN190,$AH191:$AI191)>=AJ191,AJ191,IF($AM$71-SUM($AH190:$AN190,$AH191:$AI191)<0,\"\",$AM$71-SUM($AH190:$AN190,$AH191:$AI191)))))))","v":""},{"$f":"IF(AK$90=\"\",\"\",IF($AM$71=0,\"\",IF(AK191=0,\"\",IF(SUM($AH190:$AN190,$AH191:$AK191)<=$AM$71,AK191,IF($AM$71-SUM($AH190:$AN190,$AH191:$AJ191)>=AK191,AK191,IF($AM$71-SUM($AH190:$AN190,$AH191:$AJ191)<0,\"\",$AM$71-SUM($AH190:$AN190,$AH191:$AJ191)))))))","v":""},{"$f":"IF(AL$90=\"\",\"\",IF($AM$71=0,\"\",IF(AL191=0,\"\",IF(SUM($AH190:$AN190,$AH191:$AL191)<=$AM$71,AL191,IF($AM$71-SUM($AH190:$AN190,$AH191:$AK191)>=AL191,AL191,IF($AM$71-SUM($AH190:$AN190,$AH191:$AK191)<0,\"\",$AM$71-SUM($AH190:$AN190,$AH191:$AK191)))))))","v":""},{"$f":"IF(AM$90=\"\",\"\",IF($AM$71=0,\"\",IF(AM191=0,\"\",IF(SUM($AH190:$AN190,$AH191:$AM191)<=$AM$71,AM191,IF($AM$71-SUM($AH190:$AN190,$AH191:$AL191)>=AM191,AM191,IF($AM$71-SUM($AH190:$AN190,$AH191:$AL191)<0,\"\",$AM$71-SUM($AH190:$AN190,$AH191:$AL191)))))))","v":""},{"$f":"IF(AN$90=\"\",\"\",IF($AM$71=0,\"\",IF(AN191=0,\"\",IF(SUM($AH190:$AN190,$AH191:$AN191)<=$AM$71,AN191,IF($AM$71-SUM($AH190:$AN190,$AH191:$AM191)>=AN191,AN191,IF($AM$71-SUM($AH190:$AN190,$AH191:$AM191)<0,\"\",$AM$71-SUM($AH190:$AN190,$AH191:$AM191)))))))","v":""},{"$f":"IF(AO$90=\"\",\"\",IF($AQ$71=0,\"\",IF(AO191=0,\"\",IF(SUM($AO190:$AU190,$AO191)<=$AQ$71,AO191,IF($AQ$71-SUM($AO190:$AU190)>=AO191,AO191,IF($AQ$71-SUM($AO190:$AU190)<=0,\"\",$AQ$71-SUM($AO190:$AU190)))))))","v":""},{"$f":"IF(AP$90=\"\",\"\",IF($AQ$71=0,\"\",IF(AP191=0,\"\",IF(SUM($AO190:$AU190,$AO191:$AP191)<=$AQ$71,AP191,IF($AQ$71-SUM($AO190:$AU190,$AO191)>=AP191,AP191,IF($AQ$71-SUM($AO190:$AU190,$AO191)<0,\"\",$AQ$71-SUM($AO190:$AU190,$AO191)))))))","v":""},{"$f":"IF(AQ$90=\"\",\"\",IF($AQ$71=0,\"\",IF(AQ191=0,\"\",IF(SUM($AO190:$AU190,$AO191:$AQ191)<=$AQ$71,AQ191,IF($AQ$71-SUM($AO190:$AU190,$AO191:$AP191)>=AQ191,AQ191,IF($AQ$71-SUM($AO190:$AU190,$AO191:$AP191)<0,\"\",$AQ$71-SUM($AO190:$AU190,$AO191:$AP191)))))))","v":""},{"$f":"IF(AR$90=\"\",\"\",IF($AQ$71=0,\"\",IF(AR191=0,\"\",IF(SUM($AO190:$AU190,$AO191:$AR191)<=$AQ$71,AR191,IF($AQ$71-SUM($AO190:$AU190,$AO191:$AQ191)>=AR191,AR191,IF($AQ$71-SUM($AO190:$AU190,$AO191:$AQ191)<0,\"\",$AQ$71-SUM($AO190:$AU190,$AO191:$AQ191)))))))","v":""},{"$f":"IF(AS$90=\"\",\"\",IF($AQ$71=0,\"\",IF(AS191=0,\"\",IF(SUM($AO190:$AU190,$AO191:$AS191)<=$AQ$71,AS191,IF($AQ$71-SUM($AO190:$AU190,$AO191:$AR191)>=AS191,AS191,IF($AQ$71-SUM($AO190:$AU190,$AO191:$AR191)<0,\"\",$AQ$71-SUM($AO190:$AU190,$AO191:$AR191)))))))","v":""},{"$f":"IF(AT$90=\"\",\"\",IF($AQ$71=0,\"\",IF(AT191=0,\"\",IF(SUM($AO190:$AU190,$AO191:$AT191)<=$AQ$71,AT191,IF($AQ$71-SUM($AO190:$AU190,$AO191:$AS191)>=AT191,AT191,IF($AQ$71-SUM($AO190:$AU190,$AO191:$AS191)<0,\"\",$AQ$71-SUM($AO190:$AU190,$AO191:$AS191)))))))","v":""},{"$f":"IF(AU$90=\"\",\"\",IF($AQ$71=0,\"\",IF(AU191=0,\"\",IF(SUM($AO190:$AU190,$AO191:$AU191)<=$AQ$71,AU191,IF($AQ$71-SUM($AO190:$AU190,$AO191:$AT191)>=AU191,AU191,IF($AQ$71-SUM($AO190:$AU190,$AO191:$AT191)<0,\"\",$AQ$71-SUM($AO190:$AU190,$AO191:$AT191)))))))","v":""},0,null,null,null,null,null,{"$f":"VLOOKUP(B142,$BH$71:$BI$74,2,FALSE)","v":{"$error":"#N/A"}}]
[{"$f":"CONCATENATE(BB143,\"-1\")","v":"-1"},{"$f":"IF(F72=\"\",\"\",F72)","v":""},null,null,null,null,null,"İ.Ö",null,null,"Teo",null,{"$f":"IF(M$90=\"\",\"\",IF($Y$72=0,\"\",IF(M192=0,\"\",IF(SUM($M192)>=$Y$72,$Y$72,IF(SUM($M192)<=$Y$72,M192,)))))","v":""},{"$f":"IF(N$90=\"\",\"\",IF($Y$72=0,\"\",IF(N192=0,\"\",IF(SUM($M192:$N192)<=$Y$72,N192,IF($Y$72-SUM($M192)>=N192,N192,IF($Y$72-SUM($M192)<0,\"\",$Y$72-SUM($M192)))))))","v":""},{"$f":"IF(O$90=\"\",\"\",IF($Y$72=0,\"\",IF(O192=0,\"\",IF(SUM($M192:$O192)<=$Y$72,O192,IF($Y$72-SUM($M192:$N192)>=O192,O192,IF($Y$72-SUM($M192:$N192)<0,\"\",$Y$72-SUM($M192:$N192)))))))","v":""},{"$f":"IF(P$90=\"\",\"\",IF($Y$72=0,\"\",IF(P192=0,\"\",IF(SUM($M192:$P192)<=$Y$72,P192,IF($Y$72-SUM($M192:$O192)>=P192,P192,IF($Y$72-SUM($M192:$O192)<0,\"\",$Y$72-SUM($M192:$O192)))))))","v":""},{"$f":"IF(Q$90=\"\",\"\",IF($Y$72=0,\"\",IF(Q192=0,\"\",IF(SUM($M192:$Q192)<=$Y$72,Q192,IF($Y$72-SUM($M192:$P192)>=Q192,Q192,IF($Y$72-SUM($M192:$P192)<0,\"\",$Y$72-SUM($M192:$P192)))))))","v":""},{"$f":"IF(Q$90=\"\",\"\",IF($Y$72=0,\"\",IF(R192=0,\"\",IF(SUM($M192:$R192)<=$Y$72,R192,IF($Y$72-SUM($M192:$Q192)>=R192,R192,IF($Y$72-SUM($M192:$Q192)<0,\"\",$Y$72-SUM($M192:$Q192)))))))","v":""},{"$f":"IF(Q$90=\"\",\"\",IF($Y$72=0,\"\",IF(S192=0,\"\",IF(SUM($M192:$S192)<=$Y$72,S192,IF($Y$72-SUM($M192:$R192)>=S192,S192,IF($Y$72-SUM($M192:$R192)<0,\"\",$Y$72-SUM($M192:$R192)))))))","v":""},{"$f":"IF(T$90=\"\",\"\",IF($AD$72=0,\"\",IF(T192=0,\"\",IF(SUM(T192)>=$AD$72,$AD$72,IF(SUM(T192)<=$AD$72,T192,)))))","v":""},{"$f":"IF(U$90=\"\",\"\",IF($AD$72=0,\"\",IF(U192=0,\"\",IF(SUM($T192:$U192)<=$AD$72,U192,IF($AD$72-SUM($T192)>=U192,U192,IF($AD$72-SUM($T192)<0,\"\",$AD$72-SUM($T192)))))))","v":""},{"$f":"IF(V$90=\"\",\"\",IF($AD$72=0,\"\",IF(V192=0,\"\",IF(SUM($T192:$V192)<=$AD$72,V192,IF($AD$72-SUM($T192:$U192)>=V192,V192,IF($AD$72-SUM($T192:$U192)<0,\"\",$AD$72-SUM($T192:$U192)))))))","v":""},{"$f":"IF(W$90=\"\",\"\",IF($AD$72=0,\"\",IF(W192=0,\"\",IF(SUM($T192:$W192)<=$AD$72,W192,IF($AD$72-SUM($T192:$V192)>=W192,W192,IF($AD$72-SUM($T192:$V192)<0,\"\",$AD$72-SUM($T192:$V192)))))))","v":""},{"$f":"IF(X$90=\"\",\"\",IF($AD$72=0,\"\",IF(X192=0,\"\",IF(SUM($T192:$X192)<=$AD$72,X192,IF($AD$72-SUM($T192:$W192)>=X192,X192,IF($AD$72-SUM($T192:$W192)<0,\"\",$AD$72-SUM($T192:$W192)))))))","v":""},{"$f":"IF(Y$90=\"\",\"\",IF($AD$72=0,\"\",IF(Y192=0,\"\",IF(SUM($T192:$Y192)<=$AD$72,Y192,IF($AD$72-SUM($T192:$X192)>=Y192,Y192,IF($AD$72-SUM($T192:$X192)<0,\"\",$AD$72-SUM($T192:$X192)))))))","v":""},{"$f":"IF(Z$90=\"\",\"\",IF($AD$72=0,\"\",IF(Z192=0,\"\",IF(SUM($T192:$Z192)<=$AD$72,Z192,IF($AD$72-SUM($T192:$Y192)>=Z192,Z192,IF($AD$72-SUM($T192:$Y192)<0,\"\",$AD$72-SUM($T192:$Y192)))))))","v":""},{"$f":"IF(AA$90=\"\",\"\",IF($AH$72=0,\"\",IF(AA192=0,\"\",IF(SUM(AA192)>=$AH$72,$AH$72,IF(SUM(AA192)<=$AH$72,AA192,)))))","v":""},{"$f":"IF(AB$90=\"\",\"\",IF($AH$72=0,\"\",IF(AB192=0,\"\",IF(SUM($AA192:$AB192)<=$Y$72,AB192,IF($AH$72-SUM($AA192)>=AB192,AB192,IF($AH$72-SUM($AA192)<0,\"\",$AH$72-SUM($AA192)))))))","v":""},{"$f":"IF(AC$90=\"\",\"\",IF($AH$72=0,\"\",IF(AC192=0,\"\",IF(SUM($AA192:$AC192)<=$AH$72,AC192,IF($AH$72-SUM($AA192:$AB192)>=AC192,AC192,IF($AH$72-SUM($AA192:$AB192)<0,\"\",$AH$72-SUM($AA192:$AB192)))))))","v":""},{"$f":"IF(AD$90=\"\",\"\",IF($AH$72=0,\"\",IF(AD192=0,\"\",IF(SUM($AA192:$AD192)<=$AH$72,AD192,IF($AH$72-SUM($AA192:$AC192)>=AD192,AD192,IF($AH$72-SUM($AA192:$AC192)<0,\"\",$AH$72-SUM($AA192:$AC192)))))))","v":""},{"$f":"IF(AE$90=\"\",\"\",IF($AH$72=0,\"\",IF(AE192=0,\"\",IF(SUM($AA192:$AE192)<=$AH$72,AE192,IF($AH$72-SUM($AA192:$AD192)>=AE192,AE192,IF($AH$72-SUM($AA192:$AD192)<0,\"\",$AH$72-SUM($AA192:$AD192)))))))","v":""},{"$f":"IF(AF$90=\"\",\"\",IF($AH$72=0,\"\",IF(AF192=0,\"\",IF(SUM($AA192:$AF192)<=$AH$72,AF192,IF($AH$72-SUM($AA192:$AE192)>=AF192,AF192,IF($AH$72-SUM($AA192:$AE192)<0,\"\",$AH$72-SUM($AA192:$AE192)))))))","v":""},{"$f":"IF(AG$90=\"\",\"\",IF($AH$72=0,\"\",IF(AG192=0,\"\",IF(SUM($AA192:$AG192)<=$AH$72,AG192,IF($AH$72-SUM($AA192:$AF192)>=AG192,AG192,IF($AH$72-SUM($AA192:$AF192)<0,\"\",$AH$72-SUM($AA192:$AF192)))))))","v":""},{"$f":"IF(AH$90=\"\",\"\",IF($AM$72=0,\"\",IF(AH192=0,\"\",IF(SUM(AH192)>=$AM$72,$AM$72,IF(SUM(AH192)<=$AM$72,AH192,)))))","v":""},{"$f":"IF(AI$90=\"\",\"\",IF($AM$72=0,\"\",IF(AI192=0,\"\",IF(SUM($AH192:$AI192)<=$AM$72,AI192,IF($AM$72-SUM($AH192)>=AI192,AI192,IF($AM$72-SUM($AH192)<0,\"\",$AM$72-SUM($AH192)))))))","v":""},{"$f":"IF(AJ$90=\"\",\"\",IF($AM$72=0,\"\",IF(AJ192=0,\"\",IF(SUM($AH192:$AJ192)<=$AM$72,AJ192,IF($AM$72-SUM($AH192:$AI192)>=AJ192,AJ192,IF($AM$72-SUM($AH192:$AI192)<0,\"\",$AM$72-SUM($AH192:$AI192)))))))","v":""},{"$f":"IF(AK$90=\"\",\"\",IF($AM$72=0,\"\",IF(AK192=0,\"\",IF(SUM($AH192:$AK192)<=$AM$72,AK192,IF($AM$72-SUM($AH192:$AJ192)>=AK192,AK192,IF($AM$72-SUM($AH192:$AJ192)<0,\"\",$AM$72-SUM($AH192:$AJ192)))))))","v":""},{"$f":"IF(AL$90=\"\",\"\",IF($AM$72=0,\"\",IF(AL192=0,\"\",IF(SUM($AH192:$AL192)<=$AM$72,AL192,IF($AM$72-SUM($AH192:$AK192)>=AL192,AL192,IF($AM$72-SUM($AH192:$AK192)<0,\"\",$AM$72-SUM($AH192:$AK192)))))))","v":""},{"$f":"IF(AM$90=\"\",\"\",IF($AM$72=0,\"\",IF(AM192=0,\"\",IF(SUM($AH192:$AM192)<=$AM$72,AM192,IF($AM$72-SUM($AH192:$AL192)>=AM192,AM192,IF($AM$72-SUM($AH192:$AL192)<0,\"\",$AM$72-SUM($AH192:$AL192)))))))","v":""},{"$f":"IF(AN$90=\"\",\"\",IF($AM$72=0,\"\",IF(AN192=0,\"\",IF(SUM($AH192:$AN192)<=$AM$72,AN192,IF($AM$72-SUM($AH192:$AM192)>=AN192,AN192,IF($AM$72-SUM($AH192:$AM192)<0,\"\",$AM$72-SUM($AH192:$AM192)))))))","v":""},{"$f":"IF(AO$90=\"\",\"\",IF($AQ$72=0,\"\",IF(AO192=0,\"\",IF(SUM(AO192)>=$AQ$72,$AQ$72,IF(SUM(AO192)<=$AQ$72,AO192,)))))","v":""},{"$f":"IF(AP$90=\"\",\"\",IF($AQ$72=0,\"\",IF(AP192=0,\"\",IF(SUM($AO192:$AP192)<=$AQ$72,AP192,IF($AQ$72-SUM($AO192)>=AP192,AP192,IF($AQ$72-SUM($AO192)<0,\"\",$AQ$72-SUM($AO192)))))))","v":""},{"$f":"IF(AQ$90=\"\",\"\",IF($AQ$72=0,\"\",IF(AQ192=0,\"\",IF(SUM($AO192:$AQ192)<=$AQ$72,AQ192,IF($AQ$72-SUM($AO192:$AP192)>=AQ192,AQ192,IF($AQ$72-SUM($AO192:$AP192)<0,\"\",$AQ$72-SUM($AO192:$AP192)))))))","v":""},{"$f":"IF(AR$90=\"\",\"\",IF($AQ$72=0,\"\",IF(AR192=0,\"\",IF(SUM($AO192:$AR192)<=$AQ$72,AR192,IF($AQ$72-SUM($AO192:$AQ192)>=AR192,AR192,IF($AQ$72-SUM($AO192:$AQ192)<0,\"\",$AQ$72-SUM($AO192:$AQ192)))))))","v":""},{"$f":"IF(AS$90=\"\",\"\",IF($AQ$72=0,\"\",IF(AS192=0,\"\",IF(SUM($AO192:$AS192)<=$AQ$72,AS192,IF($AQ$72-SUM($AO192:$AR192)>=AS192,AS192,IF($AQ$72-SUM($AO192:$AR192)<0,\"\",$AQ$72-SUM($AO192:$AR192)))))))","v":""},{"$f":"IF(AT$90=\"\",\"\",IF($AQ$72=0,\"\",IF(AT192=0,\"\",IF(SUM($AO192:$AT192)<=$AQ$72,AT192,IF($AQ$72-SUM($AO192:$AS192)>=AT192,AT192,IF($AQ$72-SUM($AO192:$AS192)<0,\"\",$AQ$72-SUM($AO192:$AS192)))))))","v":""},{"$f":"IF(AU$90=\"\",\"\",IF($AQ$72=0,\"\",IF(AU192=0,\"\",IF(SUM($AO192:$AU192)<=$AQ$72,AU192,IF($AQ$72-SUM($AO192:$AT192)>=AU192,AU192,IF($AQ$72-SUM($AO192:$AT192)<0,\"\",$AQ$72-SUM($AO192:$AT192)))))))","v":""},0,null,{"$f":"SUM(AV143:AW144)","v":0},null,null,null,""]
[{"$f":"CONCATENATE(BB143,\"-2\")","v":"-2"},null,null,null,null,null,null,null,null,null,"DF",null,{"$f":"IF(M$90=\"\",\"\",IF($Y$72=0,\"\",IF(M193=0,\"\",IF(SUM($M192:$S192,$M193)<=$Y$72,M193,IF($Y$72-SUM($M192:$S192)>=M193,M193,IF($Y$72-SUM($M192:$S192)<=0,\"\",$Y$72-SUM($M192:$S192)))))))","v":""},{"$f":"IF(N$90=\"\",\"\",IF($Y$72=0,\"\",IF(N193=0,\"\",IF(SUM($M192:$S192,$M193:$N193)<=$Y$72,N193,IF($Y$72-SUM($M192:$S192,$M193)>=N193,N193,IF($Y$72-SUM($M192:$S192,$M193)<0,\"\",$Y$72-SUM($M192:$S192,$M193)))))))","v":""},{"$f":"IF(O$90=\"\",\"\",IF($Y$72=0,\"\",IF(O193=0,\"\",IF(SUM($M192:$S192,$M193:$O193)<=$Y$72,O193,IF($Y$72-SUM($M192:$S192,$M193:$N193)>=O193,O193,IF($Y$72-SUM($M192:$S192,$M193:$N193)<0,\"\",$Y$72-SUM($M192:$S192,$M193:$N193)))))))","v":""},{"$f":"IF(P$90=\"\",\"\",IF($Y$72=0,\"\",IF(P193=0,\"\",IF(SUM($M192:$S192,$M193:$P193)<=$Y$72,P193,IF($Y$72-SUM($M192:$S192,$M193:$O193)>=P193,P193,IF($Y$72-SUM($M192:$S192,$M193:$O193)<0,\"\",$Y$72-SUM($M192:$S192,$M193:$O193)))))))","v":""},{"$f":"IF(Q$90=\"\",\"\",IF($Y$72=0,\"\",IF(Q193=0,\"\",IF(SUM($M192:$S192,$M193:$Q193)<=$Y$72,Q193,IF($Y$72-SUM($M192:$S192,$M193:$P193)>=Q193,Q193,IF($Y$72-SUM($M192:$S192,$M193:$P193)<0,\"\",$Y$72-SUM($M192:$S192,$M193:$P193)))))))","v":""},{"$f":"IF(R$90=\"\",\"\",IF($Y$72=0,\"\",IF(R193=0,\"\",IF(SUM($M192:$S192,$M193:$R193)<=$Y$72,R193,IF($Y$72-SUM($M192:$S192,$M193:$Q193)>=R193,R193,IF($Y$72-SUM($M192:$S192,$M193:$Q193)<0,\"\",$Y$72-SUM($M192:$S192,$M193:$Q193)))))))","v":""},{"$f":"IF(S$90=\"\",\"\",IF($Y$72=0,\"\",IF(S193=0,\"\",IF(SUM($M192:$S192,$M193:$S193)<=$Y$72,S193,IF($Y$72-SUM($M192:$S192,$M193:$R193)>=S193,S193,IF($Y$72-SUM($M192:$S192,$M193:$R193)<0,\"\",$Y$72-SUM($M192:$S192,$M193:$R193)))))))","v":""},{"$f":"IF(T$90=\"\",\"\",IF($AD$72=0,\"\",IF(T193=0,\"\",IF(SUM($T192:$Z192,$T193)<=$AD$72,T193,IF($AD$72-SUM($T192:$Z192)>=T193,T193,IF($AD$72-SUM($T192:$Z192)<=0,\"\",$AD$72-SUM($T192:$Z192)))))))","v":""},{"$f":"IF(U$90=\"\",\"\",IF($AD$72=0,\"\",IF(U193=0,\"\",IF(SUM($T192:$Z192,$T193:$U193)<=$AD$72,U193,IF($AD$72-SUM($T192:$Z192,$T193)>=U193,U193,IF($AD$72-SUM($T192:$Z192,$T193)<0,\"\",$AD$72-SUM($T192:$Z192,$T193)))))))","v":""},{"$f":"IF(V$90=\"\",\"\",IF($AD$72=0,\"\",IF(V193=0,\"\",IF(SUM($T192:$Z192,$T193:$V193)<=$AD$72,V193,IF($AD$72-SUM($T192:$Z192,$T193:$U193)>=V193,V193,IF($AD$72-SUM($T192:$Z192,$T193:$U193)<0,\"\",$AD$72-SUM($T192:$Z192,$T193:$U193)))))))","v":""},{"$f":"IF(W$90=\"\",\"\",IF($AD$72=0,\"\",IF(W193=0,\"\",IF(SUM($T192:$Z192,$T193:$W193)<=$AD$72,W193,IF($AD$72-SUM($T192:$Z192,$T193:$V193)>=W193,W193,IF($AD$72-SUM($T192:$Z192,$T193:$V193)<0,\"\",$AD$72-SUM($T192:$Z192,$T193:$V193)))))))","v":""},{"$f":"IF(X$90=\"\",\"\",IF($AD$72=0,\"\",IF(X193=0,\"\",IF(SUM($T192:$Z192,$T193:$X193)<=$AD$72,X193,IF($AD$72-SUM($T192:$Z192,$T193:$W193)>=X193,X193,IF($AD$72-SUM($T192:$Z192,$T193:$W193)<0,\"\",$AD$72-SUM($T192:$Z192,$T193:$W193)))))))","v":""},{"$f":"IF(Y$90=\"\",\"\",IF($AD$72=0,\"\",IF(Y193=0,\"\",IF(SUM($T192:$Z192,$T193:$Y193)<=$AD$72,Y193,IF($AD$72-SUM($T192:$Z192,$T193:$X193)>=Y193,Y193,IF($AD$72-SUM($T192:$Z192,$T193:$X193)<0,\"\",$AD$72-SUM($T192:$Z192,$T193:$X193)))))))","v":""},{"$f":"IF(Z$90=\"\",\"\",IF($AD$72=0,\"\",IF(Z193=0,\"\",IF(SUM($T192:$Z192,$T193:$Z193)<=$AD$72,Z193,IF($AD$72-SUM($T192:$Z192,$T193:$Y193)>=Z193,Z193,IF($AD$72-SUM($T192:$Z192,$T193:$Y193)<0,\"\",$AD$72-SUM($T192:$Z192,$T193:$Y193)))))))","v":""},{"$f":"IF(AA$90=\"\",\"\",IF($AH$72=0,\"\",IF(AA193=0,\"\",IF(SUM($AA192:$AG192,$AA193)<=$AH$72,AA193,IF($AH$72-SUM($AA192:$AG192)>=AA193,AA193,IF($AH$72-SUM($AA192:$AG192)<=0,\"\",$AH$72-SUM($AA192:$AG192)))))))","v":""},{"$f":"IF(AB$90=\"\",\"\",IF($AH$72=0,\"\",IF(AB193=0,\"\",IF(SUM($AA192:$AG192,$AA193:$AB193)<=$AH$72,AB193,IF($AH$72-SUM($AA192:$AG192,$AA193)>=AB193,AB193,IF($AH$72-SUM($AA192:$AG192,$AA193)<0,\"\",$AH$72-SUM($AA192:$AG192,$AA193)))))))","v":""},{"$f":"IF(AC$90=\"\",\"\",IF($AH$72=0,\"\",IF(AC193=0,\"\",IF(SUM($AA192:$AG192,$AA193:$AC193)<=$AH$72,AC193,IF($AH$72-SUM($AA192:$AG192,$AA193:$AB193)>=AC193,AC193,IF($AH$72-SUM($AA192:$AG192,$AA193:$AB193)<0,\"\",$AH$72-SUM($AA192:$AG192,$AA193:$AB193)))))))","v":""},{"$f":"IF(AD$90=\"\",\"\",IF($AH$72=0,\"\",IF(AD193=0,\"\",IF(SUM($AA192:$AG192,$AA193:$AD193)<=$AH$72,AD193,IF($AH$72-SUM($AA192:$AG192,$AA193:$AC193)>=AD193,AD193,IF($AH$72-SUM($AA192:$AG192,$AA193:$AC193)<0,\"\",$AH$72-SUM($AA192:$AG192,$AA193:$AC193)))))))","v":""},{"$f":"IF(AE$90=\"\",\"\",IF($AH$72=0,\"\",IF(AE193=0,\"\",IF(SUM($AA192:$AG192,$AA193:$AE193)<=$AH$72,AE193,IF($AH$72-SUM($AA192:$AG192,$AA193:$AD193)>=AE193,AE193,IF($AH$72-SUM($AA192:$AG192,$AA193:$AD193)<0,\"\",$AH$72-SUM($AA192:$AG192,$AA193:$AD193)))))))","v":""},{"$f":"IF(AF$90=\"\",\"\",IF($AH$72=0,\"\",IF(AF193=0,\"\",IF(SUM($AA192:$AG192,$AA193:$AF193)<=$AH$72,AF193,IF($AH$72-SUM($AA192:$AG192,$AA193:$AE193)>=AF193,AF193,IF($AH$72-SUM($AA192:$AG192,$AA193:$AE193)<0,\"\",$AH$72-SUM($AA192:$AG192,$AA193:$AE193)))))))","v":""},{"$f":"IF(AG$90=\"\",\"\",IF($AH$72=0,\"\",IF(AG193=0,\"\",IF(SUM($AA192:$AG192,$AA193:$AG193)<=$AH$72,AG193,IF($AH$72-SUM($AA192:$AG192,$AA193:$AF193)>=AG193,AG193,IF($AH$72-SUM($AA192:$AG192,$AA193:$AF193)<0,\"\",$AH$72-SUM($AA192:$AG192,$AA193:$AF193)))))))","v":""},{"$f":"IF(AH$90=\"\",\"\",IF($AM$72=0,\"\",IF(AH193=0,\"\",IF(SUM($AH192:$AN192,$AH193)<=$AM$72,AH193,IF($AM$72-SUM($AH192:$AN192)>=AH193,AH193,IF($AM$72-SUM($AH192:$AN192)<=0,\"\",$AM$72-SUM($AH192:$AN192)))))))","v":""},{"$f":"IF(AI$90=\"\",\"\",IF($AM$72=0,\"\",IF(AI193=0,\"\",IF(SUM($AH192:$AN192,$AH193:$AI193)<=$AM$72,AI193,IF($AM$72-SUM($AH192:$AN192,$AH193)>=AI193,AI193,IF($AM$72-SUM($AH192:$AN192,$AH193)<0,\"\",$AM$72-SUM($AH192:$AN192,$AH193)))))))","v":""},{"$f":"IF(AJ$90=\"\",\"\",IF($AM$72=0,\"\",IF(AJ193=0,\"\",IF(SUM($AH192:$AN192,$AH193:$AJ193)<=$AM$72,AJ193,IF($AM$72-SUM($AH192:$AN192,$AH193:$AI193)>=AJ193,AJ193,IF($AM$72-SUM($AH192:$AN192,$AH193:$AI193)<0,\"\",$AM$72-SUM($AH192:$AN192,$AH193:$AI193)))))))","v":""},{"$f":"IF(AK$90=\"\",\"\",IF($AM$72=0,\"\",IF(AK193=0,\"\",IF(SUM($AH192:$AN192,$AH193:$AK193)<=$AM$72,AK193,IF($AM$72-SUM($AH192:$AN192,$AH193:$AJ193)>=AK193,AK193,IF($AM$72-SUM($AH192:$AN192,$AH193:$AJ193)<0,\"\",$AM$72-SUM($AH192:$AN192,$AH193:$AJ193)))))))","v":""},{"$f":"IF(AL$90=\"\",\"\",IF($AM$72=0,\"\",IF(AL193=0,\"\",IF(SUM($AH192:$AN192,$AH193:$AL193)<=$AM$72,AL193,IF($AM$72-SUM($AH192:$AN192,$AH193:$AK193)>=AL193,AL193,IF($AM$72-SUM($AH192:$AN192,$AH193:$AK193)<0,\"\",$AM$72-SUM($AH192:$AN192,$AH193:$AK193)))))))","v":""},{"$f":"IF(AM$90=\"\",\"\",IF($AM$72=0,\"\",IF(AM193=0,\"\",IF(SUM($AH192:$AN192,$AH193:$AM193)<=$AM$72,AM193,IF($AM$72-SUM($AH192:$AN192,$AH193:$AL193)>=AM193,AM193,IF($AM$72-SUM($AH192:$AN192,$AH193:$AL193)<0,\"\",$AM$72-SUM($AH192:$AN192,$AH193:$AL193)))))))","v":""},{"$f":"IF(AN$90=\"\",\"\",IF($AM$72=0,\"\",IF(AN193=0,\"\",IF(SUM($AH192:$AN192,$AH193:$AN193)<=$AM$72,AN193,IF($AM$72-SUM($AH192:$AN192,$AH193:$AM193)>=AN193,AN193,IF($AM$72-SUM($AH192:$AN192,$AH193:$AM193)<0,\"\",$AM$72-SUM($AH192:$AN192,$AH193:$AM193)))))))","v":""},{"$f":"IF(AO$90=\"\",\"\",IF($AQ$72=0,\"\",IF(AO193=0,\"\",IF(SUM($AO192:$AU192,$AO193)<=$AQ$72,AO193,IF($AQ$72-SUM($AO192:$AU192)>=AO193,AO193,IF($AQ$72-SUM($AO192:$AU192)<=0,\"\",$AQ$72-SUM($AO192:$AU192)))))))","v":""},{"$f":"IF(AP$90=\"\",\"\",IF($AQ$72=0,\"\",IF(AP193=0,\"\",IF(SUM($AO192:$AU192,$AO193:$AP193)<=$AQ$72,AP193,IF($AQ$72-SUM($AO192:$AU192,$AO193)>=AP193,AP193,IF($AQ$72-SUM($AO192:$AU192,$AO193)<0,\"\",$AQ$72-SUM($AO192:$AU192,$AO193)))))))","v":""},{"$f":"IF(AQ$90=\"\",\"\",IF($AQ$72=0,\"\",IF(AQ193=0,\"\",IF(SUM($AO192:$AU192,$AO193:$AQ193)<=$AQ$72,AQ193,IF($AQ$72-SUM($AO192:$AU192,$AO193:$AP193)>=AQ193,AQ193,IF($AQ$72-SUM($AO192:$AU192,$AO193:$AP193)<0,\"\",$AQ$72-SUM($AO192:$AU192,$AO193:$AP193)))))))","v":""},{"$f":"IF(AR$90=\"\",\"\",IF($AQ$72=0,\"\",IF(AR193=0,\"\",IF(SUM($AO192:$AU192,$AO193:$AR193)<=$AQ$72,AR193,IF($AQ$72-SUM($AO192:$AU192,$AO193:$AQ193)>=AR193,AR193,IF($AQ$72-SUM($AO192:$AU192,$AO193:$AQ193)<0,\"\",$AQ$72-SUM($AO192:$AU192,$AO193:$AQ193)))))))","v":""},{"$f":"IF(AS$90=\"\",\"\",IF($AQ$72=0,\"\",IF(AS193=0,\"\",IF(SUM($AO192:$AU192,$AO193:$AS193)<=$AQ$72,AS193,IF($AQ$72-SUM($AO192:$AU192,$AO193:$AR193)>=AS193,AS193,IF($AQ$72-SUM($AO192:$AU192,$AO193:$AR193)<0,\"\",$AQ$72-SUM($AO192:$AU192,$AO193:$AR193)))))))","v":""},{"$f":"IF(AT$90=\"\",\"\",IF($AQ$72=0,\"\",IF(AT193=0,\"\",IF(SUM($AO192:$AU192,$AO193:$AT193)<=$AQ$72,AT193,IF($AQ$72-SUM($AO192:$AU192,$AO193:$AS193)>=AT193,AT193,IF($AQ$72-SUM($AO192:$AU192,$AO193:$AS193)<0,\"\",$AQ$72-SUM($AO192:$AU192,$AO193:$AS193)))))))","v":""},{"$f":"IF(AU$90=\"\",\"\",IF($AQ$72=0,\"\",IF(AU193=0,\"\",IF(SUM($AO192:$AU192,$AO193:$AU193)<=$AQ$72,AU193,IF($AQ$72-SUM($AO192:$AU192,$AO193:$AT193)>=AU193,AU193,IF($AQ$72-SUM($AO192:$AU192,$AO193:$AT193)<0,\"\",$AQ$72-SUM($AO192:$AU192,$AO193:$AT193)))))))","v":""},0,null,null,null,null,null,{"$error":"#N/A"}]
[{"$f":"CONCATENATE(BB145,\"-1\")","v":"-1"},{"$f":"IF(F73=\"\",\"\",F73)","v":""},null,null,null,null,null,"İ.Ö",null,null,"Teo",null,{"$f":"IF(M$90=\"\",\"\",IF($Y$73=0,\"\",IF(M194=0,\"\",IF(SUM($M194)>=$Y$73,$Y$73,IF(SUM($M194)<=$Y$73,M194,)))))","v":""},{"$f":"IF(N$90=\"\",\"\",IF($Y$73=0,\"\",IF(N194=0,\"\",IF(SUM($M194:$N194)<=$Y$73,N194,IF($Y$73-SUM($M194)>=N194,N194,IF($Y$73-SUM($M194)<0,\"\",$Y$73-SUM($M194)))))))","v":""},{"$f":"IF(O$90=\"\",\"\",IF($Y$73=0,\"\",IF(O194=0,\"\",IF(SUM($M194:$O194)<=$Y$73,O194,IF($Y$73-SUM($M194:$N194)>=O194,O194,IF($Y$73-SUM($M194:$N194)<0,\"\",$Y$73-SUM($M194:$N194)))))))","v":""},{"$f":"IF(P$90=\"\",\"\",IF($AD$73=0,\"\",IF(P194=0,\"\",IF(SUM($M194:$P194)<=$AD$73,P194,IF($AD$73-SUM($M194:$O194)>=P194,P194,IF($AD$73-SUM($M194:$O194)<0,\"\",$AD$73-SUM($M194:$O194)))))))","v":""},{"$f":"IF(Q$90=\"\",\"\",IF($Y$73=0,\"\",IF(Q194=0,\"\",IF(SUM($M194:$Q194)<=$Y$73,Q194,IF($Y$73-SUM($M194:$P194)>=Q194,Q194,IF($Y$73-SUM($M194:$P194)<0,\"\",$Y$73-SUM($M194:$P194)))))))","v":""},{"$f":"IF(Q$90=\"\",\"\",IF($Y$73=0,\"\",IF(R194=0,\"\",IF(SUM($M194:$R194)<=$Y$73,R194,IF($Y$73-SUM($M194:$Q194)>=R194,R194,IF($Y$73-SUM($M194:$Q194)<0,\"\",$Y$73-SUM($M194:$Q194)))))))","v":""},{"$f":"IF(Q$90=\"\",\"\",IF($Y$73=0,\"\",IF(S194=0,\"\",IF(SUM($M194:$S194)<=$Y$73,S194,IF($Y$73-SUM($M194:$R194)>=S194,S194,IF($Y$73-SUM($M194:$R194)<0,\"\",$Y$73-SUM($M194:$R194)))))))","v":""},{"$f":"IF(T$90=\"\",\"\",IF($AD$73=0,\"\",IF(T194=0,\"\",IF(SUM(T194)>=$AD$73,$AD$73,IF(SUM(T194)<=$AD$73,T194,)))))","v":""},{"$f":"IF(U$90=\"\",\"\",IF($AD$73=0,\"\",IF(U194=0,\"\",IF(SUM($T194:$U194)<=$AD$73,U194,IF($AD$73-SUM($T194)>=U194,U194,IF($AD$73-SUM($T194)<0,\"\",$AD$73-SUM($T194)))))))","v":""},{"$f":"IF(V$90=\"\",\"\",IF($AD$73=0,\"\",IF(V194=0,\"\",IF(SUM($T194:$V194)<=$AD$73,V194,IF($AD$73-SUM($T194:$U194)>=V194,V194,IF($AD$73-SUM($T194:$U194)<0,\"\",$AD$73-SUM($T194:$U194)))))))","v":""},{"$f":"IF(W$90=\"\",\"\",IF($AD$73=0,\"\",IF(W194=0,\"\",IF(SUM($T194:$W194)<=$AD$73,W194,IF($AD$73-SUM($T194:$V194)>=W194,W194,IF($AD$73-SUM($T194:$V194)<0,\"\",$AD$73-SUM($T194:$V194)))))))","v":""},{"$f":"IF(X$90=\"\",\"\",IF($AD$73=0,\"\",IF(X194=0,\"\",IF(SUM($T194:$X194)<=$AD$73,X194,IF($AD$73-SUM($T194:$W194)>=X194,X194,IF($AD$73-SUM($T194:$W194)<0,\"\",$AD$73-SUM($T194:$W194)))))))","v":""},{"$f":"IF(Y$90=\"\",\"\",IF($AD$73=0,\"\",IF(Y194=0,\"\",IF(SUM($T194:$Y194)<=$AD$73,Y194,IF($AD$73-SUM($T194:$X194)>=Y194,Y194,IF($AD$73-SUM($T194:$X194)<0,\"\",$AD$73-SUM($T194:$X194)))))))","v":""},{"$f":"IF(Z$90=\"\",\"\",IF($AD$73=0,\"\",IF(Z194=0,\"\",IF(SUM($T194:$Z194)<=$AD$73,Z194,IF($AD$73-SUM($T194:$Y194)>=Z194,Z194,IF($AD$73-SUM($T194:$Y194)<0,\"\",$AD$73-SUM($T194:$Y194)))))))","v":""},{"$f":"IF(AA$90=\"\",\"\",IF($AH$73=0,\"\",IF(AA194=0,\"\",IF(SUM(AA194)>=$AH$73,$AH$73,IF(SUM(AA194)<=$AH$73,AA194,)))))","v":""},{"$f":"IF(AB$90=\"\",\"\",IF($AH$73=0,\"\",IF(AB194=0,\"\",IF(SUM($AA194:$AB194)<=$Y$73,AB194,IF($AH$73-SUM($AA194)>=AB194,AB194,IF($AH$73-SUM($AA194)<0,\"\",$AH$73-SUM($AA194)))))))","v":""},{"$f":"IF(AC$90=\"\",\"\",IF($AH$73=0,\"\",IF(AC194=0,\"\",IF(SUM($AA194:$AC194)<=$AH$73,AC194,IF($AH$73-SUM($AA194:$AB194)>=AC194,AC194,IF($AH$73-SUM($AA194:$AB194)<0,\"\",$AH$73-SUM($AA194:$AB194)))))))","v":""},{"$f":"IF(AD$90=\"\",\"\",IF($AH$73=0,\"\",IF(AD194=0,\"\",IF(SUM($AA194:$AD194)<=$AH$73,AD194,IF($AH$73-SUM($AA194:$AC194)>=AD194,AD194,IF($AH$73-SUM($AA194:$AC194)<0,\"\",$AH$73-SUM($AA194:$AC194)))))))","v":""},{"$f":"IF(AE$90=\"\",\"\",IF($AH$73=0,\"\",IF(AE194=0,\"\",IF(SUM($AA194:$AE194)<=$AH$73,AE194,IF($AH$73-SUM($AA194:$AD194)>=AE194,AE194,IF($AH$73-SUM($AA194:$AD194)<0,\"\",$AH$73-SUM($AA194:$AD194)))))))","v":""},{"$f":"IF(AF$90=\"\",\"\",IF($AH$73=0,\"\",IF(AF194=0,\"\",IF(SUM($AA194:$AF194)<=$AH$73,AF194,IF($AH$73-SUM($AA194:$AE194)>=AF194,AF194,IF($AH$73-SUM($AA194:$AE194)<0,\"\",$AH$73-SUM($AA194:$AE194)))))))","v":""},{"$f":"IF(AG$90=\"\",\"\",IF($AH$73=0,\"\",IF(AG194=0,\"\",IF(SUM($AA194:$AG194)<=$AH$73,AG194,IF($AH$73-SUM($AA194:$AF194)>=AG194,AG194,IF($AH$73-SUM($AA194:$AF194)<0,\"\",$AH$73-SUM($AA194:$AF194)))))))","v":""},{"$f":"IF(AH$90=\"\",\"\",IF($AM$73=0,\"\",IF(AH194=0,\"\",IF(SUM(AH194)>=$AM$73,$AM$73,IF(SUM(AH194)<=$AM$73,AH194,)))))","v":""},{"$f":"IF(AI$90=\"\",\"\",IF($AM$73=0,\"\",IF(AI194=0,\"\",IF(SUM($AH194:$AI194)<=$AM$73,AI194,IF($AM$73-SUM($AH194)>=AI194,AI194,IF($AM$73-SUM($AH194)<0,\"\",$AM$73-SUM($AH194)))))))","v":""},{"$f":"IF(AJ$90=\"\",\"\",IF($AM$73=0,\"\",IF(AJ194=0,\"\",IF(SUM($AH194:$AJ194)<=$AM$73,AJ194,IF($AM$73-SUM($AH194:$AI194)>=AJ194,AJ194,IF($AM$73-SUM($AH194:$AI194)<0,\"\",$AM$73-SUM($AH194:$AI194)))))))","v":""},{"$f":"IF(AK$90=\"\",\"\",IF($AM$73=0,\"\",IF(AK194=0,\"\",IF(SUM($AH194:$AK194)<=$AM$73,AK194,IF($AM$73-SUM($AH194:$AJ194)>=AK194,AK194,IF($AM$73-SUM($AH194:$AJ194)<0,\"\",$AM$73-SUM($AH194:$AJ194)))))))","v":""},{"$f":"IF(AL$90=\"\",\"\",IF($AM$73=0,\"\",IF(AL194=0,\"\",IF(SUM($AH194:$AL194)<=$AM$73,AL194,IF($AM$73-SUM($AH194:$AK194)>=AL194,AL194,IF($AM$73-SUM($AH194:$AK194)<0,\"\",$AM$73-SUM($AH194:$AK194)))))))","v":""},{"$f":"IF(AM$90=\"\",\"\",IF($AM$73=0,\"\",IF(AM194=0,\"\",IF(SUM($AH194:$AM194)<=$AM$73,AM194,IF($AM$73-SUM($AH194:$AL194)>=AM194,AM194,IF($AM$73-SUM($AH194:$AL194)<0,\"\",$AM$73-SUM($AH194:$AL194)))))))","v":""},{"$f":"IF(AN$90=\"\",\"\",IF($AM$73=0,\"\",IF(AN194=0,\"\",IF(SUM($AH194:$AN194)<=$AM$73,AN194,IF($AM$73-SUM($AH194:$AM194)>=AN194,AN194,IF($AM$73-SUM($AH194:$AM194)<0,\"\",$AM$73-SUM($AH194:$AM194)))))))","v":""},{"$f":"IF(AO$90=\"\",\"\",IF($AQ$73=0,\"\",IF(AO194=0,\"\",IF(SUM(AO194)>=$AQ$73,$AQ$73,IF(SUM(AO194)<=$AQ$73,AO194,)))))","v":""},{"$f":"IF(AP$90=\"\",\"\",IF($AQ$73=0,\"\",IF(AP194=0,\"\",IF(SUM($AO194:$AP194)<=$AQ$73,AP194,IF($AQ$73-SUM($AO194)>=AP194,AP194,IF($AQ$73-SUM($AO194)<0,\"\",$AQ$73-SUM($AO194)))))))","v":""},{"$f":"IF(AQ$90=\"\",\"\",IF($AQ$73=0,\"\",IF(AQ194=0,\"\",IF(SUM($AO194:$AQ194)<=$AQ$73,AQ194,IF($AQ$73-SUM($AO194:$AP194)>=AQ194,AQ194,IF($AQ$73-SUM($AO194:$AP194)<0,\"\",$AQ$73-SUM($AO194:$AP194)))))))","v":""},{"$f":"IF(AR$90=\"\",\"\",IF($AQ$73=0,\"\",IF(AR194=0,\"\",IF(SUM($AO194:$AR194)<=$AQ$73,AR194,IF($AQ$73-SUM($AO194:$AQ194)>=AR194,AR194,IF($AQ$73-SUM($AO194:$AQ194)<0,\"\",$AQ$73-SUM($AO194:$AQ194)))))))","v":""},{"$f":"IF(AS$90=\"\",\"\",IF($AQ$73=0,\"\",IF(AS194=0,\"\",IF(SUM($AO194:$AS194)<=$AQ$73,AS194,IF($AQ$73-SUM($AO194:$AR194)>=AS194,AS194,IF($AQ$73-SUM($AO194:$AR194)<0,\"\",$AQ$73-SUM($AO194:$AR194)))))))","v":""},{"$f":"IF(AT$90=\"\",\"\",IF($AQ$73=0,\"\",IF(AT194=0,\"\",IF(SUM($AO194:$AT194)<=$AQ$73,AT194,IF($AQ$73-SUM($AO194:$AS194)>=AT194,AT194,IF($AQ$73-SUM($AO194:$AS194)<0,\"\",$AQ$73-SUM($AO194:$AS194)))))))","v":""},{"$f":"IF(AU$90=\"\",\"\",IF($AQ$73=0,\"\",IF(AU194=0,\"\",IF(SUM($AO194:$AU194)<=$AQ$73,AU194,IF($AQ$73-SUM($AO194:$AT194)>=AU194,AU194,IF($AQ$73-SUM($AO194:$AT194)<0,\"\",$AQ$73-SUM($AO194:$AT194)))))))","v":""},0,null,{"$f":"SUM(AV145:AW146)","v":0},null,null,null,""]
[{"$f":"CONCATENATE(BB145,\"-2\")","v":"-2"},null,null,null,null,null,null,null,null,null,"DF",null,{"$f":"IF(M$90=\"\",\"\",IF($Y$73=0,\"\",IF(M195=0,\"\",IF(SUM($M194:$S194,$M195)<=$Y$73,M195,IF($Y$73-SUM($M194:$S194)>=M195,M195,IF($Y$73-SUM($M194:$S194)<=0,\"\",$Y$73-SUM($M194:$S194)))))))","v":""},{"$f":"IF(N$90=\"\",\"\",IF($Y$73=0,\"\",IF(N195=0,\"\",IF(SUM($M194:$S194,$M195:$N195)<=$Y$73,N195,IF($Y$73-SUM($M194:$S194,$M195)>=N195,N195,IF($Y$73-SUM($M194:$S194,$M195)<0,\"\",$Y$73-SUM($M194:$S194,$M195)))))))","v":""},{"$f":"IF(O$90=\"\",\"\",IF($Y$73=0,\"\",IF(O195=0,\"\",IF(SUM($M194:$S194,$M195:$O195)<=$Y$73,O195,IF($Y$73-SUM($M194:$S194,$M195:$N195)>=O195,O195,IF($Y$73-SUM($M194:$S194,$M195:$N195)<0,\"\",$Y$73-SUM($M194:$S194,$M195:$N195)))))))","v":""},{"$f":"IF(P$90=\"\",\"\",IF($Y$73=0,\"\",IF(P195=0,\"\",IF(SUM($M194:$S194,$M195:$P195)<=$Y$73,P195,IF($Y$73-SUM($M194:$S194,$M195:$O195)>=P195,P195,IF($Y$73-SUM($M194:$S194,$M195:$O195)<0,\"\",$Y$73-SUM($M194:$S194,$M195:$O195)))))))","v":""},{"$f":"IF(Q$90=\"\",\"\",IF($Y$73=0,\"\",IF(Q195=0,\"\",IF(SUM($M194:$S194,$M195:$Q195)<=$Y$73,Q195,IF($Y$73-SUM($M194:$S194,$M195:$P195)>=Q195,Q195,IF($Y$73-SUM($M194:$S194,$M195:$P195)<0,\"\",$Y$73-SUM($M194:$S194,$M195:$P195)))))))","v":""},{"$f":"IF(R$90=\"\",\"\",IF($Y$73=0,\"\",IF(R195=0,\"\",IF(SUM($M194:$S194,$M195:$R195)<=$Y$73,R195,IF($Y$73-SUM($M194:$S194,$M195:$Q195)>=R195,R195,IF($Y$73-SUM($M194:$S194,$M195:$Q195)<0,\"\",$Y$73-SUM($M194:$S194,$M195:$Q195)))))))","v":""},{"$f":"IF(S$90=\"\",\"\",IF($Y$73=0,\"\",IF(S195=0,\"\",IF(SUM($M194:$S194,$M195:$S195)<=$Y$73,S195,IF($Y$73-SUM($M194:$S194,$M195:$R195)>=S195,S195,IF($Y$73-SUM($M194:$S194,$M195:$R195)<0,\"\",$Y$73-SUM($M194:$S194,$M195:$R195)))))))","v":""},{"$f":"IF(T$90=\"\",\"\",IF($AD$73=0,\"\",IF(T195=0,\"\",IF(SUM($T194:$Z194,$T195)<=$AD$73,T195,IF($AD$73-SUM($T194:$Z194)>=T195,T195,IF($AD$73-SUM($T194:$Z194)<=0,\"\",$AD$73-SUM($T194:$Z194)))))))","v":""},{"$f":"IF(U$90=\"\",\"\",IF($AD$73=0,\"\",IF(U195=0,\"\",IF(SUM($T194:$Z194,$T195:$U195)<=$AD$73,U195,IF($AD$73-SUM($T194:$Z194,$T195)>=U195,U195,IF($AD$73-SUM($T194:$Z194,$T195)<0,\"\",$AD$73-SUM($T194:$Z194,$T195)))))))","v":""},{"$f":"IF(V$90=\"\",\"\",IF($AD$73=0,\"\",IF(V195=0,\"\",IF(SUM($T194:$Z194,$T195:$V195)<=$AD$73,V195,IF($AD$73-SUM($T194:$Z194,$T195:$U195)>=V195,V195,IF($AD$73-SUM($T194:$Z194,$T195:$U195)<0,\"\",$AD$73-SUM($T194:$Z194,$T195:$U195)))))))","v":""},{"$f":"IF(W$90=\"\",\"\",IF($AD$73=0,\"\",IF(W195=0,\"\",IF(SUM($T194:$Z194,$T195:$W195)<=$AD$73,W195,IF($AD$73-SUM($T194:$Z194,$T195:$V195)>=W195,W195,IF($AD$73-SUM($T194:$Z194,$T195:$V195)<0,\"\",$AD$73-SUM($T194:$Z194,$T195:$V195)))))))","v":""},{"$f":"IF(X$90=\"\",\"\",IF($AD$73=0,\"\",IF(X195=0,\"\",IF(SUM($T194:$Z194,$T195:$X195)<=$AD$73,X195,IF($AD$73-SUM($T194:$Z194,$T195:$W195)>=X195,X195,IF($AD$73-SUM($T194:$Z194,$T195:$W195)<0,\"\",$AD$73-SUM($T194:$Z194,$T195:$W195)))))))","v":""},{"$f":"IF(Y$90=\"\",\"\",IF($AD$73=0,\"\",IF(Y195=0,\"\",IF(SUM($T194:$Z194,$T195:$Y195)<=$AD$73,Y195,IF($AD$73-SUM($T194:$Z194,$T195:$X195)>=Y195,Y195,IF($AD$73-SUM($T194:$Z194,$T195:$X195)<0,\"\",$AD$73-SUM($T194:$Z194,$T195:$X195)))))))","v":""},{"$f":"IF(Z$90=\"\",\"\",IF($AD$73=0,\"\",IF(Z195=0,\"\",IF(SUM($T194:$Z194,$T195:$Z195)<=$AD$73,Z195,IF($AD$73-SUM($T194:$Z194,$T195:$Y195)>=Z195,Z195,IF($AD$73-SUM($T194:$Z194,$T195:$Y195)<0,\"\",$AD$73-SUM($T194:$Z194,$T195:$Y195)))))))","v":""},{"$f":"IF(AA$90=\"\",\"\",IF($AH$73=0,\"\",IF(AA195=0,\"\",IF(SUM($AA194:$AG194,$AA195)<=$AH$73,AA195,IF($AH$73-SUM($AA194:$AG194)>=AA195,AA195,IF($AH$73-SUM($AA194:$AG194)<=0,\"\",$AH$73-SUM($AA194:$AG194)))))))","v":""},{"$f":"IF(AB$90=\"\",\"\",IF($AH$73=0,\"\",IF(AB195=0,\"\",IF(SUM($AA194:$AG194,$AA195:$AB195)<=$AH$73,AB195,IF($AH$73-SUM($AA194:$AG194,$AA195)>=AB195,AB195,IF($AH$73-SUM($AA194:$AG194,$AA195)<0,\"\",$AH$73-SUM($AA194:$AG194,$AA195)))))))","v":""},{"$f":"IF(AC$90=\"\",\"\",IF($AH$73=0,\"\",IF(AC195=0,\"\",IF(SUM($AA194:$AG194,$AA195:$AC195)<=$AH$73,AC195,IF($AH$73-SUM($AA194:$AG194,$AA195:$AB195)>=AC195,AC195,IF($AH$73-SUM($AA194:$AG194,$AA195:$AB195)<0,\"\",$AH$73-SUM($AA194:$AG194,$AA195:$AB195)))))))","v":""},{"$f":"IF(AD$90=\"\",\"\",IF($AH$73=0,\"\",IF(AD195=0,\"\",IF(SUM($AA194:$AG194,$AA195:$AD195)<=$AH$73,AD195,IF($AH$73-SUM($AA194:$AG194,$AA195:$AC195)>=AD195,AD195,IF($AH$73-SUM($AA194:$AG194,$AA195:$AC195)<0,\"\",$AH$73-SUM($AA194:$AG194,$AB195:$AC195)))))))","v":""},{"$f":"IF(AE$90=\"\",\"\",IF($AH$73=0,\"\",IF(AE195=0,\"\",IF(SUM($AA194:$AG194,$AA195:$AE195)<=$AH$73,AE195,IF($AH$73-SUM($AA194:$AG194,$AA195:$AD195)>=AE195,AE195,IF($AH$73-SUM($AA194:$AG194,$AA195:$AD195)<0,\"\",$AH$73-SUM($AA194:$AG194,$AA195:$AD195)))))))","v":""},{"$f":"IF(AF$90=\"\",\"\",IF($AH$73=0,\"\",IF(AF195=0,\"\",IF(SUM($AA194:$AG194,$AA195:$AF195)<=$AH$73,AF195,IF($AH$73-SUM($AA194:$AG194,$AA195:$AE195)>=AF195,AF195,IF($AH$73-SUM($AA194:$AG194,$AA195:$AE195)<0,\"\",$AH$73-SUM($AA194:$AG194,$AA195:$AE195)))))))","v":""},{"$f":"IF(AG$90=\"\",\"\",IF($AH$73=0,\"\",IF(AG195=0,\"\",IF(SUM($AA194:$AG194,$AA195:$AG195)<=$AH$73,AG195,IF($AH$73-SUM($AA194:$AG194,$AA195:$AF195)>=AG195,AG195,IF($AH$73-SUM($AA194:$AG194,$AA195:$AF195)<0,\"\",$AH$73-SUM($AA194:$AG194,$AA195:$AF195)))))))","v":""},{"$f":"IF(AH$90=\"\",\"\",IF($AM$73=0,\"\",IF(AH195=0,\"\",IF(SUM($AH194:$AN194,$AH195)<=$AM$73,AH195,IF($AM$73-SUM($AH194:$AN194)>=AH195,AH195,IF($AM$73-SUM($AH194:$AN194)<=0,\"\",$AM$73-SUM($AH194:$AN194)))))))","v":""},{"$f":"IF(AI$90=\"\",\"\",IF($AM$73=0,\"\",IF(AI195=0,\"\",IF(SUM($AH194:$AN194,$AH195:$AI195)<=$AM$73,AI195,IF($AM$73-SUM($AH194:$AN194,$AH195)>=AI195,AI195,IF($AM$73-SUM($AH194:$AN194,$AH195)<0,\"\",$AM$73-SUM($AH194:$AN194,$AH195)))))))","v":""},{"$f":"IF(AJ$90=\"\",\"\",IF($AM$73=0,\"\",IF(AJ195=0,\"\",IF(SUM($AH194:$AN194,$AH195:$AJ195)<=$AM$73,AJ195,IF($AM$73-SUM($AH194:$AN194,$AH195:$AI195)>=AJ195,AJ195,IF($AM$73-SUM($AH194:$AN194,$AH195:$AI195)<0,\"\",$AM$73-SUM($AH194:$AN194,$AH195:$AI195)))))))","v":""},{"$f":"IF(AK$90=\"\",\"\",IF($AM$73=0,\"\",IF(AK195=0,\"\",IF(SUM($AH194:$AN194,$AH195:$AK195)<=$AM$73,AK195,IF($AM$73-SUM($AH194:$AN194,$AH195:$AJ195)>=AK195,AK195,IF($AM$73-SUM($AH194:$AN194,$AH195:$AJ195)<0,\"\",$AM$73-SUM($AH194:$AN194,$AH195:$AJ195)))))))","v":""},{"$f":"IF(AL$90=\"\",\"\",IF($AM$73=0,\"\",IF(AL195=0,\"\",IF(SUM($AH194:$AN194,$AH195:$AL195)<=$AM$73,AL195,IF($AM$73-SUM($AH194:$AN194,$AH195:$AK195)>=AL195,AL195,IF($AM$73-SUM($AH194:$AN194,$AH195:$AK195)<0,\"\",$AM$73-SUM($AH194:$AN194,$AH195:$AK195)))))))","v":""},{"$f":"IF(AM$90=\"\",\"\",IF($AM$73=0,\"\",IF(AM195=0,\"\",IF(SUM($AH194:$AN194,$AH195:$AM195)<=$AM$73,AM195,IF($AM$73-SUM($AH194:$AN194,$AH195:$AL195)>=AM195,AM195,IF($AM$73-SUM($AH194:$AN194,$AH195:$AL195)<0,\"\",$AM$73-SUM($AH194:$AN194,$AH195:$AL195)))))))","v":""},{"$f":"IF(AN$90=\"\",\"\",IF($AM$73=0,\"\",IF(AN195=0,\"\",IF(SUM($AH194:$AN194,$AH195:$AN195)<=$AM$73,AN195,IF($AM$73-SUM($AH194:$AN194,$AH195:$AM195)>=AN195,AN195,IF($AM$73-SUM($AH194:$AN194,$AH195:$AM195)<0,\"\",$AM$73-SUM($AH194:$AN194,$AH195:$AM195)))))))","v":""},{"$f":"IF(AO$90=\"\",\"\",IF($AQ$73=0,\"\",IF(AO195=0,\"\",IF(SUM($AO194:$AU194,$AO195)<=$AQ$73,AO195,IF($AQ$73-SUM($AO194:$AU194)>=AO195,AO195,IF($AQ$73-SUM($AO194:$AU194)<=0,\"\",$AQ$73-SUM($AO194:$AU194)))))))","v":""},{"$f":"IF(AP$90=\"\",\"\",IF($AQ$73=0,\"\",IF(AP195=0,\"\",IF(SUM($AO194:$AU194,$AO195:$AP195)<=$AQ$73,AP195,IF($AQ$73-SUM($AO194:$AU194,$AO195)>=AP195,AP195,IF($AQ$73-SUM($AO194:$AU194,$AO195)<0,\"\",$AQ$73-SUM($AO194:$AU194,$AO195)))))))","v":""},{"$f":"IF(AQ$90=\"\",\"\",IF($AQ$73=0,\"\",IF(AQ195=0,\"\",IF(SUM($AO194:$AU194,$AO195:$AQ195)<=$AQ$73,AQ195,IF($AQ$73-SUM($AO194:$AU194,$AO195:$AP195)>=AQ195,AQ195,IF($AQ$73-SUM($AO194:$AU194,$AO195:$AP195)<0,\"\",$AQ$73-SUM($AO194:$AU194,$AO195:$AP195)))))))","v":""},{"$f":"IF(AR$90=\"\",\"\",IF($AQ$73=0,\"\",IF(AR195=0,\"\",IF(SUM($AO194:$AU194,$AO195:$AR195)<=$AQ$73,AR195,IF($AQ$73-SUM($AO194:$AU194,$AO195:$AQ195)>=AR195,AR195,IF($AQ$73-SUM($AO194:$AU194,$AO195:$AQ195)<0,\"\",$AQ$73-SUM($AO194:$AU194,$AO195:$AQ195)))))))","v":""},{"$f":"IF(AS$90=\"\",\"\",IF($AQ$73=0,\"\",IF(AS195=0,\"\",IF(SUM($AO194:$AU194,$AO195:$AS195)<=$AQ$73,AS195,IF($AQ$73-SUM($AO194:$AU194,$AO195:$AR195)>=AS195,AS195,IF($AQ$73-SUM($AO194:$AU194,$AO195:$AR195)<0,\"\",$AQ$73-SUM($AO194:$AU194,$AO195:$AR195)))))))","v":""},{"$f":"IF(AT$90=\"\",\"\",IF($AQ$73=0,\"\",IF(AT195=0,\"\",IF(SUM($AO194:$AU194,$AO195:$AT195)<=$AQ$73,AT195,IF($AQ$73-SUM($AO194:$AU194,$AO195:$AS195)>=AT195,AT195,IF($AQ$73-SUM($AO194:$AU194,$AO195:$AS195)<0,\"\",$AQ$73-SUM($AO194:$AU194,$AO195:$AS195)))))))","v":""},{"$f":"IF(AU$90=\"\",\"\",IF($AQ$73=0,\"\",IF(AU195=0,\"\",IF(SUM($AO194:$AU194,$AO195:$AU195)<=$AQ$73,AU195,IF($AQ$73-SUM($AO194:$AU194,$AO195:$AT195)>=AU195,AU195,IF($AQ$73-SUM($AO194:$AU194,$AO195:$AT195)<0,\"\",$AQ$73-SUM($AO194:$AU194,$AO195:$AT195)))))))","v":""},0,null,null,null,null,null,{"$error":"#N/A"}]
[{"$f":"CONCATENATE(BB147,\"-1\")","v":"-1"},{"$f":"IF(F74=\"\",\"\",F74)","v":""},null,null,null,null,null,"İ.Ö",null,null,"Teo",null,{"$f":"IF(M$90=\"\",\"\",IF($Y$74=0,\"\",IF(M196=0,\"\",IF(SUM($M196)>=$Y$74,$Y$74,IF(SUM($M196)<=$Y$74,M196,)))))","v":""},{"$f":"IF(N$90=\"\",\"\",IF($Y$74=0,\"\",IF(N196=0,\"\",IF(SUM($M196:$N196)<=$Y$74,N196,IF($Y$74-SUM($M196)>=N196,N196,IF($Y$74-SUM($M196)<0,\"\",$Y$74-SUM($M196)))))))","v":""},{"$f":"IF(O$90=\"\",\"\",IF($Y$74=0,\"\",IF(O196=0,\"\",IF(SUM($M196:$O196)<=$Y$74,O196,IF($Y$74-SUM($M196:$N196)>=O196,O196,IF($Y$74-SUM($M196:$N196)<0,\"\",$Y$74-SUM($M196:$N196)))))))","v":""},{"$f":"IF(P$90=\"\",\"\",IF($Y$74=0,\"\",IF(P196=0,\"\",IF(SUM($M196:$P196)<=$Y$74,P196,IF($Y$74-SUM($M196:$O196)>=P196,P196,IF($Y$74-SUM($M196:$O196)<0,\"\",$Y$74-SUM($M196:$O196)))))))","v":""},{"$f":"IF(Q$90=\"\",\"\",IF($Y$74=0,\"\",IF(Q196=0,\"\",IF(SUM($M196:$Q196)<=$Y$74,Q196,IF($Y$74-SUM($M196:$P196)>=Q196,Q196,IF($Y$74-SUM($M196:$P196)<0,\"\",$Y$74-SUM($M196:$P196)))))))","v":""},{"$f":"IF(Q$90=\"\",\"\",IF($Y$74=0,\"\",IF(R196=0,\"\",IF(SUM($M196:$R196)<=$Y$74,R196,IF($Y$74-SUM($M196:$Q196)>=R196,R196,IF($Y$74-SUM($M196:$Q196)<0,\"\",$Y$74-SUM($M196:$Q196)))))))","v":""},{"$f":"IF(Q$90=\"\",\"\",IF($Y$74=0,\"\",IF(S196=0,\"\",IF(SUM($M196:$S196)<=$Y$74,S196,IF($Y$74-SUM($M196:$R196)>=S196,S196,IF($Y$74-SUM($M196:$R196)<0,\"\",$Y$74-SUM($M196:$R196)))))))","v":""},{"$f":"IF(T$90=\"\",\"\",IF($AD$74=0,\"\",IF(T196=0,\"\",IF(SUM(T196)>=$AD$74,$AD$74,IF(SUM(T196)<=$AD$74,T196,)))))","v":""},{"$f":"IF(U$90=\"\",\"\",IF($AD$74=0,\"\",IF(U196=0,\"\",IF(SUM($T196:$U196)<=$AD$74,U196,IF($AD$74-SUM($T196)>=U196,U196,IF($AD$74-SUM($T196)<0,\"\",$AD$74-SUM($T196)))))))","v":""},{"$f":"IF(V$90=\"\",\"\",IF($AD$74=0,\"\",IF(V196=0,\"\",IF(SUM($T196:$V196)<=$AD$74,V196,IF($AD$74-SUM($T196:$U196)>=V196,V196,IF($AD$74-SUM($T196:$U196)<0,\"\",$AD$74-SUM($T196:$U196)))))))","v":""},{"$f":"IF(W$90=\"\",\"\",IF($AD$74=0,\"\",IF(W196=0,\"\",IF(SUM($T196:$W196)<=$AD$74,W196,IF($AD$74-SUM($T196:$V196)>=W196,W196,IF($AD$74-SUM($T196:$V196)<0,\"\",$AD$74-SUM($T196:$V196)))))))","v":""},{"$f":"IF(X$90=\"\",\"\",IF($AD$74=0,\"\",IF(X196=0,\"\",IF(SUM($T196:$X196)<=$AD$74,X196,IF($AD$74-SUM($T196:$W196)>=X196,X196,IF($AD$74-SUM($T196:$W196)<0,\"\",$AD$74-SUM($T196:$W196)))))))","v":""},{"$f":"IF(Y$90=\"\",\"\",IF($AD$74=0,\"\",IF(Y196=0,\"\",IF(SUM($T196:$Y196)<=$AD$74,Y196,IF($AD$74-SUM($T196:$X196)>=Y196,Y196,IF($AD$74-SUM($T196:$X196)<0,\"\",$AD$74-SUM($T196:$X196)))))))","v":""},{"$f":"IF(Z$90=\"\",\"\",IF($AD$74=0,\"\",IF(Z196=0,\"\",IF(SUM($T196:$Z196)<=$AD$74,Z196,IF($AD$74-SUM($T196:$Y196)>=Z196,Z196,IF($AD$74-SUM($T196:$Y196)<0,\"\",$AD$74-SUM($T196:$Y196)))))))","v":""},{"$f":"IF(AA$90=\"\",\"\",IF($AH$74=0,\"\",IF(AA196=0,\"\",IF(SUM(AA196)>=$AH$74,$AH$74,IF(SUM(AA196)<=$AH$74,AA196,)))))","v":""},{"$f":"IF(AB$90=\"\",\"\",IF($AH$74=0,\"\",IF(AB196=0,\"\",IF(SUM($AA196:$AB196)<=$Y$74,AB196,IF($AH$74-SUM($AA196)>=AB196,AB196,IF($AH$74-SUM($AA196)<0,\"\",$AH$74-SUM($AA196)))))))","v":""},{"$f":"IF(AC$90=\"\",\"\",IF($AH$74=0,\"\",IF(AC196=0,\"\",IF(SUM($AA196:$AC196)<=$AH$74,AC196,IF($AH$74-SUM($AA196:$AB196)>=AC196,AC196,IF($AH$74-SUM($AA196:$AB196)<0,\"\",$AH$74-SUM($AA196:$AB196)))))))","v":""},{"$f":"IF(AD$90=\"\",\"\",IF($AH$74=0,\"\",IF(AD196=0,\"\",IF(SUM($AA196:$AD196)<=$AH$74,AD196,IF($AH$74-SUM($AA196:$AC196)>=AD196,AD196,IF($AH$74-SUM($AA196:$AC196)<0,\"\",$AH$74-SUM($AA196:$AC196)))))))","v":""},{"$f":"IF(AE$90=\"\",\"\",IF($AH$74=0,\"\",IF(AE196=0,\"\",IF(SUM($AA196:$AE196)<=$AH$74,AE196,IF($AH$74-SUM($AA196:$AD196)>=AE196,AE196,IF($AH$74-SUM($AA196:$AD196)<0,\"\",$AH$74-SUM($AA196:$AD196)))))))","v":""},{"$f":"IF(AF$90=\"\",\"\",IF($AH$74=0,\"\",IF(AF196=0,\"\",IF(SUM($AA196:$AF196)<=$AH$74,AF196,IF($AH$74-SUM($AA196:$AE196)>=AF196,AF196,IF($AH$74-SUM($AA196:$AE196)<0,\"\",$AH$74-SUM($AA196:$AE196)))))))","v":""},{"$f":"IF(AG$90=\"\",\"\",IF($AH$74=0,\"\",IF(AG196=0,\"\",IF(SUM($AA196:$AG196)<=$AH$74,AG196,IF($AH$74-SUM($AA196:$AF196)>=AG196,AG196,IF($AH$74-SUM($AA196:$AF196)<0,\"\",$AH$74-SUM($AA196:$AF196)))))))","v":""},{"$f":"IF(AH$90=\"\",\"\",IF($AM$74=0,\"\",IF(AH196=0,\"\",IF(SUM(AH196)>=$AM$74,$AM$74,IF(SUM(AH196)<=$AM$74,AH196,)))))","v":""},{"$f":"IF(AI$90=\"\",\"\",IF($AM$74=0,\"\",IF(AI196=0,\"\",IF(SUM($AH196:$AI196)<=$AM$74,AI196,IF($AM$74-SUM($AH196)>=AI196,AI196,IF($AM$74-SUM($AH196)<0,\"\",$AM$74-SUM($AH196)))))))","v":""},{"$f":"IF(AJ$90=\"\",\"\",IF($AM$74=0,\"\",IF(AJ196=0,\"\",IF(SUM($AH196:$AJ196)<=$AM$74,AJ196,IF($AM$74-SUM($AH196:$AI196)>=AJ196,AJ196,IF($AM$74-SUM($AH196:$AI196)<0,\"\",$AM$74-SUM($AH196:$AI196)))))))","v":""},{"$f":"IF(AK$90=\"\",\"\",IF($AM$74=0,\"\",IF(AK196=0,\"\",IF(SUM($AH196:$AK196)<=$AM$74,AK196,IF($AM$74-SUM($AH196:$AJ196)>=AK196,AK196,IF($AM$74-SUM($AH196:$AJ196)<0,\"\",$AM$74-SUM($AH196:$AJ196)))))))","v":""},{"$f":"IF(AL$90=\"\",\"\",IF($AM$74=0,\"\",IF(AL196=0,\"\",IF(SUM($AH196:$AL196)<=$AM$74,AL196,IF($AM$74-SUM($AH196:$AK196)>=AL196,AL196,IF($AM$74-SUM($AH196:$AK196)<0,\"\",$AM$74-SUM($AH196:$AK196)))))))","v":""},{"$f":"IF(AM$90=\"\",\"\",IF($AM$74=0,\"\",IF(AM196=0,\"\",IF(SUM($AH196:$AM196)<=$AM$74,AM196,IF($AM$74-SUM($AH196:$AL196)>=AM196,AM196,IF($AM$74-SUM($AH196:$AL196)<0,\"\",$AM$74-SUM($AH196:$AL196)))))))","v":""},{"$f":"IF(AN$90=\"\",\"\",IF($AM$74=0,\"\",IF(AN196=0,\"\",IF(SUM($AH196:$AN196)<=$AM$74,AN196,IF($AM$74-SUM($AH196:$AM196)>=AN196,AN196,IF($AM$74-SUM($AH196:$AM196)<0,\"\",$AM$74-SUM($AH196:$AM196)))))))","v":""},{"$f":"IF(AO$90=\"\",\"\",IF($AQ$74=0,\"\",IF(AO196=0,\"\",IF(SUM(AO196)>=$AQ$74,$AQ$74,IF(SUM(AO196)<=$AQ$74,AO196,)))))","v":""},{"$f":"IF(AP$90=\"\",\"\",IF($AQ$74=0,\"\",IF(AP196=0,\"\",IF(SUM($AO196:$AP196)<=$AQ$74,AP196,IF($AQ$74-SUM($AO196)>=AP196,AP196,IF($AQ$74-SUM($AO196)<0,\"\",$AQ$74-SUM($AO196)))))))","v":""},{"$f":"IF(AQ$90=\"\",\"\",IF($AQ$74=0,\"\",IF(AQ196=0,\"\",IF(SUM($AO196:$AQ196)<=$AQ$74,AQ196,IF($AQ$74-SUM($AO196:$AP196)>=AQ196,AQ196,IF($AQ$74-SUM($AO196:$AP196)<0,\"\",$AQ$74-SUM($AO196:$AP196)))))))","v":""},{"$f":"IF(AR$90=\"\",\"\",IF($AQ$74=0,\"\",IF(AR196=0,\"\",IF(SUM($AO196:$AR196)<=$AQ$74,AR196,IF($AQ$74-SUM($AO196:$AQ196)>=AR196,AR196,IF($AQ$74-SUM($AO196:$AQ196)<0,\"\",$AQ$74-SUM($AO196:$AQ196)))))))","v":""},{"$f":"IF(AS$90=\"\",\"\",IF($AQ$74=0,\"\",IF(AS196=0,\"\",IF(SUM($AO196:$AS196)<=$AQ$74,AS196,IF($AQ$74-SUM($AO196:$AR196)>=AS196,AS196,IF($AQ$74-SUM($AO196:$AR196)<0,\"\",$AQ$74-SUM($AO196:$AR196)))))))","v":""},{"$f":"IF(AT$90=\"\",\"\",IF($AQ$74=0,\"\",IF(AT196=0,\"\",IF(SUM($AO196:$AT196)<=$AQ$74,AT196,IF($AQ$74-SUM($AO196:$AS196)>=AT196,AT196,IF($AQ$74-SUM($AO196:$AS196)<0,\"\",$AQ$74-SUM($AO196:$AS196)))))))","v":""},{"$f":"IF(AU$90=\"\",\"\",IF($AQ$74=0,\"\",IF(AU196=0,\"\",IF(SUM($AO196:$AU196)<=$AQ$74,AU196,IF($AQ$74-SUM($AO196:$AT196)>=AU196,AU196,IF($AQ$74-SUM($AO196:$AT196)<0,\"\",$AQ$74-SUM($AO196:$AT196)))))))","v":""},0,null,{"$f":"SUM(AV147:AW148)","v":0},null,null,null,""]
[{"$f":"CONCATENATE(BB147,\"-2\")","v":"-2"},null,null,null,null,null,null,null,null,null,"DF",null,{"$f":"IF(M$90=\"\",\"\",IF($Y$74=0,\"\",IF(M197=0,\"\",IF(SUM($M196:$S196,$M197)<=$Y$74,M197,IF($Y$74-SUM($M196:$S196)>=M197,M197,IF($Y$74-SUM($M196:$S196)<=0,\"\",$Y$74-SUM($M196:$S196)))))))","v":""},{"$f":"IF(N$90=\"\",\"\",IF($Y$74=0,\"\",IF(N197=0,\"\",IF(SUM($M196:$S196,$M197:$N197)<=$Y$74,N197,IF($Y$74-SUM($M196:$S196,$M197)>=N197,N197,IF($Y$74-SUM($M196:$S196,$M197)<0,\"\",$Y$74-SUM($M196:$S196,$M197)))))))","v":""},{"$f":"IF(O$90=\"\",\"\",IF($Y$74=0,\"\",IF(O197=0,\"\",IF(SUM($M196:$S196,$M197:$O197)<=$Y$74,O197,IF($Y$74-SUM($M196:$S196,$M197:$N197)>=O197,O197,IF($Y$74-SUM($M196:$S196,$M197:$N197)<0,\"\",$Y$74-SUM($M196:$S196,$M197:$N197)))))))","v":""},{"$f":"IF(P$90=\"\",\"\",IF($Y$74=0,\"\",IF(P197=0,\"\",IF(SUM($M196:$S196,$M197:$P197)<=$Y$74,P197,IF($Y$74-SUM($M196:$S196,$M197:$O197)>=P197,P197,IF($Y$74-SUM($M196:$S196,$M197:$O197)<0,\"\",$Y$74-SUM($M196:$S196,$M197:$O197)))))))","v":""},{"$f":"IF(Q$90=\"\",\"\",IF($Y$74=0,\"\",IF(Q197=0,\"\",IF(SUM($M196:$S196,$M197:$Q197)<=$Y$74,Q197,IF($Y$74-SUM($M196:$S196,$M197:$P197)>=Q197,Q197,IF($Y$74-SUM($M196:$S196,$M197:$P197)<0,\"\",$Y$74-SUM($M196:$S196,$M197:$P197)))))))","v":""},{"$f":"IF(R$90=\"\",\"\",IF($Y$74=0,\"\",IF(R197=0,\"\",IF(SUM($M196:$S196,$M197:$R197)<=$Y$74,R197,IF($Y$74-SUM($M196:$S196,$M197:$Q197)>=R197,R197,IF($Y$74-SUM($M196:$S196,$M197:$Q197)<0,\"\",$Y$74-SUM($M196:$S196,$M197:$Q197)))))))","v":""},{"$f":"IF(S$90=\"\",\"\",IF($Y$74=0,\"\",IF(S197=0,\"\",IF(SUM($M196:$S196,$M197:$S197)<=$Y$74,S197,IF($Y$74-SUM($M196:$S196,$M197:$R197)>=S197,S197,IF($Y$74-SUM($M196:$S196,$M197:$R197)<0,\"\",$Y$74-SUM($M196:$S196,$M197:$R197)))))))","v":""},{"$f":"IF(T$90=\"\",\"\",IF($AD$74=0,\"\",IF(T197=0,\"\",IF(SUM($T196:$Z196,$T197)<=$AD$74,T197,IF($AD$74-SUM($T196:$Z196)>=T197,T197,IF($AD$74-SUM($T196:$Z196)<=0,\"\",$AD$74-SUM($T196:$Z196)))))))","v":""},{"$f":"IF(U$90=\"\",\"\",IF($AD$74=0,\"\",IF(U197=0,\"\",IF(SUM($T196:$Z196,$T197:$U197)<=$AD$74,U197,IF($AD$74-SUM($T196:$Z196,$T197)>=U197,U197,IF($AD$74-SUM($T196:$Z196,$T197)<0,\"\",$AD$74-SUM($T196:$Z196,$T197)))))))","v":""},{"$f":"IF(V$90=\"\",\"\",IF($AD$74=0,\"\",IF(V197=0,\"\",IF(SUM($T196:$Z196,$T197:$V197)<=$AD$74,V197,IF($AD$74-SUM($T196:$Z196,$T197:$U197)>=V197,V197,IF($AD$74-SUM($T196:$Z196,$T197:$U197)<0,\"\",$AD$74-SUM($T196:$Z196,$T197:$U197)))))))","v":""},{"$f":"IF(W$90=\"\",\"\",IF($AD$74=0,\"\",IF(W197=0,\"\",IF(SUM($T196:$Z196,$T197:$W197)<=$AD$74,W197,IF($AD$74-SUM($T196:$Z196,$T197:$V197)>=W197,W197,IF($AD$74-SUM($T196:$Z196,$T197:$V197)<0,\"\",$AD$74-SUM($T196:$Z196,$T197:$V197)))))))","v":""},{"$f":"IF(X$90=\"\",\"\",IF($AD$74=0,\"\",IF(X197=0,\"\",IF(SUM($T196:$Z196,$T197:$X197)<=$AD$74,X197,IF($AD$74-SUM($T196:$Z196,$T197:$W197)>=X197,X197,IF($AD$74-SUM($T196:$Z196,$T197:$W197)<0,\"\",$AD$74-SUM($T196:$Z196,$T197:$W197)))))))","v":""},{"$f":"IF(Y$90=\"\",\"\",IF($AD$74=0,\"\",IF(Y197=0,\"\",IF(SUM($T196:$Z196,$T197:$Y197)<=$AD$74,Y197,IF($AD$74-SUM($T196:$Z196,$T197:$X197)>=Y197,Y197,IF($AD$74-SUM($T196:$Z196,$T197:$X197)<0,\"\",$AD$74-SUM($T196:$Z196,$T197:$X197)))))))","v":""},{"$f":"IF(Z$90=\"\",\"\",IF($AD$74=0,\"\",IF(Z197=0,\"\",IF(SUM($T196:$Z196,$T197:$Z197)<=$AD$74,Z197,IF($AD$74-SUM($T196:$Z196,$T197:$Y197)>=Z197,Z197,IF($AD$74-SUM($T196:$Z196,$T197:$Y197)<0,\"\",$AD$74-SUM($T196:$Z196,$T197:$Y197)))))))","v":""},{"$f":"IF(AA$90=\"\",\"\",IF($AH$74=0,\"\",IF(AA197=0,\"\",IF(SUM($AA196:$AG196,$AA197)<=$AH$74,AA197,IF($AH$74-SUM($AA196:$AG196)>=AA197,AA197,IF($AH$74-SUM($AA196:$AG196)<=0,\"\",$AH$74-SUM($AA196:$AG196)))))))","v":""},{"$f":"IF(AB$90=\"\",\"\",IF($AH$74=0,\"\",IF(AB197=0,\"\",IF(SUM($AA196:$AG196,$AA197:$AB197)<=$AH$74,AB197,IF($AH$74-SUM($AA196:$AG196,$AA197)>=AB197,AB197,IF($AH$74-SUM($AA196:$AG196,$AA197)<0,\"\",$AH$74-SUM($AA196:$AG196,$AA197)))))))","v":""},{"$f":"IF(AC$90=\"\",\"\",IF($AH$74=0,\"\",IF(AC197=0,\"\",IF(SUM($AA196:$AG196,$AA197:$AC197)<=$AH$74,AC197,IF($AH$74-SUM($AA196:$AG196,$AA197:$AB197)>=AC197,AC197,IF($AH$74-SUM($AA196:$AG196,$AA197:$AB197)<0,\"\",$AH$74-SUM($AA196:$AG196,$AA197:$AB197)))))))","v":""},{"$f":"IF(AD$90=\"\",\"\",IF($AH$74=0,\"\",IF(AD197=0,\"\",IF(SUM($AA196:$AG196,$AA197:$AD197)<=$AH$74,AD197,IF($AH$74-SUM($AA196:$AG196,$AA197:$AC197)>=AD197,AD197,IF($AH$74-SUM($AA196:$AG196,$AA197:$AC197)<0,\"\",$AH$74-SUM($AA196:$AG196,$AA197:$AC197)))))))","v":""},{"$f":"IF(AE$90=\"\",\"\",IF($AH$74=0,\"\",IF(AE197=0,\"\",IF(SUM($AA196:$AG196,$AA197:$AE197)<=$AH$74,AE197,IF($AH$74-SUM($AA196:$AG196,$AA197:$AD197)>=AE197,AE197,IF($AH$74-SUM($AA196:$AG196,$AA197:$AD197)<0,\"\",$AH$74-SUM($AA196:$AG196,$AA197:$AD197)))))))","v":""},{"$f":"IF(AF$90=\"\",\"\",IF($AH$74=0,\"\",IF(AF197=0,\"\",IF(SUM($AA196:$AG196,$AA197:$AF197)<=$AH$74,AF197,IF($AH$74-SUM($AA196:$AG196,$AA197:$AE197)>=AF197,AF197,IF($AH$74-SUM($AA196:$AG196,$AA197:$AE197)<0,\"\",$AH$74-SUM($AA196:$AG196,$AA197:$AE197)))))))","v":""},{"$f":"IF(AG$90=\"\",\"\",IF($AH$74=0,\"\",IF(AG197=0,\"\",IF(SUM($AA196:$AG196,$AA197:$AG197)<=$AH$74,AG197,IF($AH$74-SUM($AA196:$AG196,$AA197:$AF197)>=AG197,AG197,IF($AH$74-SUM($AA196:$AG196,$AA197:$AF197)<0,\"\",$AH$74-SUM($AA196:$AG196,$AA197:$AF197)))))))","v":""},{"$f":"IF(AH$90=\"\",\"\",IF($AM$74=0,\"\",IF(AH197=0,\"\",IF(SUM($AH196:$AN196,$AH197)<=$AM$74,AH197,IF($AM$74-SUM($AH196:$AN196)>=AH197,AH197,IF($AM$74-SUM($AH196:$AN196)<=0,\"\",$AM$74-SUM($AH196:$AN196)))))))","v":""},{"$f":"IF(AI$90=\"\",\"\",IF($AM$74=0,\"\",IF(AI197=0,\"\",IF(SUM($AH196:$AN196,$AH197:$AI197)<=$AM$74,AI197,IF($AM$74-SUM($AH196:$AN196,$AH197)>=AI197,AI197,IF($AM$74-SUM($AH196:$AN196,$AH197)<0,\"\",$AM$74-SUM($AH196:$AN196,$AH197)))))))","v":""},{"$f":"IF(AJ$90=\"\",\"\",IF($AM$74=0,\"\",IF(AJ197=0,\"\",IF(SUM($AH196:$AN196,$AH197:$AJ197)<=$AM$74,AJ197,IF($AM$74-SUM($AH196:$AN196,$AH197:$AI197)>=AJ197,AJ197,IF($AM$74-SUM($AH196:$AN196,$AH197:$AI197)<0,\"\",$AM$74-SUM($AH196:$AN196,$AH197:$AI197)))))))","v":""},{"$f":"IF(AK$90=\"\",\"\",IF($AM$74=0,\"\",IF(AK197=0,\"\",IF(SUM($AH196:$AN196,$AH197:$AK197)<=$AM$74,AK197,IF($AM$74-SUM($AH196:$AN196,$AH197:$AJ197)>=AK197,AK197,IF($AM$74-SUM($AH196:$AN196,$AH197:$AJ197)<0,\"\",$AM$74-SUM($AH196:$AN196,$AH197:$AJ197)))))))","v":""},{"$f":"IF(AL$90=\"\",\"\",IF($AM$74=0,\"\",IF(AL197=0,\"\",IF(SUM($AH196:$AN196,$AH197:$AL197)<=$AM$74,AL197,IF($AM$74-SUM($AH196:$AN196,$AH197:$AK197)>=AL197,AL197,IF($AM$74-SUM($AH196:$AN196,$AH197:$AK197)<0,\"\",$AM$74-SUM($AH196:$AN196,$AH197:$AK197)))))))","v":""},{"$f":"IF(AM$90=\"\",\"\",IF($AM$74=0,\"\",IF(AM197=0,\"\",IF(SUM($AH196:$AN196,$AH197:$AM197)<=$AM$74,AM197,IF($AM$74-SUM($AH196:$AN196,$AH197:$AL197)>=AM197,AM197,IF($AM$74-SUM($AH196:$AN196,$AH197:$AL197)<0,\"\",$AM$74-SUM($AH196:$AN196,$AH197:$AL197)))))))","v":""},{"$f":"IF(AN$90=\"\",\"\",IF($AM$74=0,\"\",IF(AN197=0,\"\",IF(SUM($AH196:$AN196,$AH197:$AN197)<=$AM$74,AN197,IF($AM$74-SUM($AH196:$AN196,$AH197:$AM197)>=AN197,AN197,IF($AM$74-SUM($AH196:$AN196,$AH197:$AM197)<0,\"\",$AM$74-SUM($AH196:$AN196,$AH197:$AM197)))))))","v":""},{"$f":"IF(AO$90=\"\",\"\",IF($AQ$74=0,\"\",IF(AO197=0,\"\",IF(SUM($AO196:$AU196,$AO197)<=$AQ$74,AO197,IF($AQ$74-SUM($AO196:$AU196)>=AO197,AO197,IF($AQ$74-SUM($AO196:$AU196)<=0,\"\",$AQ$74-SUM($AO196:$AU196)))))))","v":""},{"$f":"IF(AP$90=\"\",\"\",IF($AQ$74=0,\"\",IF(AP197=0,\"\",IF(SUM($AO196:$AU196,$AO197:$AP197)<=$AQ$74,AP197,IF($AQ$74-SUM($AO196:$AU196,$AO197)>=AP197,AP197,IF($AQ$74-SUM($AO196:$AU196,$AO197)<0,\"\",$AQ$74-SUM($AO196:$AU196,$AO197)))))))","v":""},{"$f":"IF(AQ$90=\"\",\"\",IF($AQ$74=0,\"\",IF(AQ197=0,\"\",IF(SUM($AO196:$AU196,$AO197:$AQ197)<=$AQ$74,AQ197,IF($AQ$74-SUM($AO196:$AU196,$AO197:$AP197)>=AQ197,AQ197,IF($AQ$74-SUM($AO196:$AU196,$AO197:$AP197)<0,\"\",$AQ$74-SUM($AO196:$AU196,$AO197:$AP197)))))))","v":""},{"$f":"IF(AR$90=\"\",\"\",IF($AQ$74=0,\"\",IF(AR197=0,\"\",IF(SUM($AO196:$AU196,$AO197:$AR197)<=$AQ$74,AR197,IF($AQ$74-SUM($AO196:$AU196,$AO197:$AQ197)>=AR197,AR197,IF($AQ$74-SUM($AO196:$AU196,$AO197:$AQ197)<0,\"\",$AQ$74-SUM($AO196:$AU196,$AO197:$AQ197)))))))","v":""},{"$f":"IF(AS$90=\"\",\"\",IF($AQ$74=0,\"\",IF(AS197=0,\"\",IF(SUM($AO196:$AU196,$AO197:$AS197)<=$AQ$74,AS197,IF($AQ$74-SUM($AO196:$AU196,$AO197:$AR197)>=AS197,AS197,IF($AQ$74-SUM($AO196:$AU196,$AO197:$AR197)<0,\"\",$AQ$74-SUM($AO196:$AU196,$AO197:$AR197)))))))","v":""},{"$f":"IF(AT$90=\"\",\"\",IF($AQ$74=0,\"\",IF(AT197=0,\"\",IF(SUM($AO196:$AU196,$AO197:$AT197)<=$AQ$74,AT197,IF($AQ$74-SUM($AO196:$AU196,$AO197:$AS197)>=AT197,AT197,IF($AQ$74-SUM($AO196:$AU196,$AO197:$AS197)<0,\"\",$AQ$74-SUM($AO196:$AU196,$AO197:$AS197)))))))","v":""},{"$f":"IF(AU$90=\"\",\"\",IF($AQ$74=0,\"\",IF(AU197=0,\"\",IF(SUM($AO196:$AU196,$AO197:$AU197)<=$AQ$74,AU197,IF($AQ$74-SUM($AO196:$AU196,$AO197:$AT197)>=AU197,AU197,IF($AQ$74-SUM($AO196:$AU196,$AO197:$AT197)<0,\"\",$AQ$74-SUM($AO196:$AU196,$AO197:$AT197)))))))","v":""},0,null,null,null,null,null,{"$error":"#N/A"}]
[null,null,null,null,null,null,null,null,null,null,null,null,{"$f":"SUM(M141:M148)","v":0},0,0,0,0,0,0,0,0,0,0,0,0,0,0,0,0,0,0,0,0,0,0,0,0,0,0,0,0,0,0,0,0,0,0]
[null,null,null,null,null,null,null,null,null,null,null,null,{"$f":"SUM(M149:S149)","v":0},null,null,null,null,null,null,{"$f":"SUM(T149:Z149)","v":0},null,null,null,null,null,null,{"$f":"SUM(AA149:AG149)","v":0},null,null,null,null,null,null,{"$f":"SUM(AH149:AN149)","v":0},null,null,null,null,null,null,{"$f":"SUM(AO149:AU149)","v":0}]
[]
[null,null,null,null,null,null,null,null,null,null,null,null,null,null,null,null,null,null,null,null,null,null,null,null,null,null,null,null,null,null,null,null,null,null,null,null,null,null,null,null,null,"N.Ö. TOPLAM",null,null,null,null,null,{"$f":"SUM(AV129:AW138)","v":0}]
[null,null,null,null,null,null,null,null,null,null,null,null,null,null,null,null,null,null,null,null,null,null,null,null,null,null,null,null,null,null,null,null,null,null,null,null,null,null,null,null,null,"İ.Ö. TOPLAM",null,null,null,null,null,{"$f":"SUM(AV141:AW148)","v":0}]
[]
[null,null,null,null,null,null,null,null,null,null,null,null,null,null,null,null,null,null,null,null,null,null,null,null,null,null,null,"GUNDUZ TEORIK DERSLER"]
[null,null,null,null,null,null,null,null,null,null,null,null,null,null,null,null,null,null,null,null,null,null,null,null,"1. HAFTA",null,null,null,null,"2. HAFTA",null,null,null,"3. HAFTA",null,null,null,null,"4. HAFTA",null,null,null,"5. HAFTA"]
[null,null,null,null,null,null,null,null,null,null,null,null,null,null,null,null,null,null,null,null,{"$f":"F41","v":"Mühendislik Fakültesi"},null,null,null,{"$f":"IF(Y47=\"\",\"\",Y47)","v":0},null,null,null,null,{"$f":"IF(AD47=\"\",\"\",AD47)","v":{"$error":"#VALUE!"}},null,null,null,{"$f":"IF(AH47=\"\",\"\",AH47)","v":{"$error":"#VALUE!"}},null,null,null,null,{"$f":"IF(AM47=\"\",\"\",AM47)","v":{"$error":"#VALUE!"}},null,null,null,{"$f":"IF(AQ47=\"\",\"\",AQ47)","v":{"$error":"#VALUE!"}},null,null,null,null,{"$f":"SUM(Y157:AU157,Y167:AU167)","v":{"$error":"#VALUE!"}}]
[null,null,null,null,null,null,null,null,null,null,null,null,null,null,null,null,null,null,null,null,{"$f":"F42","v":0},null,null,null,{"$f":"IF(Y48=\"\",\"\",Y48)","v":0},null,null,null,null,{"$f":"IF(AD48=\"\",\"\",AD48)","v":{"$error":"#VALUE!"}},null,null,null,{"$f":"IF(AH48=\"\",\"\",AH48)","v":{"$error":"#VALUE!"}},null,null,null,null,{"$f":"IF(AM48=\"\",\"\",AM48)","v":{"$error":"#VALUE!"}},null,null,null,{"$f":"IF(AQ48=\"\",\"\",AQ48)","v":{"$error":"#VALUE!"}},null,null,null,null,{"$f":"SUM(Y158:AU158,Y168:AU168)","v":{"$error":"#VALUE!"}}]
[null,null,null,null,null,null,null,null,null,null,null,null,null,null,null,null,null,null,null,null,{"$f":"F43","v":0},null,null,null,{"$f":"IF(Y49=\"\",\"\",Y49)","v":0},null,null,null,null,{"$f":"IF(AD49=\"\",\"\",AD49)","v":{"$error":"#VALUE!"}},null,null,null,{"$f":"IF(AH49=\"\",\"\",AH49)","v":{"$error":"#VALUE!"}},null,null,null,null,{"$f":"IF(AM49=\"\",\"\",AM49)","v":{"$error":"#VALUE!"}},null,null,null,{"$f":"IF(AQ49=\"\",\"\",AQ49)","v":{"$error":"#VALUE!"}},null,null,null,null,{"$error":"#VALUE!"}]
[null,null,null,null,null,null,null,null,null,null,null,null,null,null,null,null,null,null,null,null,{"$f":"F44","v":0},null,null,null,{"$f":"IF(Y50=\"\",\"\",Y50)","v":0},null,null,null,null,{"$f":"IF(AD50=\"\",\"\",AD50)","v":{"$error":"#VALUE!"}},null,null,null,{"$f":"IF(AH50=\"\",\"\",AH50)","v":{"$error":"#VALUE!"}},null,null,null,null,{"$f":"IF(AM50=\"\",\"\",AM50)","v":{"$error":"#VALUE!"}},null,null,null,{"$f":"IF(AQ50=\"\",\"\",AQ50)","v":{"$error":"#VALUE!"}},null,null,null,null,{"$error":"#VALUE!"}]
[null,null,null,null,null,null,null,null,null,null,null,null,null,null,null,null,null,null,null,null,{"$f":"F45","v":0},null,null,null,{"$f":"IF(Y51=\"\",\"\",Y51)","v":0},null,null,null,null,{"$f":"IF(AD51=\"\",\"\",AD51)","v":{"$error":"#VALUE!"}},null,null,null,{"$f":"IF(AH51=\"\",\"\",AH51)","v":{"$error":"#VALUE!"}},null,null,null,null,{"$f":"IF(AM51=\"\",\"\",AM51)","v":{"$error":"#VALUE!"}},null,null,null,{"$f":"IF(AQ51=\"\",\"\",AQ51)","v":{"$error":"#VALUE!"}},null,null,null,null,{"$error":"#VALUE!"}]
[]
[]
[]
[null,null,null,null,null,null,null,null,null,null,null,null,null,null,null,null,null,null,null,null,null,null,null,null,"GUNDUZ DIGER FAALIYETLER"]
[null,null,null,null,null,null,null,null,null,null,null,null,null,null,null,null,null,null,null,null,null,null,null,null,"1. HAFTA",null,null,null,null,"2. HAFTA",null,null,null,"3. HAFTA",null,null,null,null,"4. HAFTA",null,null,null,"5. HAFTA"]
[null,null,null,null,null,null,null,null,null,null,null,null,null,null,null,null,null,null,null,null,{"$f":"F41","v":"Mühendislik Fakültesi"},null,null,null,{"$f":"IF(AB47=\"\",\"\",AB47)","v":0},null,null,null,null,{"$f":"IF(AF47=\"\",\"\",AF47)","v":{"$error":"#VALUE!"}},null,null,null,{"$f":"IF(AK47=\"\",\"\",AK47)","v":{"$error":"#VALUE!"}},null,null,null,null,{"$f":"IF(AO47=\"\",\"\",AO47)","v":{"$error":"#VALUE!"}},null,null,null,{"$f":"IF(AT47=\"\",\"\",AT47)","v":{"$error":"#VALUE!"}}]
[null,null,null,null,null,null,null,null,null,null,null,null,null,null,null,null,null,null,null,null,{"$f":"F42","v":0},null,null,null,{"$f":"IF(AB48=\"\",\"\",AB48)","v":0},null,null,null,null,{"$f":"IF(AF48=\"\",\"\",AF48)","v":{"$error":"#VALUE!"}},null,null,null,{"$f":"IF(AK48=\"\",\"\",AK48)","v":{"$error":"#VALUE!"}},null,null,null,null,{"$f":"IF(AO48=\"\",\"\",AO48)","v":{"$error":"#VALUE!"}},null,null,null,{"$f":"IF(AT48=\"\",\"\",AT48)","v":{"$error":"#VALUE!"}}]
[null,null,null,null,null,null,null,null,null,null,null,null,null,null,null,null,null,null,null,null,{"$f":"F43","v":0},null,null,null,{"$f":"IF(AB49=\"\",\"\",AB49)","v":0},null,null,null,null,{"$f":"IF(AF49=\"\",\"\",AF49)","v":{"$error":"#VALUE!"}},null,null,null,{"$f":"IF(AK49=\"\",\"\",AK49)","v":{"$error":"#VALUE!"}},null,null,null,null,{"$f":"IF(AO49=\"\",\"\",AO49)","v":{"$error":"#VALUE!"}},null,null,null,{"$f":"IF(AT49=\"\",\"\",AT49)","v":{"$error":"#VALUE!"}}]
[null,null,null,null,null,null,null,null,null,null,null,null,null,null,null,null,null,null,null,null,{"$f":"F44","v":0},null,null,null,{"$f":"IF(AB50=\"\",\"\",AB50)","v":0},null,null,null,null,{"$f":"IF(AF50=\"\",\"\",AF50)","v":{"$error":"#VALUE!"}},null,null,null,{"$f":"IF(AK50=\"\",\"\",AK50)","v":{"$error":"#VALUE!"}},null,null,null,null,{"$f":"IF(AO50=\"\",\"\",AO50)","v":{"$error":"#VALUE!"}},null,null,null,{"$f":"IF(AT50=\"\",\"\",AT50)","v":{"$error":"#VALUE!"}}]
[null,null,null,null,null,null,null,null,null,null,null,null,null,null,null,null,null,null,null,null,{"$f":"F45","v":0},null,null,null,{"$f":"IF(AB51=\"\",\"\",AB51)","v":0},null,null,null,null,{"$f":"IF(AF51=\"\",\"\",AF51)","v":{"$error":"#VALUE!"}},null,null,null,{"$f":"IF(AK51=\"\",\"\",AK51)","v":{"$error":"#VALUE!"}},null,null,null,null,{"$f":"IF(AO51=\"\",\"\",AO51)","v":{"$error":"#VALUE!"}},null,null,null,{"$f":"IF(AT51=\"\",\"\",AT51)","v":{"$error":"#VALUE!"}}]
[]
[]
[]
[]
[null,{"$f":"B129","v":"Mühendislik Fakültesi"},null,null,null,null,null,null,null,null,null,null,{"$f":"IF($Y$157=0,0,IF(C$19=0,\"\",VLOOKUP($B176,hesap!$G$193:'hesap'!$AC$197,6,FALSE)))","v":0},{"$f":"IF($Y$157=0,0,IF(D$19=0,\"\",VLOOKUP($B176,hesap!$G$193:'hesap'!$AC$197,8,FALSE)))","v":0},{"$f":"IF($Y$157=0,0,IF(E$19=0,\"\",VLOOKUP($B176,hesap!$G$193:'hesap'!$AC$197,10,FALSE)))","v":0},{"$f":"IF($Y$157=0,0,IF(F$19=0,\"\",VLOOKUP($B176,hesap!$G$193:'hesap'!$AC$197,12,FALSE)))","v":0},{"$f":"IF($Y$157=0,0,IF(G$19=0,\"\",VLOOKUP($B176,hesap!$G$193:'hesap'!$AC$197,14,FALSE)))","v":0},{"$f":"IF($Y$157=0,0,IF(H$19=0,\"\",VLOOKUP($B176,hesap!$G$193:'hesap'!$AC$197,16,FALSE)))","v":0},{"$f":"IF($Y$157=0,0,IF(I$19=0,\"\",VLOOKUP($B176,hesap!$G$193:'hesap'!$AC$197,20,FALSE)))","v":0},{"$f":"IF($AD$157=0,0,IF(L$19=0,\"\",VLOOKUP($B176,hesap!$AL$193:'hesap'!$BH$197,6,FALSE)))","v":{"$error":"#VALUE!"}},{"$f":"IF($AD$157=0,0,IF(M$19=0,\"\",VLOOKUP($B176,hesap!$AL$193:'hesap'!$BH$197,8,FALSE)))","v":{"$error":"#VALUE!"}},{"$f":"IF($AD$157=0,0,IF(N$19=0,\"\",VLOOKUP($B176,hesap!$AL$193:'hesap'!$BH$197,10,FALSE)))","v":{"$error":"#VALUE!"}},{"$f":"IF($AD$157=0,0,IF(O$19=0,\"\",VLOOKUP($B176,hesap!$AL$193:'hesap'!$BH$197,12,FALSE)))","v":{"$error":"#VALUE!"}},{"$f":"IF($AD$157=0,0,IF(P$19=0,\"\",VLOOKUP($B176,hesap!$AL$193:'hesap'!$BH$197,14,FALSE)))","v":{"$error":"#VALUE!"}},{"$f":"IF($AD$157=0,0,IF(Q$19=0,\"\",VLOOKUP($B176,hesap!$AL$193:'hesap'!$BH$197,16,FALSE)))","v":{"$error":"#VALUE!"}},{"$f":"IF($AD$157=0,0,IF(R$19=0,\"\",VLOOKUP($B176,hesap!$AL$193:'hesap'!$BH$197,20,FALSE)))","v":{"$error":"#VALUE!"}},{"$f":"IF($AH$157=0,0,IF(U$19=0,\"\",VLOOKUP($B176,hesap!$G$248:'hesap'!$AC$252,6,FALSE)))","v":{"$error":"#VALUE!"}},{"$f":"IF($AH$157=0,0,IF(V$19=0,\"\",VLOOKUP($B176,hesap!$G$248:'hesap'!$AC$252,8,FALSE)))","v":{"$error":"#VALUE!"}},{"$f":"IF($AH$157=0,0,IF(W$19=0,\"\",VLOOKUP($B176,hesap!$G$248:'hesap'!$AC$252,10,FALSE)))","v":{"$error":"#VALUE!"}},{"$f":"IF($AH$157=0,0,IF(X$19=0,\"\",VLOOKUP($B176,hesap!$G$248:'hesap'!$AC$252,12,FALSE)))","v":{"$error":"#VALUE!"}},{"$f":"IF($AH$157=0,0,IF(Y$19=0,\"\",VLOOKUP($B176,hesap!$G$248:'hesap'!$AC$252,14,FALSE)))","v":{"$error":"#VALUE!"}},{"$f":"IF($AH$157=0,0,IF(Z$19=0,\"\",VLOOKUP($B176,hesap!$G$248:'hesap'!$AC$252,16,FALSE)))","v":{"$error":"#VALUE!"}},{"$f":"IF($AH$157=0,0,IF(AA$19=0,\"\",VLOOKUP($B176,hesap!$G$248:'hesap'!$AC$252,20,FALSE)))","v":{"$error":"#VALUE!"}},{"$f":"IF($AM$157=0,0,IF(AD$19=0,\"\",VLOOKUP($B176,hesap!$AL$248:'hesap'!$BH$252,6,FALSE)))","v":{"$error":"#VALUE!"}},{"$f":"IF($AM$157=0,0,IF(AE$19=0,\"\",VLOOKUP($B176,hesap!$AL$248:'hesap'!$BH$252,8,FALSE)))","v":{"$error":"#VALUE!"}},{"$f":"IF($AM$157=0,0,IF(AF$19=0,\"\",VLOOKUP($B176,hesap!$AL$248:'hesap'!$BH$252,10,FALSE)))","v":{"$error":"#VALUE!"}},{"$f":"IF($AM$157=0,0,IF(AG$19=0,\"\",VLOOKUP($B176,hesap!$AL$248:'hesap'!$BH$252,12,FALSE)))","v":{"$error":"#VALUE!"}},{"$f":"IF($AM$157=0,0,IF(AH$19=0,\"\",VLOOKUP($B176,hesap!$AL$248:'hesap'!$BH$252,14,FALSE)))","v":{"$error":"#VALUE!"}},{"$f":"IF($AM$157=0,0,IF(AI$19=0,\"\",VLOOKUP($B176,hesap!$AL$248:'hesap'!$BH$252,16,FALSE)))","v":{"$error":"#VALUE!"}},{"$f":"IF($AM$157=0,0,IF(AJ$19=0,\"\",VLOOKUP($B176,hesap!$AL$248:'hesap'!$BH$252,20,FALSE)))","v":{"$error":"#VALUE!"}},{"$f":"IF($AQ$157=0,0,IF(AM$19=0,\"\",VLOOKUP($B176,hesap!$G$303:'hesap'!$AC$307,6,FALSE)))","v":{"$error":"#VALUE!"}},{"$f":"IF($AQ$157=0,0,IF(AN$19=0,\"\",VLOOKUP($B176,hesap!$G$303:'hesap'!$AC$307,8,FALSE)))","v":{"$error":"#VALUE!"}},{"$f":"IF($AQ$157=0,0,IF(AO$19=0,\"\",VLOOKUP($B176,hesap!$G$303:'hesap'!$AC$307,10,FALSE)))","v":{"$error":"#VALUE!"}},{"$f":"IF($AQ$157=0,0,IF(AP$19=0,\"\",VLOOKUP($B176,hesap!$G$303:'hesap'!$AC$307,12,FALSE)))","v":{"$error":"#VALUE!"}},{"$f":"IF($AQ$157=0,0,IF(AQ$19=0,\"\",VLOOKUP($B176,hesap!$G$303:'hesap'!$AC$307,14,FALSE)))","v":{"$error":"#VALUE!"}},{"$f":"IF($AQ$157=0,0,IF(AR$19=0,\"\",VLOOKUP($B176,hesap!$G$303:'hesap'!$AC$307,16,FALSE)))","v":{"$error":"#VALUE!"}},{"$f":"IF($AQ$157=0,0,IF(AS$19=0,\"\",VLOOKUP($B176,hesap!$G$303:'hesap'!$AC$307,20,FALSE)))","v":{"$error":"#VALUE!"}},{"$f":"SUM(M176:AU176)","v":{"$error":"#VALUE!"}}]
[null,null,null,null,null,null,null,null,null,null,null,null,{"$f":"IF($Y$167=0,0,IF(C$20=0,\"\",VLOOKUP($B176,hesap!$G$193:'hesap'!$AC$197,7,FALSE)))","v":0},{"$f":"IF($Y$167=0,0,IF(D$20=0,\"\",VLOOKUP($B176,hesap!$G$193:'hesap'!$AC$197,9,FALSE)))","v":0},{"$f":"IF($Y$167=0,0,IF(E$20=0,\"\",VLOOKUP($B176,hesap!$G$193:'hesap'!$AC$197,11,FALSE)))","v":0},{"$f":"IF($Y$167=0,0,IF(F$20=0,\"\",VLOOKUP($B176,hesap!$G$193:'hesap'!$AC$197,13,FALSE)))","v":0},{"$f":"IF($Y$167=0,0,IF(G$20=0,\"\",VLOOKUP($B176,hesap!$G$193:'hesap'!$AC$197,15,FALSE)))","v":0},{"$f":"IF($Y$167=0,0,IF(H$20=0,\"\",VLOOKUP($B176,hesap!$G$193:'hesap'!$AC$197,17,FALSE)))","v":0},{"$f":"IF($Y$167=0,0,IF(I$20=0,\"\",VLOOKUP($B176,hesap!$G$193:'hesap'!$AC$197,21,FALSE)))","v":0},{"$f":"IF($AD$167=0,0,IF(L$20=0,\"\",VLOOKUP($B176,hesap!$AL$193:'hesap'!$BH$197,7,FALSE)))","v":{"$error":"#VALUE!"}},{"$f":"IF($AD$167=0,0,IF(M$20=0,\"\",VLOOKUP($B176,hesap!$AL$193:'hesap'!$BH$197,9,FALSE)))","v":{"$error":"#VALUE!"}},{"$f":"IF($AD$167=0,0,IF(N$20=0,\"\",VLOOKUP($B176,hesap!$AL$193:'hesap'!$BH$197,11,FALSE)))","v":{"$error":"#VALUE!"}},{"$f":"IF($AD$167=0,0,IF(O$20=0,\"\",VLOOKUP($B176,hesap!$AL$193:'hesap'!$BH$197,13,FALSE)))","v":{"$error":"#VALUE!"}},{"$f":"IF($AD$167=0,0,IF(P$20=0,\"\",VLOOKUP($B176,hesap!$AL$193:'hesap'!$BH$197,15,FALSE)))","v":{"$error":"#VALUE!"}},{"$f":"IF($AD$167=0,0,IF(Q$19=0,\"\",VLOOKUP($B176,hesap!$AL$193:'hesap'!$BH$197,17,FALSE)))","v":{"$error":"#VALUE!"}},{"$f":"IF($AD$167=0,0,IF(R$19=0,\"\",VLOOKUP($B176,hesap!$AL$193:'hesap'!$BH$197,21,FALSE)))","v":{"$error":"#VALUE!"}},{"$f":"IF($AH$167=0,0,IF(U$20=0,\"\",VLOOKUP($B176,hesap!$G$248:'hesap'!$AC$252,7,FALSE)))","v":{"$error":"#VALUE!"}},{"$f":"IF($AH$167=0,0,IF(V$20=0,\"\",VLOOKUP($B176,hesap!$G$248:'hesap'!$AC$252,9,FALSE)))","v":{"$error":"#VALUE!"}},{"$f":"IF($AH$167=0,0,IF(W$20=0,\"\",VLOOKUP($B176,hesap!$G$248:'hesap'!$AC$252,11,FALSE)))","v":{"$error":"#VALUE!"}},{"$f":"IF($AH$167=0,0,IF(X$20=0,\"\",VLOOKUP($B176,hesap!$G$248:'hesap'!$AC$252,13,FALSE)))","v":{"$error":"#VALUE!"}},{"$f":"IF($AH$167=0,0,IF(Y$20=0,\"\",VLOOKUP($B176,hesap!$G$248:'hesap'!$AC$252,15,FALSE)))","v":{"$error":"#VALUE!"}},{"$f":"IF($AH$167=0,0,IF(Z$19=0,\"\",VLOOKUP($B176,hesap!$G$248:'hesap'!$AC$252,17,FALSE)))","v":{"$error":"#VALUE!"}},{"$f":"IF($AH$167=0,0,IF(AA$19=0,\"\",VLOOKUP($B176,hesap!$G$248:'hesap'!$AC$252,21,FALSE)))","v":{"$error":"#VALUE!"}},{"$f":"IF($AM$167=0,0,IF(AD$20=0,\"\",VLOOKUP($B176,hesap!$AL$248:'hesap'!$BH$252,7,FALSE)))","v":{"$error":"#VALUE!"}},{"$f":"IF($AM$167=0,0,IF(AE$20=0,\"\",VLOOKUP($B176,hesap!$AL$248:'hesap'!$BH$252,9,FALSE)))","v":{"$error":"#VALUE!"}},{"$f":"IF($AM$167=0,0,IF(AF$20=0,\"\",VLOOKUP($B176,hesap!$AL$248:'hesap'!$BH$252,11,FALSE)))","v":{"$error":"#VALUE!"}},{"$f":"IF($AM$167=0,0,IF(AG$20=0,\"\",VLOOKUP($B176,hesap!$AL$248:'hesap'!$BH$252,13,FALSE)))","v":{"$error":"#VALUE!"}},{"$f":"IF($AM$167=0,0,IF(AH$20=0,\"\",VLOOKUP($B176,hesap!$AL$248:'hesap'!$BH$252,15,FALSE)))","v":{"$error":"#VALUE!"}},{"$f":"IF($AM$167=0,0,IF(AI$19=0,\"\",VLOOKUP($B176,hesap!$AL$248:'hesap'!$BH$252,17,FALSE)))","v":{"$error":"#VALUE!"}},{"$f":"IF($AM$167=0,0,IF(AJ$19=0,\"\",VLOOKUP($B176,hesap!$AL$248:'hesap'!$BH$252,21,FALSE)))","v":{"$error":"#VALUE!"}},{"$f":"IF($AQ$167=0,0,IF(AM$20=0,\"\",VLOOKUP($B176,hesap!$G$303:'hesap'!$AC$307,7,FALSE)))","v":{"$error":"#VALUE!"}},{"$f":"IF($AQ$167=0,0,IF(AN$20=0,\"\",VLOOKUP($B176,hesap!$G$303:'hesap'!$AC$307,9,FALSE)))","v":{"$error":"#VALUE!"}},{"$f":"IF($AQ$167=0,0,IF(AO$20=0,\"\",VLOOKUP($B176,hesap!$G$303:'hesap'!$AC$307,11,FALSE)))","v":{"$error":"#VALUE!"}},{"$f":"IF($AQ$167=0,0,IF(AP$20=0,\"\",VLOOKUP($B176,hesap!$G$303:'hesap'!$AC$307,13,FALSE)))","v":{"$error":"#VALUE!"}},{"$f":"IF($AQ$167=0,0,IF(AQ$20=0,\"\",VLOOKUP($B176,hesap!$G$303:'hesap'!$AC$307,15,FALSE)))","v":{"$error":"#VALUE!"}},{"$f":"IF($AQ$167=0,0,IF(AR$19=0,\"\",VLOOKUP($B176,hesap!$G$303:'hesap'!$AC$307,17,FALSE)))","v":{"$error":"#VALUE!"}},{"$f":"IF($AQ$167=0,0,IF(AS$19=0,\"\",VLOOKUP($B176,hesap!$G$303:'hesap'!$AC$307,21,FALSE)))","v":{"$error":"#VALUE!"}},{"$error":"#VALUE!"}]
[null,{"$f":"B131","v":""},null,null,null,null,null,null,null,null,null,null,{"$f":"IF($Y$158=0,0,IF(C$19=0,\"\",VLOOKUP($B178,hesap!$G$193:'hesap'!$AC$197,6,FALSE)))","v":0},{"$f":"IF($Y$158=0,0,IF(D$19=0,\"\",VLOOKUP($B178,hesap!$G$193:'hesap'!$AC$197,8,FALSE)))","v":0},{"$f":"IF($Y$158=0,0,IF(E$19=0,\"\",VLOOKUP($B178,hesap!$G$193:'hesap'!$AC$197,10,FALSE)))","v":0},{"$f":"IF($Y$158=0,0,IF(F$19=0,\"\",VLOOKUP($B178,hesap!$G$193:'hesap'!$AC$197,12,FALSE)))","v":0},{"$f":"IF($Y$158=0,0,IF(G$19=0,\"\",VLOOKUP($B178,hesap!$G$193:'hesap'!$AC$197,14,FALSE)))","v":0},{"$f":"IF($Y$158=0,0,IF(H$19=0,\"\",VLOOKUP($B178,hesap!$G$193:'hesap'!$AC$197,16,FALSE)))","v":0},{"$f":"IF($Y$158=0,0,IF(I$19=0,\"\",VLOOKUP($B178,hesap!$G$193:'hesap'!$AC$197,20,FALSE)))","v":0},{"$f":"IF($AD$158=0,0,IF(L$19=0,\"\",VLOOKUP($B178,hesap!$AL$193:'hesap'!$BH$197,6,FALSE)))","v":{"$error":"#VALUE!"}},{"$f":"IF($AD$158=0,0,IF(M$19=0,\"\",VLOOKUP($B178,hesap!$AL$193:'hesap'!$BH$197,8,FALSE)))","v":{"$error":"#VALUE!"}},{"$f":"IF($AD$158=0,0,IF(N$19=0,\"\",VLOOKUP($B178,hesap!$AL$193:'hesap'!$BH$197,10,FALSE)))","v":{"$error":"#VALUE!"}},{"$f":"IF($AD$158=0,0,IF(O$19=0,\"\",VLOOKUP($B178,hesap!$AL$193:'hesap'!$BH$197,12,FALSE)))","v":{"$error":"#VALUE!"}},{"$f":"IF($AD$158=0,0,IF(P$19=0,\"\",VLOOKUP($B178,hesap!$AL$193:'hesap'!$BH$197,14,FALSE)))","v":{"$error":"#VALUE!"}},{"$f":"IF($AD$158=0,0,IF(Q$19=0,\"\",VLOOKUP($B178,hesap!$AL$193:'hesap'!$BH$197,16,FALSE)))","v":{"$error":"#VALUE!"}},{"$f":"IF($AD$158=0,0,IF(R$19=0,\"\",VLOOKUP($B178,hesap!$AL$193:'hesap'!$BH$197,20,FALSE)))","v":{"$error":"#VALUE!"}},{"$f":"IF($AH$158=0,0,IF(U$19=0,\"\",VLOOKUP($B178,hesap!$G$248:'hesap'!$AC$252,6,FALSE)))","v":{"$error":"#VALUE!"}},{"$f":"IF($AH$158=0,0,IF(V$19=0,\"\",VLOOKUP($B178,hesap!$G$248:'hesap'!$AC$252,8,FALSE)))","v":{"$error":"#VALUE!"}},{"$f":"IF($AH$158=0,0,IF(W$19=0,\"\",VLOOKUP($B178,hesap!$G$248:'hesap'!$AC$252,10,FALSE)))","v":{"$error":"#VALUE!"}},{"$f":"IF($AH$158=0,0,IF(X$19=0,\"\",VLOOKUP($B178,hesap!$G$248:'hesap'!$AC$252,12,FALSE)))","v":{"$error":"#VALUE!"}},{"$f":"IF($AH$158=0,0,IF(Y$19=0,\"\",VLOOKUP($B178,hesap!$G$248:'hesap'!$AC$252,14,FALSE)))","v":{"$error":"#VALUE!"}},{"$f":"IF($AH$158=0,0,IF(Z$19=0,\"\",VLOOKUP($B178,hesap!$G$248:'hesap'!$AC$252,16,FALSE)))","v":{"$error":"#VALUE!"}},{"$f":"IF($AH$158=0,0,IF(AA$19=0,\"\",VLOOKUP($B178,hesap!$G$248:'hesap'!$AC$252,20,FALSE)))","v":{"$error":"#VALUE!"}},{"$f":"IF($AM$158=0,0,IF(AD$19=0,\"\",VLOOKUP($B178,hesap!$AL$248:'hesap'!$BH$252,6,FALSE)))","v":{"$error":"#VALUE!"}},{"$f":"IF($AM$158=0,0,IF(AE$19=0,\"\",VLOOKUP($B178,hesap!$AL$248:'hesap'!$BH$252,8,FALSE)))","v":{"$error":"#VALUE!"}},{"$f":"IF($AM$158=0,0,IF(AF$19=0,\"\",VLOOKUP($B178,hesap!$AL$248:'hesap'!$BH$252,10,FALSE)))","v":{"$error":"#VALUE!"}},{"$f":"IF($AM$158=0,0,IF(AG$19=0,\"\",VLOOKUP($B178,hesap!$AL$248:'hesap'!$BH$252,12,FALSE)))","v":{"$error":"#VALUE!"}},{"$f":"IF($AM$158=0,0,IF(AH$19=0,\"\",VLOOKUP($B178,hesap!$AL$248:'hesap'!$BH$252,14,FALSE)))","v":{"$error":"#VALUE!"}},{"$f":"IF($AM$158=0,0,IF(AI$19=0,\"\",VLOOKUP($B178,hesap!$AL$248:'hesap'!$BH$252,16,FALSE)))","v":{"$error":"#VALUE!"}},{"$f":"IF($AM$158=0,0,IF(AJ$19=0,\"\",VLOOKUP($B178,hesap!$AL$248:'hesap'!$BH$252,20,FALSE)))","v":{"$error":"#VALUE!"}},{"$f":"IF($AQ$158=0,0,IF(AM$19=0,\"\",VLOOKUP($B178,hesap!$G$303:'hesap'!$AC$307,6,FALSE)))","v":{"$error":"#VALUE!"}},{"$f":"IF($AQ$158=0,0,IF(AN$19=0,\"\",VLOOKUP($B178,hesap!$G$303:'hesap'!$AC$307,8,FALSE)))","v":{"$error":"#VALUE!"}},{"$f":"IF($AQ$158=0,0,IF(AO$19=0,\"\",VLOOKUP($B178,hesap!$G$303:'hesap'!$AC$307,10,FALSE)))","v":{"$error":"#VALUE!"}},{"$f":"IF($AQ$158=0,0,IF(AP$19=0,\"\",VLOOKUP($B178,hesap!$G$303:'hesap'!$AC$307,12,FALSE)))","v":{"$error":"#VALUE!"}},{"$f":"IF($AQ$158=0,0,IF(AQ$19=0,\"\",VLOOKUP($B178,hesap!$G$303:'hesap'!$AC$307,14,FALSE)))","v":{"$error":"#VALUE!"}},{"$f":"IF($AQ$158=0,0,IF(AR$19=0,\"\",VLOOKUP($B178,hesap!$G$303:'hesap'!$AC$307,16,FALSE)))","v":{"$error":"#VALUE!"}},{"$f":"IF($AQ$158=0,0,IF(AS$19=0,\"\",VLOOKUP($B178,hesap!$G$303:'hesap'!$AC$307,20,FALSE)))","v":{"$error":"#VALUE!"}},{"$error":"#VALUE!"}]
[null,null,null,null,null,null,null,null,null,null,null,null,{"$f":"IF($Y$168=0,0,IF(C$20=0,\"\",VLOOKUP($B178,hesap!$G$193:'hesap'!$AC$197,7,FALSE)))","v":0},{"$f":"IF($Y$168=0,0,IF(D$20=0,\"\",VLOOKUP($B178,hesap!$G$193:'hesap'!$AC$197,9,FALSE)))","v":0},{"$f":"IF($Y$168=0,0,IF(E$20=0,\"\",VLOOKUP($B178,hesap!$G$193:'hesap'!$AC$197,11,FALSE)))","v":0},{"$f":"IF($Y$168=0,0,IF(F$20=0,\"\",VLOOKUP($B178,hesap!$G$193:'hesap'!$AC$197,13,FALSE)))","v":0},{"$f":"IF($Y$168=0,0,IF(G$20=0,\"\",VLOOKUP($B178,hesap!$G$193:'hesap'!$AC$197,15,FALSE)))","v":0},{"$f":"IF($Y$168=0,0,IF(H$20=0,\"\",VLOOKUP($B178,hesap!$G$193:'hesap'!$AC$197,17,FALSE)))","v":0},{"$f":"IF($Y$168=0,0,IF(I$20=0,\"\",VLOOKUP($B178,hesap!$G$193:'hesap'!$AC$197,21,FALSE)))","v":0},{"$f":"IF($AD$168=0,0,IF(L$20=0,\"\",VLOOKUP($B178,hesap!$AL$193:'hesap'!$BH$197,7,FALSE)))","v":{"$error":"#VALUE!"}},{"$f":"IF($AD$168=0,0,IF(M$20=0,\"\",VLOOKUP($B178,hesap!$AL$193:'hesap'!$BH$197,9,FALSE)))","v":{"$error":"#VALUE!"}},{"$f":"IF($AD$168=0,0,IF(N$20=0,\"\",VLOOKUP($B178,hesap!$AL$193:'hesap'!$BH$197,11,FALSE)))","v":{"$error":"#VALUE!"}},{"$f":"IF($AD$168=0,0,IF(O$20=0,\"\",VLOOKUP($B178,hesap!$AL$193:'hesap'!$BH$197,13,FALSE)))","v":{"$error":"#VALUE!"}},{"$f":"IF($AD$168=0,0,IF(P$20=0,\"\",VLOOKUP($B178,hesap!$AL$193:'hesap'!$BH$197,15,FALSE)))","v":{"$error":"#VALUE!"}},{"$f":"IF($AD$168=0,0,IF(Q$19=0,\"\",VLOOKUP($B178,hesap!$AL$193:'hesap'!$BH$197,17,FALSE)))","v":{"$error":"#VALUE!"}},{"$f":"IF($AD$168=0,0,IF(R$19=0,\"\",VLOOKUP($B178,hesap!$AL$193:'hesap'!$BH$197,21,FALSE)))","v":{"$error":"#VALUE!"}},{"$f":"IF($AH$168=0,0,IF(U$20=0,\"\",VLOOKUP($B178,hesap!$G$248:'hesap'!$AC$252,7,FALSE)))","v":{"$error":"#VALUE!"}},{"$f":"IF($AH$168=0,0,IF(V$20=0,\"\",VLOOKUP($B178,hesap!$G$248:'hesap'!$AC$252,9,FALSE)))","v":{"$error":"#VALUE!"}},{"$f":"IF($AH$168=0,0,IF(W$20=0,\"\",VLOOKUP($B178,hesap!$G$248:'hesap'!$AC$252,11,FALSE)))","v":{"$error":"#VALUE!"}},{"$f":"IF($AH$168=0,0,IF(X$20=0,\"\",VLOOKUP($B178,hesap!$G$248:'hesap'!$AC$252,13,FALSE)))","v":{"$error":"#VALUE!"}},{"$f":"IF($AH$168=0,0,IF(Y$20=0,\"\",VLOOKUP($B178,hesap!$G$248:'hesap'!$AC$252,15,FALSE)))","v":{"$error":"#VALUE!"}},{"$f":"IF($AH$168=0,0,IF(Z$19=0,\"\",VLOOKUP($B178,hesap!$G$248:'hesap'!$AC$252,17,FALSE)))","v":{"$error":"#VALUE!"}},{"$f":"IF($AH$168=0,0,IF(AA$19=0,\"\",VLOOKUP($B178,hesap!$G$248:'hesap'!$AC$252,21,FALSE)))","v":{"$error":"#VALUE!"}},{"$f":"IF($AM$168=0,0,IF(AD$20=0,\"\",VLOOKUP($B178,hesap!$AL$248:'hesap'!$BH$252,7,FALSE)))","v":{"$error":"#VALUE!"}},{"$f":"IF($AM$168=0,0,IF(AE$20=0,\"\",VLOOKUP($B178,hesap!$AL$248:'hesap'!$BH$252,9,FALSE)))","v":{"$error":"#VALUE!"}},{"$f":"IF($AM$168=0,0,IF(AF$20=0,\"\",VLOOKUP($B178,hesap!$AL$248:'hesap'!$BH$252,11,FALSE)))","v":{"$error":"#VALUE!"}},{"$f":"IF($AM$168=0,0,IF(AG$20=0,\"\",VLOOKUP($B178,hesap!$AL$248:'hesap'!$BH$252,13,FALSE)))","v":{"$error":"#VALUE!"}},{"$f":"IF($AM$168=0,0,IF(AH$20=0,\"\",VLOOKUP($B178,hesap!$AL$248:'hesap'!$BH$252,15,FALSE)))","v":{"$error":"#VALUE!"}},{"$f":"IF($AM$168=0,0,IF(AI$19=0,\"\",VLOOKUP($B178,hesap!$AL$248:'hesap'!$BH$252,17,FALSE)))","v":{"$error":"#VALUE!"}},{"$f":"IF($AM$168=0,0,IF(AJ$19=0,\"\",VLOOKUP($B178,hesap!$AL$248:'hesap'!$BH$252,21,FALSE)))","v":{"$error":"#VALUE!"}},{"$f":"IF($AQ$168=0,0,IF(AM$20=0,\"\",VLOOKUP($B178,hesap!$G$303:'hesap'!$AC$307,7,FALSE)))","v":{"$error":"#VALUE!"}},{"$f":"IF($AQ$168=0,0,IF(AN$20=0,\"\",VLOOKUP($B178,hesap!$G$303:'hesap'!$AC$307,9,FALSE)))","v":{"$error":"#VALUE!"}},{"$f":"IF($AQ$168=0,0,IF(AO$20=0,\"\",VLOOKUP($B178,hesap!$G$303:'hesap'!$AC$307,11,FALSE)))","v":{"$error":"#VALUE!"}},{"$f":"IF($AQ$168=0,0,IF(AP$20=0,\"\",VLOOKUP($B178,hesap!$G$303:'hesap'!$AC$307,13,FALSE)))","v":{"$error":"#VALUE!"}},{"$f":"IF($AQ$168=0,0,IF(AQ$20=0,\"\",VLOOKUP($B178,hesap!$G$303:'hesap'!$AC$307,15,FALSE)))","v":{"$error":"#VALUE!"}},{"$f":"IF($AQ$168=0,0,IF(AR$19=0,\"\",VLOOKUP($B178,hesap!$G$303:'hesap'!$AC$307,16,FALSE)))","v":{"$error":"#VALUE!"}},{"$f":"IF($AQ$168=0,0,IF(AS$19=0,\"\",VLOOKUP($B178,hesap!$G$303:'hesap'!$AC$307,21,FALSE)))","v":{"$error":"#VALUE!"}},{"$error":"#VALUE!"}]
[null,{"$f":"B133","v":""},null,null,null,null,null,null,null,null,null,null,{"$f":"IF($Y$159=0,0,IF(C$19=0,\"\",VLOOKUP($B180,hesap!$G$193:'hesap'!$AC$197,6,FALSE)))","v":0},{"$f":"IF($Y$159=0,0,IF(D$19=0,\"\",VLOOKUP($B180,hesap!$G$193:'hesap'!$AC$197,8,FALSE)))","v":0},{"$f":"IF($Y$159=0,0,IF(E$19=0,\"\",VLOOKUP($B180,hesap!$G$193:'hesap'!$AC$197,10,FALSE)))","v":0},{"$f":"IF($Y$159=0,0,IF(F$19=0,\"\",VLOOKUP($B180,hesap!$G$193:'hesap'!$AC$197,12,FALSE)))","v":0},{"$f":"IF($Y$159=0,0,IF(G$19=0,\"\",VLOOKUP($B180,hesap!$G$193:'hesap'!$AC$197,14,FALSE)))","v":0},{"$f":"IF($Y$159=0,0,IF(H$19=0,\"\",VLOOKUP($B180,hesap!$G$193:'hesap'!$AC$197,16,FALSE)))","v":0},{"$f":"IF($Y$159=0,0,IF(I$19=0,\"\",VLOOKUP($B180,hesap!$G$193:'hesap'!$AC$197,20,FALSE)))","v":0},{"$f":"IF($AD$159=0,0,IF(L$19=0,\"\",VLOOKUP($B180,hesap!$AL$193:'hesap'!$BH$197,6,FALSE)))","v":{"$error":"#VALUE!"}},{"$f":"IF($AD$159=0,0,IF(M$19=0,\"\",VLOOKUP($B180,hesap!$AL$193:'hesap'!$BH$197,8,FALSE)))","v":{"$error":"#VALUE!"}},{"$f":"IF($AD$159=0,0,IF(N$19=0,\"\",VLOOKUP($B180,hesap!$AL$193:'hesap'!$BH$197,10,FALSE)))","v":{"$error":"#VALUE!"}},{"$f":"IF($AD$159=0,0,IF(O$19=0,\"\",VLOOKUP($B180,hesap!$AL$193:'hesap'!$BH$197,12,FALSE)))","v":{"$error":"#VALUE!"}},{"$f":"IF($AD$159=0,0,IF(P$19=0,\"\",VLOOKUP($B180,hesap!$AL$193:'hesap'!$BH$197,14,FALSE)))","v":{"$error":"#VALUE!"}},{"$f":"IF($AD$159=0,0,IF(Q$19=0,\"\",VLOOKUP($B180,hesap!$AL$193:'hesap'!$BH$197,16,FALSE)))","v":{"$error":"#VALUE!"}},{"$f":"IF($AD$159=0,0,IF(R$19=0,\"\",VLOOKUP($B180,hesap!$AL$193:'hesap'!$BH$197,20,FALSE)))","v":{"$error":"#VALUE!"}},{"$f":"IF($AH$159=0,0,IF(U$19=0,\"\",VLOOKUP($B180,hesap!$G$248:'hesap'!$AC$252,6,FALSE)))","v":{"$error":"#VALUE!"}},{"$f":"IF($AH$159=0,0,IF(V$19=0,\"\",VLOOKUP($B180,hesap!$G$248:'hesap'!$AC$252,8,FALSE)))","v":{"$error":"#VALUE!"}},{"$f":"IF($AH$159=0,0,IF(W$19=0,\"\",VLOOKUP($B180,hesap!$G$248:'hesap'!$AC$252,10,FALSE)))","v":{"$error":"#VALUE!"}},{"$f":"IF($AH$159=0,0,IF(X$19=0,\"\",VLOOKUP($B180,hesap!$G$248:'hesap'!$AC$252,12,FALSE)))","v":{"$error":"#VALUE!"}},{"$f":"IF($AH$159=0,0,IF(Y$19=0,\"\",VLOOKUP($B180,hesap!$G$248:'hesap'!$AC$252,14,FALSE)))","v":{"$error":"#VALUE!"}},{"$f":"IF($AH$159=0,0,IF(Z$19=0,\"\",VLOOKUP($B180,hesap!$G$248:'hesap'!$AC$252,16,FALSE)))","v":{"$error":"#VALUE!"}},{"$f":"IF($AH$159=0,0,IF(AA$19=0,\"\",VLOOKUP($B180,hesap!$G$248:'hesap'!$AC$252,20,FALSE)))","v":{"$error":"#VALUE!"}},{"$f":"IF($AM$159=0,0,IF(AD$19=0,\"\",VLOOKUP($B180,hesap!$AL$248:'hesap'!$BH$252,6,FALSE)))","v":{"$error":"#VALUE!"}},{"$f":"IF($AM$159=0,0,IF(AE$19=0,\"\",VLOOKUP($B180,hesap!$AL$248:'hesap'!$BH$252,8,FALSE)))","v":{"$error":"#VALUE!"}},{"$f":"IF($AM$159=0,0,IF(AF$19=0,\"\",VLOOKUP($B180,hesap!$AL$248:'hesap'!$BH$252,10,FALSE)))","v":{"$error":"#VALUE!"}},{"$f":"IF($AM$159=0,0,IF(AG$19=0,\"\",VLOOKUP($B180,hesap!$AL$248:'hesap'!$BH$252,12,FALSE)))","v":{"$error":"#VALUE!"}},{"$f":"IF($AM$159=0,0,IF(AH$19=0,\"\",VLOOKUP($B180,hesap!$AL$248:'hesap'!$BH$252,14,FALSE)))","v":{"$error":"#VALUE!"}},{"$f":"IF($AM$159=0,0,IF(AI$19=0,\"\",VLOOKUP($B180,hesap!$AL$248:'hesap'!$BH$252,16,FALSE)))","v":{"$error":"#VALUE!"}},{"$f":"IF($AM$159=0,0,IF(AJ$19=0,\"\",VLOOKUP($B180,hesap!$AL$248:'hesap'!$BH$252,20,FALSE)))","v":{"$error":"#VALUE!"}},{"$f":"IF($AQ$159=0,0,IF(AM$19=0,\"\",VLOOKUP($B180,hesap!$G$303:'hesap'!$AC$307,6,FALSE)))","v":{"$error":"#VALUE!"}},{"$f":"IF($AQ$159=0,0,IF(AN$19=0,\"\",VLOOKUP($B180,hesap!$G$303:'hesap'!$AC$307,8,FALSE)))","v":{"$error":"#VALUE!"}},{"$f":"IF($AQ$159=0,0,IF(AO$19=0,\"\",VLOOKUP($B180,hesap!$G$303:'hesap'!$AC$307,10,FALSE)))","v":{"$error":"#VALUE!"}},{"$f":"IF($AQ$159=0,0,IF(AP$19=0,\"\",VLOOKUP($B180,hesap!$G$303:'hesap'!$AC$307,12,FALSE)))","v":{"$error":"#VALUE!"}},{"$f":"IF($AQ$159=0,0,IF(AQ$19=0,\"\",VLOOKUP($B180,hesap!$G$303:'hesap'!$AC$307,14,FALSE)))","v":{"$error":"#VALUE!"}},{"$f":"IF($AQ$159=0,0,IF(AR$19=0,\"\",VLOOKUP($B180,hesap!$G$303:'hesap'!$AC$307,16,FALSE)))","v":{"$error":"#VALUE!"}},{"$f":"IF($AQ$159=0,0,IF(AS$19=0,\"\",VLOOKUP($B180,hesap!$G$303:'hesap'!$AC$307,20,FALSE)))","v":{"$error":"#VALUE!"}},{"$error":"#VALUE!"}]
[null,null,null,null,null,null,null,null,null,null,null,null,{"$f":"IF($Y$169=0,0,IF(C$20=0,\"\",VLOOKUP($B180,hesap!$G$193:'hesap'!$AC$197,7,FALSE)))","v":0},{"$f":"IF($Y$169=0,0,IF(D$20=0,\"\",VLOOKUP($B180,hesap!$G$193:'hesap'!$AC$197,9,FALSE)))","v":0},{"$f":"IF($Y$169=0,0,IF(E$20=0,\"\",VLOOKUP($B180,hesap!$G$193:'hesap'!$AC$197,11,FALSE)))","v":0},{"$f":"IF($Y$169=0,0,IF(F$20=0,\"\",VLOOKUP($B180,hesap!$G$193:'hesap'!$AC$197,13,FALSE)))","v":0},{"$f":"IF($Y$169=0,0,IF(G$20=0,\"\",VLOOKUP($B180,hesap!$G$193:'hesap'!$AC$197,15,FALSE)))","v":0},{"$f":"IF($Y$169=0,0,IF(H$20=0,\"\",VLOOKUP($B180,hesap!$G$193:'hesap'!$AC$197,17,FALSE)))","v":0},{"$f":"IF($Y$169=0,0,IF(I$20=0,\"\",VLOOKUP($B180,hesap!$G$193:'hesap'!$AC$197,21,FALSE)))","v":0},{"$f":"IF($AD$169=0,0,IF(L$20=0,\"\",VLOOKUP($B180,hesap!$AL$193:'hesap'!$BH$197,7,FALSE)))","v":{"$error":"#VALUE!"}},{"$f":"IF($AD$169=0,0,IF(M$20=0,\"\",VLOOKUP($B180,hesap!$AL$193:'hesap'!$BH$197,9,FALSE)))","v":{"$error":"#VALUE!"}},{"$f":"IF($AD$169=0,0,IF(N$20=0,\"\",VLOOKUP($B180,hesap!$AL$193:'hesap'!$BH$197,11,FALSE)))","v":{"$error":"#VALUE!"}},{"$f":"IF($AD$169=0,0,IF(O$20=0,\"\",VLOOKUP($B180,hesap!$AL$193:'hesap'!$BH$197,13,FALSE)))","v":{"$error":"#VALUE!"}},{"$f":"IF($AD$169=0,0,IF(P$20=0,\"\",VLOOKUP($B180,hesap!$AL$193:'hesap'!$BH$197,15,FALSE)))","v":{"$error":"#VALUE!"}},{"$f":"IF($AD$169=0,0,IF(Q$19=0,\"\",VLOOKUP($B180,hesap!$AL$193:'hesap'!$BH$197,17,FALSE)))","v":{"$error":"#VALUE!"}},{"$f":"IF($AD$169=0,0,IF(R$19=0,\"\",VLOOKUP($B180,hesap!$AL$193:'hesap'!$BH$197,21,FALSE)))","v":{"$error":"#VALUE!"}},{"$f":"IF($AH$169=0,0,IF(U$20=0,\"\",VLOOKUP($B180,hesap!$G$248:'hesap'!$AC$252,7,FALSE)))","v":{"$error":"#VALUE!"}},{"$f":"IF($AH$169=0,0,IF(V$20=0,\"\",VLOOKUP($B180,hesap!$G$248:'hesap'!$AC$252,9,FALSE)))","v":{"$error":"#VALUE!"}},{"$f":"IF($AH$169=0,0,IF(W$20=0,\"\",VLOOKUP($B180,hesap!$G$248:'hesap'!$AC$252,11,FALSE)))","v":{"$error":"#VALUE!"}},{"$f":"IF($AH$169=0,0,IF(X$20=0,\"\",VLOOKUP($B180,hesap!$G$248:'hesap'!$AC$252,13,FALSE)))","v":{"$error":"#VALUE!"}},{"$f":"IF($AH$169=0,0,IF(Y$20=0,\"\",VLOOKUP($B180,hesap!$G$248:'hesap'!$AC$252,15,FALSE)))","v":{"$error":"#VALUE!"}},{"$f":"IF($AH$169=0,0,IF(Z$19=0,\"\",VLOOKUP($B180,hesap!$G$248:'hesap'!$AC$252,17,FALSE)))","v":{"$error":"#VALUE!"}},{"$f":"IF($AH$169=0,0,IF(AA$19=0,\"\",VLOOKUP($B180,hesap!$G$248:'hesap'!$AC$252,21,FALSE)))","v":{"$error":"#VALUE!"}},{"$f":"IF($AM$169=0,0,IF(AD$20=0,\"\",VLOOKUP($B180,hesap!$AL$248:'hesap'!$BH$252,7,FALSE)))","v":{"$error":"#VALUE!"}},{"$f":"IF($AM$169=0,0,IF(AE$20=0,\"\",VLOOKUP($B180,hesap!$AL$248:'hesap'!$BH$252,9,FALSE)))","v":{"$error":"#VALUE!"}},{"$f":"IF($AM$169=0,0,IF(AF$20=0,\"\",VLOOKUP($B180,hesap!$AL$248:'hesap'!$BH$252,11,FALSE)))","v":{"$error":"#VALUE!"}},{"$f":"IF($AM$169=0,0,IF(AG$20=0,\"\",VLOOKUP($B180,hesap!$AL$248:'hesap'!$BH$252,13,FALSE)))","v":{"$error":"#VALUE!"}},{"$f":"IF($AM$169=0,0,IF(AH$20=0,\"\",VLOOKUP($B180,hesap!$AL$248:'hesap'!$BH$252,15,FALSE)))","v":{"$error":"#VALUE!"}},{"$f":"IF($AM$169=0,0,IF(AI$19=0,\"\",VLOOKUP($B180,hesap!$AL$248:'hesap'!$BH$252,17,FALSE)))","v":{"$error":"#VALUE!"}},{"$f":"IF($AM$169=0,0,IF(AJ$19=0,\"\",VLOOKUP($B180,hesap!$AL$248:'hesap'!$BH$252,21,FALSE)))","v":{"$error":"#VALUE!"}},{"$f":"IF($AQ$169=0,0,IF(AM$20=0,\"\",VLOOKUP($B180,hesap!$G$303:'hesap'!$AC$307,7,FALSE)))","v":{"$error":"#VALUE!"}},{"$f":"IF($AQ$169=0,0,IF(AN$20=0,\"\",VLOOKUP($B180,hesap!$G$303:'hesap'!$AC$307,9,FALSE)))","v":{"$error":"#VALUE!"}},{"$f":"IF($AQ$169=0,0,IF(AO$20=0,\"\",VLOOKUP($B180,hesap!$G$303:'hesap'!$AC$307,11,FALSE)))","v":{"$error":"#VALUE!"}},{"$f":"IF($AQ$169=0,0,IF(AP$20=0,\"\",VLOOKUP($B180,hesap!$G$303:'hesap'!$AC$307,13,FALSE)))","v":{"$error":"#VALUE!"}},{"$f":"IF($AQ$169=0,0,IF(AQ$20=0,\"\",VLOOKUP($B180,hesap!$G$303:'hesap'!$AC$307,15,FALSE)))","v":{"$error":"#VALUE!"}},{"$f":"IF($AQ$169=0,0,IF(AR$19=0,\"\",VLOOKUP($B180,hesap!$G$303:'hesap'!$AC$307,16,FALSE)))","v":{"$error":"#VALUE!"}},{"$f":"IF($AQ$169=0,0,IF(AS$19=0,\"\",VLOOKUP($B180,hesap!$G$303:'hesap'!$AC$307,21,FALSE)))","v":{"$error":"#VALUE!"}},{"$error":"#VALUE!"}]
[null,{"$f":"B135","v":""},null,null,null,null,null,null,null,null,null,null,{"$f":"IF($Y$160=0,0,IF(C$19=0,\"\",VLOOKUP($B182,hesap!$G$193:'hesap'!$AC$197,6,FALSE)))","v":0},{"$f":"IF($Y$160=0,0,IF(D$19=0,\"\",VLOOKUP($B182,hesap!$G$193:'hesap'!$AC$197,8,FALSE)))","v":0},{"$f":"IF($Y$160=0,0,IF(E$19=0,\"\",VLOOKUP($B182,hesap!$G$193:'hesap'!$AC$197,10,FALSE)))","v":0},{"$f":"IF($Y$160=0,0,IF(F$19=0,\"\",VLOOKUP($B182,hesap!$G$193:'hesap'!$AC$197,12,FALSE)))","v":0},{"$f":"IF($Y$160=0,0,IF(G$19=0,\"\",VLOOKUP($B182,hesap!$G$193:'hesap'!$AC$197,14,FALSE)))","v":0},{"$f":"IF($Y$160=0,0,IF(H$19=0,\"\",VLOOKUP($B182,hesap!$G$193:'hesap'!$AC$197,16,FALSE)))","v":0},{"$f":"IF($Y$160=0,0,IF(I$19=0,\"\",VLOOKUP($B182,hesap!$G$193:'hesap'!$AC$197,20,FALSE)))","v":0},{"$f":"IF($AD$160=0,0,IF(L$19=0,\"\",VLOOKUP($B182,hesap!$AL$193:'hesap'!$BH$197,6,FALSE)))","v":{"$error":"#VALUE!"}},{"$f":"IF($AD$160=0,0,IF(M$19=0,\"\",VLOOKUP($B182,hesap!$AL$193:'hesap'!$BH$197,8,FALSE)))","v":{"$error":"#VALUE!"}},{"$f":"IF($AD$160=0,0,IF(N$19=0,\"\",VLOOKUP($B182,hesap!$AL$193:'hesap'!$BH$197,10,FALSE)))","v":{"$error":"#VALUE!"}},{"$f":"IF($AD$160=0,0,IF(O$19=0,\"\",VLOOKUP($B182,hesap!$AL$193:'hesap'!$BH$197,12,FALSE)))","v":{"$error":"#VALUE!"}},{"$f":"IF($AD$160=0,0,IF(P$19=0,\"\",VLOOKUP($B182,hesap!$AL$193:'hesap'!$BH$197,14,FALSE)))","v":{"$error":"#VALUE!"}},{"$f":"IF($AD$160=0,0,IF(Q$19=0,\"\",VLOOKUP($B182,hesap!$AL$193:'hesap'!$BH$197,16,FALSE)))","v":{"$error":"#VALUE!"}},{"$f":"IF($AD$160=0,0,IF(R$19=0,\"\",VLOOKUP($B182,hesap!$AL$193:'hesap'!$BH$197,20,FALSE)))","v":{"$error":"#VALUE!"}},{"$f":"IF($AH$160=0,0,IF(U$19=0,\"\",VLOOKUP($B182,hesap!$G$248:'hesap'!$AC$252,6,FALSE)))","v":{"$error":"#VALUE!"}},{"$f":"IF($AH$160=0,0,IF(V$19=0,\"\",VLOOKUP($B182,hesap!$G$248:'hesap'!$AC$252,8,FALSE)))","v":{"$error":"#VALUE!"}},{"$f":"IF($AH$160=0,0,IF(W$19=0,\"\",VLOOKUP($B182,hesap!$G$248:'hesap'!$AC$252,10,FALSE)))","v":{"$error":"#VALUE!"}},{"$f":"IF($AH$160=0,0,IF(X$19=0,\"\",VLOOKUP($B182,hesap!$G$248:'hesap'!$AC$252,12,FALSE)))","v":{"$error":"#VALUE!"}},{"$f":"IF($AH$160=0,0,IF(Y$19=0,\"\",VLOOKUP($B182,hesap!$G$248:'hesap'!$AC$252,14,FALSE)))","v":{"$error":"#VALUE!"}},{"$f":"IF($AH$160=0,0,IF(Z$19=0,\"\",VLOOKUP($B182,hesap!$G$248:'hesap'!$AC$252,16,FALSE)))","v":{"$error":"#VALUE!"}},{"$f":"IF($AH$160=0,0,IF(AA$19=0,\"\",VLOOKUP($B182,hesap!$G$248:'hesap'!$AC$252,20,FALSE)))","v":{"$error":"#VALUE!"}},{"$f":"IF($AM$160=0,0,IF(AD$19=0,\"\",VLOOKUP($B182,hesap!$AL$248:'hesap'!$BH$252,6,FALSE)))","v":{"$error":"#VALUE!"}},{"$f":"IF($AM$160=0,0,IF(AE$19=0,\"\",VLOOKUP($B182,hesap!$AL$248:'hesap'!$BH$252,8,FALSE)))","v":{"$error":"#VALUE!"}},{"$f":"IF($AM$160=0,0,IF(AF$19=0,\"\",VLOOKUP($B182,hesap!$AL$248:'hesap'!$BH$252,10,FALSE)))","v":{"$error":"#VALUE!"}},{"$f":"IF($AM$160=0,0,IF(AG$19=0,\"\",VLOOKUP($B182,hesap!$AL$248:'hesap'!$BH$252,12,FALSE)))","v":{"$error":"#VALUE!"}},{"$f":"IF($AM$160=0,0,IF(AH$19=0,\"\",VLOOKUP($B182,hesap!$AL$248:'hesap'!$BH$252,14,FALSE)))","v":{"$error":"#VALUE!"}},{"$f":"IF($AM$160=0,0,IF(AI$19=0,\"\",VLOOKUP($B182,hesap!$AL$248:'hesap'!$BH$252,16,FALSE)))","v":{"$error":"#VALUE!"}},{"$f":"IF($AM$160=0,0,IF(AJ$19=0,\"\",VLOOKUP($B182,hesap!$AL$248:'hesap'!$BH$252,20,FALSE)))","v":{"$error":"#VALUE!"}},{"$f":"IF($AQ$160=0,0,IF(AM$19=0,\"\",VLOOKUP($B182,hesap!$G$303:'hesap'!$AC$307,6,FALSE)))","v":{"$error":"#VALUE!"}},{"$f":"IF($AQ$160=0,0,IF(AN$19=0,\"\",VLOOKUP($B182,hesap!$G$303:'hesap'!$AC$307,8,FALSE)))","v":{"$error":"#VALUE!"}},{"$f":"IF($AQ$160=0,0,IF(AO$19=0,\"\",VLOOKUP($B182,hesap!$G$303:'hesap'!$AC$307,10,FALSE)))","v":{"$error":"#VALUE!"}},{"$f":"IF($AQ$160=0,0,IF(AP$19=0,\"\",VLOOKUP($B182,hesap!$G$303:'hesap'!$AC$307,12,FALSE)))","v":{"$error":"#VALUE!"}},{"$f":"IF($AQ$160=0,0,IF(AQ$19=0,\"\",VLOOKUP($B182,hesap!$G$303:'hesap'!$AC$307,14,FALSE)))","v":{"$error":"#VALUE!"}},{"$f":"IF($AQ$160=0,0,IF(AR$19=0,\"\",VLOOKUP($B182,hesap!$G$303:'hesap'!$AC$307,16,FALSE)))","v":{"$error":"#VALUE!"}},{"$f":"IF($AQ$160=0,0,IF(AS$19=0,\"\",VLOOKUP($B182,hesap!$G$303:'hesap'!$AC$307,20,FALSE)))","v":{"$error":"#VALUE!"}},{"$error":"#VALUE!"}]
[null,null,null,null,null,null,null,null,null,null,null,null,{"$f":"IF($Y$170=0,0,IF(C$20=0,\"\",VLOOKUP($B182,hesap!$G$193:'hesap'!$AC$197,7,FALSE)))","v":0},{"$f":"IF($Y$170=0,0,IF(D$20=0,\"\",VLOOKUP($B182,hesap!$G$193:'hesap'!$AC$197,9,FALSE)))","v":0},{"$f":"IF($Y$170=0,0,IF(E$20=0,\"\",VLOOKUP($B182,hesap!$G$193:'hesap'!$AC$197,11,FALSE)))","v":0},{"$f":"IF($Y$170=0,0,IF(F$20=0,\"\",VLOOKUP($B182,hesap!$G$193:'hesap'!$AC$197,13,FALSE)))","v":0},{"$f":"IF($Y$170=0,0,IF(G$20=0,\"\",VLOOKUP($B182,hesap!$G$193:'hesap'!$AC$197,15,FALSE)))","v":0},{"$f":"IF($Y$170=0,0,IF(H$20=0,\"\",VLOOKUP($B182,hesap!$G$193:'hesap'!$AC$197,17,FALSE)))","v":0},{"$f":"IF($Y$170=0,0,IF(I$20=0,\"\",VLOOKUP($B182,hesap!$G$193:'hesap'!$AC$197,21,FALSE)))","v":0},{"$f":"IF($AD$170=0,0,IF(L$20=0,\"\",VLOOKUP($B182,hesap!$AL$193:'hesap'!$BH$197,7,FALSE)))","v":{"$error":"#VALUE!"}},{"$f":"IF($AD$170=0,0,IF(M$20=0,\"\",VLOOKUP($B182,hesap!$AL$193:'hesap'!$BH$197,9,FALSE)))","v":{"$error":"#VALUE!"}},{"$f":"IF($AD$170=0,0,IF(N$20=0,\"\",VLOOKUP($B182,hesap!$AL$193:'hesap'!$BH$197,11,FALSE)))","v":{"$error":"#VALUE!"}},{"$f":"IF($AD$170=0,0,IF(O$20=0,\"\",VLOOKUP($B182,hesap!$AL$193:'hesap'!$BH$197,13,FALSE)))","v":{"$error":"#VALUE!"}},{"$f":"IF($AD$170=0,0,IF(P$20=0,\"\",VLOOKUP($B182,hesap!$AL$193:'hesap'!$BH$197,15,FALSE)))","v":{"$error":"#VALUE!"}},{"$f":"IF($AD$170=0,0,IF(Q$19=0,\"\",VLOOKUP($B182,hesap!$AL$193:'hesap'!$BH$197,17,FALSE)))","v":{"$error":"#VALUE!"}},{"$f":"IF($AD$170=0,0,IF(R$19=0,\"\",VLOOKUP($B182,hesap!$AL$193:'hesap'!$BH$197,21,FALSE)))","v":{"$error":"#VALUE!"}},{"$f":"IF($AH$170=0,0,IF(U$20=0,\"\",VLOOKUP($B182,hesap!$G$248:'hesap'!$AC$252,7,FALSE)))","v":{"$error":"#VALUE!"}},{"$f":"IF($AH$170=0,0,IF(V$20=0,\"\",VLOOKUP($B182,hesap!$G$248:'hesap'!$AC$252,9,FALSE)))","v":{"$error":"#VALUE!"}},{"$f":"IF($AH$170=0,0,IF(W$20=0,\"\",VLOOKUP($B182,hesap!$G$248:'hesap'!$AC$252,11,FALSE)))","v":{"$error":"#VALUE!"}},{"$f":"IF($AH$170=0,0,IF(X$20=0,\"\",VLOOKUP($B182,hesap!$G$248:'hesap'!$AC$252,13,FALSE)))","v":{"$error":"#VALUE!"}},{"$f":"IF($AH$170=0,0,IF(Y$20=0,\"\",VLOOKUP($B182,hesap!$G$248:'hesap'!$AC$252,15,FALSE)))","v":{"$error":"#VALUE!"}},{"$f":"IF($AH$170=0,0,IF(Z$19=0,\"\",VLOOKUP($B182,hesap!$G$248:'hesap'!$AC$252,17,FALSE)))","v":{"$error":"#VALUE!"}},{"$f":"IF($AH$170=0,0,IF(AA$19=0,\"\",VLOOKUP($B182,hesap!$G$248:'hesap'!$AC$252,21,FALSE)))","v":{"$error":"#VALUE!"}},{"$f":"IF($AM$170=0,0,IF(AD$20=0,\"\",VLOOKUP($B182,hesap!$AL$248:'hesap'!$BH$252,7,FALSE)))","v":{"$error":"#VALUE!"}},{"$f":"IF($AM$170=0,0,IF(AE$20=0,\"\",VLOOKUP($B182,hesap!$AL$248:'hesap'!$BH$252,9,FALSE)))","v":{"$error":"#VALUE!"}},{"$f":"IF($AM$170=0,0,IF(AF$20=0,\"\",VLOOKUP($B182,hesap!$AL$248:'hesap'!$BH$252,11,FALSE)))","v":{"$error":"#VALUE!"}},{"$f":"IF($AM$170=0,0,IF(AG$20=0,\"\",VLOOKUP($B182,hesap!$AL$248:'hesap'!$BH$252,13,FALSE)))","v":{"$error":"#VALUE!"}},{"$f":"IF($AM$170=0,0,IF(AH$20=0,\"\",VLOOKUP($B182,hesap!$AL$248:'hesap'!$BH$252,15,FALSE)))","v":{"$error":"#VALUE!"}},{"$f":"IF($AM$170=0,0,IF(AI$19=0,\"\",VLOOKUP($B182,hesap!$AL$248:'hesap'!$BH$252,17,FALSE)))","v":{"$error":"#VALUE!"}},{"$f":"IF($AM$170=0,0,IF(AJ$19=0,\"\",VLOOKUP($B182,hesap!$AL$248:'hesap'!$BH$252,21,FALSE)))","v":{"$error":"#VALUE!"}},{"$f":"IF($AQ$170=0,0,IF(AM$20=0,\"\",VLOOKUP($B182,hesap!$G$303:'hesap'!$AC$307,7,FALSE)))","v":{"$error":"#VALUE!"}},{"$f":"IF($AQ$170=0,0,IF(AN$20=0,\"\",VLOOKUP($B182,hesap!$G$303:'hesap'!$AC$307,9,FALSE)))","v":{"$error":"#VALUE!"}},{"$f":"IF($AQ$170=0,0,IF(AO$20=0,\"\",VLOOKUP($B182,hesap!$G$303:'hesap'!$AC$307,11,FALSE)))","v":{"$error":"#VALUE!"}},{"$f":"IF($AQ$170=0,0,IF(AP$20=0,\"\",VLOOKUP($B182,hesap!$G$303:'hesap'!$AC$307,13,FALSE)))","v":{"$error":"#VALUE!"}},{"$f":"IF($AQ$170=0,0,IF(AQ$20=0,\"\",VLOOKUP($B182,hesap!$G$303:'hesap'!$AC$307,15,FALSE)))","v":{"$error":"#VALUE!"}},{"$f":"IF($AQ$170=0,0,IF(AR$19=0,\"\",VLOOKUP($B182,hesap!$G$303:'hesap'!$AC$307,16,FALSE)))","v":{"$error":"#VALUE!"}},{"$f":"IF($AQ$170=0,0,IF(AS$19=0,\"\",VLOOKUP($B182,hesap!$G$303:'hesap'!$AC$307,21,FALSE)))","v":{"$error":"#VALUE!"}},{"$error":"#VALUE!"}]
[null,{"$f":"B137","v":""},null,null,null,null,null,null,null,null,null,null,{"$f":"IF($Y$161=0,0,IF(C$19=0,\"\",VLOOKUP($B184,hesap!$G$193:'hesap'!$AC$197,6,FALSE)))","v":0},{"$f":"IF($Y$161=0,0,IF(D$19=0,\"\",VLOOKUP($B184,hesap!$G$193:'hesap'!$AC$197,8,FALSE)))","v":0},{"$f":"IF($Y$161=0,0,IF(E$19=0,\"\",VLOOKUP($B184,hesap!$G$193:'hesap'!$AC$197,10,FALSE)))","v":0},{"$f":"IF($Y$161=0,0,IF(F$19=0,\"\",VLOOKUP($B184,hesap!$G$193:'hesap'!$AC$197,12,FALSE)))","v":0},{"$f":"IF($Y$161=0,0,IF(G$19=0,\"\",VLOOKUP($B184,hesap!$G$193:'hesap'!$AC$197,14,FALSE)))","v":0},{"$f":"IF($Y$161=0,0,IF(H$19=0,\"\",VLOOKUP($B184,hesap!$G$193:'hesap'!$AC$197,16,FALSE)))","v":0},{"$f":"IF($Y$161=0,0,IF(I$19=0,\"\",VLOOKUP($B184,hesap!$G$193:'hesap'!$AC$197,20,FALSE)))","v":0},{"$f":"IF($AD$161=0,0,IF(L$19=0,\"\",VLOOKUP($B184,hesap!$AL$193:'hesap'!$BH$197,6,FALSE)))","v":{"$error":"#VALUE!"}},{"$f":"IF($AD$161=0,0,IF(M$19=0,\"\",VLOOKUP($B184,hesap!$AL$193:'hesap'!$BH$197,8,FALSE)))","v":{"$error":"#VALUE!"}},{"$f":"IF($AD$161=0,0,IF(N$19=0,\"\",VLOOKUP($B184,hesap!$AL$193:'hesap'!$BH$197,10,FALSE)))","v":{"$error":"#VALUE!"}},{"$f":"IF($AD$161=0,0,IF(O$19=0,\"\",VLOOKUP($B184,hesap!$AL$193:'hesap'!$BH$197,12,FALSE)))","v":{"$error":"#VALUE!"}},{"$f":"IF($AD$161=0,0,IF(P$19=0,\"\",VLOOKUP($B184,hesap!$AL$193:'hesap'!$BH$197,14,FALSE)))","v":{"$error":"#VALUE!"}},{"$f":"IF($AD$161=0,0,IF(Q$19=0,\"\",VLOOKUP($B184,hesap!$AL$193:'hesap'!$BH$197,16,FALSE)))","v":{"$error":"#VALUE!"}},{"$f":"IF($AD$161=0,0,IF(R$19=0,\"\",VLOOKUP($B184,hesap!$AL$193:'hesap'!$BH$197,20,FALSE)))","v":{"$error":"#VALUE!"}},{"$f":"IF($AH$161=0,0,IF(U$19=0,\"\",VLOOKUP($B184,hesap!$G$248:'hesap'!$AC$252,6,FALSE)))","v":{"$error":"#VALUE!"}},{"$f":"IF($AH$161=0,0,IF(V$19=0,\"\",VLOOKUP($B184,hesap!$G$248:'hesap'!$AC$252,8,FALSE)))","v":{"$error":"#VALUE!"}},{"$f":"IF($AH$161=0,0,IF(W$19=0,\"\",VLOOKUP($B184,hesap!$G$248:'hesap'!$AC$252,10,FALSE)))","v":{"$error":"#VALUE!"}},{"$f":"IF($AH$161=0,0,IF(X$19=0,\"\",VLOOKUP($B184,hesap!$G$248:'hesap'!$AC$252,12,FALSE)))","v":{"$error":"#VALUE!"}},{"$f":"IF($AH$161=0,0,IF(Y$19=0,\"\",VLOOKUP($B184,hesap!$G$248:'hesap'!$AC$252,14,FALSE)))","v":{"$error":"#VALUE!"}},{"$f":"IF($AH$161=0,0,IF(Z$19=0,\"\",VLOOKUP($B184,hesap!$G$248:'hesap'!$AC$252,16,FALSE)))","v":{"$error":"#VALUE!"}},{"$f":"IF($AH$161=0,0,IF(AA$19=0,\"\",VLOOKUP($B184,hesap!$G$248:'hesap'!$AC$252,20,FALSE)))","v":{"$error":"#VALUE!"}},{"$f":"IF($AM$161=0,0,IF(AD$19=0,\"\",VLOOKUP($B184,hesap!$AL$248:'hesap'!$BH$252,6,FALSE)))","v":{"$error":"#VALUE!"}},{"$f":"IF($AM$161=0,0,IF(AE$19=0,\"\",VLOOKUP($B184,hesap!$AL$248:'hesap'!$BH$252,8,FALSE)))","v":{"$error":"#VALUE!"}},{"$f":"IF($AM$161=0,0,IF(AF$19=0,\"\",VLOOKUP($B184,hesap!$AL$248:'hesap'!$BH$252,10,FALSE)))","v":{"$error":"#VALUE!"}},{"$f":"IF($AM$161=0,0,IF(AG$19=0,\"\",VLOOKUP($B184,hesap!$AL$248:'hesap'!$BH$252,12,FALSE)))","v":{"$error":"#VALUE!"}},{"$f":"IF($AM$161=0,0,IF(AH$19=0,\"\",VLOOKUP($B184,hesap!$AL$248:'hesap'!$BH$252,14,FALSE)))","v":{"$error":"#VALUE!"}},{"$f":"IF($AM$161=0,0,IF(AI$19=0,\"\",VLOOKUP($B184,hesap!$AL$248:'hesap'!$BH$252,16,FALSE)))","v":{"$error":"#VALUE!"}},{"$f":"IF($AM$161=0,0,IF(AJ$19=0,\"\",VLOOKUP($B184,hesap!$AL$248:'hesap'!$BH$252,20,FALSE)))","v":{"$error":"#VALUE!"}},{"$f":"IF($AQ$161=0,0,IF(AM$19=0,\"\",VLOOKUP($B184,hesap!$G$303:'hesap'!$AC$307,6,FALSE)))","v":{"$error":"#VALUE!"}},{"$f":"IF($AQ$161=0,0,IF(AN$19=0,\"\",VLOOKUP($B184,hesap!$G$303:'hesap'!$AC$307,8,FALSE)))","v":{"$error":"#VALUE!"}},{"$f":"IF($AQ$161=0,0,IF(AO$19=0,\"\",VLOOKUP($B184,hesap!$G$303:'hesap'!$AC$307,10,FALSE)))","v":{"$error":"#VALUE!"}},{"$f":"IF($AQ$161=0,0,IF(AP$19=0,\"\",VLOOKUP($B184,hesap!$G$303:'hesap'!$AC$307,12,FALSE)))","v":{"$error":"#VALUE!"}},{"$f":"IF($AQ$161=0,0,IF(AQ$19=0,\"\",VLOOKUP($B184,hesap!$G$303:'hesap'!$AC$307,14,FALSE)))","v":{"$error":"#VALUE!"}},{"$f":"IF($AQ$161=0,0,IF(AR$19=0,\"\",VLOOKUP($B184,hesap!$G$303:'hesap'!$AC$307,16,FALSE)))","v":{"$error":"#VALUE!"}},{"$f":"IF($AQ$161=0,0,IF(AS$19=0,\"\",VLOOKUP($B184,hesap!$G$303:'hesap'!$AC$307,20,FALSE)))","v":{"$error":"#VALUE!"}},{"$error":"#VALUE!"}]
[null,null,null,null,null,null,null,null,null,null,null,null,{"$f":"IF($Y$171=0,0,IF(C$20=0,\"\",VLOOKUP($B184,hesap!$G$193:'hesap'!$AC$197,7,FALSE)))","v":0},{"$f":"IF($Y$171=0,0,IF(D$20=0,\"\",VLOOKUP($B184,hesap!$G$193:'hesap'!$AC$197,9,FALSE)))","v":0},{"$f":"IF($Y$171=0,0,IF(E$20=0,\"\",VLOOKUP($B184,hesap!$G$193:'hesap'!$AC$197,11,FALSE)))","v":0},{"$f":"IF($Y$171=0,0,IF(F$20=0,\"\",VLOOKUP($B184,hesap!$G$193:'hesap'!$AC$197,13,FALSE)))","v":0},{"$f":"IF($Y$171=0,0,IF(G$20=0,\"\",VLOOKUP($B184,hesap!$G$193:'hesap'!$AC$197,15,FALSE)))","v":0},{"$f":"IF($Y$171=0,0,IF(H$20=0,\"\",VLOOKUP($B184,hesap!$G$193:'hesap'!$AC$197,17,FALSE)))","v":0},{"$f":"IF($Y$171=0,0,IF(I$20=0,\"\",VLOOKUP($B184,hesap!$G$193:'hesap'!$AC$197,21,FALSE)))","v":0},{"$f":"IF($AD$171=0,0,IF(L$20=0,\"\",VLOOKUP($B184,hesap!$AL$193:'hesap'!$BH$197,7,FALSE)))","v":{"$error":"#VALUE!"}},{"$f":"IF($AD$171=0,0,IF(M$20=0,\"\",VLOOKUP($B184,hesap!$AL$193:'hesap'!$BH$197,9,FALSE)))","v":{"$error":"#VALUE!"}},{"$f":"IF($AD$171=0,0,IF(N$20=0,\"\",VLOOKUP($B184,hesap!$AL$193:'hesap'!$BH$197,11,FALSE)))","v":{"$error":"#VALUE!"}},{"$f":"IF($AD$171=0,0,IF(O$20=0,\"\",VLOOKUP($B184,hesap!$AL$193:'hesap'!$BH$197,13,FALSE)))","v":{"$error":"#VALUE!"}},{"$f":"IF($AD$171=0,0,IF(P$20=0,\"\",VLOOKUP($B184,hesap!$AL$193:'hesap'!$BH$197,15,FALSE)))","v":{"$error":"#VALUE!"}},{"$f":"IF($AD$171=0,0,IF(Q$19=0,\"\",VLOOKUP($B184,hesap!$AL$193:'hesap'!$BH$197,17,FALSE)))","v":{"$error":"#VALUE!"}},{"$f":"IF($AD$171=0,0,IF(R$19=0,\"\",VLOOKUP($B184,hesap!$AL$193:'hesap'!$BH$197,21,FALSE)))","v":{"$error":"#VALUE!"}},{"$f":"IF($AH$171=0,0,IF(U$20=0,\"\",VLOOKUP($B184,hesap!$G$248:'hesap'!$AC$252,7,FALSE)))","v":{"$error":"#VALUE!"}},{"$f":"IF($AH$171=0,0,IF(V$20=0,\"\",VLOOKUP($B184,hesap!$G$248:'hesap'!$AC$252,9,FALSE)))","v":{"$error":"#VALUE!"}},{"$f":"IF($AH$171=0,0,IF(W$20=0,\"\",VLOOKUP($B184,hesap!$G$248:'hesap'!$AC$252,11,FALSE)))","v":{"$error":"#VALUE!"}},{"$f":"IF($AH$171=0,0,IF(X$20=0,\"\",VLOOKUP($B184,hesap!$G$248:'hesap'!$AC$252,13,FALSE)))","v":{"$error":"#VALUE!"}},{"$f":"IF($AH$171=0,0,IF(Y$20=0,\"\",VLOOKUP($B184,hesap!$G$248:'hesap'!$AC$252,15,FALSE)))","v":{"$error":"#VALUE!"}},{"$f":"IF($AH$171=0,0,IF(Z$19=0,\"\",VLOOKUP($B184,hesap!$G$248:'hesap'!$AC$252,17,FALSE)))","v":{"$error":"#VALUE!"}},{"$f":"IF($AH$171=0,0,IF(AA$19=0,\"\",VLOOKUP($B184,hesap!$G$248:'hesap'!$AC$252,21,FALSE)))","v":{"$error":"#VALUE!"}},{"$f":"IF($AM$171=0,0,IF(AD$20=0,\"\",VLOOKUP($B184,hesap!$AL$248:'hesap'!$BH$252,7,FALSE)))","v":{"$error":"#VALUE!"}},{"$f":"IF($AM$171=0,0,IF(AE$20=0,\"\",VLOOKUP($B184,hesap!$AL$248:'hesap'!$BH$252,9,FALSE)))","v":{"$error":"#VALUE!"}},{"$f":"IF($AM$171=0,0,IF(AF$20=0,\"\",VLOOKUP($B184,hesap!$AL$248:'hesap'!$BH$252,11,FALSE)))","v":{"$error":"#VALUE!"}},{"$f":"IF($AM$171=0,0,IF(AG$20=0,\"\",VLOOKUP($B184,hesap!$AL$248:'hesap'!$BH$252,13,FALSE)))","v":{"$error":"#VALUE!"}},{"$f":"IF($AM$171=0,0,IF(AH$20=0,\"\",VLOOKUP($B184,hesap!$AL$248:'hesap'!$BH$252,15,FALSE)))","v":{"$error":"#VALUE!"}},{"$f":"IF($AM$171=0,0,IF(AI$19=0,\"\",VLOOKUP($B184,hesap!$AL$248:'hesap'!$BH$252,17,FALSE)))","v":{"$error":"#VALUE!"}},{"$f":"IF($AM$171=0,0,IF(AJ$19=0,\"\",VLOOKUP($B184,hesap!$AL$248:'hesap'!$BH$252,21,FALSE)))","v":{"$error":"#VALUE!"}},{"$f":"IF($AQ$171=0,0,IF(AM$20=0,\"\",VLOOKUP($B184,hesap!$G$303:'hesap'!$AC$307,7,FALSE)))","v":{"$error":"#VALUE!"}},{"$f":"IF($AQ$171=0,0,IF(AN$20=0,\"\",VLOOKUP($B184,hesap!$G$303:'hesap'!$AC$307,9,FALSE)))","v":{"$error":"#VALUE!"}},{"$f":"IF($AQ$171=0,0,IF(AO$20=0,\"\",VLOOKUP($B184,hesap!$G$303:'hesap'!$AC$307,11,FALSE)))","v":{"$error":"#VALUE!"}},{"$f":"IF($AQ$171=0,0,IF(AP$20=0,\"\",VLOOKUP($B184,hesap!$G$303:'hesap'!$AC$307,13,FALSE)))","v":{"$error":"#VALUE!"}},{"$f":"IF($AQ$171=0,0,IF(AQ$20=0,\"\",VLOOKUP($B184,hesap!$G$303:'hesap'!$AC$307,15,FALSE)))","v":{"$error":"#VALUE!"}},{"$f":"IF($AQ$171=0,0,IF(AR$19=0,\"\",VLOOKUP($B184,hesap!$G$303:'hesap'!$AC$307,16,FALSE)))","v":{"$error":"#VALUE!"}},{"$f":"IF($AQ$171=0,0,IF(AS$19=0,\"\",VLOOKUP($B184,hesap!$G$303:'hesap'!$AC$307,21,FALSE)))","v":{"$error":"#VALUE!"}},{"$error":"#VALUE!"}]
[null,null,null,null,null,null,null,null,null,null,null,null,{"$f":"SUM(M176:M185)","v":0},{"$f":"SUM(N176:N185)","v":0},0,0,0,0,0,{"$error":"#VALUE!"},{"$error":"#VALUE!"},{"$error":"#VALUE!"},{"$error":"#VALUE!"},{"$error":"#VALUE!"},{"$error":"#VALUE!"},{"$error":"#VALUE!"},{"$error":"#VALUE!"},{"$error":"#VALUE!"},{"$error":"#VALUE!"},{"$error":"#VALUE!"},{"$error":"#VALUE!"},{"$error":"#VALUE!"},{"$error":"#VALUE!"},{"$error":"#VALUE!"},{"$error":"#VALUE!"},{"$error":"#VALUE!"},{"$error":"#VALUE!"},{"$error":"#VALUE!"},{"$error":"#VALUE!"},{"$error":"#VALUE!"},{"$error":"#VALUE!"},{"$error":"#VALUE!"},{"$error":"#VALUE!"},{"$error":"#VALUE!"},{"$error":"#VALUE!"},{"$error":"#VALUE!"},{"$error":"#VALUE!"}]
[null,null,null,null,null,null,null,null,null,null,null,null,{"$f":"SUM(M186:S186)","v":0},null,null,null,null,null,null,{"$f":"SUM(T186:Z186)","v":{"$error":"#VALUE!"}},null,null,null,null,null,null,{"$f":"SUM(AA186:AG186)","v":{"$error":"#VALUE!"}},null,null,null,null,null,null,{"$f":"SUM(AH186:AN186)","v":{"$error":"#VALUE!"}},null,null,null,null,null,null,{"$f":"SUM(AO186:AU186)","v":{"$error":"#VALUE!"}}]
[]
[]
[null,{"$f":"B141","v":""},null,null,null,null,null,null,null,null,null,null,{"$f":"IF($Y$71=0,0,IF(C$55=0,\"\",VLOOKUP($B190,hesap!$G$201:'hesap'!$AC$204,6,FALSE)))","v":0},{"$f":"IF($Y$71=0,0,IF(D$55=0,\"\",VLOOKUP($B190,hesap!$G$201:'hesap'!$AC$204,8,FALSE)))","v":0},{"$f":"IF($Y$71=0,0,IF(E$55=0,\"\",VLOOKUP($B190,hesap!$G$201:'hesap'!$AC$204,10,FALSE)))","v":0},{"$f":"IF($Y$71=0,0,IF(F$55=0,\"\",VLOOKUP($B190,hesap!$G$201:'hesap'!$AC$204,12,FALSE)))","v":0},{"$f":"IF($Y$71=0,0,IF(G$55=0,\"\",VLOOKUP($B190,hesap!$G$201:'hesap'!$AC$204,14,FALSE)))","v":0},{"$f":"IF($Y$71=0,0,IF(H$55=0,\"\",VLOOKUP($B190,hesap!$G$201:'hesap'!$AC$204,18,FALSE)))","v":0},{"$f":"IF($Y$71=0,0,IF(I$55=0,\"\",VLOOKUP($B190,hesap!$G$201:'hesap'!$AC$204,22,FALSE)))","v":0},{"$f":"IF($AD$71=0,0,IF(L$55=0,\"\",VLOOKUP($B190,hesap!$AL$201:'hesap'!$BH$204,6,FALSE)))","v":{"$error":"#VALUE!"}},{"$f":"IF($AD$71=0,0,IF(M$55=0,\"\",VLOOKUP($B190,hesap!$AL$201:'hesap'!$BH$204,8,FALSE)))","v":{"$error":"#VALUE!"}},{"$f":"IF($AD$71=0,0,IF(N$55=0,\"\",VLOOKUP($B190,hesap!$AL$201:'hesap'!$BH$204,10,FALSE)))","v":{"$error":"#VALUE!"}},{"$f":"IF($AD$71=0,0,IF(O$55=0,\"\",VLOOKUP($B190,hesap!$AL$201:'hesap'!$BH$204,12,FALSE)))","v":{"$error":"#VALUE!"}},{"$f":"IF($AD$71=0,0,IF(P$55=0,\"\",VLOOKUP($B190,hesap!$AL$201:'hesap'!$BH$204,14,FALSE)))","v":{"$error":"#VALUE!"}},{"$f":"IF($AD$71=0,0,IF(Q$55=0,\"\",VLOOKUP($B190,hesap!$AL$201:'hesap'!$BH$204,18,FALSE)))","v":{"$error":"#VALUE!"}},{"$f":"IF($AD$71=0,0,IF(R$55=0,\"\",VLOOKUP($B190,hesap!$AL$201:'hesap'!$BH$204,22,FALSE)))","v":{"$error":"#VALUE!"}},{"$f":"IF($AH$71=0,0,IF(U$55=0,\"\",VLOOKUP($B190,hesap!$G$256:'hesap'!$AC$259,6,FALSE)))","v":{"$error":"#VALUE!"}},{"$f":"IF($AH$71=0,0,IF(V$55=0,\"\",VLOOKUP($B190,hesap!$G$256:'hesap'!$AC$259,8,FALSE)))","v":{"$error":"#VALUE!"}},{"$f":"IF($AH$71=0,0,IF(W$55=0,\"\",VLOOKUP($B190,hesap!$G$256:'hesap'!$AC$259,10,FALSE)))","v":{"$error":"#VALUE!"}},{"$f":"IF($AH$71=0,0,IF(X$55=0,\"\",VLOOKUP($B190,hesap!$G$256:'hesap'!$AC$259,12,FALSE)))","v":{"$error":"#VALUE!"}},{"$f":"IF($AH$71=0,0,IF(Y$55=0,\"\",VLOOKUP($B190,hesap!$G$256:'hesap'!$AC$259,14,FALSE)))","v":{"$error":"#VALUE!"}},{"$f":"IF($AH$71=0,0,IF(Z$55=0,\"\",VLOOKUP($B190,hesap!$G$256:'hesap'!$AC$259,18,FALSE)))","v":{"$error":"#VALUE!"}},{"$f":"IF($AH$71=0,0,IF(AA$55=0,\"\",VLOOKUP($B190,hesap!$G$256:'hesap'!$AC$259,22,FALSE)))","v":{"$error":"#VALUE!"}},{"$f":"IF($AM$71=0,0,IF(AD$55=0,\"\",VLOOKUP($B190,hesap!$AL$256:'hesap'!$BH$259,6,FALSE)))","v":{"$error":"#VALUE!"}},{"$f":"IF($AM$71=0,0,IF(AE$55=0,\"\",VLOOKUP($B190,hesap!$AL$256:'hesap'!$BH$259,8,FALSE)))","v":{"$error":"#VALUE!"}},{"$f":"IF($AM$71=0,0,IF(AF$55=0,\"\",VLOOKUP($B190,hesap!$AL$256:'hesap'!$BH$259,10,FALSE)))","v":{"$error":"#VALUE!"}},{"$f":"IF($AM$71=0,0,IF(AG$55=0,\"\",VLOOKUP($B190,hesap!$AL$256:'hesap'!$BH$259,12,FALSE)))","v":{"$error":"#VALUE!"}},{"$f":"IF($AM$71=0,0,IF(AH$55=0,\"\",VLOOKUP($B190,hesap!$AL$256:'hesap'!$BH$259,14,FALSE)))","v":{"$error":"#VALUE!"}},{"$f":"IF($AM$71=0,0,IF(AI$55=0,\"\",VLOOKUP($B190,hesap!$AL$256:'hesap'!$BH$259,18,FALSE)))","v":{"$error":"#VALUE!"}},{"$f":"IF($AM$71=0,0,IF(AJ$55=0,\"\",VLOOKUP($B190,hesap!$AL$256:'hesap'!$BH$259,22,FALSE)))","v":{"$error":"#VALUE!"}},{"$f":"IF($AQ$71=0,0,IF(AM$55=0,\"\",VLOOKUP($B190,hesap!$G$311:'hesap'!$AC$314,6,FALSE)))","v":{"$error":"#VALUE!"}},{"$f":"IF($AQ$71=0,0,IF(AN$55=0,\"\",VLOOKUP($B190,hesap!$G$311:'hesap'!$AC$314,8,FALSE)))","v":{"$error":"#VALUE!"}},{"$f":"IF($AQ$71=0,0,IF(AO$55=0,\"\",VLOOKUP($B190,hesap!$G$311:'hesap'!$AC$314,10,FALSE)))","v":{"$error":"#VALUE!"}},{"$f":"IF($AQ$71=0,0,IF(AP$55=0,\"\",VLOOKUP($B190,hesap!$G$311:'hesap'!$AC$314,12,FALSE)))","v":{"$error":"#VALUE!"}},{"$f":"IF($AQ$71=0,0,IF(AQ$55=0,\"\",VLOOKUP($B190,hesap!$G$311:'hesap'!$AC$314,14,FALSE)))","v":{"$error":"#VALUE!"}},{"$f":"IF($AQ$71=0,0,IF(AR$55=0,\"\",VLOOKUP($B190,hesap!$G$311:'hesap'!$AC$314,18,FALSE)))","v":{"$error":"#VALUE!"}},{"$f":"IF($AQ$71=0,0,IF(AS$55=0,\"\",VLOOKUP($B190,hesap!$G$311:'hesap'!$AC$314,22,FALSE)))","v":{"$error":"#VALUE!"}},{"$f":"SUM(M190:AU190)","v":{"$error":"#VALUE!"}}]
[null,null,null,null,null,null,null,null,null,null,null,null,{"$f":"IF($Y$71=0,0,IF(C$56=0,\"\",VLOOKUP($B190,hesap!$G$201:'hesap'!$AC$204,7,FALSE)))","v":0},{"$f":"IF($Y$71=0,0,IF(D$56=0,\"\",VLOOKUP($B190,hesap!$G$201:'hesap'!$AC$204,9,FALSE)))","v":0},{"$f":"IF($Y$71=0,0,IF(E$56=0,\"\",VLOOKUP($B190,hesap!$G$201:'hesap'!$AC$204,11,FALSE)))","v":0},{"$f":"IF($Y$71=0,0,IF(F$56=0,\"\",VLOOKUP($B190,hesap!$G$201:'hesap'!$AC$204,13,FALSE)))","v":0},{"$f":"IF($Y$71=0,0,IF(G$56=0,\"\",VLOOKUP($B190,hesap!$G$201:'hesap'!$AC$204,15,FALSE)))","v":0},{"$f":"IF($Y$71=0,0,IF(H$56=0,\"\",VLOOKUP($B190,hesap!$G$201:'hesap'!$AC$204,19,FALSE)))","v":0},{"$f":"IF($Y$71=0,0,IF(I$56=0,\"\",VLOOKUP($B190,hesap!$G$201:'hesap'!$AC$204,23,FALSE)))","v":0},{"$f":"IF($AD$71=0,0,IF(L$56=0,\"\",VLOOKUP($B190,hesap!$AL$201:'hesap'!$BH$204,7,FALSE)))","v":{"$error":"#VALUE!"}},{"$f":"IF($AD$71=0,0,IF(M$56=0,\"\",VLOOKUP($B190,hesap!$AL$201:'hesap'!$BH$204,9,FALSE)))","v":{"$error":"#VALUE!"}},{"$f":"IF($AD$71=0,0,IF(N$56=0,\"\",VLOOKUP($B190,hesap!$AL$201:'hesap'!$BH$204,11,FALSE)))","v":{"$error":"#VALUE!"}},{"$f":"IF($AD$71=0,0,IF(O$56=0,\"\",VLOOKUP($B190,hesap!$AL$201:'hesap'!$BH$204,13,FALSE)))","v":{"$error":"#VALUE!"}},{"$f":"IF($AD$71=0,0,IF(P$56=0,\"\",VLOOKUP($B190,hesap!$AL$201:'hesap'!$BH$204,15,FALSE)))","v":{"$error":"#VALUE!"}},{"$f":"IF($AD$71=0,0,IF(Q$56=0,\"\",VLOOKUP($B190,hesap!$AL$201:'hesap'!$BH$204,19,FALSE)))","v":{"$error":"#VALUE!"}},{"$f":"IF($AD$71=0,0,IF(R$56=0,\"\",VLOOKUP($B190,hesap!$AL$201:'hesap'!$BH$204,23,FALSE)))","v":{"$error":"#VALUE!"}},{"$f":"IF($AH$71=0,0,IF(U$56=0,\"\",VLOOKUP($B190,hesap!$G$256:'hesap'!$AC$259,7,FALSE)))","v":{"$error":"#VALUE!"}},{"$f":"IF($AH$71=0,0,IF(V$56=0,\"\",VLOOKUP($B190,hesap!$G$256:'hesap'!$AC$259,9,FALSE)))","v":{"$error":"#VALUE!"}},{"$f":"IF($AH$71=0,0,IF(W$56=0,\"\",VLOOKUP($B190,hesap!$G$256:'hesap'!$AC$259,11,FALSE)))","v":{"$error":"#VALUE!"}},{"$f":"IF($AH$71=0,0,IF(X$56=0,\"\",VLOOKUP($B190,hesap!$G$256:'hesap'!$AC$259,13,FALSE)))","v":{"$error":"#VALUE!"}},{"$f":"IF($AH$71=0,0,IF(Y$56=0,\"\",VLOOKUP($B190,hesap!$G$256:'hesap'!$AC$259,15,FALSE)))","v":{"$error":"#VALUE!"}},{"$f":"IF($AH$71=0,0,IF(Z$56=0,\"\",VLOOKUP($B190,hesap!$G$256:'hesap'!$AC$259,19,FALSE)))","v":{"$error":"#VALUE!"}},{"$f":"IF($AH$71=0,0,IF(AA$56=0,\"\",VLOOKUP($B190,hesap!$G$256:'hesap'!$AC$259,23,FALSE)))","v":{"$error":"#VALUE!"}},{"$f":"IF($AM$71=0,0,IF(AD$56=0,\"\",VLOOKUP($B190,hesap!$AL$256:'hesap'!$BH$259,7,FALSE)))","v":{"$error":"#VALUE!"}},{"$f":"IF($AM$71=0,0,IF(AE$56=0,\"\",VLOOKUP($B190,hesap!$AL$256:'hesap'!$BH$259,9,FALSE)))","v":{"$error":"#VALUE!"}},{"$f":"IF($AM$71=0,0,IF(AF$56=0,\"\",VLOOKUP($B190,hesap!$AL$256:'hesap'!$BH$259,11,FALSE)))","v":{"$error":"#VALUE!"}},{"$f":"IF($AM$71=0,0,IF(AG$56=0,\"\",VLOOKUP($B190,hesap!$AL$256:'hesap'!$BH$259,13,FALSE)))","v":{"$error":"#VALUE!"}},{"$f":"IF($AM$71=0,0,IF(AH$56=0,\"\",VLOOKUP($B190,hesap!$AL$256:'hesap'!$BH$259,15,FALSE)))","v":{"$error":"#VALUE!"}},{"$f":"IF($AM$71=0,0,IF(AI$56=0,\"\",VLOOKUP($B190,hesap!$AL$256:'hesap'!$BH$259,19,FALSE)))","v":{"$error":"#VALUE!"}},{"$f":"IF($AM$71=0,0,IF(AJ$56=0,\"\",VLOOKUP($B190,hesap!$AL$256:'hesap'!$BH$259,23,FALSE)))","v":{"$error":"#VALUE!"}},{"$f":"IF($AQ$71=0,0,IF(AM$56=0,\"\",VLOOKUP($B190,hesap!$G$311:'hesap'!$AC$314,7,FALSE)))","v":{"$error":"#VALUE!"}},{"$f":"IF($AQ$71=0,0,IF(AN$56=0,\"\",VLOOKUP($B190,hesap!$G$311:'hesap'!$AC$314,9,FALSE)))","v":{"$error":"#VALUE!"}},{"$f":"IF($AQ$71=0,0,IF(AO$56=0,\"\",VLOOKUP($B190,hesap!$G$311:'hesap'!$AC$314,11,FALSE)))","v":{"$error":"#VALUE!"}},{"$f":"IF($AQ$71=0,0,IF(AP$56=0,\"\",VLOOKUP($B190,hesap!$G$311:'hesap'!$AC$314,13,FALSE)))","v":{"$error":"#VALUE!"}},{"$f":"IF($AQ$71=0,0,IF(AQ$56=0,\"\",VLOOKUP($B190,hesap!$G$311:'hesap'!$AC$314,15,FALSE)))","v":{"$error":"#VALUE!"}},{"$f":"IF($AQ$71=0,0,IF(AR$56=0,\"\",VLOOKUP($B190,hesap!$G$311:'hesap'!$AC$314,19,FALSE)))","v":{"$error":"#VALUE!"}},{"$f":"IF($AQ$71=0,0,IF(AS$56=0,\"\",VLOOKUP($B190,hesap!$G$311:'hesap'!$AC$314,23,FALSE)))","v":{"$error":"#VALUE!"}},{"$error":"#VALUE!"}]
[null,{"$f":"B143","v":""},null,null,null,null,null,null,null,null,null,null,{"$f":"IF($Y$72=0,0,IF(C$55=0,\"\",VLOOKUP($B192,hesap!$G$201:'hesap'!$AC$204,6,FALSE)))","v":0},{"$f":"IF($Y$72=0,0,IF(D$55=0,\"\",VLOOKUP($B192,hesap!$G$201:'hesap'!$AC$204,8,FALSE)))","v":0},{"$f":"IF($Y$72=0,0,IF(E$55=0,\"\",VLOOKUP($B192,hesap!$G$201:'hesap'!$AC$204,10,FALSE)))","v":0},{"$f":"IF($Y$72=0,0,IF(F$55=0,\"\",VLOOKUP($B192,hesap!$G$201:'hesap'!$AC$204,12,FALSE)))","v":0},{"$f":"IF($Y$72=0,0,IF(G$55=0,\"\",VLOOKUP($B192,hesap!$G$201:'hesap'!$AC$204,14,FALSE)))","v":0},{"$f":"IF($Y$72=0,0,IF(H$55=0,\"\",VLOOKUP($B192,hesap!$G$201:'hesap'!$AC$204,18,FALSE)))","v":0},{"$f":"IF($Y$72=0,0,IF(I$55=0,\"\",VLOOKUP($B192,hesap!$G$201:'hesap'!$AC$204,22,FALSE)))","v":0},{"$f":"IF($AD$72=0,0,IF(L$55=0,\"\",VLOOKUP($B192,hesap!$AL$201:'hesap'!$BH$204,6,FALSE)))","v":{"$error":"#VALUE!"}},{"$f":"IF($AD$72=0,0,IF(M$55=0,\"\",VLOOKUP($B192,hesap!$AL$201:'hesap'!$BH$204,8,FALSE)))","v":{"$error":"#VALUE!"}},{"$f":"IF($AD$72=0,0,IF(N$55=0,\"\",VLOOKUP($B192,hesap!$AL$201:'hesap'!$BH$204,10,FALSE)))","v":{"$error":"#VALUE!"}},{"$f":"IF($AD$72=0,0,IF(O$55=0,\"\",VLOOKUP($B192,hesap!$AL$201:'hesap'!$BH$204,12,FALSE)))","v":{"$error":"#VALUE!"}},{"$f":"IF($AD$72=0,0,IF(P$55=0,\"\",VLOOKUP($B192,hesap!$AL$201:'hesap'!$BH$204,14,FALSE)))","v":{"$error":"#VALUE!"}},{"$f":"IF($AD$72=0,0,IF(Q$55=0,\"\",VLOOKUP($B192,hesap!$AL$201:'hesap'!$BH$204,18,FALSE)))","v":{"$error":"#VALUE!"}},{"$f":"IF($AD$72=0,0,IF(R$55=0,\"\",VLOOKUP($B192,hesap!$AL$201:'hesap'!$BH$204,22,FALSE)))","v":{"$error":"#VALUE!"}},{"$f":"IF($AH$72=0,0,IF(U$55=0,\"\",VLOOKUP($B192,hesap!$G$256:'hesap'!$AC$259,6,FALSE)))","v":{"$error":"#VALUE!"}},{"$f":"IF($AH$72=0,0,IF(V$55=0,\"\",VLOOKUP($B192,hesap!$G$256:'hesap'!$AC$259,8,FALSE)))","v":{"$error":"#VALUE!"}},{"$f":"IF($AH$72=0,0,IF(W$55=0,\"\",VLOOKUP($B192,hesap!$G$256:'hesap'!$AC$259,10,FALSE)))","v":{"$error":"#VALUE!"}},{"$f":"IF($AH$72=0,0,IF(X$55=0,\"\",VLOOKUP($B192,hesap!$G$256:'hesap'!$AC$259,12,FALSE)))","v":{"$error":"#VALUE!"}},{"$f":"IF($AH$72=0,0,IF(Y$55=0,\"\",VLOOKUP($B192,hesap!$G$256:'hesap'!$AC$259,14,FALSE)))","v":{"$error":"#VALUE!"}},{"$f":"IF($AH$72=0,0,IF(Z$55=0,\"\",VLOOKUP($B192,hesap!$G$256:'hesap'!$AC$259,18,FALSE)))","v":{"$error":"#VALUE!"}},{"$f":"IF($AH$72=0,0,IF(AA$55=0,\"\",VLOOKUP($B192,hesap!$G$256:'hesap'!$AC$259,22,FALSE)))","v":{"$error":"#VALUE!"}},{"$f":"IF($AM$72=0,0,IF(AD$55=0,\"\",VLOOKUP($B192,hesap!$AL$256:'hesap'!$BH$259,6,FALSE)))","v":{"$error":"#VALUE!"}},{"$f":"IF($AM$72=0,0,IF(AE$55=0,\"\",VLOOKUP($B192,hesap!$AL$256:'hesap'!$BH$259,8,FALSE)))","v":{"$error":"#VALUE!"}},{"$f":"IF($AM$72=0,0,IF(AF$55=0,\"\",VLOOKUP($B192,hesap!$AL$256:'hesap'!$BH$259,10,FALSE)))","v":{"$error":"#VALUE!"}},{"$f":"IF($AM$72=0,0,IF(AG$55=0,\"\",VLOOKUP($B192,hesap!$AL$256:'hesap'!$BH$259,12,FALSE)))","v":{"$error":"#VALUE!"}},{"$f":"IF($AM$72=0,0,IF(AH$55=0,\"\",VLOOKUP($B192,hesap!$AL$256:'hesap'!$BH$259,14,FALSE)))","v":{"$error":"#VALUE!"}},{"$f":"IF($AM$72=0,0,IF(AI$55=0,\"\",VLOOKUP($B192,hesap!$AL$256:'hesap'!$BH$259,18,FALSE)))","v":{"$error":"#VALUE!"}},{"$f":"IF($AM$72=0,0,IF(AJ$55=0,\"\",VLOOKUP($B192,hesap!$AL$256:'hesap'!$BH$259,22,FALSE)))","v":{"$error":"#VALUE!"}},{"$f":"IF($AQ$72=0,0,IF(AM$55=0,\"\",VLOOKUP($B192,hesap!$G$311:'hesap'!$AC$314,6,FALSE)))","v":{"$error":"#VALUE!"}},{"$f":"IF($AQ$72=0,0,IF(AN$55=0,\"\",VLOOKUP($B192,hesap!$G$311:'hesap'!$AC$314,8,FALSE)))","v":{"$error":"#VALUE!"}},{"$f":"IF($AQ$72=0,0,IF(AO$55=0,\"\",VLOOKUP($B192,hesap!$G$311:'hesap'!$AC$314,10,FALSE)))","v":{"$error":"#VALUE!"}},{"$f":"IF($AQ$72=0,0,IF(AP$55=0,\"\",VLOOKUP($B192,hesap!$G$311:'hesap'!$AC$314,12,FALSE)))","v":{"$error":"#VALUE!"}},{"$f":"IF($AQ$72=0,0,IF(AQ$55=0,\"\",VLOOKUP($B192,hesap!$G$311:'hesap'!$AC$314,14,FALSE)))","v":{"$error":"#VALUE!"}},{"$f":"IF($AQ$72=0,0,IF(AR$55=0,\"\",VLOOKUP($B192,hesap!$G$311:'hesap'!$AC$314,18,FALSE)))","v":{"$error":"#VALUE!"}},{"$f":"IF($AQ$72=0,0,IF(AS$55=0,\"\",VLOOKUP($B192,hesap!$G$311:'hesap'!$AC$314,22,FALSE)))","v":{"$error":"#VALUE!"}},{"$error":"#VALUE!"}]
[null,null,null,null,null,null,null,null,null,null,null,null,{"$f":"IF($Y$72=0,0,IF(C$56=0,\"\",VLOOKUP($B192,hesap!$G$201:'hesap'!$AC$204,7,FALSE)))","v":0},{"$f":"IF($Y$72=0,0,IF(D$56=0,\"\",VLOOKUP($B192,hesap!$G$201:'hesap'!$AC$204,9,FALSE)))","v":0},{"$f":"IF($Y$72=0,0,IF(E$56=0,\"\",VLOOKUP($B192,hesap!$G$201:'hesap'!$AC$204,11,FALSE)))","v":0},{"$f":"IF($Y$72=0,0,IF(F$56=0,\"\",VLOOKUP($B192,hesap!$G$201:'hesap'!$AC$204,13,FALSE)))","v":0},{"$f":"IF($Y$72=0,0,IF(G$56=0,\"\",VLOOKUP($B192,hesap!$G$201:'hesap'!$AC$204,15,FALSE)))","v":0},{"$f":"IF($Y$72=0,0,IF(H$56=0,\"\",VLOOKUP($B192,hesap!$G$201:'hesap'!$AC$204,19,FALSE)))","v":0},{"$f":"IF($Y$72=0,0,IF(I$56=0,\"\",VLOOKUP($B192,hesap!$G$201:'hesap'!$AC$204,23,FALSE)))","v":0},{"$f":"IF($AD$72=0,0,IF(L$56=0,\"\",VLOOKUP($B192,hesap!$AL$201:'hesap'!$BH$204,7,FALSE)))","v":{"$error":"#VALUE!"}},{"$f":"IF($AD$72=0,0,IF(M$56=0,\"\",VLOOKUP($B192,hesap!$AL$201:'hesap'!$BH$204,9,FALSE)))","v":{"$error":"#VALUE!"}},{"$f":"IF($AD$72=0,0,IF(N$56=0,\"\",VLOOKUP($B192,hesap!$AL$201:'hesap'!$BH$204,11,FALSE)))","v":{"$error":"#VALUE!"}},{"$f":"IF($AD$72=0,0,IF(O$56=0,\"\",VLOOKUP($B192,hesap!$AL$201:'hesap'!$BH$204,13,FALSE)))","v":{"$error":"#VALUE!"}},{"$f":"IF($AD$72=0,0,IF(P$56=0,\"\",VLOOKUP($B192,hesap!$AL$201:'hesap'!$BH$204,15,FALSE)))","v":{"$error":"#VALUE!"}},{"$f":"IF($AD$72=0,0,IF(Q$56=0,\"\",VLOOKUP($B192,hesap!$AL$201:'hesap'!$BH$204,19,FALSE)))","v":{"$error":"#VALUE!"}},{"$f":"IF($AD$72=0,0,IF(R$56=0,\"\",VLOOKUP($B192,hesap!$AL$201:'hesap'!$BH$204,23,FALSE)))","v":{"$error":"#VALUE!"}},{"$f":"IF($AH$72=0,0,IF(U$56=0,\"\",VLOOKUP($B192,hesap!$G$256:'hesap'!$AC$259,7,FALSE)))","v":{"$error":"#VALUE!"}},{"$f":"IF($AH$72=0,0,IF(V$56=0,\"\",VLOOKUP($B192,hesap!$G$256:'hesap'!$AC$259,9,FALSE)))","v":{"$error":"#VALUE!"}},{"$f":"IF($AH$72=0,0,IF(W$56=0,\"\",VLOOKUP($B192,hesap!$G$256:'hesap'!$AC$259,11,FALSE)))","v":{"$error":"#VALUE!"}},{"$f":"IF($AH$72=0,0,IF(X$56=0,\"\",VLOOKUP($B192,hesap!$G$256:'hesap'!$AC$259,13,FALSE)))","v":{"$error":"#VALUE!"}},{"$f":"IF($AH$72=0,0,IF(Y$56=0,\"\",VLOOKUP($B192,hesap!$G$256:'hesap'!$AC$259,15,FALSE)))","v":{"$error":"#VALUE!"}},{"$f":"IF($AH$72=0,0,IF(Z$56=0,\"\",VLOOKUP($B192,hesap!$G$256:'hesap'!$AC$259,19,FALSE)))","v":{"$error":"#VALUE!"}},{"$f":"IF($AH$72=0,0,IF(AA$56=0,\"\",VLOOKUP($B192,hesap!$G$256:'hesap'!$AC$259,23,FALSE)))","v":{"$error":"#VALUE!"}},{"$f":"IF($AM$72=0,0,IF(AD$56=0,\"\",VLOOKUP($B192,hesap!$AL$256:'hesap'!$BH$259,7,FALSE)))","v":{"$error":"#VALUE!"}},{"$f":"IF($AM$72=0,0,IF(AE$56=0,\"\",VLOOKUP($B192,hesap!$AL$256:'hesap'!$BH$259,9,FALSE)))","v":{"$error":"#VALUE!"}},{"$f":"IF($AM$72=0,0,IF(AF$56=0,\"\",VLOOKUP($B192,hesap!$AL$256:'hesap'!$BH$259,11,FALSE)))","v":{"$error":"#VALUE!"}},{"$f":"IF($AM$72=0,0,IF(AG$56=0,\"\",VLOOKUP($B192,hesap!$AL$256:'hesap'!$BH$259,13,FALSE)))","v":{"$error":"#VALUE!"}},{"$f":"IF($AM$72=0,0,IF(AH$56=0,\"\",VLOOKUP($B192,hesap!$AL$256:'hesap'!$BH$259,15,FALSE)))","v":{"$error":"#VALUE!"}},{"$f":"IF($AM$72=0,0,IF(AI$56=0,\"\",VLOOKUP($B192,hesap!$AL$256:'hesap'!$BH$259,19,FALSE)))","v":{"$error":"#VALUE!"}},{"$f":"IF($AM$72=0,0,IF(AJ$56=0,\"\",VLOOKUP($B192,hesap!$AL$256:'hesap'!$BH$259,23,FALSE)))","v":{"$error":"#VALUE!"}},{"$f":"IF($AQ$72=0,0,IF(AM$56=0,\"\",VLOOKUP($B192,hesap!$G$311:'hesap'!$AC$314,7,FALSE)))","v":{"$error":"#VALUE!"}},{"$f":"IF($AQ$72=0,0,IF(AN$56=0,\"\",VLOOKUP($B192,hesap!$G$311:'hesap'!$AC$314,9,FALSE)))","v":{"$error":"#VALUE!"}},{"$f":"IF($AQ$72=0,0,IF(AO$56=0,\"\",VLOOKUP($B192,hesap!$G$311:'hesap'!$AC$314,11,FALSE)))","v":{"$error":"#VALUE!"}},{"$f":"IF($AQ$72=0,0,IF(AP$56=0,\"\",VLOOKUP($B192,hesap!$G$311:'hesap'!$AC$314,13,FALSE)))","v":{"$error":"#VALUE!"}},{"$f":"IF($AQ$72=0,0,IF(AQ$56=0,\"\",VLOOKUP($B192,hesap!$G$311:'hesap'!$AC$314,15,FALSE)))","v":{"$error":"#VALUE!"}},{"$f":"IF($AQ$72=0,0,IF(AR$56=0,\"\",VLOOKUP($B192,hesap!$G$311:'hesap'!$AC$314,19,FALSE)))","v":{"$error":"#VALUE!"}},{"$f":"IF($AQ$72=0,0,IF(AS$56=0,\"\",VLOOKUP($B192,hesap!$G$311:'hesap'!$AC$314,23,FALSE)))","v":{"$error":"#VALUE!"}},{"$error":"#VALUE!"}]
[null,{"$f":"B145","v":""},null,null,null,null,null,null,null,null,null,null,{"$f":"IF($Y$73=0,0,IF(C$55=0,\"\",VLOOKUP($B194,hesap!$G$201:'hesap'!$AC$204,6,FALSE)))","v":0},{"$f":"IF($Y$73=0,0,IF(D$55=0,\"\",VLOOKUP($B194,hesap!$G$201:'hesap'!$AC$204,8,FALSE)))","v":0},{"$f":"IF($Y$73=0,0,IF(E$55=0,\"\",VLOOKUP($B194,hesap!$G$201:'hesap'!$AC$204,10,FALSE)))","v":0},{"$f":"IF($Y$73=0,0,IF(F$55=0,\"\",VLOOKUP($B194,hesap!$G$201:'hesap'!$AC$204,12,FALSE)))","v":0},{"$f":"IF($Y$73=0,0,IF(G$55=0,\"\",VLOOKUP($B194,hesap!$G$201:'hesap'!$AC$204,14,FALSE)))","v":0},{"$f":"IF($Y$73=0,0,IF(H$55=0,\"\",VLOOKUP($B194,hesap!$G$201:'hesap'!$AC$204,18,FALSE)))","v":0},{"$f":"IF($Y$73=0,0,IF(I$55=0,\"\",VLOOKUP($B194,hesap!$G$201:'hesap'!$AC$204,22,FALSE)))","v":0},{"$f":"IF($AD$73=0,0,IF(L$55=0,\"\",VLOOKUP($B194,hesap!$AL$201:'hesap'!$BH$204,6,FALSE)))","v":{"$error":"#VALUE!"}},{"$f":"IF($AD$73=0,0,IF(M$55=0,\"\",VLOOKUP($B194,hesap!$AL$201:'hesap'!$BH$204,8,FALSE)))","v":{"$error":"#VALUE!"}},{"$f":"IF($AD$73=0,0,IF(N$55=0,\"\",VLOOKUP($B194,hesap!$AL$201:'hesap'!$BH$204,10,FALSE)))","v":{"$error":"#VALUE!"}},{"$f":"IF($AD$73=0,0,IF(O$55=0,\"\",VLOOKUP($B194,hesap!$AL$201:'hesap'!$BH$204,12,FALSE)))","v":{"$error":"#VALUE!"}},{"$f":"IF($AD$73=0,0,IF(P$55=0,\"\",VLOOKUP($B194,hesap!$AL$201:'hesap'!$BH$204,14,FALSE)))","v":{"$error":"#VALUE!"}},{"$f":"IF($AD$73=0,0,IF(Q$55=0,\"\",VLOOKUP($B194,hesap!$AL$201:'hesap'!$BH$204,18,FALSE)))","v":{"$error":"#VALUE!"}},{"$f":"IF($AD$73=0,0,IF(R$55=0,\"\",VLOOKUP($B194,hesap!$AL$201:'hesap'!$BH$204,22,FALSE)))","v":{"$error":"#VALUE!"}},{"$f":"IF($AH$73=0,0,IF(U$55=0,\"\",VLOOKUP($B194,hesap!$G$256:'hesap'!$AC$259,6,FALSE)))","v":{"$error":"#VALUE!"}},{"$f":"IF($AH$73=0,0,IF(V$55=0,\"\",VLOOKUP($B194,hesap!$G$256:'hesap'!$AC$259,8,FALSE)))","v":{"$error":"#VALUE!"}},{"$f":"IF($AH$73=0,0,IF(W$55=0,\"\",VLOOKUP($B194,hesap!$G$256:'hesap'!$AC$259,10,FALSE)))","v":{"$error":"#VALUE!"}},{"$f":"IF($AH$73=0,0,IF(X$55=0,\"\",VLOOKUP($B194,hesap!$G$256:'hesap'!$AC$259,12,FALSE)))","v":{"$error":"#VALUE!"}},{"$f":"IF($AH$73=0,0,IF(Y$55=0,\"\",VLOOKUP($B194,hesap!$G$256:'hesap'!$AC$259,14,FALSE)))","v":{"$error":"#VALUE!"}},{"$f":"IF($AH$73=0,0,IF(Z$55=0,\"\",VLOOKUP($B194,hesap!$G$256:'hesap'!$AC$259,18,FALSE)))","v":{"$error":"#VALUE!"}},{"$f":"IF($AH$73=0,0,IF(AA$55=0,\"\",VLOOKUP($B194,hesap!$G$256:'hesap'!$AC$259,22,FALSE)))","v":{"$error":"#VALUE!"}},{"$f":"IF($AM$73=0,0,IF(AD$55=0,\"\",VLOOKUP($B194,hesap!$AL$256:'hesap'!$BH$259,6,FALSE)))","v":{"$error":"#VALUE!"}},{"$f":"IF($AM$73=0,0,IF(AE$55=0,\"\",VLOOKUP($B194,hesap!$AL$256:'hesap'!$BH$259,8,FALSE)))","v":{"$error":"#VALUE!"}},{"$f":"IF($AM$73=0,0,IF(AF$55=0,\"\",VLOOKUP($B194,hesap!$AL$256:'hesap'!$BH$259,10,FALSE)))","v":{"$error":"#VALUE!"}},{"$f":"IF($AM$73=0,0,IF(AG$55=0,\"\",VLOOKUP($B194,hesap!$AL$256:'hesap'!$BH$259,12,FALSE)))","v":{"$error":"#VALUE!"}},{"$f":"IF($AM$73=0,0,IF(AH$55=0,\"\",VLOOKUP($B194,hesap!$AL$256:'hesap'!$BH$259,14,FALSE)))","v":{"$error":"#VALUE!"}},{"$f":"IF($AM$73=0,0,IF(AI$55=0,\"\",VLOOKUP($B194,hesap!$AL$256:'hesap'!$BH$259,18,FALSE)))","v":{"$error":"#VALUE!"}},{"$f":"IF($AM$73=0,0,IF(AJ$55=0,\"\",VLOOKUP($B194,hesap!$AL$256:'hesap'!$BH$259,22,FALSE)))","v":{"$error":"#VALUE!"}},{"$f":"IF($AQ$73=0,0,IF(AM$55=0,\"\",VLOOKUP($B194,hesap!$G$311:'hesap'!$AC$314,6,FALSE)))","v":{"$error":"#VALUE!"}},{"$f":"IF($AQ$73=0,0,IF(AN$55=0,\"\",VLOOKUP($B194,hesap!$G$311:'hesap'!$AC$314,8,FALSE)))","v":{"$error":"#VALUE!"}},{"$f":"IF($AQ$73=0,0,IF(AO$55=0,\"\",VLOOKUP($B194,hesap!$G$311:'hesap'!$AC$314,10,FALSE)))","v":{"$error":"#VALUE!"}},{"$f":"IF($AQ$73=0,0,IF(AP$55=0,\"\",VLOOKUP($B194,hesap!$G$311:'hesap'!$AC$314,12,FALSE)))","v":{"$error":"#VALUE!"}},{"$f":"IF($AQ$73=0,0,IF(AQ$55=0,\"\",VLOOKUP($B194,hesap!$G$311:'hesap'!$AC$314,14,FALSE)))","v":{"$error":"#VALUE!"}},{"$f":"IF($AQ$73=0,0,IF(AR$55=0,\"\",VLOOKUP($B194,hesap!$G$311:'hesap'!$AC$314,18,FALSE)))","v":{"$error":"#VALUE!"}},{"$f":"IF($AQ$73=0,0,IF(AS$55=0,\"\",VLOOKUP($B194,hesap!$G$311:'hesap'!$AC$314,22,FALSE)))","v":{"$error":"#VALUE!"}},{"$error":"#VALUE!"}]
[null,null,null,null,null,null,null,null,null,null,null,null,{"$f":"IF($Y$73=0,0,IF(C$56=0,\"\",VLOOKUP($B194,hesap!$G$201:'hesap'!$AC$204,7,FALSE)))","v":0},{"$f":"IF($Y$73=0,0,IF(D$56=0,\"\",VLOOKUP($B194,hesap!$G$201:'hesap'!$AC$204,9,FALSE)))","v":0},{"$f":"IF($Y$73=0,0,IF(E$56=0,\"\",VLOOKUP($B194,hesap!$G$201:'hesap'!$AC$204,11,FALSE)))","v":0},{"$f":"IF($Y$73=0,0,IF(F$56=0,\"\",VLOOKUP($B194,hesap!$G$201:'hesap'!$AC$204,13,FALSE)))","v":0},{"$f":"IF($Y$73=0,0,IF(G$56=0,\"\",VLOOKUP($B194,hesap!$G$201:'hesap'!$AC$204,15,FALSE)))","v":0},{"$f":"IF($Y$73=0,0,IF(H$56=0,\"\",VLOOKUP($B194,hesap!$G$201:'hesap'!$AC$204,19,FALSE)))","v":0},{"$f":"IF($Y$73=0,0,IF(I$56=0,\"\",VLOOKUP($B194,hesap!$G$201:'hesap'!$AC$204,23,FALSE)))","v":0},{"$f":"IF($AD$73=0,0,IF(L$56=0,\"\",VLOOKUP($B194,hesap!$AL$201:'hesap'!$BH$204,7,FALSE)))","v":{"$error":"#VALUE!"}},{"$f":"IF($AD$73=0,0,IF(M$56=0,\"\",VLOOKUP($B194,hesap!$AL$201:'hesap'!$BH$204,9,FALSE)))","v":{"$error":"#VALUE!"}},{"$f":"IF($AD$73=0,0,IF(N$56=0,\"\",VLOOKUP($B194,hesap!$AL$201:'hesap'!$BH$204,11,FALSE)))","v":{"$error":"#VALUE!"}},{"$f":"IF($AD$73=0,0,IF(O$56=0,\"\",VLOOKUP($B194,hesap!$AL$201:'hesap'!$BH$204,13,FALSE)))","v":{"$error":"#VALUE!"}},{"$f":"IF($AD$73=0,0,IF(P$56=0,\"\",VLOOKUP($B194,hesap!$AL$201:'hesap'!$BH$204,15,FALSE)))","v":{"$error":"#VALUE!"}},{"$f":"IF($AD$73=0,0,IF(Q$56=0,\"\",VLOOKUP($B194,hesap!$AL$201:'hesap'!$BH$204,19,FALSE)))","v":{"$error":"#VALUE!"}},{"$f":"IF($AD$73=0,0,IF(R$56=0,\"\",VLOOKUP($B194,hesap!$AL$201:'hesap'!$BH$204,23,FALSE)))","v":{"$error":"#VALUE!"}},{"$f":"IF($AH$73=0,0,IF(U$56=0,\"\",VLOOKUP($B194,hesap!$G$256:'hesap'!$AC$259,7,FALSE)))","v":{"$error":"#VALUE!"}},{"$f":"IF($AH$73=0,0,IF(V$56=0,\"\",VLOOKUP($B194,hesap!$G$256:'hesap'!$AC$259,9,FALSE)))","v":{"$error":"#VALUE!"}},{"$f":"IF($AH$73=0,0,IF(W$56=0,\"\",VLOOKUP($B194,hesap!$G$256:'hesap'!$AC$259,11,FALSE)))","v":{"$error":"#VALUE!"}},{"$f":"IF($AH$73=0,0,IF(X$56=0,\"\",VLOOKUP($B194,hesap!$G$256:'hesap'!$AC$259,13,FALSE)))","v":{"$error":"#VALUE!"}},{"$f":"IF($AH$73=0,0,IF(Y$56=0,\"\",VLOOKUP($B194,hesap!$G$256:'hesap'!$AC$259,15,FALSE)))","v":{"$error":"#VALUE!"}},{"$f":"IF($AH$73=0,0,IF(Z$56=0,\"\",VLOOKUP($B194,hesap!$G$256:'hesap'!$AC$259,19,FALSE)))","v":{"$error":"#VALUE!"}},{"$f":"IF($AH$73=0,0,IF(AA$56=0,\"\",VLOOKUP($B194,hesap!$G$256:'hesap'!$AC$259,23,FALSE)))","v":{"$error":"#VALUE!"}},{"$f":"IF($AM$73=0,0,IF(AD$56=0,\"\",VLOOKUP($B194,hesap!$AL$256:'hesap'!$BH$259,7,FALSE)))","v":{"$error":"#VALUE!"}},{"$f":"IF($AM$73=0,0,IF(AE$56=0,\"\",VLOOKUP($B194,hesap!$AL$256:'hesap'!$BH$259,9,FALSE)))","v":{"$error":"#VALUE!"}},{"$f":"IF($AM$73=0,0,IF(AF$56=0,\"\",VLOOKUP($B194,hesap!$AL$256:'hesap'!$BH$259,11,FALSE)))","v":{"$error":"#VALUE!"}},{"$f":"IF($AM$73=0,0,IF(AG$56=0,\"\",VLOOKUP($B194,hesap!$AL$256:'hesap'!$BH$259,13,FALSE)))","v":{"$error":"#VALUE!"}},{"$f":"IF($AM$73=0,0,IF(AH$56=0,\"\",VLOOKUP($B194,hesap!$AL$256:'hesap'!$BH$259,15,FALSE)))","v":{"$error":"#VALUE!"}},{"$f":"IF($AM$73=0,0,IF(AI$56=0,\"\",VLOOKUP($B194,hesap!$AL$256:'hesap'!$BH$259,19,FALSE)))","v":{"$error":"#VALUE!"}},{"$f":"IF($AM$73=0,0,IF(AJ$56=0,\"\",VLOOKUP($B194,hesap!$AL$256:'hesap'!$BH$259,23,FALSE)))","v":{"$error":"#VALUE!"}},{"$f":"IF($AQ$73=0,0,IF(AM$56=0,\"\",VLOOKUP($B194,hesap!$G$311:'hesap'!$AC$314,7,FALSE)))","v":{"$error":"#VALUE!"}},{"$f":"IF($AQ$73=0,0,IF(AN$56=0,\"\",VLOOKUP($B194,hesap!$G$311:'hesap'!$AC$314,9,FALSE)))","v":{"$error":"#VALUE!"}},{"$f":"IF($AQ$73=0,0,IF(AO$56=0,\"\",VLOOKUP($B194,hesap!$G$311:'hesap'!$AC$314,11,FALSE)))","v":{"$error":"#VALUE!"}},{"$f":"IF($AQ$73=0,0,IF(AP$56=0,\"\",VLOOKUP($B194,hesap!$G$311:'hesap'!$AC$314,13,FALSE)))","v":{"$error":"#VALUE!"}},{"$f":"IF($AQ$73=0,0,IF(AQ$56=0,\"\",VLOOKUP($B194,hesap!$G$311:'hesap'!$AC$314,15,FALSE)))","v":{"$error":"#VALUE!"}},{"$f":"IF($AQ$73=0,0,IF(AR$56=0,\"\",VLOOKUP($B194,hesap!$G$311:'hesap'!$AC$314,19,FALSE)))","v":{"$error":"#VALUE!"}},{"$f":"IF($AQ$73=0,0,IF(AS$56=0,\"\",VLOOKUP($B194,hesap!$G$311:'hesap'!$AC$314,23,FALSE)))","v":{"$error":"#VALUE!"}},{"$error":"#VALUE!"}]
[null,{"$f":"B147","v":""},null,null,null,null,null,null,null,null,null,null,{"$f":"IF($Y$74=0,0,IF(C$55=0,\"\",VLOOKUP($B196,hesap!$G$201:'hesap'!$AC$204,6,FALSE)))","v":0},{"$f":"IF($Y$74=0,0,IF(D$55=0,\"\",VLOOKUP($B196,hesap!$G$201:'hesap'!$AC$204,8,FALSE)))","v":0},{"$f":"IF($Y$74=0,0,IF(E$55=0,\"\",VLOOKUP($B196,hesap!$G$201:'hesap'!$AC$204,10,FALSE)))","v":0},{"$f":"IF($Y$74=0,0,IF(F$55=0,\"\",VLOOKUP($B196,hesap!$G$201:'hesap'!$AC$204,12,FALSE)))","v":0},{"$f":"IF($Y$74=0,0,IF(G$55=0,\"\",VLOOKUP($B196,hesap!$G$201:'hesap'!$AC$204,14,FALSE)))","v":0},{"$f":"IF($Y$74=0,0,IF(H$55=0,\"\",VLOOKUP($B196,hesap!$G$201:'hesap'!$AC$204,18,FALSE)))","v":0},{"$f":"IF($Y$74=0,0,IF(I$55=0,\"\",VLOOKUP($B196,hesap!$G$201:'hesap'!$AC$204,22,FALSE)))","v":0},{"$f":"IF($AD$74=0,0,IF(L$55=0,\"\",VLOOKUP($B196,hesap!$AL$201:'hesap'!$BH$204,6,FALSE)))","v":{"$error":"#VALUE!"}},{"$f":"IF($AD$74=0,0,IF(M$55=0,\"\",VLOOKUP($B196,hesap!$AL$201:'hesap'!$BH$204,8,FALSE)))","v":{"$error":"#VALUE!"}},{"$f":"IF($AD$74=0,0,IF(N$55=0,\"\",VLOOKUP($B196,hesap!$AL$201:'hesap'!$BH$204,10,FALSE)))","v":{"$error":"#VALUE!"}},{"$f":"IF($AD$74=0,0,IF(O$55=0,\"\",VLOOKUP($B196,hesap!$AL$201:'hesap'!$BH$204,12,FALSE)))","v":{"$error":"#VALUE!"}},{"$f":"IF($AD$74=0,0,IF(P$55=0,\"\",VLOOKUP($B196,hesap!$AL$201:'hesap'!$BH$204,14,FALSE)))","v":{"$error":"#VALUE!"}},{"$f":"IF($AD$74=0,0,IF(Q$55=0,\"\",VLOOKUP($B196,hesap!$AL$201:'hesap'!$BH$204,18,FALSE)))","v":{"$error":"#VALUE!"}},{"$f":"IF($AD$74=0,0,IF(R$55=0,\"\",VLOOKUP($B196,hesap!$AL$201:'hesap'!$BH$204,22,FALSE)))","v":{"$error":"#VALUE!"}},{"$f":"IF($AH$74=0,0,IF(U$55=0,\"\",VLOOKUP($B196,hesap!$G$256:'hesap'!$AC$259,6,FALSE)))","v":{"$error":"#VALUE!"}},{"$f":"IF($AH$74=0,0,IF(V$55=0,\"\",VLOOKUP($B196,hesap!$G$256:'hesap'!$AC$259,8,FALSE)))","v":{"$error":"#VALUE!"}},{"$f":"IF($AH$74=0,0,IF(W$55=0,\"\",VLOOKUP($B196,hesap!$G$256:'hesap'!$AC$259,10,FALSE)))","v":{"$error":"#VALUE!"}},{"$f":"IF($AH$74=0,0,IF(X$55=0,\"\",VLOOKUP($B196,hesap!$G$256:'hesap'!$AC$259,12,FALSE)))","v":{"$error":"#VALUE!"}},{"$f":"IF($AH$74=0,0,IF(Y$55=0,\"\",VLOOKUP($B196,hesap!$G$256:'hesap'!$AC$259,14,FALSE)))","v":{"$error":"#VALUE!"}},{"$f":"IF($AH$74=0,0,IF(Z$55=0,\"\",VLOOKUP($B196,hesap!$G$256:'hesap'!$AC$259,18,FALSE)))","v":{"$error":"#VALUE!"}},{"$f":"IF($AH$74=0,0,IF(AA$55=0,\"\",VLOOKUP($B196,hesap!$G$256:'hesap'!$AC$259,22,FALSE)))","v":{"$error":"#VALUE!"}},{"$f":"IF($AM$74=0,0,IF(AD$55=0,\"\",VLOOKUP($B196,hesap!$AL$256:'hesap'!$BH$259,6,FALSE)))","v":{"$error":"#VALUE!"}},{"$f":"IF($AM$74=0,0,IF(AE$55=0,\"\",VLOOKUP($B196,hesap!$AL$256:'hesap'!$BH$259,8,FALSE)))","v":{"$error":"#VALUE!"}},{"$f":"IF($AM$74=0,0,IF(AF$55=0,\"\",VLOOKUP($B196,hesap!$AL$256:'hesap'!$BH$259,10,FALSE)))","v":{"$error":"#VALUE!"}},{"$f":"IF($AM$74=0,0,IF(AG$55=0,\"\",VLOOKUP($B196,hesap!$AL$256:'hesap'!$BH$259,12,FALSE)))","v":{"$error":"#VALUE!"}},{"$f":"IF($AM$74=0,0,IF(AH$55=0,\"\",VLOOKUP($B196,hesap!$AL$256:'hesap'!$BH$259,14,FALSE)))","v":{"$error":"#VALUE!"}},{"$f":"IF($AM$74=0,0,IF(AI$55=0,\"\",VLOOKUP($B196,hesap!$AL$256:'hesap'!$BH$259,18,FALSE)))","v":{"$error":"#VALUE!"}},{"$f":"IF($AM$74=0,0,IF(AJ$55=0,\"\",VLOOKUP($B196,hesap!$AL$256:'hesap'!$BH$259,22,FALSE)))","v":{"$error":"#VALUE!"}},{"$f":"IF($AQ$74=0,0,IF(AM$55=0,\"\",VLOOKUP($B196,hesap!$G$311:'hesap'!$AC$314,6,FALSE)))","v":{"$error":"#VALUE!"}},{"$f":"IF($AQ$74=0,0,IF(AN$55=0,\"\",VLOOKUP($B196,hesap!$G$311:'hesap'!$AC$314,8,FALSE)))","v":{"$error":"#VALUE!"}},{"$f":"IF($AQ$74=0,0,IF(AO$55=0,\"\",VLOOKUP($B196,hesap!$G$311:'hesap'!$AC$314,10,FALSE)))","v":{"$error":"#VALUE!"}},{"$f":"IF($AQ$74=0,0,IF(AP$55=0,\"\",VLOOKUP($B196,hesap!$G$311:'hesap'!$AC$314,12,FALSE)))","v":{"$error":"#VALUE!"}},{"$f":"IF($AQ$74=0,0,IF(AQ$55=0,\"\",VLOOKUP($B196,hesap!$G$311:'hesap'!$AC$314,14,FALSE)))","v":{"$error":"#VALUE!"}},{"$f":"IF($AQ$74=0,0,IF(AR$55=0,\"\",VLOOKUP($B196,hesap!$G$311:'hesap'!$AC$314,18,FALSE)))","v":{"$error":"#VALUE!"}},{"$f":"IF($AQ$74=0,0,IF(AS$55=0,\"\",VLOOKUP($B196,hesap!$G$311:'hesap'!$AC$314,22,FALSE)))","v":{"$error":"#VALUE!"}},{"$error":"#VALUE!"}]
[null,null,null,null,null,null,null,null,null,null,null,null,{"$f":"IF($Y$74=0,0,IF(C$56=0,\"\",VLOOKUP($B196,hesap!$G$201:'hesap'!$AC$204,7,FALSE)))","v":0},{"$f":"IF($Y$74=0,0,IF(D$56=0,\"\",VLOOKUP($B196,hesap!$G$201:'hesap'!$AC$204,9,FALSE)))","v":0},{"$f":"IF($Y$74=0,0,IF(E$56=0,\"\",VLOOKUP($B196,hesap!$G$201:'hesap'!$AC$204,11,FALSE)))","v":0},{"$f":"IF($Y$74=0,0,IF(F$56=0,\"\",VLOOKUP($B196,hesap!$G$201:'hesap'!$AC$204,13,FALSE)))","v":0},{"$f":"IF($Y$74=0,0,IF(G$56=0,\"\",VLOOKUP($B196,hesap!$G$201:'hesap'!$AC$204,15,FALSE)))","v":0},{"$f":"IF($Y$74=0,0,IF(H$56=0,\"\",VLOOKUP($B196,hesap!$G$201:'hesap'!$AC$204,19,FALSE)))","v":0},{"$f":"IF($Y$74=0,0,IF(I$56=0,\"\",VLOOKUP($B196,hesap!$G$201:'hesap'!$AC$204,23,FALSE)))","v":0},{"$f":"IF($AD$74=0,0,IF(L$56=0,\"\",VLOOKUP($B196,hesap!$AL$201:'hesap'!$BH$204,7,FALSE)))","v":{"$error":"#VALUE!"}},{"$f":"IF($AD$74=0,0,IF(M$56=0,\"\",VLOOKUP($B196,hesap!$AL$201:'hesap'!$BH$204,9,FALSE)))","v":{"$error":"#VALUE!"}},{"$f":"IF($AD$74=0,0,IF(N$56=0,\"\",VLOOKUP($B196,hesap!$AL$201:'hesap'!$BH$204,11,FALSE)))","v":{"$error":"#VALUE!"}},{"$f":"IF($AD$74=0,0,IF(O$56=0,\"\",VLOOKUP($B196,hesap!$AL$201:'hesap'!$BH$204,13,FALSE)))","v":{"$error":"#VALUE!"}},{"$f":"IF($AD$74=0,0,IF(P$56=0,\"\",VLOOKUP($B196,hesap!$AL$201:'hesap'!$BH$204,15,FALSE)))","v":{"$error":"#VALUE!"}},{"$f":"IF($AD$74=0,0,IF(Q$56=0,\"\",VLOOKUP($B196,hesap!$AL$201:'hesap'!$BH$204,19,FALSE)))","v":{"$error":"#VALUE!"}},{"$f":"IF($AD$74=0,0,IF(R$56=0,\"\",VLOOKUP($B196,hesap!$AL$201:'hesap'!$BH$204,23,FALSE)))","v":{"$error":"#VALUE!"}},{"$f":"IF($AH$74=0,0,IF(U$56=0,\"\",VLOOKUP($B196,hesap!$G$256:'hesap'!$AC$259,7,FALSE)))","v":{"$error":"#VALUE!"}},{"$f":"IF($AH$74=0,0,IF(V$56=0,\"\",VLOOKUP($B196,hesap!$G$256:'hesap'!$AC$259,9,FALSE)))","v":{"$error":"#VALUE!"}},{"$f":"IF($AH$74=0,0,IF(W$56=0,\"\",VLOOKUP($B196,hesap!$G$256:'hesap'!$AC$259,11,FALSE)))","v":{"$error":"#VALUE!"}},{"$f":"IF($AH$74=0,0,IF(X$56=0,\"\",VLOOKUP($B196,hesap!$G$256:'hesap'!$AC$259,13,FALSE)))","v":{"$error":"#VALUE!"}},{"$f":"IF($AH$74=0,0,IF(Y$56=0,\"\",VLOOKUP($B196,hesap!$G$256:'hesap'!$AC$259,15,FALSE)))","v":{"$error":"#VALUE!"}},{"$f":"IF($AH$74=0,0,IF(Z$56=0,\"\",VLOOKUP($B196,hesap!$G$256:'hesap'!$AC$259,19,FALSE)))","v":{"$error":"#VALUE!"}},{"$f":"IF($AH$74=0,0,IF(AA$56=0,\"\",VLOOKUP($B196,hesap!$G$256:'hesap'!$AC$259,23,FALSE)))","v":{"$error":"#VALUE!"}},{"$f":"IF($AM$74=0,0,IF(AD$56=0,\"\",VLOOKUP($B196,hesap!$AL$256:'hesap'!$BH$259,7,FALSE)))","v":{"$error":"#VALUE!"}},{"$f":"IF($AM$74=0,0,IF(AE$56=0,\"\",VLOOKUP($B196,hesap!$AL$256:'hesap'!$BH$259,9,FALSE)))","v":{"$error":"#VALUE!"}},{"$f":"IF($AM$74=0,0,IF(AF$56=0,\"\",VLOOKUP($B196,hesap!$AL$256:'hesap'!$BH$259,11,FALSE)))","v":{"$error":"#VALUE!"}},{"$f":"IF($AM$74=0,0,IF(AG$56=0,\"\",VLOOKUP($B196,hesap!$AL$256:'hesap'!$BH$259,13,FALSE)))","v":{"$error":"#VALUE!"}},{"$f":"IF($AM$74=0,0,IF(AH$56=0,\"\",VLOOKUP($B196,hesap!$AL$256:'hesap'!$BH$259,15,FALSE)))","v":{"$error":"#VALUE!"}},{"$f":"IF($AM$74=0,0,IF(AI$56=0,\"\",VLOOKUP($B196,hesap!$AL$256:'hesap'!$BH$259,19,FALSE)))","v":{"$error":"#VALUE!"}},{"$f":"IF($AM$74=0,0,IF(AJ$56=0,\"\",VLOOKUP($B196,hesap!$AL$256:'hesap'!$BH$259,23,FALSE)))","v":{"$error":"#VALUE!"}},{"$f":"IF($AQ$74=0,0,IF(AM$56=0,\"\",VLOOKUP($B196,hesap!$G$311:'hesap'!$AC$314,7,FALSE)))","v":{"$error":"#VALUE!"}},{"$f":"IF($AQ$74=0,0,IF(AN$56=0,\"\",VLOOKUP($B196,hesap!$G$311:'hesap'!$AC$314,9,FALSE)))","v":{"$error":"#VALUE!"}},{"$f":"IF($AQ$74=0,0,IF(AO$56=0,\"\",VLOOKUP($B196,hesap!$G$311:'hesap'!$AC$314,11,FALSE)))","v":{"$error":"#VALUE!"}},{"$f":"IF($AQ$74=0,0,IF(AP$56=0,\"\",VLOOKUP($B196,hesap!$G$311:'hesap'!$AC$314,13,FALSE)))","v":{"$error":"#VALUE!"}},{"$f":"IF($AQ$74=0,0,IF(AQ$56=0,\"\",VLOOKUP($B196,hesap!$G$311:'hesap'!$AC$314,15,FALSE)))","v":{"$error":"#VALUE!"}},{"$f":"IF($AQ$74=0,0,IF(AR$56=0,\"\",VLOOKUP($B196,hesap!$G$311:'hesap'!$AC$314,19,FALSE)))","v":{"$error":"#VALUE!"}},{"$f":"IF($AQ$74=0,0,IF(AS$56=0,\"\",VLOOKUP($B196,hesap!$G$311:'hesap'!$AC$314,23,FALSE)))","v":{"$error":"#VALUE!"}},{"$error":"#VALUE!"}]
[null,null,null,null,null,null,null,null,null,null,null,null,{"$f":"SUM(M190:M197)","v":0},{"$f":"SUM(N190:N197)","v":0},0,0,0,0,0,{"$error":"#VALUE!"},{"$error":"#VALUE!"},{"$error":"#VALUE!"},{"$error":"#VALUE!"},{"$error":"#VALUE!"},{"$error":"#VALUE!"},{"$error":"#VALUE!"},{"$error":"#VALUE!"},{"$error":"#VALUE!"},{"$error":"#VALUE!"},{"$error":"#VALUE!"},{"$error":"#VALUE!"},{"$error":"#VALUE!"},{"$error":"#VALUE!"},{"$f":"SUM(AH190:AH197)","v":{"$error":"#VALUE!"}},{"$error":"#VALUE!"},{"$error":"#VALUE!"},{"$error":"#VALUE!"},{"$error":"#VALUE!"},{"$error":"#VALUE!"},{"$error":"#VALUE!"},{"$error":"#VALUE!"},{"$error":"#VALUE!"},{"$error":"#VALUE!"},{"$error":"#VALUE!"},{"$error":"#VALUE!"},{"$error":"#VALUE!"},{"$error":"#VALUE!"}]
[null,null,null,null,null,null,null,null,null,null,null,null,{"$f":"SUM(M198:S198)","v":0},null,null,null,null,null,null,{"$f":"SUM(T198:Z198)","v":{"$error":"#VALUE!"}},null,null,null,null,null,null,{"$f":"SUM(AA198:AG198)","v":{"$error":"#VALUE!"}},null,null,null,null,null,null,{"$f":"SUM(AH198:AN198)","v":{"$error":"#VALUE!"}},null,null,null,null,null,null,{"$f":"SUM(AO198:AU198)","v":{"$error":"#VALUE!"}}]
[]
[]
[]
[]
[]
[]
[]
[]
[]
[]
[]
[]
[]
[]
[]
[]
[]
[]
[]
[]
[]
[]
[]
[]
[]
[]
[]
[]
[]
[]
[]
[]
[]
[]
[]
[]
[]
[]
[]
[]
[]
[]
[]
[]
[]
[]
[]
[]
[]
[]
[]
[]
[]
[]
[]
[]
[]
[]
[]
[]
[]
[]
[]
[]
[]
[]
[]
[]
[]
[]
[]
[]
[]
[]
[]
[]
[]
[]
[]
[]
[]
[]
[]
[]
[]
[]
[]
[]
[]
[]
[]
[]
[]
[]
[]
[]
[]
[]
[]
[]
[]
[]
[]
[]
[]
[]
[]
[]
[]
[]
[]
[]
[]
[]
[]
[]
[]
[]
[]
[]
[]
[]
[]
[]
[]
[]
[]
[]
[]
[]
[]
[]
[]
[]
[]
[]
[]
[]
[]
[]
[]
[]
[]
[]
[]
[]
[]
[]
[]
[]
[]
[]
[]
[]
[]
[]
[]
[]
[]
[]
[]
[]
[]
[]
[]
[]
[]
[]
[]
[]
[]
[]
[]
[]
[]
[]
[]
[]
[]
[]
[]
[]
[]
[]
[]
[]
[]
[]
[]
[]
[]
[]
[]
[]
[]
[]
[]
[]
[]
[]
[]
[]
[]
[]
[]
[]
[]
[]
[]
[]
[]
[]
[]
[]
[]
[]
[]
[]
[]
[]
[]
[]
[]
[]
[]
[]
[]
[]
[]
[]
[]
[]
[]
[]
[null,"Aşağıdaki Form Yazdırma amaçlıdır. Üzerinde Düzeltme yapılamaz."]
[]
[null,{"$f":"IF(B9=\"\",\"\",B9)","v":"EK2"},"","","TÜRK HAVA KURUMU ÜNİVERSİTESİ ORTAK DERSLER BÖLÜMÜ AYLIK ÜCRET FORMU","","","","","","","","","","",""]
[null,{"$f":"IF(B10=\"\",\"\",B10)","v":""},"","","","","","","","","","","","","","","","","","","","","","","","","","","","","","","","","","","","","",0,"",0,"","","","","","",""]
[null,{"$f":"IF(B11=\"\",\"\",B11)","v":"ÖĞR. E.NIN"},"Bölümü","","","","","","","","","","","","","","","","","","","","","","","","","","","","FORMUN","Ait Olduğu Ay","","","","","","","","00:00:00","","","","","","","","",""]
[null,{"$f":"IF(B12=\"\",\"\",B12)","v":""},"Adı ve Soyadı  ","","","","","","","","","","","","","","","","","","","","","","","","","","","","","Döneminin Başlama ve Bitiş Tarihi","","","","","","","","00.01.1900-00.01.1900","","","","","","","","",""]
[null,{"$f":"IF(B13=\"\",\"\",B13)","v":""},"İdari Görevi              ","","","","","","","","","","","","","","","","","","","","","","","","","","","","","","","","","","","","","","","","","","","","","",""]
[null,{"$f":"IF(B14=\"\",\"\",B14)","v":""},"TC Kimlik Numarası",null,null,null,null,null,null,{"$f":"IF(J14=\"\",\"\",J14)","v":"TC TC TC TC TC"},{"$f":"IF(AB14=\"\",\"\",AB14)","v":""},{"$f":"IF(L14=\"\",\"\",L14)","v":""},"",{"$f":"IF(AC14=\"\",\"\",AC14)","v":0},{"$f":"IF(O14=\"\",\"\",O14)","v":""},"","","","","Zorunlu Ders Yükü (DY)",{"$f":"IF(#REF!=\"\",\"\",#REF!)","v":{"$error":"#REF!"}},{"$f":"IF(#REF!=\"\",\"\",#REF!)","v":{"$error":"#REF!"}},{"$f":"IF(#REF!=\"\",\"\",#REF!)","v":{"$error":"#REF!"}},{"$f":"IF(#REF!=\"\",\"\",#REF!)","v":{"$error":"#REF!"}},{"$f":"IF(#REF!=\"\",\"\",#REF!)","v":{"$error":"#REF!"}},{"$f":"IF(#REF!=\"\",\"\",#REF!)","v":{"$error":"#REF!"}},{"$f":"IF(#REF!=\"\",\"\",#REF!)","v":{"$error":"#REF!"}},{"$f":"IF(#REF!=\"\",\"\",#REF!)","v":{"$error":"#REF!"}},{"$f":"IF(AC14=\"\",\"\",AC14)","v":0},{"$f":"IF(#REF!=\"\",\"\",#REF!)","v":{"$error":"#REF!"}},{"$f":"IF(AE14=\"\",\"\",AE14)","v":""},"","","","","","","","","","","","","","","","","",""]
[null,"","",{"$f":"IF(D15=\"\",\"\",D15)","v":""},"","","","","",{"$f":"IF(J15=\"\",\"\",J15)","v":""},{"$f":"IF(K15=\"\",\"\",K15)","v":""},"","",{"$f":"IF(N15=\"\",\"\",N15)","v":""},"","","","","","",{"$f":"IF(U15=\"\",\"\",U15)","v":""},"","","","","","","","",{"$f":"IF(AD15=\"\",\"\",AD15)","v":""},{"$f":"IF(AE15=\"\",\"\",AE15)","v":""},"","","","","","","","","","","","","","","","","",""]
[null,"","","","","","","","",{"$f":"IF(J16=\"\",\"\",J16)","v":""},"DY","","","","","","","","","DY","Ö.ÖĞRETİM","","","","","","","","DY","",{"$f":"IF(AE16=\"\",\"\",AE16)","v":""},"","","","","","","DY","","","","","","","","","DY","",""]
[null,"","1.HAFTA",null,null,null,null,null,null,null,0,"2.HAFTA","","","","","","","",{"$error":"#VALUE!"},"3.HAFTA","","","","","","","",{"$error":"#VALUE!"},"4.HAFTA",{"$f":"IF(AE17=\"\",\"\",AE17)","v":""},"","","","","","",{"$error":"#VALUE!"},"5.HAFTA","","","","","","","",{"$error":"#VALUE!"},"ÜT DS"]
[null,"","Pt",{"$f":"IF(D18=\"\",\"\",D18)","v":"S"},"Ç","Pe","C","Ct","Pz","T","ÜD","Pt","S","Ç","Pe","C","Ct","Pz","T","ÜD","Pt","S","Ç","Pe","C","Ct","Pz","T","ÜD","Pt",{"$f":"IF(AE18=\"\",\"\",AE18)","v":"S"},"Ç","Pe","C","Ct","Pz","T","ÜD","Pt","S","Ç","Pe","C","Ct","Pz","T","ÜD"]
[null,"Te","","","","","","","",0,0,{"$error":"#VALUE!"},{"$error":"#VALUE!"},{"$error":"#VALUE!"},{"$error":"#VALUE!"},{"$error":"#VALUE!"},{"$error":"#VALUE!"},{"$error":"#VALUE!"},{"$error":"#VALUE!"},{"$error":"#VALUE!"},{"$error":"#VALUE!"},{"$error":"#VALUE!"},{"$error":"#VALUE!"},{"$error":"#VALUE!"},{"$error":"#VALUE!"},{"$error":"#VALUE!"},{"$error":"#VALUE!"},{"$error":"#VALUE!"},{"$error":"#VALUE!"},{"$error":"#VALUE!"},{"$f":"IF(AE19=\"\",\"\",AE19)","v":{"$error":"#VALUE!"}},{"$error":"#VALUE!"},{"$error":"#VALUE!"},{"$error":"#VALUE!"},{"$error":"#VALUE!"},{"$error":"#VALUE!"},{"$error":"#VALUE!"},{"$error":"#VALUE!"},{"$error":"#VALUE!"},{"$error":"#VALUE!"},{"$error":"#VALUE!"},{"$error":"#VALUE!"},{"$error":"#VALUE!"},{"$error":"#VALUE!"},{"$error":"#VALUE!"},{"$error":"#VALUE!"},{"$error":"#VALUE!"},{"$f":"IF(AV19=\"\",\"\",AV19)","v":{"$error":"#VALUE!"}}]
[null,"DF","","","","","","","",0,"",{"$error":"#VALUE!"},{"$error":"#VALUE!"},{"$error":"#VALUE!"},{"$error":"#VALUE!"},{"$error":"#VALUE!"},{"$error":"#VALUE!"},{"$error":"#VALUE!"},{"$error":"#VALUE!"},"",{"$error":"#VALUE!"},{"$error":"#VALUE!"},{"$error":"#VALUE!"},{"$error":"#VALUE!"},{"$error":"#VALUE!"},{"$error":"#VALUE!"},{"$error":"#VALUE!"},{"$error":"#VALUE!"},"",{"$error":"#VALUE!"},{"$f":"IF(AE20=\"\",\"\",AE20)","v":{"$error":"#VALUE!"}},{"$error":"#VALUE!"},{"$error":"#VALUE!"},{"$error":"#VALUE!"},{"$error":"#VALUE!"},{"$error":"#VALUE!"},{"$error":"#VALUE!"},"",{"$error":"#VALUE!"},{"$error":"#VALUE!"},{"$error":"#VALUE!"},{"$error":"#VALUE!"},{"$error":"#VALUE!"},{"$error":"#VALUE!"},{"$error":"#VALUE!"},{"$error":"#VALUE!"}]
[null,"","","","","","","","","","","","","","","","","","","","","","","","","","","","","",{"$f":"IF(AE21=\"\",\"\",AE21)","v":""},"","","","","","","","","","","","","","","",{"$f":"IF(AU21=\"\",\"\",AU21)","v":""},"",""]
[null,{"$f":"IF(B23=\"\",\"\",B23)","v":"No"},{"$f":"IF(C23=\"\",\"\",C23)","v":"Dersin Adı"},null,null,null,null,null,null,null,null,null,{"$f":"IF(M22=\"\",\"\",M22)","v":"Fak/Ens."},"","","","Kod","H.D.S","","","Ara Sınav ","","","","1.HAFTA","","","","","2.HAFTA",{"$f":"IF(AE22=\"\",\"\",AE22)","v":""},"","","3.HAFTA","","","","","4.HAFTA","","","","5.HAFTA","","","","","",""]
[null,null,null,null,null,null,null,null,null,null,null,null,"M.Y.O","","","","","Teo.","","D.F.","H","","Ö.S","","Teo.","","","D.F.","","Teo.",{"$f":"IF(AE23=\"\",\"\",AE23)","v":""},"D.F.","","Teo.","","","D.F.","","Teo.","","D.F.","","Teo.","","","D.F.",null,{"$f":"IF(AV23=\"\",\"\",AV23)","v":"Açıklama"}]
[null,{"$f":"IF(B24=\"\",\"\",B24)","v":1},"",null,null,null,null,null,null,null,null,null,{"$error":"#REF!"},"",{"$f":"IF(O24=\"\",\"\",O24)","v":""},"",{"$error":"#REF!"},"","","","","","","","","","","","",{"$error":"#VALUE!"},{"$f":"IF(AE24=\"\",\"\",AE24)","v":""},{"$error":"#VALUE!"},"",{"$error":"#VALUE!"},"","",{"$error":"#VALUE!"},"",{"$error":"#VALUE!"},"",{"$error":"#VALUE!"},"",{"$error":"#VALUE!"},"","",{"$error":"#VALUE!"},null,""]
[null,2,"",null,null,null,null,null,null,null,null,null,{"$error":"#REF!"},"","","",{"$error":"#REF!"},"","","",{"$f":"IF(U25=\"\",\"\",U25)","v":""},"","","","","","","","",{"$error":"#VALUE!"},{"$f":"IF(AE25=\"\",\"\",AE25)","v":""},{"$error":"#VALUE!"},"",{"$error":"#VALUE!"},"","",{"$error":"#VALUE!"},"",{"$error":"#VALUE!"},"",{"$error":"#VALUE!"},"",{"$error":"#VALUE!"},"","",{"$error":"#VALUE!"},null,""]
[null,3,"",null,null,null,null,null,null,null,null,null,{"$error":"#REF!"},"","","",{"$error":"#REF!"},"","","","","","","","","","","","",{"$error":"#VALUE!"},{"$f":"IF(AE26=\"\",\"\",AE26)","v":""},{"$error":"#VALUE!"},"",{"$error":"#VALUE!"},"","",{"$error":"#VALUE!"},"",{"$error":"#VALUE!"},"",{"$error":"#VALUE!"},"",{"$error":"#VALUE!"},"","",{"$error":"#VALUE!"},null,""]
[null,4,"",null,null,null,null,null,null,null,null,null,{"$error":"#REF!"},"","","",{"$error":"#REF!"},"","","","","","","","","","","","",{"$error":"#VALUE!"},{"$f":"IF(AE27=\"\",\"\",AE27)","v":""},{"$error":"#VALUE!"},"",{"$error":"#VALUE!"},"","",{"$error":"#VALUE!"},"",{"$error":"#VALUE!"},"",{"$error":"#VALUE!"},"",{"$error":"#VALUE!"},"","",{"$error":"#VALUE!"},null,""]
[null,5,"",null,null,null,null,null,null,null,null,null,{"$error":"#REF!"},"","","",{"$error":"#REF!"},"","","","","","","","","","","","",{"$error":"#VALUE!"},{"$f":"IF(AE28=\"\",\"\",AE28)","v":""},{"$error":"#VALUE!"},"",{"$error":"#VALUE!"},"","",{"$error":"#VALUE!"},"",{"$error":"#VALUE!"},"",{"$error":"#VALUE!"},"",{"$error":"#VALUE!"},"","",{"$error":"#VALUE!"},null,""]
[null,6,"",null,null,null,null,null,null,null,null,null,{"$error":"#REF!"},"","","",{"$error":"#REF!"},"","","","","","","","","","","","",{"$error":"#VALUE!"},{"$f":"IF(AE29=\"\",\"\",AE29)","v":""},{"$error":"#VALUE!"},"",{"$error":"#VALUE!"},"","",{"$error":"#VALUE!"},"",{"$error":"#VALUE!"},"",{"$error":"#VALUE!"},"",{"$error":"#VALUE!"},"","",{"$error":"#VALUE!"},null,""]
[null,7,"",null,null,null,null,null,null,null,null,null,{"$error":"#REF!"},"","","",{"$error":"#REF!"},"","","","","","","","","","","","",{"$error":"#VALUE!"},{"$f":"IF(AE30=\"\",\"\",AE30)","v":""},{"$error":"#VALUE!"},"",{"$error":"#VALUE!"},"","",{"$error":"#VALUE!"},"",{"$error":"#VALUE!"},"",{"$error":"#VALUE!"},"",{"$error":"#VALUE!"},"","",{"$error":"#VALUE!"},null,""]
[null,8,"",null,null,null,null,null,null,null,null,null,{"$error":"#REF!"},"","","",{"$error":"#REF!"},"","","","","","","","","","","","",{"$error":"#VALUE!"},{"$f":"IF(AE31=\"\",\"\",AE31)","v":""},{"$error":"#VALUE!"},"",{"$error":"#VALUE!"},"","",{"$error":"#VALUE!"},"",{"$error":"#VALUE!"},"",{"$error":"#VALUE!"},"",{"$error":"#VALUE!"},"","",{"$error":"#VALUE!"},null,""]
[null,9,"",null,null,null,null,null,null,null,null,null,{"$error":"#REF!"},"","","",{"$error":"#REF!"},"","","","","","","","","","","","",{"$error":"#VALUE!"},{"$f":"IF(AE32=\"\",\"\",AE32)","v":""},{"$error":"#VALUE!"},"",{"$error":"#VALUE!"},"","",{"$error":"#VALUE!"},"",{"$error":"#VALUE!"},"",{"$error":"#VALUE!"},"",{"$error":"#VALUE!"},"","",{"$error":"#VALUE!"},null,""]
[null,10,"",null,null,null,null,null,null,null,null,null,{"$error":"#REF!"},"","","",{"$error":"#REF!"},"","","","","","","","","","","","",{"$error":"#VALUE!"},{"$f":"IF(AE33=\"\",\"\",AE33)","v":""},{"$error":"#VALUE!"},"",{"$error":"#VALUE!"},"","",{"$error":"#VALUE!"},"",{"$error":"#VALUE!"},"",{"$error":"#VALUE!"},"",{"$error":"#VALUE!"},"","",{"$error":"#VALUE!"},null,""]
[null,11,"",null,null,null,null,null,null,null,null,null,{"$error":"#REF!"},"",{"$f":"IF(O34=\"\",\"\",O34)","v":""},"",{"$error":"#REF!"},"","","","","","","","","","","","",{"$error":"#VALUE!"},{"$f":"IF(AE34=\"\",\"\",AE34)","v":""},{"$error":"#VALUE!"},"",{"$error":"#VALUE!"},"","",{"$error":"#VALUE!"},"",{"$error":"#VALUE!"},"",{"$error":"#VALUE!"},"",{"$error":"#VALUE!"},"","",{"$error":"#VALUE!"},null,""]
[null,12,"",null,null,null,null,null,null,null,null,null,{"$error":"#REF!"},"","","",{"$error":"#REF!"},"","","",{"$f":"IF(U35=\"\",\"\",U35)","v":""},"","","","","","","","",{"$error":"#VALUE!"},{"$f":"IF(AE35=\"\",\"\",AE35)","v":""},{"$error":"#VALUE!"},"",{"$error":"#VALUE!"},"","",{"$error":"#VALUE!"},"",{"$error":"#VALUE!"},"",{"$error":"#VALUE!"},"",{"$error":"#VALUE!"},"","",{"$error":"#VALUE!"},null,""]
[null,13,"",{"$f":"IF(D36=\"\",\"\",D36)","v":""},"","","","","","","","",{"$error":"#REF!"},"","","",{"$error":"#REF!"},"","","","","","","","","","","","",{"$error":"#VALUE!"},{"$f":"IF(AE36=\"\",\"\",AE36)","v":""},{"$error":"#VALUE!"},"",{"$error":"#VALUE!"},"","",{"$error":"#VALUE!"},"",{"$error":"#VALUE!"},"",{"$error":"#VALUE!"},"",{"$error":"#VALUE!"},"","",{"$error":"#VALUE!"},null,""]
[null,14,"",{"$f":"IF(D37=\"\",\"\",D37)","v":""},"","","","","","","","",{"$error":"#REF!"},"","","",{"$error":"#REF!"},"","","","","","","","","","","","",{"$error":"#VALUE!"},{"$f":"IF(AE37=\"\",\"\",AE37)","v":""},{"$error":"#VALUE!"},"",{"$error":"#VALUE!"},"","",{"$error":"#VALUE!"},"",{"$error":"#VALUE!"},"",{"$error":"#VALUE!"},"",{"$error":"#VALUE!"},"","",{"$error":"#VALUE!"},null,""]
[null,15,"",{"$f":"IF(D38=\"\",\"\",D38)","v":""},"","","","","","","","",{"$error":"#REF!"},"","","",{"$error":"#REF!"},"","","","","","","","","","","","",{"$error":"#VALUE!"},{"$f":"IF(AE38=\"\",\"\",AE38)","v":""},{"$error":"#VALUE!"},"",{"$error":"#VALUE!"},"","",{"$error":"#VALUE!"},"",{"$error":"#VALUE!"},"",{"$error":"#VALUE!"},"",{"$error":"#VALUE!"},"","",{"$error":"#VALUE!"},null,""]
[null,"","",{"$f":"IF(D39=\"\",\"\",D39)","v":""},"Kod","TOPLAM","","","","","","","","","","","","","","",0,"","","",0,"","",0,"",{"$error":"#VALUE!"},{"$f":"IF(AE39=\"\",\"\",AE39)","v":""},{"$error":"#VALUE!"},"",{"$error":"#VALUE!"},"","",{"$error":"#VALUE!"},"",{"$error":"#VALUE!"},"",{"$error":"#VALUE!"},"",{"$error":"#VALUE!"},"","",{"$error":"#VALUE!"},null,""]
[null,{"$f":"IF(B40=\"\",\"\",B40)","v":"ÜTDS NIN BİRİMLERE DAĞILIMI"},null,null,{"$f":"IF(E40=\"\",\"\",E40)","v":""},"ÜCRETE TABİ DERS SAYISI(ÜTDS)","","","","","","","","","","","","","","","","","","",0,"","","","",{"$error":"#VALUE!"},{"$f":"IF(AE40=\"\",\"\",AE40)","v":""},"","",{"$error":"#VALUE!"},"","","","",{"$error":"#VALUE!"},"","","",{"$error":"#VALUE!"},"","","",{"$f":"IF(AU40=\"\",\"\",AU40)","v":""},{"$error":"#VALUE!"}]
[null,null,null,null,1,"Mühendislik Fakültesi","","","","","","","","","","","","","","",{"$f":"IF(U41=\"\",\"\",U41)","v":""},"","","",{"$f":"IF(Y41=0,\"\",Y41)","v":""},{"$f":"IF(Z41=\"\",\"\",Z41)","v":""},"","","",{"$f":"IF(AD41=0,\"\",AD41)","v":{"$error":"#VALUE!"}},{"$f":"IF(AE41=\"\",\"\",AE41)","v":""},"","",{"$f":"IF(AH41=0,\"\",AH41)","v":{"$error":"#VALUE!"}},{"$f":"IF(AI41=\"\",\"\",AI41)","v":""},"","","",{"$f":"IF(AM41=0,\"\",AM41)","v":{"$error":"#VALUE!"}},{"$f":"IF(AN41=\"\",\"\",AN41)","v":""},"","",{"$f":"IF(AQ41=0,\"\",AQ41)","v":{"$error":"#VALUE!"}},{"$f":"IF(AR41=\"\",\"\",AR41)","v":""},"","","",{"$f":"IF(AV41=0,\"\",AV41)","v":{"$error":"#VALUE!"}}]
[null,null,null,null,2,"","","","","","","","","","","","","","","","","","","",{"$f":"IF(Y42=0,\"\",Y42)","v":""},"","","","",{"$f":"IF(AD42=0,\"\",AD42)","v":{"$error":"#VALUE!"}},"","","",{"$f":"IF(AH42=0,\"\",AH42)","v":{"$error":"#VALUE!"}},"","","","",{"$f":"IF(AM42=0,\"\",AM42)","v":{"$error":"#VALUE!"}},"","","",{"$f":"IF(AQ42=0,\"\",AQ42)","v":{"$error":"#VALUE!"}},"","","","",{"$f":"IF(AV42=0,\"\",AV42)","v":{"$error":"#VALUE!"}}]
[null,null,null,null,3,"","","","","","","","","","","","","","","","","","","",{"$f":"IF(Y43=0,\"\",Y43)","v":""},"","","","",{"$f":"IF(AD43=0,\"\",AD43)","v":{"$error":"#VALUE!"}},"","","",{"$f":"IF(AH43=0,\"\",AH43)","v":{"$error":"#VALUE!"}},"","","","",{"$f":"IF(AM43=0,\"\",AM43)","v":{"$error":"#VALUE!"}},"","","",{"$f":"IF(AQ43=0,\"\",AQ43)","v":{"$error":"#VALUE!"}},"","","","",{"$f":"IF(AV43=0,\"\",AV43)","v":{"$error":"#VALUE!"}}]
[null,null,null,null,4,"","","","","","","","","",{"$f":"IF(O44=\"\",\"\",O44)","v":""},"","","","","","","","","",{"$f":"IF(Y44=0,\"\",Y44)","v":""},"","","","",{"$f":"IF(AD44=0,\"\",AD44)","v":{"$error":"#VALUE!"}},"","","",{"$f":"IF(AH44=0,\"\",AH44)","v":{"$error":"#VALUE!"}},"","","","",{"$f":"IF(AM44=0,\"\",AM44)","v":{"$error":"#VALUE!"}},"","","",{"$f":"IF(AQ44=0,\"\",AQ44)","v":{"$error":"#VALUE!"}},"","","","",{"$f":"IF(AV44=0,\"\",AV44)","v":{"$error":"#VALUE!"}}]
[null,null,null,null,5,"","","","","","","","","","","","","","","","","","","",{"$f":"IF(Y45=0,\"\",Y45)","v":""},"","","","",{"$f":"IF(AD45=0,\"\",AD45)","v":{"$error":"#VALUE!"}},"","","",{"$f":"IF(AH45=0,\"\",AH45)","v":{"$error":"#VALUE!"}},"","","","",{"$f":"IF(AM45=0,\"\",AM45)","v":{"$error":"#VALUE!"}},"","","",{"$f":"IF(AQ45=0,\"\",AQ45)","v":{"$error":"#VALUE!"}},"","","","",{"$f":"IF(AV45=0,\"\",AV45)","v":{"$error":"#VALUE!"}}]
[]
[null,{"$f":"IF(B52=\"\",\"\",B52)","v":""},"","","","","","","","","","","","","","","","","İ.ÖĞRETİM","","","","","","","","","","","","","","","","","","","","","","","","","","","","","",""]
[null,{"$f":"IF(B53=\"\",\"\",B53)","v":""},"1.HAFTA","","","","","","","","","2.HAFTA","","","","","","","","","3.HAFTA","","","","","","","","","4.HAFTA","","","","","","","","","5.HAFTA","","","","","","","","","ÜT DS"]
[null,{"$f":"IF(B54=\"\",\"\",B54)","v":""},"Pt","S","Ç","Pe","C","Ct","Pz","T","ÜD","Pt","S","Ç","Pe","C","Ct","Pz","T","ÜD","Pt","S","Ç","Pe","C","Ct","Pz","T","ÜD","Pt","S","Ç","Pe","C","Ct","Pz","T","ÜD","Pt","S","Ç","Pe","C","Ct","Pz","T","ÜD"]
[null,{"$f":"IF(B55=\"\",\"\",B55)","v":"Te"},"","","","","","","",0,0,{"$error":"#VALUE!"},{"$error":"#VALUE!"},{"$error":"#VALUE!"},{"$error":"#VALUE!"},{"$error":"#VALUE!"},{"$error":"#VALUE!"},{"$error":"#VALUE!"},{"$error":"#VALUE!"},{"$error":"#VALUE!"},{"$error":"#VALUE!"},{"$error":"#VALUE!"},{"$error":"#VALUE!"},{"$error":"#VALUE!"},{"$error":"#VALUE!"},{"$error":"#VALUE!"},{"$error":"#VALUE!"},{"$error":"#VALUE!"},{"$error":"#VALUE!"},{"$error":"#VALUE!"},{"$error":"#VALUE!"},{"$error":"#VALUE!"},{"$error":"#VALUE!"},{"$error":"#VALUE!"},{"$error":"#VALUE!"},{"$error":"#VALUE!"},{"$error":"#VALUE!"},{"$error":"#VALUE!"},{"$error":"#VALUE!"},{"$error":"#VALUE!"},{"$error":"#VALUE!"},{"$error":"#VALUE!"},{"$error":"#VALUE!"},{"$error":"#VALUE!"},{"$error":"#VALUE!"},{"$error":"#VALUE!"},{"$error":"#VALUE!"},{"$f":"IF(AV55=\"\",\"\",AV55)","v":{"$error":"#VALUE!"}}]
[null,{"$f":"IF(B56=\"\",\"\",B56)","v":"DF"},"","","","","","","",0,"",{"$error":"#VALUE!"},{"$error":"#VALUE!"},{"$error":"#VALUE!"},{"$error":"#VALUE!"},{"$error":"#VALUE!"},{"$error":"#VALUE!"},{"$error":"#VALUE!"},{"$error":"#VALUE!"},"",{"$error":"#VALUE!"},{"$error":"#VALUE!"},{"$error":"#VALUE!"},{"$error":"#VALUE!"},{"$error":"#VALUE!"},{"$error":"#VALUE!"},{"$error":"#VALUE!"},{"$error":"#VALUE!"},"",{"$error":"#VALUE!"},{"$error":"#VALUE!"},{"$error":"#VALUE!"},{"$error":"#VALUE!"},{"$error":"#VALUE!"},{"$error":"#VALUE!"},{"$error":"#VALUE!"},{"$error":"#VALUE!"},"",{"$error":"#VALUE!"},{"$error":"#VALUE!"},{"$error":"#VALUE!"},{"$error":"#VALUE!"},{"$error":"#VALUE!"},{"$error":"#VALUE!"},{"$error":"#VALUE!"},{"$error":"#VALUE!"}]
[null,{"$f":"IF(B57=\"\",\"\",B57)","v":""},"","","","","","","","","","","","","","","","","","","","","","","","","","","","","","","","","","","","","","","","","","","","",{"$f":"IF(AU57=\"\",\"\",AU57)","v":""},{"$f":"IF(AV57=\"\",\"\",AV57)","v":""},{"$f":"IF(AW57=\"\",\"\",AW57)","v":""}]
[null,{"$f":"IF(B58=\"\",\"\",B58)","v":"No"},"Dersin Adı","","","","","","","","","","Fak/MYO","","","","KOD","H.D.S.","","","H","","Ö.S","","Teo.","","","D.F.","","Teo.","","D.F.","","Teo.","","","D.F.","","Teo.","","D.F.","","Teo.","","","D.F.",{"$f":"IF(AU58=\"\",\"\",AU58)","v":""},"GN.D.S"]
[null,{"$f":"IF(B59=\"\",\"\",B59)","v":1},"","","","","","","","","","",{"$error":"#REF!"},"","","",{"$error":"#REF!"},"","","","","","","","","","","","",{"$error":"#VALUE!"},"",{"$error":"#VALUE!"},"",{"$error":"#VALUE!"},"","",{"$error":"#VALUE!"},"",{"$error":"#VALUE!"},"",{"$error":"#VALUE!"},"",{"$error":"#VALUE!"},"","",{"$error":"#VALUE!"},"","",{"$f":"IF(AW59=\"\",\"\",AW59)","v":""}]
[null,{"$f":"IF(B60=\"\",\"\",B60)","v":2},"","","","","","","","","","",{"$error":"#REF!"},"","","",{"$error":"#REF!"},"","","","","","","","","","","","",{"$error":"#VALUE!"},"",{"$error":"#VALUE!"},"",{"$error":"#VALUE!"},"","",{"$error":"#VALUE!"},"",{"$error":"#VALUE!"},"",{"$error":"#VALUE!"},"",{"$error":"#VALUE!"},"","",{"$error":"#VALUE!"},"","",{"$f":"IF(AW60=\"\",\"\",AW60)","v":""}]
[null,{"$f":"IF(B61=\"\",\"\",B61)","v":3},"",null,null,null,null,null,null,null,null,null,{"$f":"IF(M61=\"\",\"\",M61)","v":{"$error":"#REF!"}},{"$f":"IF(N65=\"\",\"\",N65)","v":""},"","",{"$f":"IF(Q61=\"\",\"\",Q61)","v":{"$error":"#REF!"}},"",{"$f":"IF(S65=\"\",\"\",S65)","v":""},{"$f":"IF(T61=\"\",\"\",T61)","v":""},"",{"$f":"IF(V65=\"\",\"\",V65)","v":""},{"$f":"IF(W61=\"\",\"\",W61)","v":""},{"$f":"IF(X65=\"\",\"\",X65)","v":""},{"$f":"IF(Y61=\"\",\"\",Y61)","v":""},{"$f":"IF(Z65=\"\",\"\",Z65)","v":""},{"$f":"IF(AA65=\"\",\"\",AA65)","v":""},{"$f":"IF(AB61=\"\",\"\",AB61)","v":""},{"$f":"IF(AC65=\"\",\"\",AC65)","v":""},{"$f":"IF(AD61=\"\",\"\",AD61)","v":{"$error":"#VALUE!"}},{"$f":"IF(AE65=\"\",\"\",AE65)","v":""},{"$f":"IF(AF61=\"\",\"\",AF61)","v":{"$error":"#VALUE!"}},{"$f":"IF(AG65=\"\",\"\",AG65)","v":""},{"$f":"IF(AH61=\"\",\"\",AH61)","v":{"$error":"#VALUE!"}},{"$f":"IF(AI65=\"\",\"\",AI65)","v":""},{"$f":"IF(AJ65=\"\",\"\",AJ65)","v":""},{"$f":"IF(AK61=\"\",\"\",AK61)","v":{"$error":"#VALUE!"}},{"$f":"IF(AL65=\"\",\"\",AL65)","v":""},{"$f":"IF(AM61=\"\",\"\",AM61)","v":{"$error":"#VALUE!"}},{"$f":"IF(AN65=\"\",\"\",AN65)","v":""},{"$f":"IF(AO61=\"\",\"\",AO61)","v":{"$error":"#VALUE!"}},{"$f":"IF(AP65=\"\",\"\",AP65)","v":""},{"$f":"IF(AQ61=\"\",\"\",AQ61)","v":{"$error":"#VALUE!"}},{"$f":"IF(AR65=\"\",\"\",AR65)","v":""},{"$f":"IF(AS65=\"\",\"\",AS65)","v":""},{"$f":"IF(AT61=\"\",\"\",AT61)","v":{"$error":"#VALUE!"}},null,{"$f":"IF(AV61=\"\",\"\",AV61)","v":""}]
[null,4,"",null,null,null,null,null,null,null,null,null,{"$error":"#REF!"},"","","",{"$error":"#REF!"},"",{"$f":"IF(S66=\"\",\"\",S66)","v":""},"","",{"$f":"IF(V66=\"\",\"\",V66)","v":""},"",{"$f":"IF(X66=\"\",\"\",X66)","v":""},"",{"$f":"IF(Z66=\"\",\"\",Z66)","v":""},{"$f":"IF(AA66=\"\",\"\",AA66)","v":""},"",{"$f":"IF(AC66=\"\",\"\",AC66)","v":""},{"$error":"#VALUE!"},{"$f":"IF(AE66=\"\",\"\",AE66)","v":""},{"$error":"#VALUE!"},{"$f":"IF(AG66=\"\",\"\",AG66)","v":""},{"$error":"#VALUE!"},{"$f":"IF(AI66=\"\",\"\",AI66)","v":""},{"$f":"IF(AJ66=\"\",\"\",AJ66)","v":""},{"$error":"#VALUE!"},{"$f":"IF(AL66=\"\",\"\",AL66)","v":""},{"$error":"#VALUE!"},{"$f":"IF(AN66=\"\",\"\",AN66)","v":""},{"$error":"#VALUE!"},{"$f":"IF(AP66=\"\",\"\",AP66)","v":""},{"$error":"#VALUE!"},{"$f":"IF(AR66=\"\",\"\",AR66)","v":""},{"$f":"IF(AS66=\"\",\"\",AS66)","v":""},{"$error":"#VALUE!"},{"$f":"IF(AU66=\"\",\"\",AU66)","v":""},""]
[null,5,"",null,null,null,null,null,null,null,null,null,{"$error":"#REF!"},null,null,null,{"$error":"#REF!"},"",null,"","",null,"",null,"",null,null,"",null,{"$error":"#VALUE!"},null,{"$error":"#VALUE!"},null,{"$error":"#VALUE!"},null,null,{"$error":"#VALUE!"},null,{"$error":"#VALUE!"},null,{"$error":"#VALUE!"},null,{"$error":"#VALUE!"},null,null,{"$error":"#VALUE!"},null,""]
[null,6,"",null,null,null,null,null,null,null,null,null,{"$error":"#REF!"},null,null,null,{"$error":"#REF!"},"",null,"","",null,"",null,"",null,null,"",null,{"$error":"#VALUE!"},null,{"$error":"#VALUE!"},null,{"$error":"#VALUE!"},null,null,{"$error":"#VALUE!"},null,{"$error":"#VALUE!"},null,{"$error":"#VALUE!"},null,{"$error":"#VALUE!"},null,null,{"$error":"#VALUE!"},null,""]
[null,7,"",null,null,null,null,null,null,null,null,null,{"$error":"#REF!"},null,null,null,{"$error":"#REF!"},"",null,"","",null,"",null,"",null,null,"",null,{"$error":"#VALUE!"},null,{"$error":"#VALUE!"},null,{"$error":"#VALUE!"},null,null,{"$error":"#VALUE!"},null,{"$error":"#VALUE!"},null,{"$error":"#VALUE!"},null,{"$error":"#VALUE!"},null,null,{"$error":"#VALUE!"},null,""]
[null,8,"",null,null,null,null,null,null,null,null,null,{"$error":"#REF!"},null,null,null,{"$error":"#REF!"},"",null,"","",null,"",null,"",null,null,"",null,{"$error":"#VALUE!"},null,{"$error":"#VALUE!"},null,{"$error":"#VALUE!"},null,null,{"$error":"#VALUE!"},null,{"$error":"#VALUE!"},null,{"$error":"#VALUE!"},null,{"$error":"#VALUE!"},null,null,{"$error":"#VALUE!"},null,""]
[null,9,"",null,null,null,null,null,null,null,null,null,{"$error":"#REF!"},{"$f":"IF(N67=\"\",\"\",N67)","v":""},"","",{"$error":"#REF!"},"",{"$f":"IF(S67=\"\",\"\",S67)","v":""},"","",{"$f":"IF(V67=\"\",\"\",V67)","v":""},"",{"$f":"IF(X67=\"\",\"\",X67)","v":""},"",{"$f":"IF(Z67=\"\",\"\",Z67)","v":""},"","",{"$f":"IF(AC67=\"\",\"\",AC67)","v":""},{"$error":"#VALUE!"},{"$f":"IF(AE67=\"\",\"\",AE67)","v":""},{"$error":"#VALUE!"},{"$f":"IF(AG67=\"\",\"\",AG67)","v":""},{"$error":"#VALUE!"},{"$f":"IF(AI67=\"\",\"\",AI67)","v":""},"",{"$error":"#VALUE!"},{"$f":"IF(AL67=\"\",\"\",AL67)","v":""},{"$error":"#VALUE!"},{"$f":"IF(AN67=\"\",\"\",AN67)","v":""},{"$error":"#VALUE!"},{"$f":"IF(AP67=\"\",\"\",AP67)","v":""},{"$error":"#VALUE!"},{"$f":"IF(AR67=\"\",\"\",AR67)","v":""},"",{"$error":"#VALUE!"},null,""]
[null,10,"",null,null,null,null,null,null,null,null,null,{"$error":"#REF!"},"","","",{"$error":"#REF!"},"",{"$f":"IF(S68=\"\",\"\",S68)","v":""},"","","","","","","","","",{"$f":"IF(AC68=\"\",\"\",AC68)","v":""},{"$error":"#VALUE!"},"",{"$error":"#VALUE!"},"",{"$error":"#VALUE!"},"","",{"$error":"#VALUE!"},"",{"$error":"#VALUE!"},"",{"$error":"#VALUE!"},"",{"$error":"#VALUE!"},"","",{"$error":"#VALUE!"},null,""]
[null,{"$f":"IF(B70=\"\",\"\",B70)","v":"ÜTDS NIN BİRİMLERE DAĞILIMI"},null,null,{"$f":"IF(E69=\"\",\"\",E69)","v":"Kod"},"TOPLAM","","","","","","","","","","","","",{"$f":"IF(S69=\"\",\"\",S69)","v":""},"",0,"","","",0,"","",0,{"$f":"IF(AC69=\"\",\"\",AC69)","v":""},{"$error":"#VALUE!"},"",{"$error":"#VALUE!"},"",{"$error":"#VALUE!"},"","",{"$error":"#VALUE!"},"",{"$error":"#VALUE!"},"",{"$error":"#VALUE!"},"",{"$error":"#VALUE!"},"","",{"$error":"#VALUE!"},null,"",{"$f":"IF(AW69=\"\",\"\",AW69)","v":""}]
[null,null,null,null,"","ÜCRETE TABİ DERS SAYISI(ÜTDS)","","","","","","","","","","","","",{"$f":"IF(S70=\"\",\"\",S70)","v":""},"","","","","",0,"","","",{"$f":"IF(AC70=\"\",\"\",AC70)","v":""},{"$error":"#VALUE!"},"","","",{"$error":"#VALUE!"},"","","","",{"$error":"#VALUE!"},"","","",{"$error":"#VALUE!"},"","","",{"$f":"IF(AU70=\"\",\"\",AU70)","v":""},{"$error":"#VALUE!"}]
[null,null,null,null,1,"","","","","","","","","","","","","",{"$f":"IF(S71=\"\",\"\",S71)","v":""},"","","","","",{"$f":"IF(Y71=0,\"\",Y71)","v":""},"","","",{"$f":"IF(AC71=\"\",\"\",AC71)","v":""},{"$f":"IF(AD71=0,\"\",AD71)","v":{"$error":"#VALUE!"}},"","","",{"$f":"IF(AH71=0,\"\",AH71)","v":{"$error":"#VALUE!"}},"","","","",{"$f":"IF(AM71=0,\"\",AM71)","v":{"$error":"#VALUE!"}},"","","",{"$f":"IF(AQ71=0,\"\",AQ71)","v":{"$error":"#VALUE!"}},null,null,null,null,{"$f":"IF(AV71=0,\"\",AV71)","v":{"$error":"#VALUE!"}}]
[null,null,null,null,{"$f":"IF(E72=\"\",\"\",E72)","v":2},"",null,null,null,null,null,null,null,null,null,null,null,null,null,null,{"$f":"IF(U72=\"\",\"\",U72)","v":""},"","","",{"$f":"IF(Y72=0,\"\",Y72)","v":""},{"$f":"IF(Z67=\"\",\"\",Z67)","v":""},"","","",{"$f":"IF(AD72=0,\"\",AD72)","v":{"$error":"#VALUE!"}},"","","",{"$f":"IF(AH72=0,\"\",AH72)","v":{"$error":"#VALUE!"}},"","","","",{"$f":"IF(AM72=0,\"\",AM72)","v":{"$error":"#VALUE!"}},"","","",{"$f":"IF(AQ72=0,\"\",AQ72)","v":{"$error":"#VALUE!"}},null,null,null,null,{"$f":"IF(AV72=0,\"\",AV72)","v":{"$error":"#VALUE!"}},{"$f":"IF(AW72=\"\",\"\",AW72)","v":""}]
[null,null,null,null,3,"",null,null,null,null,null,null,null,null,null,null,null,null,null,null,{"$f":"IF(U73=\"\",\"\",U73)","v":""},"","","",{"$f":"IF(Y73=0,\"\",Y73)","v":""},"","","","",{"$f":"IF(AD73=0,\"\",AD73)","v":{"$error":"#VALUE!"}},"","","",{"$f":"IF(AH73=0,\"\",AH73)","v":{"$error":"#VALUE!"}},"","","","",{"$f":"IF(AM73=0,\"\",AM73)","v":{"$error":"#VALUE!"}},"","","",{"$f":"IF(AQ73=0,\"\",AQ73)","v":{"$error":"#VALUE!"}},null,null,null,null,{"$f":"IF(AV73=0,\"\",AV73)","v":{"$error":"#VALUE!"}},{"$f":"IF(AW73=\"\",\"\",AW73)","v":""}]
[null,null,null,null,4,"",null,null,null,null,null,null,null,null,null,null,null,null,null,null,{"$f":"IF(U74=\"\",\"\",U74)","v":""},"","","",{"$f":"IF(Y74=0,\"\",Y74)","v":""},"","",0,"",{"$f":"IF(AD74=0,\"\",AD74)","v":{"$error":"#VALUE!"}},"","","",{"$f":"IF(AH74=0,\"\",AH74)","v":{"$error":"#VALUE!"}},"","","","",{"$f":"IF(AM74=0,\"\",AM74)","v":{"$error":"#VALUE!"}},"","","",{"$f":"IF(AQ74=0,\"\",AQ74)","v":{"$error":"#VALUE!"}},null,null,null,null,{"$f":"IF(AV74=0,\"\",AV74)","v":{"$error":"#VALUE!"}},{"$f":"IF(AW74=\"\",\"\",AW74)","v":""}]
[null,{"$f":"IF(B75=\"\",\"\",B75)","v":""},{"$f":"IF(C75=\"\",\"\",C75)","v":""},{"$f":"IF(D75=\"\",\"\",D75)","v":""},"","",{"$f":"IF(G75=\"\",\"\",G75)","v":""},"","","","","","","","","","","","","",{"$f":"IF(U75=\"\",\"\",U75)","v":""},"","","",{"$f":"IF(Y75=\"\",\"\",Y75)","v":""},"","","","","","","","",{"$f":"IF(AH75=\"\",\"\",AH75)","v":""},"","","","",{"$f":"IF(AM75=\"\",\"\",AM75)","v":""},"","","",{"$f":"IF(AQ75=\"\",\"\",AQ75)","v":""},"","","","","",{"$f":"IF(AW75=\"\",\"\",AW75)","v":""}]
[null,{"$f":"IF(B76=\"\",\"\",B76)","v":"00.01.1900-00.01.1900"},null,null,null,null,null,null,null,null,{"$f":"IF(K76=\"\",\"\",K76)","v":"TARİHLERİ ARASINDA TOPLAM OLARAK Ö. ÖĞRETİMDE"},null,null,null,null,null,null,null,null,null,null,null,null,null,null,null,null,null,null,{"$f":"IF(AD76=\"\",\"\",AD76)","v":{"$error":"#VALUE!"}},null,null,"İ. ÖĞRETİMDE",null,null,null,null,{"$error":"#VALUE!"},null,"SAAT EK DERS YAPILMIŞTIR."]
[null,{"$f":"IF(B78=\"\",\"\",B78)","v":0},"","",null,null,null,null,null,null,null,null,{"$f":"IF(M78=\"\",\"\",M78)","v":""},{"$f":"IF(N78=\"\",\"\",N78)","v":"BİRİMİMİZDE Ö.Ö. DE"},null,null,null,null,null,null,{"$f":"IF(U78=\"\",\"\",U78)","v":{"$error":"#VALUE!"}},null,null,null,{"$f":"IF(Y78=\"\",\"\",Y78)","v":"İ.Ö. DE"},null,null,{"$f":"IF(AB78=\"\",\"\",AB78)","v":{"$error":"#VALUE!"}},null,null,null,{"$f":"IF(AF78=\"\",\"\",AF78)","v":""},null,null,null,null,null,{"$f":"IF(AL78=\"\",\"\",AL78)","v":{"$error":"#VALUE!"}},null,null,{"$f":"IF(AO78=\"\",\"\",AO78)","v":"SAAT EK DERS YAPILMIŞTIR."}]
[null,"","","",{"$f":"IF(E79=\"\",\"\",E79)","v":""},"","","","","","","",{"$f":"IF(M79=\"\",\"\",M79)","v":""},{"$f":"IF(N79=\"\",\"\",N79)","v":""},{"$f":"IF(O79=\"\",\"\",O79)","v":""},"","","","","",{"$f":"IF(U79=\"\",\"\",U79)","v":""},{"$f":"IF(V79=\"\",\"\",V79)","v":""},{"$f":"IF(W79=\"\",\"\",W79)","v":""},{"$f":"IF(X79=\"\",\"\",X79)","v":""},{"$f":"IF(Y79=\"\",\"\",Y79)","v":""},null,{"$f":"IF(Z79=\"\",\"\",Z79)","v":""}]
[null,"","","","","","","","","","","",{"$f":"IF(M80=\"\",\"\",M80)","v":"2024-02-07"},null,null,null,null,null,null,null,null,null,null,null,null,null,null,null,null,null,null,{"$f":"IF(AF80=\"\",\"\",AF80)","v":"BİRİMİN ADI"},"","","","","","",0]
[null,{"$f":"IF(B81=\"\",\"\",B81)","v":"ÖĞR. ELEMANININ"},null,{"$f":"IF(C81=\"\",\"\",C81)","v":"İmzası"},null,null,{"$f":"IF(G81=\"\",\"\",G81)","v":""},null,null,null,null,null,null,null,null,{"$f":"IF(P81=\"\",\"\",P81)","v":"Bölüm Başkanı"},null,{"$f":"IF(R81=\"\",\"\",R81)","v":""},"İmzası","","","","","","","","","","","","","BİRİM YETKİLİSİNİN","","İmzası","","","","",""]
[null,null,null,null,null,null,null,null,null,null,null,null,null,null,null,null,null,{"$f":"IF(R82=\"\",\"\",R82)","v":""},"","","","","","","","","","","","","",{"$f":"IF(AF82=\"\",\"\",AF82)","v":""},"","","","","",""]
[null,null,null,null,null,null,null,null,null,null,null,null,null,null,null,null,null,{"$f":"IF(R83=\"\",\"\",R83)","v":""},"","","","","","","","","","","","","","","","","","","",""]
[null,null,null,{"$f":"IF(C84=\"\",\"\",C84)","v":"Adı ve Soyadı"},null,null,{"$f":"IF(G84=\"\",\"\",G84)","v":""},null,null,null,null,null,null,null,null,null,null,{"$f":"IF(R84=\"\",\"\",R84)","v":"Adı ve Soyadı"},"","","","","","","","","","","","","","","","Adı ve Soyadı","","","","",{"$f":"IF(AM84=\"\",\"\",AM84)","v":""}]
[null,null,null,null,null,null,null,null,null,null,null,null,null,null,null,null,null,{"$f":"IF(R85=\"\",\"\",R85)","v":""},"","","","","","","","","","","","","","","","","","","",""]
[null,null,null,null,null,null,null,null,null,null,null,null,null,null,null,null,null,{"$f":"IF(R86=\"\",\"\",R86)","v":""},"","","","","","","","","","","","","","","","Görevi","","","","",{"$f":"IF(AM86=\"\",\"\",AM86)","v":""}]
[null,{"$f":"IF(B87=\"\",\"\",B87)","v":{"$error":"#VALUE!"}},"D",{"$error":"#VALUE!"},{"$error":"#VALUE!"},{"$error":"#VALUE!"},{"$error":"#VALUE!"},"D","D",{"$error":"#VALUE!"},"D",{"$error":"#VALUE!"},{"$error":"#VALUE!"},{"$error":"#VALUE!"},{"$error":"#VALUE!"},"D","D",{"$f":"IF(R87=\"\",\"\",R87)","v":"D"},"D",{"$error":"#VALUE!"},{"$error":"#VALUE!"},{"$error":"#VALUE!"},{"$error":"#VALUE!"},{"$error":"#VALUE!"},{"$error":"#VALUE!"},{"$error":"#VALUE!"},"D",{"$error":"#VALUE!"},{"$error":"#VALUE!"},"D","D",{"$error":"#VALUE!"},{"$error":"#VALUE!"},{"$error":"#VALUE!"},{"$error":"#VALUE!"},{"$error":"#VALUE!"},{"$error":"#VALUE!"},{"$error":"#VALUE!"},{"$f":"IF(AM87=\"\",\"\",AM87)","v":{"$error":"#VALUE!"}},{"$f":"IF(AN87=\"\",\"\",AN87)","v":{"$error":"#VALUE!"}},{"$error":"#VALUE!"},{"$error":"#VALUE!"},{"$error":"#VALUE!"},{"$error":"#VALUE!"},{"$error":"#VALUE!"},{"$error":"#VALUE!"},{"$error":"#VALUE!"}]
[null,"İCMAL",null,null,null,null,null,null,null,null,null,null,null,null,null,null,null,null,null,null,null,null,null,null,null,null,null,null,null,null,null,null,null,null,null,null,null,null,{"$f":"IF(AM88=\"\",\"\",AM88)","v":""}]
[null,{"$f":"IF(B90=\"\",\"\",B90)","v":"BİRİM ADI"},null,null,null,null,null,{"$f":"IF(H90=\"\",\"\",H90)","v":"00:00:00"},null,null,null,null,{"$f":"IF(M90=\"\",\"\",M90)","v":"00:00:00"},"","","","","","","","","","","","","","","","","","","","","","","","","","","","","","","","","","","TOPLAM"]
[null,{"$f":"IF(F41=\"\",\"\",F41)","v":"Mühendislik Fakültesi"},null,null,null,null,null,{"$f":"IF(H112=\"\",\"\",H112)","v":"N.Ö."},null,null,{"$f":"IF(K112=\"\",\"\",K112)","v":"Teo"},null,"","","","","","","","","","","","","","","","","","","","","","","","","","","","","","","","","","","",0,{"$f":"IF(AW91=\"\",\"\",AW91)","v":0}]
[null,null,null,null,null,null,null,null,null,null,{"$f":"IF(K113=\"\",\"\",K113)","v":"DF"},null,"","","","","","","","","","","","","","","","","","","","","","","","","","","","","","","","","","","",0]
[null,{"$f":"IF(F71=\"\",\"\",F71)","v":""},null,null,null,null,null,{"$f":"IF(H114=\"\",\"\",H114)","v":"İ.Ö."},null,null,{"$f":"IF(K114=\"\",\"\",K114)","v":"Teo"},null,"","","","","","","","","","","","","","","","","","","","","","","","","","","","","","","","","","","",0,{"$f":"IF(AW93=\"\",\"\",AW93)","v":0}]
[null,null,null,null,null,null,null,null,null,null,{"$f":"IF(K115=\"\",\"\",K115)","v":"DF"},null,"","","","","","","","","","","","","","","","","","","","","","","","","","","","","","","","","","","",0]
[null,{"$f":"IF(F42=\"\",\"\",F42)","v":""},null,null,null,null,null,{"$f":"IF(H95=\"\",\"\",H95)","v":"N.Ö."},null,null,{"$f":"IF(K95=\"\",\"\",K95)","v":"Teo"},null,"","","","","","","","","","","","","","","","","","","","","","","","","","","","","","","","","","","",0,{"$f":"IF(AW95=\"\",\"\",AW95)","v":0}]
[null,null,null,null,null,null,null,null,null,null,"DF",null,"","","","","","","","","","","","","","","","","","","","","","","","","","","","","","","","","","","",0]
[null,{"$f":"IF(F72=\"\",\"\",F72)","v":""},null,null,null,null,null,{"$f":"IF(H97=\"\",\"\",H97)","v":"İ.Ö."},null,null,"Teo",null,"","","",{"$f":"IF(P97=\"\",\"\",P97)","v":""},"","","","","","","","","","","","","","","","","","","","","","","","","","","","","","","",0,{"$f":"IF(AW97=\"\",\"\",AW97)","v":0}]
[null,null,null,null,null,null,null,null,null,null,"DF",null,"","","","","","","","","","","","","","","","","","","","","","","","","","","","","","","","","","","",0]
[null,{"$f":"IF(F43=\"\",\"\",F43)","v":""},null,null,null,null,null,{"$f":"IF(H99=\"\",\"\",H99)","v":"N.Ö."},null,null,"Teo",null,"","","","","","","","","","","","","","","","","","","","","","","","","","","","","","","","","","","",0,{"$f":"IF(AW99=\"\",\"\",AW99)","v":0}]
[null,null,null,null,null,null,null,null,null,null,"DF",null,"","","","","","","","","","","","","","","","","","","","","","","","","","","","","","","","","","","",0]
[null,{"$f":"IF(F73=\"\",\"\",F73)","v":""},null,null,null,null,null,{"$f":"IF(H101=\"\",\"\",H101)","v":"İ.Ö."},null,null,"Teo",null,"","","","","","","","","","","","","","","","","","","","","","","","","","","","","","","","","","","",0,{"$f":"IF(AW101=\"\",\"\",AW101)","v":0}]
[null,null,null,null,null,null,null,null,null,null,"DF",null,"","","","","","","","","","","","","","","","","","","","","","","","","","","","","","","","","","","",0]
[null,{"$f":"IF(F44=\"\",\"\",F44)","v":""},null,null,null,null,null,{"$f":"IF(H103=\"\",\"\",H103)","v":"N.Ö."},null,null,"Teo",null,"","","","","","","","","","","","","","","","","","","","","","","","","","","","","","","","","","","",0,{"$f":"IF(AW103=\"\",\"\",AW103)","v":0}]
[null,null,null,null,null,null,null,null,null,null,"DF",null,"","","","","","",{"$f":"IF(S104=\"\",\"\",S104)","v":""},"","","","","","","","","","","","","","","","","","","","","","","","","","","","",0]
[null,{"$f":"IF(F74=\"\",\"\",F74)","v":""},null,null,null,null,null,{"$f":"IF(H105=\"\",\"\",H105)","v":"İ.Ö."},null,null,"Teo",null,"","","","","","","","","","","","","","","","","","","","","","","","","","","","","","","","","","","",0,{"$f":"IF(AW105=\"\",\"\",AW105)","v":0}]
[null,null,null,null,null,null,null,null,null,null,"DF",null,"","","","","","","","","","","","","","","","","","","","","","","","","","","","","","","","","","","",0]
[null,{"$f":"IF(F45=\"\",\"\",F45)","v":""},null,null,null,null,null,{"$f":"IF(H107=\"\",\"\",H107)","v":"N.Ö."},null,null,"Teo",null,"","","","","","","","","","","","","","","","","","","","","","","","","","","","","","","","","","","",0,{"$f":"IF(AW107=\"\",\"\",AW107)","v":0}]
[null,null,null,null,null,null,null,null,null,null,"DF",null,"","","","","","","","","","","","","","","","","","","","","","","","","","","","","","","","","","","",0]
[]
[null,"İCMAL"]
[null,{"$f":"IF(B90=\"\",\"\",B90)","v":"BİRİM ADI"},null,null,null,null,null,{"$f":"IF(H90=\"\",\"\",H90)","v":"00:00:00"},null,null,null,null,{"$f":"IF(M90=\"\",\"\",M90)","v":"00:00:00"},"","","","","","","","","","","","","","","","","","","","","","","","","","","","","","",{"$f":"IF(AR90=\"\",\"\",AR90)","v":""},"","","","TOPLAM"]
[null,{"$f":"IF(B112=\"\",\"\",B112)","v":""},null,null,null,null,null,{"$f":"IF(H112=\"\",\"\",H112)","v":"N.Ö."},null,null,{"$f":"IF(K112=\"\",\"\",K112)","v":"Teo"},null,{"$f":"IF(M112=\"\",\"\",M112)","v":""},"","","","","","","","","","","","","","","","","","","","","","","","","","","","","","","","","","",0,{"$f":"IF(AW112=\"\",\"\",AW112)","v":0}]
[null,null,null,null,null,null,null,null,null,null,{"$f":"IF(K142=\"\",\"\",K142)","v":"DF"},null,"","","","","","","","","","","","","","","","","","","","","","","","","","","","","","","","","","","",0]
[null,{"$f":"IF(B114=\"\",\"\",B114)","v":""},null,null,null,null,null,{"$f":"IF(H143=\"\",\"\",H143)","v":"İ.Ö"},null,null,{"$f":"IF(K143=\"\",\"\",K143)","v":"Teo"},null,"","","","","","","","","","","","","","","","","","","","","","","","","","","","","","","","","","","",0,{"$f":"IF(AW114=\"\",\"\",AW114)","v":0}]
[null,null,null,null,null,null,null,null,null,null,{"$f":"IF(K144=\"\",\"\",K144)","v":"DF"},null,"","","","","","","","","","","","","","","","","","","","","","","","","","","","","","","","","","","",0]
[null,{"$f":"IF(B116=\"\",\"\",B116)","v":""},null,null,null,null,null,{"$f":"IF(H145=\"\",\"\",H145)","v":"İ.Ö"},null,null,{"$f":"IF(K145=\"\",\"\",K145)","v":"Teo"},null,"","","","","","","","","","","","","","","","","","","","","","","","","","","","","","","","","","","",0,{"$f":"IF(AW116=\"\",\"\",AW116)","v":0}]
[null,null,null,null,null,null,null,null,null,null,{"$f":"IF(K146=\"\",\"\",K146)","v":"DF"},null,"","","","","","","","","","","","","","","","","","","","","","","","","","","","","","","","","","","",0]

{"sheet":"DersProg","index":3,"n_rows":344,"n_cols":17,"rows_kept":344,"cut":false,"hidden":false,"merged":[[342,1,342,2],[342,4,342,7],[343,1,343,2],[343,4,343,7],[299,4,299,7],[299,0,299,3],[338,6,338,7],[339,6,339,7],[340,6,340,7],[341,6,341,7],[336,0,336,1],[326,0,327,0],[328,0,329,0],[330,0,331,0],[332,0,333,0],[334,0,335,0],[316,0,317,0],[318,0,319,0],[320,0,321,0],[322,0,323,0],[324,0,325,0],[306,0,307,0],[308,0,309,0],[310,0,311,0],[312,0,313,0],[314,0,315,0],[304,0,305,0],[44,1,44,2],[44,4,44,7],[45,1,45,2],[45,4,45,7],[24,0,25,0],[22,0,23,0],[298,0,298,7],[300,0,300,7],[302,0,303,0],[40,6,40,7],[41,6,41,7],[42,6,42,7],[43,6,43,7],[39,6,39,7],[38,3,38,7],[34,0,35,0],[36,0,37,0],[38,0,38,1],[28,0,29,0],[26,0,27,0],[337,6,337,7],[336,3,336,7],[8,0,9,0],[0,0,0,7],[1,0,1,7],[2,0,2,7],[4,0,5,0],[6,0,7,0],[10,0,11,0],[12,0,13,0],[14,0,15,0],[16,0,17,0],[18,0,19,0],[20,0,21,0],[30,0,31,0],[32,0,33,0]]}
[{"$f":"DersYükü!AE2","v":"Rektörlük"}]
[{"$f":"DersYükü!I2","v":0},null,null,null,null,null,null,null,null,null,null,{"$f":"IF(#REF!=\"\",\"\",#REF!)","v":{"$error":"#REF!"}},{"$f":"IF(#REF!=\"\",\"\",#REF!)","v":{"$error":"#REF!"}},{"$f":"IF(#REF!=\"\",\"\",#REF!)","v":{"$error":"#REF!"}},{"$f":"IF(#REF!=\"\",\"\",#REF!)","v":{"$error":"#REF!"}},{"$f":"IF(#REF!=\"\",\"\",#REF!)","v":{"$error":"#REF!"}},{"$f":"IF(#REF!=\"\",\"\",#REF!)","v":{"$error":"#REF!"}}]
[{"$f":"CONCATENATE(DersYükü!R6,DersYükü!V6,\" ÖĞRETİM YILI \",DersYükü!R7,\" YARIYILI DERS PROGRAMI\")","v":" ÖĞRETİM YILI  YARIYILI DERS PROGRAMI"},null,null,null,null,null,null,null,null,null,null,{"$f":"IF(#REF!=\"\",\"\",#REF!)","v":{"$error":"#REF!"}},{"$f":"IF(#REF!=\"\",\"\",#REF!)","v":{"$error":"#REF!"}},{"$f":"IF(#REF!=\"\",\"\",#REF!)","v":{"$error":"#REF!"}},{"$f":"IF(#REF!=\"\",\"\",#REF!)","v":{"$error":"#REF!"}},{"$f":"IF(#REF!=\"\",\"\",#REF!)","v":{"$error":"#REF!"}},{"$f":"IF(#REF!=\"\",\"\",#REF!)","v":{"$error":"#REF!"}}]
["SAAT","PAZARTESİ","SALI","ÇARŞAMBA","PERŞEMBE","CUMA","CUMARTESİ","PAZAR",null,null,null,{"$f":"IF(#REF!=\"\",\"\",#REF!)","v":{"$error":"#REF!"}},{"$f":"IF(#REF!=\"\",\"\",#REF!)","v":{"$error":"#REF!"}},{"$f":"IF(#REF!=\"\",\"\",#REF!)","v":{"$error":"#REF!"}},{"$f":"IF(#REF!=\"\",\"\",#REF!)","v":{"$error":"#REF!"}},{"$f":"IF(#REF!=\"\",\"\",#REF!)","v":{"$error":"#REF!"}},{"$f":"IF(#REF!=\"\",\"\",#REF!)","v":{"$error":"#REF!"}}]
["08:40-09:30",{"$f":"IF(DersYükü!AK47=\"\",\"\",DersYükü!AK47)","v":""},{"$f":"IF(DersYükü!AL47=\"\",\"\",DersYükü!AL47)","v":""},{"$f":"IF(DersYükü!AM47=\"\",\"\",DersYükü!AM47)","v":""},{"$f":"IF(DersYükü!AN47=\"\",\"\",DersYükü!AN47)","v":""},{"$f":"IF(DersYükü!AO47=\"\",\"\",DersYükü!AO47)","v":""},{"$f":"IF(DersYükü!AP47=\"\",\"\",DersYükü!AP47)","v":""},{"$f":"IF(DersYükü!AQ47=\"\",\"\",DersYükü!AQ47)","v":""},null,null,null,{"$f":"IF(#REF!=\"\",\"\",#REF!)","v":{"$error":"#REF!"}},{"$f":"IF(#REF!=\"\",\"\",#REF!)","v":{"$error":"#REF!"}},{"$f":"IF(#REF!=\"\",\"\",#REF!)","v":{"$error":"#REF!"}},{"$f":"IF(#REF!=\"\",\"\",#REF!)","v":{"$error":"#REF!"}},{"$f":"IF(#REF!=\"\",\"\",#REF!)","v":{"$error":"#REF!"}},{"$f":"IF(#REF!=\"\",\"\",#REF!)","v":{"$error":"#REF!"}}]
[null,{"$f":"IF(DersYükü!F47>0,VLOOKUP(DersYükü!F47,DersYükü!$A$14:$W$39,13,FALSE),IF(DersYükü!G47>0,VLOOKUP(DersYükü!G47,DersYükü!$A$14:$W$39,13,FALSE),\"\"))","v":""},{"$f":"IF(DersYükü!H47>0,VLOOKUP(DersYükü!H47,DersYükü!$A$14:$W$39,13,FALSE),IF(DersYükü!I47>0,VLOOKUP(DersYükü!I47,DersYükü!$A$14:$W$39,13,FALSE),\"\"))","v":""},{"$f":"IF(DersYükü!J47>0,VLOOKUP(DersYükü!J47,DersYükü!$A$14:$W$39,13,FALSE),IF(DersYükü!K47>0,VLOOKUP(DersYükü!K47,DersYükü!$A$14:$W$39,13,FALSE),\"\"))","v":""},{"$f":"IF(DersYükü!L47>0,VLOOKUP(DersYükü!L47,DersYükü!$A$14:$W$39,13,FALSE),IF(DersYükü!M47>0,VLOOKUP(DersYükü!M47,DersYükü!$A$14:$W$39,13,FALSE),\"\"))","v":""},{"$f":"IF(DersYükü!N47>0,VLOOKUP(DersYükü!N47,DersYükü!$A$14:$W$39,13,FALSE),IF(DersYükü!O47>0,VLOOKUP(DersYükü!O47,DersYükü!$A$14:$W$39,13,FALSE),\"\"))","v":""},{"$f":"IF(DersYükü!P47>0,VLOOKUP(DersYükü!P47,DersYükü!$A$14:$W$39,13,FALSE),IF(DersYükü!Q47>0,VLOOKUP(DersYükü!Q47,DersYükü!$A$14:$W$39,13,FALSE),IF(DersYükü!R47>0,VLOOKUP(DersYükü!R47,DersYükü!$A$14:$W$39,13,FALSE),IF(DersYükü!S47>0,VLOOKUP(DersYükü!S47,DersYükü!$A$14:$W$39,13,FALSE),\"\"))))","v":""},{"$f":"IF(DersYükü!T47>0,VLOOKUP(DersYükü!T47,DersYükü!$A$14:$W$39,13,FALSE),IF(DersYükü!U47>0,VLOOKUP(DersYükü!U47,DersYükü!$A$14:$W$39,13,FALSE),IF(DersYükü!V47>0,VLOOKUP(DersYükü!V47,DersYükü!$A$14:$W$39,13,FALSE),IF(DersYükü!W47>0,VLOOKUP(DersYükü!W47,DersYükü!$A$14:$W$39,13,FALSE),\"\"))))","v":""},null,null,null,{"$f":"IF(#REF!=\"\",\"\",#REF!)","v":{"$error":"#REF!"}},{"$f":"IF(#REF!=\"\",\"\",#REF!)","v":{"$error":"#REF!"}},{"$f":"IF(#REF!=\"\",\"\",#REF!)","v":{"$error":"#REF!"}},{"$f":"IF(#REF!=\"\",\"\",#REF!)","v":{"$error":"#REF!"}},{"$f":"IF(#REF!=\"\",\"\",#REF!)","v":{"$error":"#REF!"}},{"$f":"IF(#REF!=\"\",\"\",#REF!)","v":{"$error":"#REF!"}}]
["09:40-10:30",{"$f":"IF(DersYükü!AK48=\"\",\"\",DersYükü!AK48)","v":""},{"$f":"IF(DersYükü!AL48=\"\",\"\",DersYükü!AL48)","v":""},{"$f":"IF(DersYükü!AM48=\"\",\"\",DersYükü!AM48)","v":""},{"$f":"IF(DersYükü!AN48=\"\",\"\",DersYükü!AN48)","v":""},{"$f":"IF(DersYükü!AO48=\"\",\"\",DersYükü!AO48)","v":""},{"$f":"IF(DersYükü!AP48=\"\",\"\",DersYükü!AP48)","v":""},{"$f":"IF(DersYükü!AQ48=\"\",\"\",DersYükü!AQ48)","v":""},null,null,null,{"$f":"IF(#REF!=\"\",\"\",#REF!)","v":{"$error":"#REF!"}},{"$f":"IF(#REF!=\"\",\"\",#REF!)","v":{"$error":"#REF!"}},{"$f":"IF(#REF!=\"\",\"\",#REF!)","v":{"$error":"#REF!"}},{"$f":"IF(#REF!=\"\",\"\",#REF!)","v":{"$error":"#REF!"}},{"$f":"IF(#REF!=\"\",\"\",#REF!)","v":{"$error":"#REF!"}},{"$f":"IF(#REF!=\"\",\"\",#REF!)","v":{"$error":"#REF!"}}]
[null,{"$f":"IF(DersYükü!F48>0,VLOOKUP(DersYükü!F48,DersYükü!$A$14:$W$39,13,FALSE),IF(DersYükü!G48>0,VLOOKUP(DersYükü!G48,DersYükü!$A$14:$W$39,13,FALSE),\"\"))","v":""},{"$f":"IF(DersYükü!H48>0,VLOOKUP(DersYükü!H48,DersYükü!$A$14:$W$39,13,FALSE),IF(DersYükü!I48>0,VLOOKUP(DersYükü!I48,DersYükü!$A$14:$W$39,13,FALSE),\"\"))","v":""},{"$f":"IF(DersYükü!J48>0,VLOOKUP(DersYükü!J48,DersYükü!$A$14:$W$39,13,FALSE),IF(DersYükü!K48>0,VLOOKUP(DersYükü!K48,DersYükü!$A$14:$W$39,13,FALSE),\"\"))","v":""},{"$f":"IF(DersYükü!L48>0,VLOOKUP(DersYükü!L48,DersYükü!$A$14:$W$39,13,FALSE),IF(DersYükü!M48>0,VLOOKUP(DersYükü!M48,DersYükü!$A$14:$W$39,13,FALSE),\"\"))","v":""},{"$f":"IF(DersYükü!N48>0,VLOOKUP(DersYükü!N48,DersYükü!$A$14:$W$39,13,FALSE),IF(DersYükü!O48>0,VLOOKUP(DersYükü!O48,DersYükü!$A$14:$W$39,13,FALSE),\"\"))","v":""},{"$f":"IF(DersYükü!P48>0,VLOOKUP(DersYükü!P48,DersYükü!$A$14:$W$39,13,FALSE),IF(DersYükü!Q48>0,VLOOKUP(DersYükü!Q48,DersYükü!$A$14:$W$39,13,FALSE),IF(DersYükü!R48>0,VLOOKUP(DersYükü!R48,DersYükü!$A$14:$W$39,13,FALSE),IF(DersYükü!S48>0,VLOOKUP(DersYükü!S48,DersYükü!$A$14:$W$39,13,FALSE),\"\"))))","v":""},{"$f":"IF(DersYükü!T48>0,VLOOKUP(DersYükü!T48,DersYükü!$A$14:$W$39,13,FALSE),IF(DersYükü!U48>0,VLOOKUP(DersYükü!U48,DersYükü!$A$14:$W$39,13,FALSE),IF(DersYükü!V48>0,VLOOKUP(DersYükü!V48,DersYükü!$A$14:$W$39,13,FALSE),IF(DersYükü!W48>0,VLOOKUP(DersYükü!W48,DersYükü!$A$14:$W$39,13,FALSE),\"\"))))","v":""},null,null,null,{"$f":"IF(#REF!=\"\",\"\",#REF!)","v":{"$error":"#REF!"}},{"$f":"IF(#REF!=\"\",\"\",#REF!)","v":{"$error":"#REF!"}},{"$f":"IF(#REF!=\"\",\"\",#REF!)","v":{"$error":"#REF!"}},{"$f":"IF(#REF!=\"\",\"\",#REF!)","v":{"$error":"#REF!"}},{"$f":"IF(#REF!=\"\",\"\",#REF!)","v":{"$error":"#REF!"}},{"$f":"IF(#REF!=\"\",\"\",#REF!)","v":{"$error":"#REF!"}}]
["10:40-11:30",{"$f":"IF(DersYükü!AK49=\"\",\"\",DersYükü!AK49)","v":""},{"$f":"IF(DersYükü!AL49=\"\",\"\",DersYükü!AL49)","v":""},{"$f":"IF(DersYükü!AM49=\"\",\"\",DersYükü!AM49)","v":""},{"$f":"IF(DersYükü!AN49=\"\",\"\",DersYükü!AN49)","v":""},{"$f":"IF(DersYükü!AO49=\"\",\"\",DersYükü!AO49)","v":""},{"$f":"IF(DersYükü!AP49=\"\",\"\",DersYükü!AP49)","v":""},{"$f":"IF(DersYükü!AQ49=\"\",\"\",DersYükü!AQ49)","v":""},null,null,null,{"$f":"IF(#REF!=\"\",\"\",#REF!)","v":{"$error":"#REF!"}},{"$f":"IF(#REF!=\"\",\"\",#REF!)","v":{"$error":"#REF!"}},{"$f":"IF(#REF!=\"\",\"\",#REF!)","v":{"$error":"#REF!"}},{"$f":"IF(#REF!=\"\",\"\",#REF!)","v":{"$error":"#REF!"}},{"$f":"IF(#REF!=\"\",\"\",#REF!)","v":{"$error":"#REF!"}},{"$f":"IF(#REF!=\"\",\"\",#REF!)","v":{"$error":"#REF!"}}]
[null,{"$f":"IF(DersYükü!F49>0,VLOOKUP(DersYükü!F49,DersYükü!$A$14:$W$39,13,FALSE),IF(DersYükü!G49>0,VLOOKUP(DersYükü!G49,DersYükü!$A$14:$W$39,13,FALSE),\"\"))","v":""},{"$f":"IF(DersYükü!H49>0,VLOOKUP(DersYükü!H49,DersYükü!$A$14:$W$39,13,FALSE),IF(DersYükü!I49>0,VLOOKUP(DersYükü!I49,DersYükü!$A$14:$W$39,13,FALSE),\"\"))","v":""},{"$f":"IF(DersYükü!J49>0,VLOOKUP(DersYükü!J49,DersYükü!$A$14:$W$39,13,FALSE),IF(DersYükü!K49>0,VLOOKUP(DersYükü!K49,DersYükü!$A$14:$W$39,13,FALSE),\"\"))","v":""},{"$f":"IF(DersYükü!L49>0,VLOOKUP(DersYükü!L49,DersYükü!$A$14:$W$39,13,FALSE),IF(DersYükü!M49>0,VLOOKUP(DersYükü!M49,DersYükü!$A$14:$W$39,13,FALSE),\"\"))","v":""},{"$f":"IF(DersYükü!N49>0,VLOOKUP(DersYükü!N49,DersYükü!$A$14:$W$39,13,FALSE),IF(DersYükü!O49>0,VLOOKUP(DersYükü!O49,DersYükü!$A$14:$W$39,13,FALSE),\"\"))","v":""},{"$f":"IF(DersYükü!P49>0,VLOOKUP(DersYükü!P49,DersYükü!$A$14:$W$39,13,FALSE),IF(DersYükü!Q49>0,VLOOKUP(DersYükü!Q49,DersYükü!$A$14:$W$39,13,FALSE),IF(DersYükü!R49>0,VLOOKUP(DersYükü!R49,DersYükü!$A$14:$W$39,13,FALSE),IF(DersYükü!S49>0,VLOOKUP(DersYükü!S49,DersYükü!$A$14:$W$39,13,FALSE),\"\"))))","v":""},{"$f":"IF(DersYükü!T49>0,VLOOKUP(DersYükü!T49,DersYükü!$A$14:$W$39,13,FALSE),IF(DersYükü!U49>0,VLOOKUP(DersYükü!U49,DersYükü!$A$14:$W$39,13,FALSE),IF(DersYükü!V49>0,VLOOKUP(DersYükü!V49,DersYükü!$A$14:$W$39,13,FALSE),IF(DersYükü!W49>0,VLOOKUP(DersYükü!W49,DersYükü!$A$14:$W$39,13,FALSE),\"\"))))","v":""},null,null,null,{"$f":"IF(#REF!=\"\",\"\",#REF!)","v":{"$error":"#REF!"}},{"$f":"IF(#REF!=\"\",\"\",#REF!)","v":{"$error":"#REF!"}},{"$f":"IF(#REF!=\"\",\"\",#REF!)","v":{"$error":"#REF!"}},{"$f":"IF(#REF!=\"\",\"\",#REF!)","v":{"$error":"#REF!"}},{"$f":"IF(#REF!=\"\",\"\",#REF!)","v":{"$error":"#REF!"}},{"$f":"IF(#REF!=\"\",\"\",#REF!)","v":{"$error":"#REF!"}}]
["11:40-12:30",{"$f":"IF(DersYükü!AK50=\"\",\"\",DersYükü!AK50)","v":""},{"$f":"IF(DersYükü!AL50=\"\",\"\",DersYükü!AL50)","v":""},{"$f":"IF(DersYükü!AM50=\"\",\"\",DersYükü!AM50)","v":""},{"$f":"IF(DersYükü!AN50=\"\",\"\",DersYükü!AN50)","v":""},{"$f":"IF(DersYükü!AO50=\"\",\"\",DersYükü!AO50)","v":""},{"$f":"IF(DersYükü!AP50=\"\",\"\",DersYükü!AP50)","v":""},{"$f":"IF(DersYükü!AQ50=\"\",\"\",DersYükü!AQ50)","v":""},null,null,null,{"$f":"IF(#REF!=\"\",\"\",#REF!)","v":{"$error":"#REF!"}},{"$f":"IF(#REF!=\"\",\"\",#REF!)","v":{"$error":"#REF!"}},{"$f":"IF(#REF!=\"\",\"\",#REF!)","v":{"$error":"#REF!"}},{"$f":"IF(#REF!=\"\",\"\",#REF!)","v":{"$error":"#REF!"}},{"$f":"IF(#REF!=\"\",\"\",#REF!)","v":{"$error":"#REF!"}},{"$f":"IF(#REF!=\"\",\"\",#REF!)","v":{"$error":"#REF!"}}]
[null,{"$f":"IF(DersYükü!F50>0,VLOOKUP(DersYükü!F50,DersYükü!$A$14:$W$39,13,FALSE),IF(DersYükü!G50>0,VLOOKUP(DersYükü!G50,DersYükü!$A$14:$W$39,13,FALSE),\"\"))","v":""},{"$f":"IF(DersYükü!H50>0,VLOOKUP(DersYükü!H50,DersYükü!$A$14:$W$39,13,FALSE),IF(DersYükü!I50>0,VLOOKUP(DersYükü!I50,DersYükü!$A$14:$W$39,13,FALSE),\"\"))","v":""},{"$f":"IF(DersYükü!J50>0,VLOOKUP(DersYükü!J50,DersYükü!$A$14:$W$39,13,FALSE),IF(DersYükü!K50>0,VLOOKUP(DersYükü!K50,DersYükü!$A$14:$W$39,13,FALSE),\"\"))","v":""},{"$f":"IF(DersYükü!L50>0,VLOOKUP(DersYükü!L50,DersYükü!$A$14:$W$39,13,FALSE),IF(DersYükü!M50>0,VLOOKUP(DersYükü!M50,DersYükü!$A$14:$W$39,13,FALSE),\"\"))","v":""},{"$f":"IF(DersYükü!N50>0,VLOOKUP(DersYükü!N50,DersYükü!$A$14:$W$39,13,FALSE),IF(DersYükü!O50>0,VLOOKUP(DersYükü!O50,DersYükü!$A$14:$W$39,13,FALSE),\"\"))","v":""},{"$f":"IF(DersYükü!P50>0,VLOOKUP(DersYükü!P50,DersYükü!$A$14:$W$39,13,FALSE),IF(DersYükü!Q50>0,VLOOKUP(DersYükü!Q50,DersYükü!$A$14:$W$39,13,FALSE),IF(DersYükü!R50>0,VLOOKUP(DersYükü!R50,DersYükü!$A$14:$W$39,13,FALSE),IF(DersYükü!S50>0,VLOOKUP(DersYükü!S50,DersYükü!$A$14:$W$39,13,FALSE),\"\"))))","v":""},{"$f":"IF(DersYükü!T50>0,VLOOKUP(DersYükü!T50,DersYükü!$A$14:$W$39,13,FALSE),IF(DersYükü!U50>0,VLOOKUP(DersYükü!U50,DersYükü!$A$14:$W$39,13,FALSE),IF(DersYükü!V50>0,VLOOKUP(DersYükü!V50,DersYükü!$A$14:$W$39,13,FALSE),IF(DersYükü!W50>0,VLOOKUP(DersYükü!W50,DersYükü!$A$14:$W$39,13,FALSE),\"\"))))","v":""},null,null,null,{"$f":"IF(#REF!=\"\",\"\",#REF!)","v":{"$error":"#REF!"}},{"$f":"IF(#REF!=\"\",\"\",#REF!)","v":{"$error":"#REF!"}},{"$f":"IF(#REF!=\"\",\"\",#REF!)","v":{"$error":"#REF!"}},{"$f":"IF(#REF!=\"\",\"\",#REF!)","v":{"$error":"#REF!"}},{"$f":"IF(#REF!=\"\",\"\",#REF!)","v":{"$error":"#REF!"}},{"$f":"IF(#REF!=\"\",\"\",#REF!)","v":{"$error":"#REF!"}}]
["12:30-13:40",{"$f":"IF(DersYükü!AK51=\"\",\"\",DersYükü!AK51)","v":""},{"$f":"IF(DersYükü!AL51=\"\",\"\",DersYükü!AL51)","v":""},{"$f":"IF(DersYükü!AM51=\"\",\"\",DersYükü!AM51)","v":""},{"$f":"IF(DersYükü!AN51=\"\",\"\",DersYükü!AN51)","v":""},{"$f":"IF(DersYükü!AO51=\"\",\"\",DersYükü!AO51)","v":""},{"$f":"IF(DersYükü!AP51=\"\",\"\",DersYükü!AP51)","v":""},{"$f":"IF(DersYükü!AQ51=\"\",\"\",DersYükü!AQ51)","v":""},null,null,null,{"$f":"IF(#REF!=\"\",\"\",#REF!)","v":{"$error":"#REF!"}},{"$f":"IF(#REF!=\"\",\"\",#REF!)","v":{"$error":"#REF!"}},{"$f":"IF(#REF!=\"\",\"\",#REF!)","v":{"$error":"#REF!"}},{"$f":"IF(#REF!=\"\",\"\",#REF!)","v":{"$error":"#REF!"}},{"$f":"IF(#REF!=\"\",\"\",#REF!)","v":{"$error":"#REF!"}},{"$f":"IF(#REF!=\"\",\"\",#REF!)","v":{"$error":"#REF!"}}]
[null,{"$f":"IF(DersYükü!F51>0,VLOOKUP(DersYükü!F51,DersYükü!$A$14:$W$39,13,FALSE),IF(DersYükü!G51>0,VLOOKUP(DersYükü!G51,DersYükü!$A$14:$W$39,13,FALSE),\"\"))","v":""},{"$f":"IF(DersYükü!H51>0,VLOOKUP(DersYükü!H51,DersYükü!$A$14:$W$39,13,FALSE),IF(DersYükü!I51>0,VLOOKUP(DersYükü!I51,DersYükü!$A$14:$W$39,13,FALSE),\"\"))","v":""},{"$f":"IF(DersYükü!J51>0,VLOOKUP(DersYükü!J51,DersYükü!$A$14:$W$39,13,FALSE),IF(DersYükü!K51>0,VLOOKUP(DersYükü!K51,DersYükü!$A$14:$W$39,13,FALSE),\"\"))","v":""},{"$f":"IF(DersYükü!L51>0,VLOOKUP(DersYükü!L51,DersYükü!$A$14:$W$39,13,FALSE),IF(DersYükü!M51>0,VLOOKUP(DersYükü!M51,DersYükü!$A$14:$W$39,13,FALSE),\"\"))","v":""},{"$f":"IF(DersYükü!N51>0,VLOOKUP(DersYükü!N51,DersYükü!$A$14:$W$39,13,FALSE),IF(DersYükü!O51>0,VLOOKUP(DersYükü!O51,DersYükü!$A$14:$W$39,13,FALSE),\"\"))","v":""},{"$f":"IF(DersYükü!P51>0,VLOOKUP(DersYükü!P51,DersYükü!$A$14:$W$39,13,FALSE),IF(DersYükü!Q51>0,VLOOKUP(DersYükü!Q51,DersYükü!$A$14:$W$39,13,FALSE),IF(DersYükü!R51>0,VLOOKUP(DersYükü!R51,DersYükü!$A$14:$W$39,13,FALSE),IF(DersYükü!S51>0,VLOOKUP(DersYükü!S51,DersYükü!$A$14:$W$39,13,FALSE),\"\"))))","v":""},{"$f":"IF(DersYükü!T51>0,VLOOKUP(DersYükü!T51,DersYükü!$A$14:$W$39,13,FALSE),IF(DersYükü!U51>0,VLOOKUP(DersYükü!U51,DersYükü!$A$14:$W$39,13,FALSE),IF(DersYükü!V51>0,VLOOKUP(DersYükü!V51,DersYükü!$A$14:$W$39,13,FALSE),IF(DersYükü!W51>0,VLOOKUP(DersYükü!W51,DersYükü!$A$14:$W$39,13,FALSE),\"\"))))","v":""},null,null,null,{"$f":"IF(#REF!=\"\",\"\",#REF!)","v":{"$error":"#REF!"}},{"$f":"IF(#REF!=\"\",\"\",#REF!)","v":{"$error":"#REF!"}},{"$f":"IF(#REF!=\"\",\"\",#REF!)","v":{"$error":"#REF!"}},{"$f":"IF(#REF!=\"\",\"\",#REF!)","v":{"$error":"#REF!"}},{"$f":"IF(#REF!=\"\",\"\",#REF!)","v":{"$error":"#REF!"}},{"$f":"IF(#REF!=\"\",\"\",#REF!)","v":{"$error":"#REF!"}}]
["13:40-14:30",{"$f":"IF(DersYükü!AK52=\"\",\"\",DersYükü!AK52)","v":""},{"$f":"IF(DersYükü!AL52=\"\",\"\",DersYükü!AL52)","v":""},{"$f":"IF(DersYükü!AM52=\"\",\"\",DersYükü!AM52)","v":""},{"$f":"IF(DersYükü!AN52=\"\",\"\",DersYükü!AN52)","v":""},{"$f":"IF(DersYükü!AO52=\"\",\"\",DersYükü!AO52)","v":""},{"$f":"IF(DersYükü!AP52=\"\",\"\",DersYükü!AP52)","v":""},{"$f":"IF(DersYükü!AQ52=\"\",\"\",DersYükü!AQ52)","v":""},null,null,null,{"$f":"IF(#REF!=\"\",\"\",#REF!)","v":{"$error":"#REF!"}},{"$f":"IF(#REF!=\"\",\"\",#REF!)","v":{"$error":"#REF!"}},{"$f":"IF(#REF!=\"\",\"\",#REF!)","v":{"$error":"#REF!"}},{"$f":"IF(#REF!=\"\",\"\",#REF!)","v":{"$error":"#REF!"}},{"$f":"IF(#REF!=\"\",\"\",#REF!)","v":{"$error":"#REF!"}},{"$f":"IF(#REF!=\"\",\"\",#REF!)","v":{"$error":"#REF!"}}]
[null,{"$f":"IF(DersYükü!F52>0,VLOOKUP(DersYükü!F52,DersYükü!$A$14:$W$39,13,FALSE),IF(DersYükü!G52>0,VLOOKUP(DersYükü!G52,DersYükü!$A$14:$W$39,13,FALSE),\"\"))","v":""},{"$f":"IF(DersYükü!H52>0,VLOOKUP(DersYükü!H52,DersYükü!$A$14:$W$39,13,FALSE),IF(DersYükü!I52>0,VLOOKUP(DersYükü!I52,DersYükü!$A$14:$W$39,13,FALSE),\"\"))","v":""},{"$f":"IF(DersYükü!J52>0,VLOOKUP(DersYükü!J52,DersYükü!$A$14:$W$39,13,FALSE),IF(DersYükü!K52>0,VLOOKUP(DersYükü!K52,DersYükü!$A$14:$W$39,13,FALSE),\"\"))","v":""},{"$f":"IF(DersYükü!L52>0,VLOOKUP(DersYükü!L52,DersYükü!$A$14:$W$39,13,FALSE),IF(DersYükü!M52>0,VLOOKUP(DersYükü!M52,DersYükü!$A$14:$W$39,13,FALSE),\"\"))","v":""},{"$f":"IF(DersYükü!N52>0,VLOOKUP(DersYükü!N52,DersYükü!$A$14:$W$39,13,FALSE),IF(DersYükü!O52>0,VLOOKUP(DersYükü!O52,DersYükü!$A$14:$W$39,13,FALSE),\"\"))","v":""},{"$f":"IF(DersYükü!P52>0,VLOOKUP(DersYükü!P52,DersYükü!$A$14:$W$39,13,FALSE),IF(DersYükü!Q52>0,VLOOKUP(DersYükü!Q52,DersYükü!$A$14:$W$39,13,FALSE),IF(DersYükü!R52>0,VLOOKUP(DersYükü!R52,DersYükü!$A$14:$W$39,13,FALSE),IF(DersYükü!S52>0,VLOOKUP(DersYükü!S52,DersYükü!$A$14:$W$39,13,FALSE),\"\"))))","v":""},{"$f":"IF(DersYükü!T52>0,VLOOKUP(DersYükü!T52,DersYükü!$A$14:$W$39,13,FALSE),IF(DersYükü!U52>0,VLOOKUP(DersYükü!U52,DersYükü!$A$14:$W$39,13,FALSE),IF(DersYükü!V52>0,VLOOKUP(DersYükü!V52,DersYükü!$A$14:$W$39,13,FALSE),IF(DersYükü!W52>0,VLOOKUP(DersYükü!W52,DersYükü!$A$14:$W$39,13,FALSE),\"\"))))","v":""},null,null,null,{"$f":"IF(#REF!=\"\",\"\",#REF!)","v":{"$error":"#REF!"}},{"$f":"IF(#REF!=\"\",\"\",#REF!)","v":{"$error":"#REF!"}},{"$f":"IF(#REF!=\"\",\"\",#REF!)","v":{"$error":"#REF!"}},{"$f":"IF(#REF!=\"\",\"\",#REF!)","v":{"$error":"#REF!"}},{"$f":"IF(#REF!=\"\",\"\",#REF!)","v":{"$error":"#REF!"}},{"$f":"IF(#REF!=\"\",\"\",#REF!)","v":{"$error":"#REF!"}}]
["14:40-15:30",{"$f":"IF(DersYükü!AK53=\"\",\"\",DersYükü!AK53)","v":""},{"$f":"IF(DersYükü!AL53=\"\",\"\",DersYükü!AL53)","v":""},{"$f":"IF(DersYükü!AM53=\"\",\"\",DersYükü!AM53)","v":""},{"$f":"IF(DersYükü!AN53=\"\",\"\",DersYükü!AN53)","v":""},{"$f":"IF(DersYükü!AO53=\"\",\"\",DersYükü!AO53)","v":""},{"$f":"IF(DersYükü!AP53=\"\",\"\",DersYükü!AP53)","v":""},{"$f":"IF(DersYükü!AQ53=\"\",\"\",DersYükü!AQ53)","v":""},null,null,null,{"$f":"IF(#REF!=\"\",\"\",#REF!)","v":{"$error":"#REF!"}},{"$f":"IF(#REF!=\"\",\"\",#REF!)","v":{"$error":"#REF!"}},{"$f":"IF(#REF!=\"\",\"\",#REF!)","v":{"$error":"#REF!"}},{"$f":"IF(#REF!=\"\",\"\",#REF!)","v":{"$error":"#REF!"}},{"$f":"IF(#REF!=\"\",\"\",#REF!)","v":{"$error":"#REF!"}},{"$f":"IF(#REF!=\"\",\"\",#REF!)","v":{"$error":"#REF!"}}]
[null,{"$f":"IF(DersYükü!F53>0,VLOOKUP(DersYükü!F53,DersYükü!$A$14:$W$39,13,FALSE),IF(DersYükü!G53>0,VLOOKUP(DersYükü!G53,DersYükü!$A$14:$W$39,13,FALSE),\"\"))","v":""},{"$f":"IF(DersYükü!H53>0,VLOOKUP(DersYükü!H53,DersYükü!$A$14:$W$39,13,FALSE),IF(DersYükü!I53>0,VLOOKUP(DersYükü!I53,DersYükü!$A$14:$W$39,13,FALSE),\"\"))","v":""},{"$f":"IF(DersYükü!J53>0,VLOOKUP(DersYükü!J53,DersYükü!$A$14:$W$39,13,FALSE),IF(DersYükü!K53>0,VLOOKUP(DersYükü!K53,DersYükü!$A$14:$W$39,13,FALSE),\"\"))","v":""},{"$f":"IF(DersYükü!L53>0,VLOOKUP(DersYükü!L53,DersYükü!$A$14:$W$39,13,FALSE),IF(DersYükü!M53>0,VLOOKUP(DersYükü!M53,DersYükü!$A$14:$W$39,13,FALSE),\"\"))","v":""},{"$f":"IF(DersYükü!N53>0,VLOOKUP(DersYükü!N53,DersYükü!$A$14:$W$39,13,FALSE),IF(DersYükü!O53>0,VLOOKUP(DersYükü!O53,DersYükü!$A$14:$W$39,13,FALSE),\"\"))","v":""},{"$f":"IF(DersYükü!P53>0,VLOOKUP(DersYükü!P53,DersYükü!$A$14:$W$39,13,FALSE),IF(DersYükü!Q53>0,VLOOKUP(DersYükü!Q53,DersYükü!$A$14:$W$39,13,FALSE),IF(DersYükü!R53>0,VLOOKUP(DersYükü!R53,DersYükü!$A$14:$W$39,13,FALSE),IF(DersYükü!S53>0,VLOOKUP(DersYükü!S53,DersYükü!$A$14:$W$39,13,FALSE),\"\"))))","v":""},{"$f":"IF(DersYükü!T53>0,VLOOKUP(DersYükü!T53,DersYükü!$A$14:$W$39,13,FALSE),IF(DersYükü!U53>0,VLOOKUP(DersYükü!U53,DersYükü!$A$14:$W$39,13,FALSE),IF(DersYükü!V53>0,VLOOKUP(DersYükü!V53,DersYükü!$A$14:$W$39,13,FALSE),IF(DersYükü!W53>0,VLOOKUP(DersYükü!W53,DersYükü!$A$14:$W$39,13,FALSE),\"\"))))","v":""},null,null,null,{"$f":"IF(#REF!=\"\",\"\",#REF!)","v":{"$error":"#REF!"}},{"$f":"IF(#REF!=\"\",\"\",#REF!)","v":{"$error":"#REF!"}},{"$f":"IF(#REF!=\"\",\"\",#REF!)","v":{"$error":"#REF!"}},{"$f":"IF(#REF!=\"\",\"\",#REF!)","v":{"$error":"#REF!"}},{"$f":"IF(#REF!=\"\",\"\",#REF!)","v":{"$error":"#REF!"}},{"$f":"IF(#REF!=\"\",\"\",#REF!)","v":{"$error":"#REF!"}}]
["15:40-16:30",{"$f":"IF(DersYükü!AK54=\"\",\"\",DersYükü!AK54)","v":""},{"$f":"IF(DersYükü!AL54=\"\",\"\",DersYükü!AL54)","v":""},{"$f":"IF(DersYükü!AM54=\"\",\"\",DersYükü!AM54)","v":""},{"$f":"IF(DersYükü!AN54=\"\",\"\",DersYükü!AN54)","v":""},{"$f":"IF(DersYükü!AO54=\"\",\"\",DersYükü!AO54)","v":""},{"$f":"IF(DersYükü!AP54=\"\",\"\",DersYükü!AP54)","v":""},{"$f":"IF(DersYükü!AQ54=\"\",\"\",DersYükü!AQ54)","v":""},null,null,null,{"$f":"IF(#REF!=\"\",\"\",#REF!)","v":{"$error":"#REF!"}},{"$f":"IF(#REF!=\"\",\"\",#REF!)","v":{"$error":"#REF!"}},{"$f":"IF(#REF!=\"\",\"\",#REF!)","v":{"$error":"#REF!"}},{"$f":"IF(#REF!=\"\",\"\",#REF!)","v":{"$error":"#REF!"}},{"$f":"IF(#REF!=\"\",\"\",#REF!)","v":{"$error":"#REF!"}},{"$f":"IF(#REF!=\"\",\"\",#REF!)","v":{"$error":"#REF!"}}]
[null,{"$f":"IF(DersYükü!F54>0,VLOOKUP(DersYükü!F54,DersYükü!$A$14:$W$39,13,FALSE),IF(DersYükü!G54>0,VLOOKUP(DersYükü!G54,DersYükü!$A$14:$W$39,13,FALSE),\"\"))","v":""},{"$f":"IF(DersYükü!H54>0,VLOOKUP(DersYükü!H54,DersYükü!$A$14:$W$39,13,FALSE),IF(DersYükü!I54>0,VLOOKUP(DersYükü!I54,DersYükü!$A$14:$W$39,13,FALSE),\"\"))","v":""},{"$f":"IF(DersYükü!J54>0,VLOOKUP(DersYükü!J54,DersYükü!$A$14:$W$39,13,FALSE),IF(DersYükü!K54>0,VLOOKUP(DersYükü!K54,DersYükü!$A$14:$W$39,13,FALSE),\"\"))","v":""},{"$f":"IF(DersYükü!L54>0,VLOOKUP(DersYükü!L54,DersYükü!$A$14:$W$39,13,FALSE),IF(DersYükü!M54>0,VLOOKUP(DersYükü!M54,DersYükü!$A$14:$W$39,13,FALSE),\"\"))","v":""},{"$f":"IF(DersYükü!N54>0,VLOOKUP(DersYükü!N54,DersYükü!$A$14:$W$39,13,FALSE),IF(DersYükü!O54>0,VLOOKUP(DersYükü!O54,DersYükü!$A$14:$W$39,13,FALSE),\"\"))","v":""},{"$f":"IF(DersYükü!P54>0,VLOOKUP(DersYükü!P54,DersYükü!$A$14:$W$39,13,FALSE),IF(DersYükü!Q54>0,VLOOKUP(DersYükü!Q54,DersYükü!$A$14:$W$39,13,FALSE),IF(DersYükü!R54>0,VLOOKUP(DersYükü!R54,DersYükü!$A$14:$W$39,13,FALSE),IF(DersYükü!S54>0,VLOOKUP(DersYükü!S54,DersYükü!$A$14:$W$39,13,FALSE),\"\"))))","v":""},{"$f":"IF(DersYükü!T54>0,VLOOKUP(DersYükü!T54,DersYükü!$A$14:$W$39,13,FALSE),IF(DersYükü!U54>0,VLOOKUP(DersYükü!U54,DersYükü!$A$14:$W$39,13,FALSE),IF(DersYükü!V54>0,VLOOKUP(DersYükü!V54,DersYükü!$A$14:$W$39,13,FALSE),IF(DersYükü!W54>0,VLOOKUP(DersYükü!W54,DersYükü!$A$14:$W$39,13,FALSE),\"\"))))","v":""},null,null,null,{"$f":"IF(#REF!=\"\",\"\",#REF!)","v":{"$error":"#REF!"}},{"$f":"IF(#REF!=\"\",\"\",#REF!)","v":{"$error":"#REF!"}},{"$f":"IF(#REF!=\"\",\"\",#REF!)","v":{"$error":"#REF!"}},{"$f":"IF(#REF!=\"\",\"\",#REF!)","v":{"$error":"#REF!"}},{"$f":"IF(#REF!=\"\",\"\",#REF!)","v":{"$error":"#REF!"}},{"$f":"IF(#REF!=\"\",\"\",#REF!)","v":{"$error":"#REF!"}}]
["16:40-17:30",{"$f":"IF(DersYükü!AK55=\"\",\"\",DersYükü!AK55)","v":""},{"$f":"IF(DersYükü!AL55=\"\",\"\",DersYükü!AL55)","v":""},{"$f":"IF(DersYükü!AM55=\"\",\"\",DersYükü!AM55)","v":""},{"$f":"IF(DersYükü!AN55=\"\",\"\",DersYükü!AN55)","v":""},{"$f":"IF(DersYükü!AO55=\"\",\"\",DersYükü!AO55)","v":""},{"$f":"IF(DersYükü!AP55=\"\",\"\",DersYükü!AP55)","v":""},{"$f":"IF(DersYükü!AQ55=\"\",\"\",DersYükü!AQ55)","v":""},null,null,null,{"$f":"IF(#REF!=\"\",\"\",#REF!)","v":{"$error":"#REF!"}},{"$f":"IF(#REF!=\"\",\"\",#REF!)","v":{"$error":"#REF!"}},{"$f":"IF(#REF!=\"\",\"\",#REF!)","v":{"$error":"#REF!"}},{"$f":"IF(#REF!=\"\",\"\",#REF!)","v":{"$error":"#REF!"}},{"$f":"IF(#REF!=\"\",\"\",#REF!)","v":{"$error":"#REF!"}},{"$f":"IF(#REF!=\"\",\"\",#REF!)","v":{"$error":"#REF!"}}]
[null,{"$f":"IF(DersYükü!F55>0,VLOOKUP(DersYükü!F55,DersYükü!$A$14:$W$39,13,FALSE),IF(DersYükü!G55>0,VLOOKUP(DersYükü!G55,DersYükü!$A$14:$W$39,13,FALSE),\"\"))","v":""},{"$f":"IF(DersYükü!H55>0,VLOOKUP(DersYükü!H55,DersYükü!$A$14:$W$39,13,FALSE),IF(DersYükü!I55>0,VLOOKUP(DersYükü!I55,DersYükü!$A$14:$W$39,13,FALSE),\"\"))","v":""},{"$f":"IF(DersYükü!J55>0,VLOOKUP(DersYükü!J55,DersYükü!$A$14:$W$39,13,FALSE),IF(DersYükü!K55>0,VLOOKUP(DersYükü!K55,DersYükü!$A$14:$W$39,13,FALSE),\"\"))","v":""},{"$f":"IF(DersYükü!L55>0,VLOOKUP(DersYükü!L55,DersYükü!$A$14:$W$39,13,FALSE),IF(DersYükü!M55>0,VLOOKUP(DersYükü!M55,DersYükü!$A$14:$W$39,13,FALSE),\"\"))","v":""},{"$f":"IF(DersYükü!N55>0,VLOOKUP(DersYükü!N55,DersYükü!$A$14:$W$39,13,FALSE),IF(DersYükü!O55>0,VLOOKUP(DersYükü!O55,DersYükü!$A$14:$W$39,13,FALSE),\"\"))","v":""},{"$f":"IF(DersYükü!P55>0,VLOOKUP(DersYükü!P55,DersYükü!$A$14:$W$39,13,FALSE),IF(DersYükü!Q55>0,VLOOKUP(DersYükü!Q55,DersYükü!$A$14:$W$39,13,FALSE),IF(DersYükü!R55>0,VLOOKUP(DersYükü!R55,DersYükü!$A$14:$W$39,13,FALSE),IF(DersYükü!S55>0,VLOOKUP(DersYükü!S55,DersYükü!$A$14:$W$39,13,FALSE),\"\"))))","v":""},{"$f":"IF(DersYükü!T55>0,VLOOKUP(DersYükü!T55,DersYükü!$A$14:$W$39,13,FALSE),IF(DersYükü!U55>0,VLOOKUP(DersYükü!U55,DersYükü!$A$14:$W$39,13,FALSE),IF(DersYükü!V55>0,VLOOKUP(DersYükü!V55,DersYükü!$A$14:$W$39,13,FALSE),IF(DersYükü!W55>0,VLOOKUP(DersYükü!W55,DersYükü!$A$14:$W$39,13,FALSE),\"\"))))","v":""},null,null,null,{"$f":"IF(#REF!=\"\",\"\",#REF!)","v":{"$error":"#REF!"}},{"$f":"IF(#REF!=\"\",\"\",#REF!)","v":{"$error":"#REF!"}},{"$f":"IF(#REF!=\"\",\"\",#REF!)","v":{"$error":"#REF!"}},{"$f":"IF(#REF!=\"\",\"\",#REF!)","v":{"$error":"#REF!"}},{"$f":"IF(#REF!=\"\",\"\",#REF!)","v":{"$error":"#REF!"}},{"$f":"IF(#REF!=\"\",\"\",#REF!)","v":{"$error":"#REF!"}}]
["17:40-18:30",{"$f":"IF(DersYükü!AK56=\"\",\"\",DersYükü!AK56)","v":""},{"$f":"IF(DersYükü!AL56=\"\",\"\",DersYükü!AL56)","v":""},{"$f":"IF(DersYükü!AM56=\"\",\"\",DersYükü!AM56)","v":""},{"$f":"IF(DersYükü!AN56=\"\",\"\",DersYükü!AN56)","v":""},{"$f":"IF(DersYükü!AO56=\"\",\"\",DersYükü!AO56)","v":""},{"$f":"IF(DersYükü!AP56=\"\",\"\",DersYükü!AP56)","v":""},{"$f":"IF(DersYükü!AQ56=\"\",\"\",DersYükü!AQ56)","v":""},null,null,null,{"$f":"IF(#REF!=\"\",\"\",#REF!)","v":{"$error":"#REF!"}},{"$f":"IF(#REF!=\"\",\"\",#REF!)","v":{"$error":"#REF!"}},{"$f":"IF(#REF!=\"\",\"\",#REF!)","v":{"$error":"#REF!"}},{"$f":"IF(#REF!=\"\",\"\",#REF!)","v":{"$error":"#REF!"}},{"$f":"IF(#REF!=\"\",\"\",#REF!)","v":{"$error":"#REF!"}},{"$f":"IF(#REF!=\"\",\"\",#REF!)","v":{"$error":"#REF!"}}]
[null,{"$f":"IF(DersYükü!F56>0,VLOOKUP(DersYükü!F56,DersYükü!$A$14:$W$39,13,FALSE),IF(DersYükü!G56>0,VLOOKUP(DersYükü!G56,DersYükü!$A$14:$W$39,13,FALSE),\"\"))","v":""},{"$f":"IF(DersYükü!H56>0,VLOOKUP(DersYükü!H56,DersYükü!$A$14:$W$39,13,FALSE),IF(DersYükü!I56>0,VLOOKUP(DersYükü!I56,DersYükü!$A$14:$W$39,13,FALSE),\"\"))","v":""},{"$f":"IF(DersYükü!J56>0,VLOOKUP(DersYükü!J56,DersYükü!$A$14:$W$39,13,FALSE),IF(DersYükü!K56>0,VLOOKUP(DersYükü!K56,DersYükü!$A$14:$W$39,13,FALSE),\"\"))","v":""},{"$f":"IF(DersYükü!L56>0,VLOOKUP(DersYükü!L56,DersYükü!$A$14:$W$39,13,FALSE),IF(DersYükü!M56>0,VLOOKUP(DersYükü!M56,DersYükü!$A$14:$W$39,13,FALSE),\"\"))","v":""},{"$f":"IF(DersYükü!N56>0,VLOOKUP(DersYükü!N56,DersYükü!$A$14:$W$39,13,FALSE),IF(DersYükü!O56>0,VLOOKUP(DersYükü!O56,DersYükü!$A$14:$W$39,13,FALSE),\"\"))","v":""},{"$f":"IF(DersYükü!P56>0,VLOOKUP(DersYükü!P56,DersYükü!$A$14:$W$39,13,FALSE),IF(DersYükü!Q56>0,VLOOKUP(DersYükü!Q56,DersYükü!$A$14:$W$39,13,FALSE),IF(DersYükü!R56>0,VLOOKUP(DersYükü!R56,DersYükü!$A$14:$W$39,13,FALSE),IF(DersYükü!S56>0,VLOOKUP(DersYükü!S56,DersYükü!$A$14:$W$39,13,FALSE),\"\"))))","v":""},{"$f":"IF(DersYükü!T56>0,VLOOKUP(DersYükü!T56,DersYükü!$A$14:$W$39,13,FALSE),IF(DersYükü!U56>0,VLOOKUP(DersYükü!U56,DersYükü!$A$14:$W$39,13,FALSE),IF(DersYükü!V56>0,VLOOKUP(DersYükü!V56,DersYükü!$A$14:$W$39,13,FALSE),IF(DersYükü!W56>0,VLOOKUP(DersYükü!W56,DersYükü!$A$14:$W$39,13,FALSE),\"\"))))","v":""},null,null,null,{"$f":"IF(#REF!=\"\",\"\",#REF!)","v":{"$error":"#REF!"}},{"$f":"IF(#REF!=\"\",\"\",#REF!)","v":{"$error":"#REF!"}},{"$f":"IF(#REF!=\"\",\"\",#REF!)","v":{"$error":"#REF!"}},{"$f":"IF(#REF!=\"\",\"\",#REF!)","v":{"$error":"#REF!"}},{"$f":"IF(#REF!=\"\",\"\",#REF!)","v":{"$error":"#REF!"}},{"$f":"IF(#REF!=\"\",\"\",#REF!)","v":{"$error":"#REF!"}}]
["18:40-19:30",{"$f":"IF(DersYükü!AK57=\"\",\"\",DersYükü!AK57)","v":""},{"$f":"IF(DersYükü!AL57=\"\",\"\",DersYükü!AL57)","v":""},{"$f":"IF(DersYükü!AM57=\"\",\"\",DersYükü!AM57)","v":""},{"$f":"IF(DersYükü!AN57=\"\",\"\",DersYükü!AN57)","v":""},{"$f":"IF(DersYükü!AO57=\"\",\"\",DersYükü!AO57)","v":""},{"$f":"IF(DersYükü!AP57=\"\",\"\",DersYükü!AP57)","v":""},{"$f":"IF(DersYükü!AQ57=\"\",\"\",DersYükü!AQ57)","v":""}]
[null,{"$f":"IF(DersYükü!F57>0,VLOOKUP(DersYükü!F57,DersYükü!$A$14:$W$39,13,FALSE),IF(DersYükü!G57>0,VLOOKUP(DersYükü!G57,DersYükü!$A$14:$W$39,13,FALSE),\"\"))","v":""},{"$f":"IF(DersYükü!H57>0,VLOOKUP(DersYükü!H57,DersYükü!$A$14:$W$39,13,FALSE),IF(DersYükü!I57>0,VLOOKUP(DersYükü!I57,DersYükü!$A$14:$W$39,13,FALSE),\"\"))","v":""},{"$f":"IF(DersYükü!J57>0,VLOOKUP(DersYükü!J57,DersYükü!$A$14:$W$39,13,FALSE),IF(DersYükü!K57>0,VLOOKUP(DersYükü!K57,DersYükü!$A$14:$W$39,13,FALSE),\"\"))","v":""},{"$f":"IF(DersYükü!L57>0,VLOOKUP(DersYükü!L57,DersYükü!$A$14:$W$39,13,FALSE),IF(DersYükü!M57>0,VLOOKUP(DersYükü!M57,DersYükü!$A$14:$W$39,13,FALSE),\"\"))","v":""},{"$f":"IF(DersYükü!N57>0,VLOOKUP(DersYükü!N57,DersYükü!$A$14:$W$39,13,FALSE),IF(DersYükü!O57>0,VLOOKUP(DersYükü!O57,DersYükü!$A$14:$W$39,13,FALSE),\"\"))","v":""},{"$f":"IF(DersYükü!P57>0,VLOOKUP(DersYükü!P57,DersYükü!$A$14:$W$39,13,FALSE),IF(DersYükü!Q57>0,VLOOKUP(DersYükü!Q57,DersYükü!$A$14:$W$39,13,FALSE),IF(DersYükü!R57>0,VLOOKUP(DersYükü!R57,DersYükü!$A$14:$W$39,13,FALSE),IF(DersYükü!S57>0,VLOOKUP(DersYükü!S57,DersYükü!$A$14:$W$39,13,FALSE),\"\"))))","v":""},{"$f":"IF(DersYükü!T57>0,VLOOKUP(DersYükü!T57,DersYükü!$A$14:$W$39,13,FALSE),IF(DersYükü!U57>0,VLOOKUP(DersYükü!U57,DersYükü!$A$14:$W$39,13,FALSE),IF(DersYükü!V57>0,VLOOKUP(DersYükü!V57,DersYükü!$A$14:$W$39,13,FALSE),IF(DersYükü!W57>0,VLOOKUP(DersYükü!W57,DersYükü!$A$14:$W$39,13,FALSE),\"\"))))","v":""}]
["19:40-20:30",{"$f":"IF(DersYükü!AK58=\"\",\"\",DersYükü!AK58)","v":""},{"$f":"IF(DersYükü!AL58=\"\",\"\",DersYükü!AL58)","v":""},{"$f":"IF(DersYükü!AM58=\"\",\"\",DersYükü!AM58)","v":""},{"$f":"IF(DersYükü!AN58=\"\",\"\",DersYükü!AN58)","v":""},{"$f":"IF(DersYükü!AO58=\"\",\"\",DersYükü!AO58)","v":""},{"$f":"IF(DersYükü!AP58=\"\",\"\",DersYükü!AP58)","v":""},{"$f":"IF(DersYükü!AQ58=\"\",\"\",DersYükü!AQ58)","v":""},null,null,null,{"$f":"IF(#REF!=\"\",\"\",#REF!)","v":{"$error":"#REF!"}},{"$f":"IF(#REF!=\"\",\"\",#REF!)","v":{"$error":"#REF!"}},{"$f":"IF(#REF!=\"\",\"\",#REF!)","v":{"$error":"#REF!"}},{"$f":"IF(#REF!=\"\",\"\",#REF!)","v":{"$error":"#REF!"}},{"$f":"IF(#REF!=\"\",\"\",#REF!)","v":{"$error":"#REF!"}},{"$f":"IF(#REF!=\"\",\"\",#REF!)","v":{"$error":"#REF!"}}]
[null,{"$f":"IF(DersYükü!F58>0,VLOOKUP(DersYükü!F58,DersYükü!$A$14:$W$39,13,FALSE),IF(DersYükü!G58>0,VLOOKUP(DersYükü!G58,DersYükü!$A$14:$W$39,13,FALSE),\"\"))","v":""},{"$f":"IF(DersYükü!H58>0,VLOOKUP(DersYükü!H58,DersYükü!$A$14:$W$39,13,FALSE),IF(DersYükü!I58>0,VLOOKUP(DersYükü!I58,DersYükü!$A$14:$W$39,13,FALSE),\"\"))","v":""},{"$f":"IF(DersYükü!J58>0,VLOOKUP(DersYükü!J58,DersYükü!$A$14:$W$39,13,FALSE),IF(DersYükü!K58>0,VLOOKUP(DersYükü!K58,DersYükü!$A$14:$W$39,13,FALSE),\"\"))","v":""},{"$f":"IF(DersYükü!L58>0,VLOOKUP(DersYükü!L58,DersYükü!$A$14:$W$39,13,FALSE),IF(DersYükü!M58>0,VLOOKUP(DersYükü!M58,DersYükü!$A$14:$W$39,13,FALSE),\"\"))","v":""},{"$f":"IF(DersYükü!N58>0,VLOOKUP(DersYükü!N58,DersYükü!$A$14:$W$39,13,FALSE),IF(DersYükü!O58>0,VLOOKUP(DersYükü!O58,DersYükü!$A$14:$W$39,13,FALSE),\"\"))","v":""},{"$f":"IF(DersYükü!P58>0,VLOOKUP(DersYükü!P58,DersYükü!$A$14:$W$39,13,FALSE),IF(DersYükü!Q58>0,VLOOKUP(DersYükü!Q58,DersYükü!$A$14:$W$39,13,FALSE),IF(DersYükü!R58>0,VLOOKUP(DersYükü!R58,DersYükü!$A$14:$W$39,13,FALSE),IF(DersYükü!S58>0,VLOOKUP(DersYükü!S58,DersYükü!$A$14:$W$39,13,FALSE),\"\"))))","v":""},{"$f":"IF(DersYükü!T58>0,VLOOKUP(DersYükü!T58,DersYükü!$A$14:$W$39,13,FALSE),IF(DersYükü!U58>0,VLOOKUP(DersYükü!U58,DersYükü!$A$14:$W$39,13,FALSE),IF(DersYükü!V58>0,VLOOKUP(DersYükü!V58,DersYükü!$A$14:$W$39,13,FALSE),IF(DersYükü!W58>0,VLOOKUP(DersYükü!W58,DersYükü!$A$14:$W$39,13,FALSE),\"\"))))","v":""},null,null,null,{"$f":"IF(#REF!=\"\",\"\",#REF!)","v":{"$error":"#REF!"}},{"$f":"IF(#REF!=\"\",\"\",#REF!)","v":{"$error":"#REF!"}},{"$f":"IF(#REF!=\"\",\"\",#REF!)","v":{"$error":"#REF!"}},{"$f":"IF(#REF!=\"\",\"\",#REF!)","v":{"$error":"#REF!"}},{"$f":"IF(#REF!=\"\",\"\",#REF!)","v":{"$error":"#REF!"}},{"$f":"IF(#REF!=\"\",\"\",#REF!)","v":{"$error":"#REF!"}}]
["20:40-21:30",{"$f":"IF(DersYükü!AK59=\"\",\"\",DersYükü!AK59)","v":""},{"$f":"IF(DersYükü!AL59=\"\",\"\",DersYükü!AL59)","v":""},{"$f":"IF(DersYükü!AM59=\"\",\"\",DersYükü!AM59)","v":""},{"$f":"IF(DersYükü!AN59=\"\",\"\",DersYükü!AN59)","v":""},{"$f":"IF(DersYükü!AO59=\"\",\"\",DersYükü!AO59)","v":""},{"$f":"IF(DersYükü!AP59=\"\",\"\",DersYükü!AP59)","v":""},{"$f":"IF(DersYükü!AQ59=\"\",\"\",DersYükü!AQ59)","v":""},null,null,null,{"$f":"IF(#REF!=\"\",\"\",#REF!)","v":{"$error":"#REF!"}},{"$f":"IF(#REF!=\"\",\"\",#REF!)","v":{"$error":"#REF!"}},{"$f":"IF(#REF!=\"\",\"\",#REF!)","v":{"$error":"#REF!"}},{"$f":"IF(#REF!=\"\",\"\",#REF!)","v":{"$error":"#REF!"}},{"$f":"IF(#REF!=\"\",\"\",#REF!)","v":{"$error":"#REF!"}},{"$f":"IF(#REF!=\"\",\"\",#REF!)","v":{"$error":"#REF!"}}]
[null,{"$f":"IF(DersYükü!F59>0,VLOOKUP(DersYükü!F59,DersYükü!$A$14:$W$39,13,FALSE),IF(DersYükü!G59>0,VLOOKUP(DersYükü!G59,DersYükü!$A$14:$W$39,13,FALSE),\"\"))","v":""},{"$f":"IF(DersYükü!H59>0,VLOOKUP(DersYükü!H59,DersYükü!$A$14:$W$39,13,FALSE),IF(DersYükü!I59>0,VLOOKUP(DersYükü!I59,DersYükü!$A$14:$W$39,13,FALSE),\"\"))","v":""},{"$f":"IF(DersYükü!J59>0,VLOOKUP(DersYükü!J59,DersYükü!$A$14:$W$39,13,FALSE),IF(DersYükü!K59>0,VLOOKUP(DersYükü!K59,DersYükü!$A$14:$W$39,13,FALSE),\"\"))","v":""},{"$f":"IF(DersYükü!L59>0,VLOOKUP(DersYükü!L59,DersYükü!$A$14:$W$39,13,FALSE),IF(DersYükü!M59>0,VLOOKUP(DersYükü!M59,DersYükü!$A$14:$W$39,13,FALSE),\"\"))","v":""},{"$f":"IF(DersYükü!N59>0,VLOOKUP(DersYükü!N59,DersYükü!$A$14:$W$39,13,FALSE),IF(DersYükü!O59>0,VLOOKUP(DersYükü!O59,DersYükü!$A$14:$W$39,13,FALSE),\"\"))","v":""},{"$f":"IF(DersYükü!P59>0,VLOOKUP(DersYükü!P59,DersYükü!$A$14:$W$39,13,FALSE),IF(DersYükü!Q59>0,VLOOKUP(DersYükü!Q59,DersYükü!$A$14:$W$39,13,FALSE),IF(DersYükü!R59>0,VLOOKUP(DersYükü!R59,DersYükü!$A$14:$W$39,13,FALSE),IF(DersYükü!S59>0,VLOOKUP(DersYükü!S59,DersYükü!$A$14:$W$39,13,FALSE),\"\"))))","v":""},{"$f":"IF(DersYükü!T59>0,VLOOKUP(DersYükü!T59,DersYükü!$A$14:$W$39,13,FALSE),IF(DersYükü!U59>0,VLOOKUP(DersYükü!U59,DersYükü!$A$14:$W$39,13,FALSE),IF(DersYükü!V59>0,VLOOKUP(DersYükü!V59,DersYükü!$A$14:$W$39,13,FALSE),IF(DersYükü!W59>0,VLOOKUP(DersYükü!W59,DersYükü!$A$14:$W$39,13,FALSE),\"\"))))","v":""},null,null,null,{"$f":"IF(#REF!=\"\",\"\",#REF!)","v":{"$error":"#REF!"}},{"$f":"IF(#REF!=\"\",\"\",#REF!)","v":{"$error":"#REF!"}},{"$f":"IF(#REF!=\"\",\"\",#REF!)","v":{"$error":"#REF!"}},{"$f":"IF(#REF!=\"\",\"\",#REF!)","v":{"$error":"#REF!"}},{"$f":"IF(#REF!=\"\",\"\",#REF!)","v":{"$error":"#REF!"}},{"$f":"IF(#REF!=\"\",\"\",#REF!)","v":{"$error":"#REF!"}}]
["21:40-22:30",{"$f":"IF(DersYükü!AK60=\"\",\"\",DersYükü!AK60)","v":""},{"$f":"IF(DersYükü!AL60=\"\",\"\",DersYükü!AL60)","v":""},{"$f":"IF(DersYükü!AM60=\"\",\"\",DersYükü!AM60)","v":""},{"$f":"IF(DersYükü!AN60=\"\",\"\",DersYükü!AN60)","v":""},{"$f":"IF(DersYükü!AO60=\"\",\"\",DersYükü!AO60)","v":""},{"$f":"IF(DersYükü!AP60=\"\",\"\",DersYükü!AP60)","v":""},{"$f":"IF(DersYükü!AQ60=\"\",\"\",DersYükü!AQ60)","v":""}]
[null,{"$f":"IF(DersYükü!F60>0,VLOOKUP(DersYükü!F60,DersYükü!$A$14:$W$39,13,FALSE),IF(DersYükü!G60>0,VLOOKUP(DersYükü!G60,DersYükü!$A$14:$W$39,13,FALSE),\"\"))","v":""},{"$f":"IF(DersYükü!H60>0,VLOOKUP(DersYükü!H60,DersYükü!$A$14:$W$39,13,FALSE),IF(DersYükü!I60>0,VLOOKUP(DersYükü!I60,DersYükü!$A$14:$W$39,13,FALSE),\"\"))","v":""},{"$f":"IF(DersYükü!J60>0,VLOOKUP(DersYükü!J60,DersYükü!$A$14:$W$39,13,FALSE),IF(DersYükü!K60>0,VLOOKUP(DersYükü!K60,DersYükü!$A$14:$W$39,13,FALSE),\"\"))","v":""},{"$f":"IF(DersYükü!L60>0,VLOOKUP(DersYükü!L60,DersYükü!$A$14:$W$39,13,FALSE),IF(DersYükü!M60>0,VLOOKUP(DersYükü!M60,DersYükü!$A$14:$W$39,13,FALSE),\"\"))","v":""},{"$f":"IF(DersYükü!N60>0,VLOOKUP(DersYükü!N60,DersYükü!$A$14:$W$39,13,FALSE),IF(DersYükü!O60>0,VLOOKUP(DersYükü!O60,DersYükü!$A$14:$W$39,13,FALSE),\"\"))","v":""},{"$f":"IF(DersYükü!P60>0,VLOOKUP(DersYükü!P60,DersYükü!$A$14:$W$39,13,FALSE),IF(DersYükü!Q60>0,VLOOKUP(DersYükü!Q60,DersYükü!$A$14:$W$39,13,FALSE),IF(DersYükü!R60>0,VLOOKUP(DersYükü!R60,DersYükü!$A$14:$W$39,13,FALSE),IF(DersYükü!S60>0,VLOOKUP(DersYükü!S60,DersYükü!$A$14:$W$39,13,FALSE),\"\"))))","v":""},{"$f":"IF(DersYükü!T60>0,VLOOKUP(DersYükü!T60,DersYükü!$A$14:$W$39,13,FALSE),IF(DersYükü!U60>0,VLOOKUP(DersYükü!U60,DersYükü!$A$14:$W$39,13,FALSE),IF(DersYükü!V60>0,VLOOKUP(DersYükü!V60,DersYükü!$A$14:$W$39,13,FALSE),IF(DersYükü!W60>0,VLOOKUP(DersYükü!W60,DersYükü!$A$14:$W$39,13,FALSE),\"\"))))","v":""}]
["22:40-23:30",{"$f":"IF(DersYükü!AK61=\"\",\"\",DersYükü!AK61)","v":""},{"$f":"IF(DersYükü!AL61=\"\",\"\",DersYükü!AL61)","v":""},{"$f":"IF(DersYükü!AM61=\"\",\"\",DersYükü!AM61)","v":""},{"$f":"IF(DersYükü!AN61=\"\",\"\",DersYükü!AN61)","v":""},{"$f":"IF(DersYükü!AO61=\"\",\"\",DersYükü!AO61)","v":""},{"$f":"IF(DersYükü!AP61=\"\",\"\",DersYükü!AP61)","v":""},{"$f":"IF(DersYükü!AQ61=\"\",\"\",DersYükü!AQ61)","v":""}]
[null,{"$f":"IF(DersYükü!F61>0,VLOOKUP(DersYükü!F61,DersYükü!$A$14:$W$39,13,FALSE),IF(DersYükü!G61>0,VLOOKUP(DersYükü!G61,DersYükü!$A$14:$W$39,13,FALSE),\"\"))","v":""},{"$f":"IF(DersYükü!H61>0,VLOOKUP(DersYükü!H61,DersYükü!$A$14:$W$39,13,FALSE),IF(DersYükü!I61>0,VLOOKUP(DersYükü!I61,DersYükü!$A$14:$W$39,13,FALSE),\"\"))","v":""},{"$f":"IF(DersYükü!J61>0,VLOOKUP(DersYükü!J61,DersYükü!$A$14:$W$39,13,FALSE),IF(DersYükü!K61>0,VLOOKUP(DersYükü!K61,DersYükü!$A$14:$W$39,13,FALSE),\"\"))","v":""},{"$f":"IF(DersYükü!L61>0,VLOOKUP(DersYükü!L61,DersYükü!$A$14:$W$39,13,FALSE),IF(DersYükü!M61>0,VLOOKUP(DersYükü!M61,DersYükü!$A$14:$W$39,13,FALSE),\"\"))","v":""},{"$f":"IF(DersYükü!N61>0,VLOOKUP(DersYükü!N61,DersYükü!$A$14:$W$39,13,FALSE),IF(DersYükü!O61>0,VLOOKUP(DersYükü!O61,DersYükü!$A$14:$W$39,13,FALSE),\"\"))","v":""},{"$f":"IF(DersYükü!P61>0,VLOOKUP(DersYükü!P61,DersYükü!$A$14:$W$39,13,FALSE),IF(DersYükü!Q61>0,VLOOKUP(DersYükü!Q61,DersYükü!$A$14:$W$39,13,FALSE),IF(DersYükü!R61>0,VLOOKUP(DersYükü!R61,DersYükü!$A$14:$W$39,13,FALSE),IF(DersYükü!S61>0,VLOOKUP(DersYükü!S61,DersYükü!$A$14:$W$39,13,FALSE),\"\"))))","v":""},{"$f":"IF(DersYükü!T61>0,VLOOKUP(DersYükü!T61,DersYükü!$A$14:$W$39,13,FALSE),IF(DersYükü!U61>0,VLOOKUP(DersYükü!U61,DersYükü!$A$14:$W$39,13,FALSE),IF(DersYükü!V61>0,VLOOKUP(DersYükü!V61,DersYükü!$A$14:$W$39,13,FALSE),IF(DersYükü!W61>0,VLOOKUP(DersYükü!W61,DersYükü!$A$14:$W$39,13,FALSE),\"\"))))","v":""},null,null,null,{"$f":"IF(#REF!=\"\",\"\",#REF!)","v":{"$error":"#REF!"}}]
["21:15-22:00",{"$f":"IF(DersYükü!AK62=\"\",\"\",DersYükü!AK62)","v":""},{"$f":"IF(DersYükü!AL62=\"\",\"\",DersYükü!AL62)","v":""},{"$f":"IF(DersYükü!AM62=\"\",\"\",DersYükü!AM62)","v":""},{"$f":"IF(DersYükü!AN62=\"\",\"\",DersYükü!AN62)","v":""},{"$f":"IF(DersYükü!AO62=\"\",\"\",DersYükü!AO62)","v":""},{"$f":"IF(DersYükü!AP62=\"\",\"\",DersYükü!AP62)","v":""},{"$f":"IF(DersYükü!AQ62=\"\",\"\",DersYükü!AQ62)","v":""},null,null,null,{"$f":"IF(#REF!=\"\",\"\",#REF!)","v":{"$error":"#REF!"}}]
[null,{"$f":"IF(DersYükü!F62>0,VLOOKUP(DersYükü!F62,DersYükü!$A$14:$W$39,13,FALSE),IF(DersYükü!G62>0,VLOOKUP(DersYükü!G62,DersYükü!$A$14:$W$39,13,FALSE),\"\"))","v":""},{"$f":"IF(DersYükü!H62>0,VLOOKUP(DersYükü!H62,DersYükü!$A$14:$W$39,13,FALSE),IF(DersYükü!I62>0,VLOOKUP(DersYükü!I62,DersYükü!$A$14:$W$39,13,FALSE),\"\"))","v":""},{"$f":"IF(DersYükü!J62>0,VLOOKUP(DersYükü!J62,DersYükü!$A$14:$W$39,13,FALSE),IF(DersYükü!K62>0,VLOOKUP(DersYükü!K62,DersYükü!$A$14:$W$39,13,FALSE),\"\"))","v":""},{"$f":"IF(DersYükü!L62>0,VLOOKUP(DersYükü!L62,DersYükü!$A$14:$W$39,13,FALSE),IF(DersYükü!M62>0,VLOOKUP(DersYükü!M62,DersYükü!$A$14:$W$39,13,FALSE),\"\"))","v":""},{"$f":"IF(DersYükü!N62>0,VLOOKUP(DersYükü!N62,DersYükü!$A$14:$W$39,13,FALSE),IF(DersYükü!O62>0,VLOOKUP(DersYükü!O62,DersYükü!$A$14:$W$39,13,FALSE),\"\"))","v":""},{"$f":"IF(DersYükü!P62>0,VLOOKUP(DersYükü!P62,DersYükü!$A$14:$W$39,13,FALSE),IF(DersYükü!Q62>0,VLOOKUP(DersYükü!Q62,DersYükü!$A$14:$W$39,13,FALSE),IF(DersYükü!R62>0,VLOOKUP(DersYükü!R62,DersYükü!$A$14:$W$39,13,FALSE),IF(DersYükü!S62>0,VLOOKUP(DersYükü!S62,DersYükü!$A$14:$W$39,13,FALSE),\"\"))))","v":""},{"$f":"IF(DersYükü!T62>0,VLOOKUP(DersYükü!T62,DersYükü!$A$14:$W$39,13,FALSE),IF(DersYükü!U62>0,VLOOKUP(DersYükü!U62,DersYükü!$A$14:$W$39,13,FALSE),IF(DersYükü!V62>0,VLOOKUP(DersYükü!V62,DersYükü!$A$14:$W$39,13,FALSE),IF(DersYükü!W62>0,VLOOKUP(DersYükü!W62,DersYükü!$A$14:$W$39,13,FALSE),\"\"))))","v":""}]
["22:15-23:00",{"$f":"IF(DersYükü!AK63=\"\",\"\",DersYükü!AK63)","v":""},{"$f":"IF(DersYükü!AL63=\"\",\"\",DersYükü!AL63)","v":""},{"$f":"IF(DersYükü!AM63=\"\",\"\",DersYükü!AM63)","v":""},{"$f":"IF(DersYükü!AN63=\"\",\"\",DersYükü!AN63)","v":""},{"$f":"IF(DersYükü!AO63=\"\",\"\",DersYükü!AO63)","v":""},{"$f":"IF(DersYükü!AP63=\"\",\"\",DersYükü!AP63)","v":""},{"$f":"IF(DersYükü!AQ63=\"\",\"\",DersYükü!AQ63)","v":""},null,null,null,{"$f":"IF(#REF!=\"\",\"\",#REF!)","v":{"$error":"#REF!"}}]
[null,{"$f":"IF(DersYükü!F63>0,VLOOKUP(DersYükü!F63,DersYükü!$A$14:$W$39,13,FALSE),IF(DersYükü!G63>0,VLOOKUP(DersYükü!G63,DersYükü!$A$14:$W$39,13,FALSE),\"\"))","v":""},{"$f":"IF(DersYükü!H63>0,VLOOKUP(DersYükü!H63,DersYükü!$A$14:$W$39,13,FALSE),IF(DersYükü!I63>0,VLOOKUP(DersYükü!I63,DersYükü!$A$14:$W$39,13,FALSE),\"\"))","v":""},{"$f":"IF(DersYükü!J63>0,VLOOKUP(DersYükü!J63,DersYükü!$A$14:$W$39,13,FALSE),IF(DersYükü!K63>0,VLOOKUP(DersYükü!K63,DersYükü!$A$14:$W$39,13,FALSE),\"\"))","v":""},{"$f":"IF(DersYükü!L63>0,VLOOKUP(DersYükü!L63,DersYükü!$A$14:$W$39,13,FALSE),IF(DersYükü!M63>0,VLOOKUP(DersYükü!M63,DersYükü!$A$14:$W$39,13,FALSE),\"\"))","v":""},{"$f":"IF(DersYükü!N63>0,VLOOKUP(DersYükü!N63,DersYükü!$A$14:$W$39,13,FALSE),IF(DersYükü!O63>0,VLOOKUP(DersYükü!O63,DersYükü!$A$14:$W$39,13,FALSE),\"\"))","v":""},{"$f":"IF(DersYükü!P63>0,VLOOKUP(DersYükü!P63,DersYükü!$A$14:$W$39,13,FALSE),IF(DersYükü!Q63>0,VLOOKUP(DersYükü!Q63,DersYükü!$A$14:$W$39,13,FALSE),IF(DersYükü!R63>0,VLOOKUP(DersYükü!R63,DersYükü!$A$14:$W$39,13,FALSE),IF(DersYükü!S63>0,VLOOKUP(DersYükü!S63,DersYükü!$A$14:$W$39,13,FALSE),\"\"))))","v":""},{"$f":"IF(DersYükü!T63>0,VLOOKUP(DersYükü!T63,DersYükü!$A$14:$W$39,13,FALSE),IF(DersYükü!U63>0,VLOOKUP(DersYükü!U63,DersYükü!$A$14:$W$39,13,FALSE),IF(DersYükü!V63>0,VLOOKUP(DersYükü!V63,DersYükü!$A$14:$W$39,13,FALSE),IF(DersYükü!W63>0,VLOOKUP(DersYükü!W63,DersYükü!$A$14:$W$39,13,FALSE),\"\"))))","v":""}]
[null,null,null,"Enstitülerde  Danışmanlık yapılan öğrenciler"]
[null,null,null,1,6]
[{"$f":"IF(COUNTIF(B5:H38,\"*tez*\")=0,\"\",COUNTIF(B5:H38,\"*tez*\"))","v":""},{"$f":"IF(C41<>\"\",\"Bitirme Tezi / Ödevi     :\",\"\")","v":""},{"$f":"IF(SUM(A41:A42)=0,\"\",SUM(A41:A42))","v":""},2]
[{"$f":"IF(COUNTIF(B5:H38,\"*ödev*\")=0,\"\",COUNTIF(B5:H38,\"*ödev*\"))","v":""},{"$f":"IF(C42<>\"\",\"Seminer Sayısı              :\",\"\")","v":""},{"$f":"IF(COUNTIF(B5:H38,\"*seminer*\")=0,\"\",COUNTIF(B5:H38,\"*seminer*\"))","v":""},3]
[null,{"$f":"IF(C43<>\"\",\"Danışmanlık Sayısı       :\",\"\")","v":""},{"$f":"IF(COUNTIF(B5:H38,\"*danışman*\")=0,\"\",COUNTIF(B5:H38,\"*danışman*\"))","v":""},4]
[{"$f":"IF(COUNTIF(B5:H38,\"*bitir*\")=0,\"\",COUNTIF(B5:H38,\"*bitir*\"))","v":""},{"$f":"IF(A44<>\"\",\"Bitirme Tezi / Ödevi            :\",\"\")","v":""},null,5]
[]
[null,null,null,null,"BÖLÜM BAŞKANI"]
[]
[]
[]
[]
[]
[]
[]
[]
[]
[]
[]
[]
[]
[]
[]
[]
[]
[]
[]
[]
[]
[]
[]
[]
[]
[]
[]
[]
[]
[]
[]
[]
[]
[]
[]
[]
[]
[]
[]
[]
[]
[]
[]
[]
[]
[]
[]
[]
[]
[]
[]
[]
[]
[]
[]
[]
[]
[]
[]
[]
[]
[]
[]
[]
[]
[]
[]
[]
[]
[]
[]
[]
[]
[]
[]
[]
[]
[]
[]
[]
[]
[]
[]
[]
[]
[]
[]
[]
[]
[]
[]
[]
[]
[]
[]
[]
[]
[]
[]
[]
[]
[]
[]
[]
[]
[]
[]
[]
[]
[]
[]
[]
[]
[]
[]
[]
[]
[]
[]
[]
[]
[]
[]
[]
[]
[]
[]
[]
[]
[]
[]
[]
[]
[]
[]
[]
[]
[]
[]
[]
[]
[]
[]
[]
[]
[]
[]
[]
[]
[]
[]
[]
[]
[]
[]
[]
[]
[]
[]
[]
[]
[]
[]
[]
[]
[]
[]
[]
[]
[]
[]
[]
[]
[]
[]
[]
[]
[]
[]
[]
[]
[]
[]
[]
[]
[]
[]
[]
[]
[]
[]
[]
[]
[]
[]
[]
[]
[]
[]
[]
[]
[]
[]
[]
[]
[]
[]
[]
[]
[]
[]
[]
[]
[]
[]
[]
[]
[]
[]
[]
[]
[]
[]
[]
[]
[]
[]
[]
[]
[]
[]
[]
[]
[]
[]
[]
[]
[]
[]
[]
[]
[]
[]
[]
[]
[]
[]
[]
[]
[]
["BU KISIM YAZDIRMA AMAÇLIDIR. ÜZERİNDE İŞLEM YAPMAYINIZ."]
[]
[]
[{"$f":"IF(A1=\"\",\"\",A1)","v":"Rektörlük"},null,null,null,{"$f":"IF(A2=\"\",\"\",A2)","v":0},null,null,null,null,null,null,{"$f":"IF(#REF!=\"\",\"\",#REF!)","v":{"$error":"#REF!"}},{"$f":"IF(#REF!=\"\",\"\",#REF!)","v":{"$error":"#REF!"}},{"$f":"IF(#REF!=\"\",\"\",#REF!)","v":{"$error":"#REF!"}},{"$f":"IF(#REF!=\"\",\"\",#REF!)","v":{"$error":"#REF!"}},{"$f":"IF(#REF!=\"\",\"\",#REF!)","v":{"$error":"#REF!"}},{"$f":"IF(#REF!=\"\",\"\",#REF!)","v":{"$error":"#REF!"}}]
[{"$f":"IF(A3=\"\",\"\",A3)","v":" ÖĞRETİM YILI  YARIYILI DERS PROGRAMI"},null,null,null,null,null,null,null,null,null,null,{"$f":"IF(#REF!=\"\",\"\",#REF!)","v":{"$error":"#REF!"}},{"$f":"IF(#REF!=\"\",\"\",#REF!)","v":{"$error":"#REF!"}},{"$f":"IF(#REF!=\"\",\"\",#REF!)","v":{"$error":"#REF!"}},{"$f":"IF(#REF!=\"\",\"\",#REF!)","v":{"$error":"#REF!"}},{"$f":"IF(#REF!=\"\",\"\",#REF!)","v":{"$error":"#REF!"}},{"$f":"IF(#REF!=\"\",\"\",#REF!)","v":{"$error":"#REF!"}}]
[{"$f":"IF(A4=\"\",\"\",A4)","v":"SAAT"},{"$f":"IF(B4=\"\",\"\",B4)","v":"PAZARTESİ"},{"$f":"IF(C4=\"\",\"\",C4)","v":"SALI"},"ÇARŞAMBA","PERŞEMBE","CUMA","CUMARTESİ","PAZAR",null,null,null,{"$f":"IF(#REF!=\"\",\"\",#REF!)","v":{"$error":"#REF!"}},{"$f":"IF(#REF!=\"\",\"\",#REF!)","v":{"$error":"#REF!"}},{"$f":"IF(#REF!=\"\",\"\",#REF!)","v":{"$error":"#REF!"}},{"$f":"IF(#REF!=\"\",\"\",#REF!)","v":{"$error":"#REF!"}},{"$f":"IF(#REF!=\"\",\"\",#REF!)","v":{"$error":"#REF!"}},{"$f":"IF(#REF!=\"\",\"\",#REF!)","v":{"$error":"#REF!"}}]
[{"$f":"IF(A5=\"\",\"\",A5)","v":"08:40-09:30"},"",{"$f":"IF(C5=\"\",\"\",C5)","v":""},"","","","","",null,null,null,{"$f":"IF(#REF!=\"\",\"\",#REF!)","v":{"$error":"#REF!"}},{"$f":"IF(#REF!=\"\",\"\",#REF!)","v":{"$error":"#REF!"}},{"$f":"IF(#REF!=\"\",\"\",#REF!)","v":{"$error":"#REF!"}},{"$f":"IF(#REF!=\"\",\"\",#REF!)","v":{"$error":"#REF!"}},{"$f":"IF(#REF!=\"\",\"\",#REF!)","v":{"$error":"#REF!"}},{"$f":"IF(#REF!=\"\",\"\",#REF!)","v":{"$error":"#REF!"}}]
[null,"",{"$f":"IF(C6=\"\",\"\",C6)","v":""},"","","","","",null,null,null,{"$f":"IF(#REF!=\"\",\"\",#REF!)","v":{"$error":"#REF!"}},{"$f":"IF(#REF!=\"\",\"\",#REF!)","v":{"$error":"#REF!"}},{"$f":"IF(#REF!=\"\",\"\",#REF!)","v":{"$error":"#REF!"}},{"$f":"IF(#REF!=\"\",\"\",#REF!)","v":{"$error":"#REF!"}},{"$f":"IF(#REF!=\"\",\"\",#REF!)","v":{"$error":"#REF!"}},{"$f":"IF(#REF!=\"\",\"\",#REF!)","v":{"$error":"#REF!"}}]
[{"$f":"IF(A7=\"\",\"\",A7)","v":"09:40-10:30"},"",{"$f":"IF(C7=\"\",\"\",C7)","v":""},"","","","","",null,null,null,{"$f":"IF(#REF!=\"\",\"\",#REF!)","v":{"$error":"#REF!"}},{"$f":"IF(#REF!=\"\",\"\",#REF!)","v":{"$error":"#REF!"}},{"$f":"IF(#REF!=\"\",\"\",#REF!)","v":{"$error":"#REF!"}},{"$f":"IF(#REF!=\"\",\"\",#REF!)","v":{"$error":"#REF!"}},{"$f":"IF(#REF!=\"\",\"\",#REF!)","v":{"$error":"#REF!"}},{"$f":"IF(#REF!=\"\",\"\",#REF!)","v":{"$error":"#REF!"}}]
[null,"","","","","","","",null,null,null,{"$f":"IF(#REF!=\"\",\"\",#REF!)","v":{"$error":"#REF!"}},{"$f":"IF(#REF!=\"\",\"\",#REF!)","v":{"$error":"#REF!"}},{"$f":"IF(#REF!=\"\",\"\",#REF!)","v":{"$error":"#REF!"}},{"$f":"IF(#REF!=\"\",\"\",#REF!)","v":{"$error":"#REF!"}},{"$f":"IF(#REF!=\"\",\"\",#REF!)","v":{"$error":"#REF!"}},{"$f":"IF(#REF!=\"\",\"\",#REF!)","v":{"$error":"#REF!"}}]
[{"$f":"IF(A9=\"\",\"\",A9)","v":"10:40-11:30"},"","","","","","","",null,null,null,{"$f":"IF(#REF!=\"\",\"\",#REF!)","v":{"$error":"#REF!"}},{"$f":"IF(#REF!=\"\",\"\",#REF!)","v":{"$error":"#REF!"}},{"$f":"IF(#REF!=\"\",\"\",#REF!)","v":{"$error":"#REF!"}},{"$f":"IF(#REF!=\"\",\"\",#REF!)","v":{"$error":"#REF!"}},{"$f":"IF(#REF!=\"\",\"\",#REF!)","v":{"$error":"#REF!"}},{"$f":"IF(#REF!=\"\",\"\",#REF!)","v":{"$error":"#REF!"}}]
[null,"","","","","","","",null,null,null,{"$f":"IF(#REF!=\"\",\"\",#REF!)","v":{"$error":"#REF!"}},{"$f":"IF(#REF!=\"\",\"\",#REF!)","v":{"$error":"#REF!"}},{"$f":"IF(#REF!=\"\",\"\",#REF!)","v":{"$error":"#REF!"}},{"$f":"IF(#REF!=\"\",\"\",#REF!)","v":{"$error":"#REF!"}},{"$f":"IF(#REF!=\"\",\"\",#REF!)","v":{"$error":"#REF!"}},{"$f":"IF(#REF!=\"\",\"\",#REF!)","v":{"$error":"#REF!"}}]
[{"$f":"IF(A11=\"\",\"\",A11)","v":"11:40-12:30"},"","","","","","","",null,null,null,{"$f":"IF(#REF!=\"\",\"\",#REF!)","v":{"$error":"#REF!"}},{"$f":"IF(#REF!=\"\",\"\",#REF!)","v":{"$error":"#REF!"}},{"$f":"IF(#REF!=\"\",\"\",#REF!)","v":{"$error":"#REF!"}},{"$f":"IF(#REF!=\"\",\"\",#REF!)","v":{"$error":"#REF!"}},{"$f":"IF(#REF!=\"\",\"\",#REF!)","v":{"$error":"#REF!"}},{"$f":"IF(#REF!=\"\",\"\",#REF!)","v":{"$error":"#REF!"}}]
[null,"","","","","","","",null,null,null,{"$f":"IF(#REF!=\"\",\"\",#REF!)","v":{"$error":"#REF!"}},{"$f":"IF(#REF!=\"\",\"\",#REF!)","v":{"$error":"#REF!"}},{"$f":"IF(#REF!=\"\",\"\",#REF!)","v":{"$error":"#REF!"}},{"$f":"IF(#REF!=\"\",\"\",#REF!)","v":{"$error":"#REF!"}},{"$f":"IF(#REF!=\"\",\"\",#REF!)","v":{"$error":"#REF!"}},{"$f":"IF(#REF!=\"\",\"\",#REF!)","v":{"$error":"#REF!"}}]
[{"$f":"IF(A13=\"\",\"\",A13)","v":"12:30-13:40"},"","","","","","","",null,null,null,{"$f":"IF(#REF!=\"\",\"\",#REF!)","v":{"$error":"#REF!"}},{"$f":"IF(#REF!=\"\",\"\",#REF!)","v":{"$error":"#REF!"}},{"$f":"IF(#REF!=\"\",\"\",#REF!)","v":{"$error":"#REF!"}},{"$f":"IF(#REF!=\"\",\"\",#REF!)","v":{"$error":"#REF!"}},{"$f":"IF(#REF!=\"\",\"\",#REF!)","v":{"$error":"#REF!"}},{"$f":"IF(#REF!=\"\",\"\",#REF!)","v":{"$error":"#REF!"}}]
[null,"","","","","","","",null,null,null,{"$f":"IF(#REF!=\"\",\"\",#REF!)","v":{"$error":"#REF!"}},{"$f":"IF(#REF!=\"\",\"\",#REF!)","v":{"$error":"#REF!"}},{"$f":"IF(#REF!=\"\",\"\",#REF!)","v":{"$error":"#REF!"}},{"$f":"IF(#REF!=\"\",\"\",#REF!)","v":{"$error":"#REF!"}},{"$f":"IF(#REF!=\"\",\"\",#REF!)","v":{"$error":"#REF!"}},{"$f":"IF(#REF!=\"\",\"\",#REF!)","v":{"$error":"#REF!"}}]
[{"$f":"IF(A15=\"\",\"\",A15)","v":"13:40-14:30"},"","","","","","","",null,null,null,{"$f":"IF(#REF!=\"\",\"\",#REF!)","v":{"$error":"#REF!"}},{"$f":"IF(#REF!=\"\",\"\",#REF!)","v":{"$error":"#REF!"}},{"$f":"IF(#REF!=\"\",\"\",#REF!)","v":{"$error":"#REF!"}},{"$f":"IF(#REF!=\"\",\"\",#REF!)","v":{"$error":"#REF!"}},{"$f":"IF(#REF!=\"\",\"\",#REF!)","v":{"$error":"#REF!"}},{"$f":"IF(#REF!=\"\",\"\",#REF!)","v":{"$error":"#REF!"}}]
[null,"","","","","","","",null,null,null,{"$f":"IF(#REF!=\"\",\"\",#REF!)","v":{"$error":"#REF!"}},{"$f":"IF(#REF!=\"\",\"\",#REF!)","v":{"$error":"#REF!"}},{"$f":"IF(#REF!=\"\",\"\",#REF!)","v":{"$error":"#REF!"}},{"$f":"IF(#REF!=\"\",\"\",#REF!)","v":{"$error":"#REF!"}},{"$f":"IF(#REF!=\"\",\"\",#REF!)","v":{"$error":"#REF!"}},{"$f":"IF(#REF!=\"\",\"\",#REF!)","v":{"$error":"#REF!"}}]
[{"$f":"IF(A17=\"\",\"\",A17)","v":"14:40-15:30"},"",{"$f":"IF(C17=\"\",\"\",C17)","v":""},"","","","","",null,null,null,{"$f":"IF(#REF!=\"\",\"\",#REF!)","v":{"$error":"#REF!"}},{"$f":"IF(#REF!=\"\",\"\",#REF!)","v":{"$error":"#REF!"}},{"$f":"IF(#REF!=\"\",\"\",#REF!)","v":{"$error":"#REF!"}},{"$f":"IF(#REF!=\"\",\"\",#REF!)","v":{"$error":"#REF!"}},{"$f":"IF(#REF!=\"\",\"\",#REF!)","v":{"$error":"#REF!"}},{"$f":"IF(#REF!=\"\",\"\",#REF!)","v":{"$error":"#REF!"}}]
[null,"","","","","","","",null,null,null,{"$f":"IF(#REF!=\"\",\"\",#REF!)","v":{"$error":"#REF!"}},{"$f":"IF(#REF!=\"\",\"\",#REF!)","v":{"$error":"#REF!"}},{"$f":"IF(#REF!=\"\",\"\",#REF!)","v":{"$error":"#REF!"}},{"$f":"IF(#REF!=\"\",\"\",#REF!)","v":{"$error":"#REF!"}},{"$f":"IF(#REF!=\"\",\"\",#REF!)","v":{"$error":"#REF!"}},{"$f":"IF(#REF!=\"\",\"\",#REF!)","v":{"$error":"#REF!"}}]
[{"$f":"IF(A19=\"\",\"\",A19)","v":"15:40-16:30"},"","","","","","","",null,null,null,{"$f":"IF(#REF!=\"\",\"\",#REF!)","v":{"$error":"#REF!"}},{"$f":"IF(#REF!=\"\",\"\",#REF!)","v":{"$error":"#REF!"}},{"$f":"IF(#REF!=\"\",\"\",#REF!)","v":{"$error":"#REF!"}},{"$f":"IF(#REF!=\"\",\"\",#REF!)","v":{"$error":"#REF!"}},{"$f":"IF(#REF!=\"\",\"\",#REF!)","v":{"$error":"#REF!"}},{"$f":"IF(#REF!=\"\",\"\",#REF!)","v":{"$error":"#REF!"}}]
[null,"","","","","","","",null,null,null,{"$f":"IF(#REF!=\"\",\"\",#REF!)","v":{"$error":"#REF!"}},{"$f":"IF(#REF!=\"\",\"\",#REF!)","v":{"$error":"#REF!"}},{"$f":"IF(#REF!=\"\",\"\",#REF!)","v":{"$error":"#REF!"}},{"$f":"IF(#REF!=\"\",\"\",#REF!)","v":{"$error":"#REF!"}},{"$f":"IF(#REF!=\"\",\"\",#REF!)","v":{"$error":"#REF!"}},{"$f":"IF(#REF!=\"\",\"\",#REF!)","v":{"$error":"#REF!"}}]
[{"$f":"IF(A21=\"\",\"\",A21)","v":"16:40-17:30"},"","","","","","","",null,null,null,{"$f":"IF(#REF!=\"\",\"\",#REF!)","v":{"$error":"#REF!"}},{"$f":"IF(#REF!=\"\",\"\",#REF!)","v":{"$error":"#REF!"}},{"$f":"IF(#REF!=\"\",\"\",#REF!)","v":{"$error":"#REF!"}},{"$f":"IF(#REF!=\"\",\"\",#REF!)","v":{"$error":"#REF!"}},{"$f":"IF(#REF!=\"\",\"\",#REF!)","v":{"$error":"#REF!"}},{"$f":"IF(#REF!=\"\",\"\",#REF!)","v":{"$error":"#REF!"}}]
[null,"","","","","","","",null,null,null,{"$f":"IF(#REF!=\"\",\"\",#REF!)","v":{"$error":"#REF!"}},{"$f":"IF(#REF!=\"\",\"\",#REF!)","v":{"$error":"#REF!"}},{"$f":"IF(#REF!=\"\",\"\",#REF!)","v":{"$error":"#REF!"}},{"$f":"IF(#REF!=\"\",\"\",#REF!)","v":{"$error":"#REF!"}},{"$f":"IF(#REF!=\"\",\"\",#REF!)","v":{"$error":"#REF!"}},{"$f":"IF(#REF!=\"\",\"\",#REF!)","v":{"$error":"#REF!"}}]
[{"$f":"IF(A23=\"\",\"\",A23)","v":"17:40-18:30"},"","","","","","","",null,null,null,{"$f":"IF(#REF!=\"\",\"\",#REF!)","v":{"$error":"#REF!"}},{"$f":"IF(#REF!=\"\",\"\",#REF!)","v":{"$error":"#REF!"}},{"$f":"IF(#REF!=\"\",\"\",#REF!)","v":{"$error":"#REF!"}},{"$f":"IF(#REF!=\"\",\"\",#REF!)","v":{"$error":"#REF!"}},{"$f":"IF(#REF!=\"\",\"\",#REF!)","v":{"$error":"#REF!"}},{"$f":"IF(#REF!=\"\",\"\",#REF!)","v":{"$error":"#REF!"}}]
[null,"","","","","","","",null,null,null,{"$f":"IF(#REF!=\"\",\"\",#REF!)","v":{"$error":"#REF!"}},{"$f":"IF(#REF!=\"\",\"\",#REF!)","v":{"$error":"#REF!"}},{"$f":"IF(#REF!=\"\",\"\",#REF!)","v":{"$error":"#REF!"}},{"$f":"IF(#REF!=\"\",\"\",#REF!)","v":{"$error":"#REF!"}},{"$f":"IF(#REF!=\"\",\"\",#REF!)","v":{"$error":"#REF!"}},{"$f":"IF(#REF!=\"\",\"\",#REF!)","v":{"$error":"#REF!"}}]
[{"$f":"IF(A25=\"\",\"\",A25)","v":"18:40-19:30"},"","","","","","",""]
[null,"","","","","","",""]
[{"$f":"IF(A27=\"\",\"\",A27)","v":"19:40-20:30"},"",{"$f":"IF(C27=\"\",\"\",C27)","v":""},"","","","","",null,null,null,{"$f":"IF(#REF!=\"\",\"\",#REF!)","v":{"$error":"#REF!"}},{"$f":"IF(#REF!=\"\",\"\",#REF!)","v":{"$error":"#REF!"}},{"$f":"IF(#REF!=\"\",\"\",#REF!)","v":{"$error":"#REF!"}},{"$f":"IF(#REF!=\"\",\"\",#REF!)","v":{"$error":"#REF!"}},{"$f":"IF(#REF!=\"\",\"\",#REF!)","v":{"$error":"#REF!"}},{"$f":"IF(#REF!=\"\",\"\",#REF!)","v":{"$error":"#REF!"}}]
[null,"","","","","","","",null,null,null,{"$f":"IF(#REF!=\"\",\"\",#REF!)","v":{"$error":"#REF!"}},{"$f":"IF(#REF!=\"\",\"\",#REF!)","v":{"$error":"#REF!"}},{"$f":"IF(#REF!=\"\",\"\",#REF!)","v":{"$error":"#REF!"}},{"$f":"IF(#REF!=\"\",\"\",#REF!)","v":{"$error":"#REF!"}},{"$f":"IF(#REF!=\"\",\"\",#REF!)","v":{"$error":"#REF!"}},{"$f":"IF(#REF!=\"\",\"\",#REF!)","v":{"$error":"#REF!"}}]
[{"$f":"IF(A29=\"\",\"\",A29)","v":"20:40-21:30"},"","","","","","","",null,null,null,{"$f":"IF(#REF!=\"\",\"\",#REF!)","v":{"$error":"#REF!"}},{"$f":"IF(#REF!=\"\",\"\",#REF!)","v":{"$error":"#REF!"}},{"$f":"IF(#REF!=\"\",\"\",#REF!)","v":{"$error":"#REF!"}},{"$f":"IF(#REF!=\"\",\"\",#REF!)","v":{"$error":"#REF!"}},{"$f":"IF(#REF!=\"\",\"\",#REF!)","v":{"$error":"#REF!"}},{"$f":"IF(#REF!=\"\",\"\",#REF!)","v":{"$error":"#REF!"}}]
[null,"","","","","","","",null,null,null,{"$f":"IF(#REF!=\"\",\"\",#REF!)","v":{"$error":"#REF!"}},{"$f":"IF(#REF!=\"\",\"\",#REF!)","v":{"$error":"#REF!"}},{"$f":"IF(#REF!=\"\",\"\",#REF!)","v":{"$error":"#REF!"}},{"$f":"IF(#REF!=\"\",\"\",#REF!)","v":{"$error":"#REF!"}},{"$f":"IF(#REF!=\"\",\"\",#REF!)","v":{"$error":"#REF!"}},{"$f":"IF(#REF!=\"\",\"\",#REF!)","v":{"$error":"#REF!"}}]
[{"$f":"IF(A31=\"\",\"\",A31)","v":"21:40-22:30"},"","","","","","",""]
[null,"","","","","","",""]
[{"$f":"IF(A33=\"\",\"\",A33)","v":"22:40-23:30"},"","","","","","",""]
[null,"","","","","","","",null,null,null,{"$f":"IF(#REF!=\"\",\"\",#REF!)","v":{"$error":"#REF!"}}]
[{"$f":"IF(A35=\"\",\"\",A35)","v":"21:15-22:00"},"","","","","","","",null,null,null,{"$f":"IF(#REF!=\"\",\"\",#REF!)","v":{"$error":"#REF!"}}]
[null,"","","","","","",""]
[{"$f":"IF(A37=\"\",\"\",A37)","v":"22:15-23:00"},"",{"$f":"IF(C37=\"\",\"\",C37)","v":""},"","","","","",null,null,null,{"$f":"IF(#REF!=\"\",\"\",#REF!)","v":{"$error":"#REF!"}}]
[null,"","","","","","",""]
[null,null,null,{"$f":"IF(D39=\"\",\"\",D39)","v":"Enstitülerde  Danışmanlık yapılan öğrenciler"}]
[null,null,null,{"$f":"IF(D40=\"\",\"\",D40)","v":1},{"$f":"IF(E40=\"\",\"\",E40)","v":6},{"$f":"IF(F40=\"\",\"\",F40)","v":""},""]
[null,"","",2,"","",""]
[null,{"$f":"IF(B42=\"\",\"\",B42)","v":""},"",3,"","",""]
[null,{"$f":"IF(B43=\"\",\"\",B43)","v":""},"",4,"","",""]
[null,null,null,5,"",{"$f":"IF(F44=\"\",\"\",F44)","v":""},""]
[null,{"$f":"IF(B45=\"\",\"\",B45)","v":""},null,null,{"$f":"IF(E45=\"\",\"\",E45)","v":""}]
[null,{"$f":"IF(B46=\"\",\"\",B46)","v":""},null,null,{"$f":"IF(E46=\"\",\"\",E46)","v":"BÖLÜM BAŞKANI"}]

{"sheet":"Sınav Ücret","index":4,"n_rows":54,"n_cols":65,"rows_kept":54,"cut":false,"hidden":false,"merged":[[53,21,54,27],[55,21,55,27],[50,10,52,11],[50,12,52,17],[50,18,55,18],[50,19,52,20],[50,21,52,27],[53,1,55,2],[53,3,55,8],[53,10,55,11],[53,12,55,17],[53,19,55,20],[49,0,49,2],[49,3,49,8],[50,0,55,0],[50,1,52,2],[50,3,52,8],[50,9,55,9],[45,0,45,3],[45,4,45,7],[45,8,45,10],[45,11,45,27],[46,0,46,13],[47,0,47,13],[47,15,47,18],[42,1,42,10],[42,11,42,14],[42,15,42,18],[42,19,42,21],[42,22,42,27],[43,1,43,18],[43,19,43,21],[40,1,40,10],[40,11,40,14],[40,15,40,18],[40,19,40,21],[40,22,40,27],[41,1,41,10],[41,11,41,14],[41,15,41,18],[41,19,41,21],[41,22,41,27],[38,1,38,10],[38,11,38,14],[38,15,38,18],[38,19,38,21],[38,22,38,27],[39,1,39,10],[39,11,39,14],[39,15,39,18],[39,19,39,21],[39,22,39,27],[36,1,36,10],[36,11,36,14],[36,15,36,18],[36,19,36,21],[36,22,36,27],[37,1,37,10],[37,11,37,14],[37,15,37,18],[37,19,37,21],[37,22,37,27],[34,1,34,10],[34,11,34,14],[34,15,34,18],[34,19,34,21],[34,22,34,27],[35,1,35,10],[35,11,35,14],[35,15,35,18],[35,19,35,21],[35,22,35,27],[31,3,31,24],[33,1,33,10],[33,11,33,14],[33,15,33,18],[33,19,33,21],[33,22,33,27],[28,1,28,10],[28,11,28,14],[28,15,28,18],[28,19,28,21],[28,22,28,27],[29,1,29,18],[29,19,29,21],[26,1,26,10],[26,11,26,14],[26,15,26,18],[26,19,26,21],[26,22,26,27],[27,1,27,10],[27,11,27,14],[27,15,27,18],[27,19,27,21],[27,22,27,27],[24,1,24,10],[24,11,24,14],[24,15,24,18],[24,19,24,21],[24,22,24,27],[25,1,25,10],[25,11,25,14],[25,15,25,18],[25,19,25,21],[25,22,25,27],[22,1,22,10],[22,11,22,14],[22,15,22,18],[22,19,22,21],[22,22,22,27],[23,1,23,10],[23,11,23,14],[23,15,23,18],[23,19,23,21],[23,22,23,27],[20,1,20,10],[20,11,20,14],[20,15,20,18],[20,19,20,21],[20,22,20,27],[21,1,21,10],[21,11,21,14],[21,15,21,18],[21,19,21,21],[21,22,21,27],[18,1,18,10],[18,11,18,14],[18,15,18,18],[18,19,18,21],[18,22,18,27],[19,1,19,10],[19,11,19,14],[19,15,19,18],[19,19,19,21],[19,22,19,27],[16,1,16,10],[16,11,16,14],[16,15,16,18],[16,19,16,21],[16,22,16,27],[17,1,17,10],[17,11,17,14],[17,15,17,18],[17,19,17,21],[17,22,17,27],[14,1,14,10],[14,11,14,14],[14,15,14,18],[14,19,14,21],[14,22,14,27],[15,1,15,10],[15,11,15,14],[15,15,15,18],[15,19,15,21],[15,22,15,27],[0,5,0,22],[1,5,1,22],[2,5,2,22],[8,25,8,26],[9,3,9,24],[9,25,9,26],[11,0,13,0],[11,1,13,10],[11,11,13,14],[11,15,13,18],[11,19,13,21],[11,22,13,27],[4,0,6,0],[4,1,4,6],[4,7,4,14],[4,15,6,15],[4,16,4,22],[4,23,4,27],[5,1,5,6],[5,7,5,14],[5,16,6,22],[5,23,6,27],[6,1,6,6],[6,7,6,14]]}
[null,null,null,null,null,{"$f":"IF(VLOOKUP(F2,AI2:AN28,6,FALSE)=\"\",UPPER(DersYükü!AE1)&\" ÜNİVERSİTESİ\",VLOOKUP(F2,AI2:AN28,6,FALSE)&\" ÜNİVERSİTESİ\")","v":{"$error":"#N/A"}},null,null,null,null,null,null,null,null,null,null,null,null,null,null,null,null,null,null,null,null,null,null,null,null,null,null,null,null,null,null,null,null,null,null,{"$f":"IF(#REF!=\"\",\"\",#REF!)","v":{"$error":"#REF!"}},{"$f":"IF(#REF!=\"\",\"\",#REF!)","v":{"$error":"#REF!"}}]
[null,null,null,null,null,"Hava Ulaştırma Fakültesi",null,null,null,null,null,null,null,null,null,null,null,null,null,null,null,null,null,null,null,null,null,null,null,null,null,null,null,null,{"$f":"IF(#REF!=\"\",\"\",#REF!)","v":{"$error":"#REF!"}},{"$f":"IF(#REF!=\"\",\"\",#REF!)","v":{"$error":"#REF!"}},{"$f":"IF(#REF!=\"\",\"\",#REF!)","v":{"$error":"#REF!"}},{"$f":"IF(#REF!=\"\",\"\",#REF!)","v":{"$error":"#REF!"}},{"$f":"IF(#REF!=\"\",\"\",#REF!)","v":{"$error":"#REF!"}},{"$f":"IF(#REF!=\"\",\"\",#REF!)","v":{"$error":"#REF!"}}]
[null,null,null,null,null,"SINAV ÜCRETİ BİLDİRİM FORMU",null,null,null,null,null,null,null,null,null,null,null,null,null,null,null,null,null,null,null,null,null,null,null,null,null,null,null,null,{"$f":"IF(#REF!=\"\",\"\",#REF!)","v":{"$error":"#REF!"}},{"$f":"IF(#REF!=\"\",\"\",#REF!)","v":{"$error":"#REF!"}},{"$f":"IF(#REF!=\"\",\"\",#REF!)","v":{"$error":"#REF!"}},{"$f":"IF(#REF!=\"\",\"\",#REF!)","v":{"$error":"#REF!"}},{"$f":"IF(#REF!=\"\",\"\",#REF!)","v":{"$error":"#REF!"}},{"$f":"IF(#REF!=\"\",\"\",#REF!)","v":{"$error":"#REF!"}}]
[null,null,null,null,null,null,null,null,null,null,null,null,null,null,null,null,null,null,null,null,null,null,null,null,null,null,null,null,null,null,null,null,null,null,{"$f":"IF(#REF!=\"\",\"\",#REF!)","v":{"$error":"#REF!"}},{"$f":"IF(#REF!=\"\",\"\",#REF!)","v":{"$error":"#REF!"}},{"$f":"IF(#REF!=\"\",\"\",#REF!)","v":{"$error":"#REF!"}},{"$f":"IF(#REF!=\"\",\"\",#REF!)","v":{"$error":"#REF!"}},{"$f":"IF(#REF!=\"\",\"\",#REF!)","v":{"$error":"#REF!"}},{"$f":"IF(#REF!=\"\",\"\",#REF!)","v":{"$error":"#REF!"}}]
["ÖĞRETİM ELEMANININ","Bölümü",null,null,null,null,null,{"$f":"DersYükü!E6","v":0},null,null,null,null,null,null,null,"SINAVIN","Öğretim Yılı",null,null,null,null,null,null,{"$f":"CONCATENATE(DersYükü!R6,DersYükü!V6)","v":""},null,null,null,null,null,null,null,null,null,null,{"$f":"IF(#REF!=\"\",\"\",#REF!)","v":{"$error":"#REF!"}},{"$f":"IF(#REF!=\"\",\"\",#REF!)","v":{"$error":"#REF!"}},{"$f":"IF(#REF!=\"\",\"\",#REF!)","v":{"$error":"#REF!"}},{"$f":"IF(#REF!=\"\",\"\",#REF!)","v":{"$error":"#REF!"}},{"$f":"IF(#REF!=\"\",\"\",#REF!)","v":{"$error":"#REF!"}},{"$f":"IF(#REF!=\"\",\"\",#REF!)","v":{"$error":"#REF!"}}]
[null,"Adı ve Soyadı",null,null,null,null,null,{"$f":"DersYükü!E7","v":0},null,null,null,null,null,null,null,null,"Yarıyılı",null,null,null,null,null,null,{"$f":"DersYükü!R7","v":0},null,null,null,null,null,null,null,null,null,null,{"$f":"IF(#REF!=\"\",\"\",#REF!)","v":{"$error":"#REF!"}},{"$f":"IF(#REF!=\"\",\"\",#REF!)","v":{"$error":"#REF!"}},{"$f":"IF(#REF!=\"\",\"\",#REF!)","v":{"$error":"#REF!"}},{"$f":"IF(#REF!=\"\",\"\",#REF!)","v":{"$error":"#REF!"}},{"$f":"IF(#REF!=\"\",\"\",#REF!)","v":{"$error":"#REF!"}},{"$f":"IF(#REF!=\"\",\"\",#REF!)","v":{"$error":"#REF!"}}]
[null,"TC Kimlik Numarası",null,null,null,null,null,{"$f":"IF(DersYükü!K9=\"\",\"TC TC TC TC TC\",DersYükü!K9)","v":"TC TC TC TC TC"},null,null,null,null,null,null,null,null,null,null,null,null,null,null,null,null,null,null,null,null,null,null,null,null,null,null,{"$f":"IF(#REF!=\"\",\"\",#REF!)","v":{"$error":"#REF!"}},{"$f":"IF(#REF!=\"\",\"\",#REF!)","v":{"$error":"#REF!"}},{"$f":"IF(#REF!=\"\",\"\",#REF!)","v":{"$error":"#REF!"}},{"$f":"IF(#REF!=\"\",\"\",#REF!)","v":{"$error":"#REF!"}},{"$f":"IF(#REF!=\"\",\"\",#REF!)","v":{"$error":"#REF!"}},{"$f":"IF(#REF!=\"\",\"\",#REF!)","v":{"$error":"#REF!"}}]
[null,null,null,null,null,null,null,null,null,null,null,null,null,null,null,null,null,null,null,null,null,null,null,null,null,null,null,null,null,null,null,null,null,null,{"$f":"IF(#REF!=\"\",\"\",#REF!)","v":{"$error":"#REF!"}},{"$f":"IF(#REF!=\"\",\"\",#REF!)","v":{"$error":"#REF!"}},{"$f":"IF(#REF!=\"\",\"\",#REF!)","v":{"$error":"#REF!"}},{"$f":"IF(#REF!=\"\",\"\",#REF!)","v":{"$error":"#REF!"}},{"$f":"IF(#REF!=\"\",\"\",#REF!)","v":{"$error":"#REF!"}},{"$f":"IF(#REF!=\"\",\"\",#REF!)","v":{"$error":"#REF!"}}]
[null,null,null,null,null,null,null,null,null,null,null,null,null,null,null,null,null,null,null,null,null,null,null,null,null,null,null,null,null,null,null,null,null,null,{"$f":"IF(#REF!=\"\",\"\",#REF!)","v":{"$error":"#REF!"}},{"$f":"IF(#REF!=\"\",\"\",#REF!)","v":{"$error":"#REF!"}},{"$f":"IF(#REF!=\"\",\"\",#REF!)","v":{"$error":"#REF!"}},{"$f":"IF(#REF!=\"\",\"\",#REF!)","v":{"$error":"#REF!"}},{"$f":"IF(#REF!=\"\",\"\",#REF!)","v":{"$error":"#REF!"}},{"$f":"IF(#REF!=\"\",\"\",#REF!)","v":{"$error":"#REF!"}}]
[null,null,null,"ÖRGÜN ÖĞRETİM",null,null,null,null,null,null,null,null,null,null,null,null,null,null,null,null,null,null,null,null,null,null,null,null,null,null,null,null,null,null,{"$f":"IF(#REF!=\"\",\"\",#REF!)","v":{"$error":"#REF!"}},{"$f":"IF(#REF!=\"\",\"\",#REF!)","v":{"$error":"#REF!"}},{"$f":"IF(#REF!=\"\",\"\",#REF!)","v":{"$error":"#REF!"}},{"$f":"IF(#REF!=\"\",\"\",#REF!)","v":{"$error":"#REF!"}},{"$f":"IF(#REF!=\"\",\"\",#REF!)","v":{"$error":"#REF!"}},{"$f":"IF(#REF!=\"\",\"\",#REF!)","v":{"$error":"#REF!"}}]
[null,null,null,null,null,null,null,null,null,null,null,null,null,null,null,null,null,null,null,null,null,null,null,null,null,null,null,null,null,null,null,null,null,null,{"$f":"IF(#REF!=\"\",\"\",#REF!)","v":{"$error":"#REF!"}},{"$f":"IF(#REF!=\"\",\"\",#REF!)","v":{"$error":"#REF!"}},{"$f":"IF(#REF!=\"\",\"\",#REF!)","v":{"$error":"#REF!"}},{"$f":"IF(#REF!=\"\",\"\",#REF!)","v":{"$error":"#REF!"}},{"$f":"IF(#REF!=\"\",\"\",#REF!)","v":{"$error":"#REF!"}},{"$f":"IF(#REF!=\"\",\"\",#REF!)","v":{"$error":"#REF!"}}]
["SIRA NO","DERSİN ADI",null,null,null,null,null,null,null,null,null,"BİRİMİ",null,null,null,"SINAVA GİREN ÖĞRENCİ SAYISI",null,null,null,"ÜCRETE ESAS BİRİM SAYI",null,null,"SINAV TARİHİ",null,null,null,null,null,null,null,null,null,null,null,{"$f":"IF(#REF!=\"\",\"\",#REF!)","v":{"$error":"#REF!"}},{"$f":"IF(#REF!=\"\",\"\",#REF!)","v":{"$error":"#REF!"}},{"$f":"IF(#REF!=\"\",\"\",#REF!)","v":{"$error":"#REF!"}},{"$f":"IF(#REF!=\"\",\"\",#REF!)","v":{"$error":"#REF!"}},{"$f":"IF(#REF!=\"\",\"\",#REF!)","v":{"$error":"#REF!"}},{"$f":"IF(#REF!=\"\",\"\",#REF!)","v":{"$error":"#REF!"}}]
[null,null,null,null,null,null,null,null,null,null,null,null,null,null,null,null,null,null,null,null,null,null,null,null,null,null,null,null,null,null,null,null,null,null,{"$f":"IF(#REF!=\"\",\"\",#REF!)","v":{"$error":"#REF!"}},{"$f":"IF(#REF!=\"\",\"\",#REF!)","v":{"$error":"#REF!"}},{"$f":"IF(#REF!=\"\",\"\",#REF!)","v":{"$error":"#REF!"}},{"$f":"IF(#REF!=\"\",\"\",#REF!)","v":{"$error":"#REF!"}},{"$f":"IF(#REF!=\"\",\"\",#REF!)","v":{"$error":"#REF!"}},{"$f":"IF(#REF!=\"\",\"\",#REF!)","v":{"$error":"#REF!"}}]
[null,null,null,null,null,null,null,null,null,null,null,null,null,null,null,null,null,null,null,null,null,null,null,null,null,null,null,null,null,null,null,null,null,null,{"$f":"IF(#REF!=\"\",\"\",#REF!)","v":{"$error":"#REF!"}},{"$f":"IF(#REF!=\"\",\"\",#REF!)","v":{"$error":"#REF!"}},{"$f":"IF(#REF!=\"\",\"\",#REF!)","v":{"$error":"#REF!"}},{"$f":"IF(#REF!=\"\",\"\",#REF!)","v":{"$error":"#REF!"}},{"$f":"IF(#REF!=\"\",\"\",#REF!)","v":{"$error":"#REF!"}},{"$f":"IF(#REF!=\"\",\"\",#REF!)","v":{"$error":"#REF!"}}]
[1,{"$f":"IF(DersYükü!C14=\"\",\"\",DersYükü!C14)","v":""},null,null,null,null,null,null,null,null,null,{"$f":"IF(B15=\"\",\"\",IF(VLOOKUP(DersYükü!M14,#REF!,2,FALSE)=\"\",\"\",VLOOKUP(DersYükü!M14,#REF!,2,FALSE)))","v":""},null,null,null,null,null,null,null,{"$f":"IF(F2=BM15,AG15,\"\")","v":""},null,null,null,null,null,null,null,null,{"$f":"IF(AND(P15>300,P15<=350),7,IF(AND(P15>350,P15<=400),8,IF(AND(P15>400,P15<=450),9,IF(AND(P15>450),10))))","v":false},{"$f":"IF(W15=\"\",\"\",IF(Ekders!$AN$77>=(VALUE(-WEEKNUM(DersYükü!$M$1)+WEEKNUM(W15)+1)),(VALUE(-WEEKNUM(DersYükü!$M$1)+WEEKNUM(W15)+1)),0))","v":""},null,null,{"$f":"IF(P15=\"\",\"\",IF(AND(P15>0,P15<=50),1,IF(AND(P15>50,P15<=100),2,IF(AND(P15>100,P15<=150),3,IF(AND(P15>150,P15<=200),4,IF(AND(P15>200,P15<=250),5,IF(AND(P15>250,P15<=300),6,AC15)))))))","v":""},null,{"$f":"IF(#REF!=\"\",\"\",#REF!)","v":{"$error":"#REF!"}},{"$f":"IF(#REF!=\"\",\"\",#REF!)","v":{"$error":"#REF!"}},{"$f":"IF(#REF!=\"\",\"\",#REF!)","v":{"$error":"#REF!"}},{"$f":"IF(#REF!=\"\",\"\",#REF!)","v":{"$error":"#REF!"}},{"$f":"IF(#REF!=\"\",\"\",#REF!)","v":{"$error":"#REF!"}},{"$f":"IF(#REF!=\"\",\"\",#REF!)","v":{"$error":"#REF!"}},null,null,null,null,null,null,null,null,null,null,null,null,null,null,null,null,null,null,null,null,null,null,null,null,{"$f":"IF(DersYükü!M14=\"\",\"\",DersYükü!M14)","v":""}]
[2,{"$f":"IF(DersYükü!C15=\"\",\"\",DersYükü!C15)","v":""},null,null,null,null,null,null,null,null,null,{"$f":"IF(B16=\"\",\"\",IF(VLOOKUP(DersYükü!M15,#REF!,2,FALSE)=\"\",\"\",VLOOKUP(DersYükü!M15,#REF!,2,FALSE)))","v":""},null,null,null,null,null,null,null,{"$f":"IF(F2=BM16,AG16,\"\")","v":""},null,null,null,null,null,null,null,null,false,{"$f":"IF(W16=\"\",\"\",IF(Ekders!$AN$77>=(VALUE(-WEEKNUM(DersYükü!$M$1)+WEEKNUM(W16)+1)),(VALUE(-WEEKNUM(DersYükü!$M$1)+WEEKNUM(W16)+1)),0))","v":""},null,null,{"$f":"IF(P16=\"\",\"\",IF(AND(P16>0,P16<=50),1,IF(AND(P16>50,P16<=100),2,IF(AND(P16>100,P16<=150),3,IF(AND(P16>150,P16<=200),4,IF(AND(P16>200,P16<=250),5,IF(AND(P16>250,P16<=300),6,AC16)))))))","v":""},null,{"$f":"IF(#REF!=\"\",\"\",#REF!)","v":{"$error":"#REF!"}},{"$f":"IF(#REF!=\"\",\"\",#REF!)","v":{"$error":"#REF!"}},{"$f":"IF(#REF!=\"\",\"\",#REF!)","v":{"$error":"#REF!"}},{"$f":"IF(#REF!=\"\",\"\",#REF!)","v":{"$error":"#REF!"}},{"$f":"IF(#REF!=\"\",\"\",#REF!)","v":{"$error":"#REF!"}},{"$f":"IF(#REF!=\"\",\"\",#REF!)","v":{"$error":"#REF!"}},null,null,null,null,null,null,null,null,null,null,null,null,null,null,null,null,null,null,null,null,null,null,null,null,{"$f":"IF(DersYükü!M15=\"\",\"\",DersYükü!M15)","v":""}]
[3,{"$f":"IF(DersYükü!C16=\"\",\"\",DersYükü!C16)","v":""},null,null,null,null,null,null,null,null,null,{"$f":"IF(B17=\"\",\"\",IF(VLOOKUP(DersYükü!M16,#REF!,2,FALSE)=\"\",\"\",VLOOKUP(DersYükü!M16,#REF!,2,FALSE)))","v":""},null,null,null,null,null,null,null,{"$f":"IF(F2=BM17,AG17,\"\")","v":""},null,null,null,null,null,null,null,null,false,{"$f":"IF(W17=\"\",\"\",IF(Ekders!$AN$77>=(VALUE(-WEEKNUM(DersYükü!$M$1)+WEEKNUM(W17)+1)),(VALUE(-WEEKNUM(DersYükü!$M$1)+WEEKNUM(W17)+1)),0))","v":""},null,null,"",null,{"$f":"IF(#REF!=\"\",\"\",#REF!)","v":{"$error":"#REF!"}},{"$f":"IF(#REF!=\"\",\"\",#REF!)","v":{"$error":"#REF!"}},{"$f":"IF(#REF!=\"\",\"\",#REF!)","v":{"$error":"#REF!"}},{"$f":"IF(#REF!=\"\",\"\",#REF!)","v":{"$error":"#REF!"}},{"$f":"IF(#REF!=\"\",\"\",#REF!)","v":{"$error":"#REF!"}},{"$f":"IF(#REF!=\"\",\"\",#REF!)","v":{"$error":"#REF!"}},null,null,null,null,null,null,null,null,null,null,null,null,null,null,null,null,null,null,null,null,null,null,null,null,{"$f":"IF(DersYükü!M16=\"\",\"\",DersYükü!M16)","v":""}]
[4,{"$f":"IF(DersYükü!C17=\"\",\"\",DersYükü!C17)","v":""},null,null,null,null,null,null,null,null,null,{"$f":"IF(B18=\"\",\"\",IF(VLOOKUP(DersYükü!M17,#REF!,2,FALSE)=\"\",\"\",VLOOKUP(DersYükü!M17,#REF!,2,FALSE)))","v":""},null,null,null,null,null,null,null,{"$f":"IF(F2=BM18,AG18,\"\")","v":""},null,null,null,null,null,null,null,null,false,{"$f":"IF(W18=\"\",\"\",IF(Ekders!$AN$77>=(VALUE(-WEEKNUM(DersYükü!$M$1)+WEEKNUM(W18)+1)),(VALUE(-WEEKNUM(DersYükü!$M$1)+WEEKNUM(W18)+1)),0))","v":""},null,null,"",null,{"$f":"IF(#REF!=\"\",\"\",#REF!)","v":{"$error":"#REF!"}},{"$f":"IF(#REF!=\"\",\"\",#REF!)","v":{"$error":"#REF!"}},{"$f":"IF(#REF!=\"\",\"\",#REF!)","v":{"$error":"#REF!"}},{"$f":"IF(#REF!=\"\",\"\",#REF!)","v":{"$error":"#REF!"}},{"$f":"IF(#REF!=\"\",\"\",#REF!)","v":{"$error":"#REF!"}},{"$f":"IF(#REF!=\"\",\"\",#REF!)","v":{"$error":"#REF!"}},null,null,null,null,null,null,null,null,null,null,null,null,null,null,null,null,null,null,null,null,null,null,null,null,{"$f":"IF(DersYükü!M17=\"\",\"\",DersYükü!M17)","v":""}]
[5,{"$f":"IF(DersYükü!C18=\"\",\"\",DersYükü!C18)","v":""},null,null,null,null,null,null,null,null,null,{"$f":"IF(B19=\"\",\"\",IF(VLOOKUP(DersYükü!M18,#REF!,2,FALSE)=\"\",\"\",VLOOKUP(DersYükü!M18,#REF!,2,FALSE)))","v":""},null,null,null,null,null,null,null,{"$f":"IF(F2=BM19,AG19,\"\")","v":""},null,null,null,null,null,null,null,null,false,{"$f":"IF(W19=\"\",\"\",IF(Ekders!$AN$77>=(VALUE(-WEEKNUM(DersYükü!$M$1)+WEEKNUM(W19)+1)),(VALUE(-WEEKNUM(DersYükü!$M$1)+WEEKNUM(W19)+1)),0))","v":""},null,null,{"$f":"IF(P19=\"\",\"\",IF(AND(P19>0,P19<=50),1,IF(AND(P19>50,P19<=100),2,IF(AND(P19>100,P19<=150),3,IF(AND(P19>150,P19<=200),4,IF(AND(P19>200,P19<=250),5,IF(AND(P19>250,P19<=300),6,AC19)))))))","v":""},null,{"$f":"IF(#REF!=\"\",\"\",#REF!)","v":{"$error":"#REF!"}},{"$f":"IF(#REF!=\"\",\"\",#REF!)","v":{"$error":"#REF!"}},{"$f":"IF(#REF!=\"\",\"\",#REF!)","v":{"$error":"#REF!"}},{"$f":"IF(#REF!=\"\",\"\",#REF!)","v":{"$error":"#REF!"}},{"$f":"IF(#REF!=\"\",\"\",#REF!)","v":{"$error":"#REF!"}},{"$f":"IF(#REF!=\"\",\"\",#REF!)","v":{"$error":"#REF!"}},null,null,null,null,null,null,null,null,null,null,null,null,null,null,null,null,null,null,null,null,null,null,null,null,{"$f":"IF(DersYükü!M18=\"\",\"\",DersYükü!M18)","v":""}]
[6,{"$f":"IF(DersYükü!C19=\"\",\"\",DersYükü!C19)","v":""},null,null,null,null,null,null,null,null,null,{"$f":"IF(B20=\"\",\"\",IF(VLOOKUP(DersYükü!M19,#REF!,2,FALSE)=\"\",\"\",VLOOKUP(DersYükü!M19,#REF!,2,FALSE)))","v":""},null,null,null,null,null,null,null,{"$f":"IF(F2=BM20,AG20,\"\")","v":""},null,null,null,null,null,null,null,null,false,{"$f":"IF(W20=\"\",\"\",IF(Ekders!$AN$77>=(VALUE(-WEEKNUM(DersYükü!$M$1)+WEEKNUM(W20)+1)),(VALUE(-WEEKNUM(DersYükü!$M$1)+WEEKNUM(W20)+1)),0))","v":""},null,null,"",null,{"$f":"IF(#REF!=\"\",\"\",#REF!)","v":{"$error":"#REF!"}},{"$f":"IF(#REF!=\"\",\"\",#REF!)","v":{"$error":"#REF!"}},{"$f":"IF(#REF!=\"\",\"\",#REF!)","v":{"$error":"#REF!"}},{"$f":"IF(#REF!=\"\",\"\",#REF!)","v":{"$error":"#REF!"}},{"$f":"IF(#REF!=\"\",\"\",#REF!)","v":{"$error":"#REF!"}},{"$f":"IF(#REF!=\"\",\"\",#REF!)","v":{"$error":"#REF!"}},null,null,null,null,null,null,null,null,null,null,null,null,null,null,null,null,null,null,null,null,null,null,null,null,{"$f":"IF(DersYükü!M19=\"\",\"\",DersYükü!M19)","v":""}]
[7,{"$f":"IF(DersYükü!C20=\"\",\"\",DersYükü!C20)","v":""},null,null,null,null,null,null,null,null,null,{"$f":"IF(B21=\"\",\"\",IF(VLOOKUP(DersYükü!M20,#REF!,2,FALSE)=\"\",\"\",VLOOKUP(DersYükü!M20,#REF!,2,FALSE)))","v":""},null,null,null,null,null,null,null,{"$f":"IF(F2=BM21,AG21,\"\")","v":""},null,null,null,null,null,null,null,null,false,{"$f":"IF(W21=\"\",\"\",IF(Ekders!$AN$77>=(VALUE(-WEEKNUM(DersYükü!$M$1)+WEEKNUM(W21)+1)),(VALUE(-WEEKNUM(DersYükü!$M$1)+WEEKNUM(W21)+1)),0))","v":""},null,null,"",null,{"$f":"IF(#REF!=\"\",\"\",#REF!)","v":{"$error":"#REF!"}},{"$f":"IF(#REF!=\"\",\"\",#REF!)","v":{"$error":"#REF!"}},{"$f":"IF(#REF!=\"\",\"\",#REF!)","v":{"$error":"#REF!"}},{"$f":"IF(#REF!=\"\",\"\",#REF!)","v":{"$error":"#REF!"}},{"$f":"IF(#REF!=\"\",\"\",#REF!)","v":{"$error":"#REF!"}},{"$f":"IF(#REF!=\"\",\"\",#REF!)","v":{"$error":"#REF!"}},null,null,null,null,null,null,null,null,null,null,null,null,null,null,null,null,null,null,null,null,null,null,null,null,{"$f":"IF(DersYükü!M20=\"\",\"\",DersYükü!M20)","v":""}]
[8,{"$f":"IF(DersYükü!C21=\"\",\"\",DersYükü!C21)","v":""},null,null,null,null,null,null,null,null,null,{"$f":"IF(B22=\"\",\"\",IF(VLOOKUP(DersYükü!M21,#REF!,2,FALSE)=\"\",\"\",VLOOKUP(DersYükü!M21,#REF!,2,FALSE)))","v":""},null,null,null,null,null,null,null,{"$f":"IF(F2=BM22,AG22,\"\")","v":""},null,null,null,null,null,null,null,null,false,{"$f":"IF(W22=\"\",\"\",IF(Ekders!$AN$77>=(VALUE(-WEEKNUM(DersYükü!$M$1)+WEEKNUM(W22)+1)),(VALUE(-WEEKNUM(DersYükü!$M$1)+WEEKNUM(W22)+1)),0))","v":""},null,null,"",null,{"$f":"IF(#REF!=\"\",\"\",#REF!)","v":{"$error":"#REF!"}},{"$f":"IF(#REF!=\"\",\"\",#REF!)","v":{"$error":"#REF!"}},{"$f":"IF(#REF!=\"\",\"\",#REF!)","v":{"$error":"#REF!"}},{"$f":"IF(#REF!=\"\",\"\",#REF!)","v":{"$error":"#REF!"}},{"$f":"IF(#REF!=\"\",\"\",#REF!)","v":{"$error":"#REF!"}},{"$f":"IF(#REF!=\"\",\"\",#REF!)","v":{"$error":"#REF!"}},null,null,null,null,null,null,null,null,null,null,null,null,null,null,null,null,null,null,null,null,null,null,null,null,{"$f":"IF(DersYükü!M21=\"\",\"\",DersYükü!M21)","v":""}]
[9,{"$f":"IF(DersYükü!C22=\"\",\"\",DersYükü!C22)","v":""},null,null,null,null,null,null,null,null,null,{"$f":"IF(B23=\"\",\"\",IF(VLOOKUP(DersYükü!M22,#REF!,2,FALSE)=\"\",\"\",VLOOKUP(DersYükü!M22,#REF!,2,FALSE)))","v":""},null,null,null,null,null,null,null,{"$f":"IF(F2=BM23,AG23,\"\")","v":""},null,null,null,null,null,null,null,null,false,{"$f":"IF(W23=\"\",\"\",IF(Ekders!$AN$77>=(VALUE(-WEEKNUM(DersYükü!$M$1)+WEEKNUM(W23)+1)),(VALUE(-WEEKNUM(DersYükü!$M$1)+WEEKNUM(W23)+1)),0))","v":""},null,null,"",null,{"$f":"IF(#REF!=\"\",\"\",#REF!)","v":{"$error":"#REF!"}},{"$f":"IF(#REF!=\"\",\"\",#REF!)","v":{"$error":"#REF!"}},{"$f":"IF(#REF!=\"\",\"\",#REF!)","v":{"$error":"#REF!"}},{"$f":"IF(#REF!=\"\",\"\",#REF!)","v":{"$error":"#REF!"}},{"$f":"IF(#REF!=\"\",\"\",#REF!)","v":{"$error":"#REF!"}},{"$f":"IF(#REF!=\"\",\"\",#REF!)","v":{"$error":"#REF!"}},null,null,null,null,null,null,null,null,null,null,null,null,null,null,null,null,null,null,null,null,null,null,null,null,{"$f":"IF(DersYükü!M22=\"\",\"\",DersYükü!M22)","v":""}]
[10,{"$f":"IF(DersYükü!C23=\"\",\"\",DersYükü!C23)","v":""},null,null,null,null,null,null,null,null,null,{"$f":"IF(B24=\"\",\"\",IF(VLOOKUP(DersYükü!M23,#REF!,2,FALSE)=\"\",\"\",VLOOKUP(DersYükü!M23,#REF!,2,FALSE)))","v":""},null,null,null,null,null,null,null,{"$f":"IF(F2=BM24,AG24,\"\")","v":""},null,null,null,null,null,null,null,null,false,{"$f":"IF(W24=\"\",\"\",IF(Ekders!$AN$77>=(VALUE(-WEEKNUM(DersYükü!$M$1)+WEEKNUM(W24)+1)),(VALUE(-WEEKNUM(DersYükü!$M$1)+WEEKNUM(W24)+1)),0))","v":""},null,null,{"$f":"IF(P24=\"\",\"\",IF(AND(P24>0,P24<=50),1,IF(AND(P24>50,P24<=100),2,IF(AND(P24>100,P24<=150),3,IF(AND(P24>150,P24<=200),4,IF(AND(P24>200,P24<=250),5,IF(AND(P24>250,P24<=300),6,AC24)))))))","v":""},null,{"$f":"IF(#REF!=\"\",\"\",#REF!)","v":{"$error":"#REF!"}},{"$f":"IF(#REF!=\"\",\"\",#REF!)","v":{"$error":"#REF!"}},{"$f":"IF(#REF!=\"\",\"\",#REF!)","v":{"$error":"#REF!"}},{"$f":"IF(#REF!=\"\",\"\",#REF!)","v":{"$error":"#REF!"}},{"$f":"IF(#REF!=\"\",\"\",#REF!)","v":{"$error":"#REF!"}},{"$f":"IF(#REF!=\"\",\"\",#REF!)","v":{"$error":"#REF!"}},null,null,null,null,null,null,null,null,null,null,null,null,null,null,null,null,null,null,null,null,null,null,null,null,{"$f":"IF(DersYükü!M23=\"\",\"\",DersYükü!M23)","v":""}]
[11,{"$f":"IF(DersYükü!C24=\"\",\"\",DersYükü!C24)","v":""},null,null,null,null,null,null,null,null,null,{"$f":"IF(B25=\"\",\"\",IF(VLOOKUP(DersYükü!M24,#REF!,2,FALSE)=\"\",\"\",VLOOKUP(DersYükü!M24,#REF!,2,FALSE)))","v":""},null,null,null,null,null,null,null,{"$f":"IF(F2=BM25,AG25,\"\")","v":""},null,null,null,null,null,null,null,null,false,{"$f":"IF(W25=\"\",\"\",IF(Ekders!$AN$77>=(VALUE(-WEEKNUM(DersYükü!$M$1)+WEEKNUM(W25)+1)),(VALUE(-WEEKNUM(DersYükü!$M$1)+WEEKNUM(W25)+1)),0))","v":""},null,null,"",null,{"$f":"IF(#REF!=\"\",\"\",#REF!)","v":{"$error":"#REF!"}},{"$f":"IF(#REF!=\"\",\"\",#REF!)","v":{"$error":"#REF!"}},{"$f":"IF(#REF!=\"\",\"\",#REF!)","v":{"$error":"#REF!"}},{"$f":"IF(#REF!=\"\",\"\",#REF!)","v":{"$error":"#REF!"}},{"$f":"IF(#REF!=\"\",\"\",#REF!)","v":{"$error":"#REF!"}},{"$f":"IF(#REF!=\"\",\"\",#REF!)","v":{"$error":"#REF!"}},null,null,null,null,null,null,null,null,null,null,null,null,null,null,null,null,null,null,null,null,null,null,null,null,{"$f":"IF(DersYükü!M24=\"\",\"\",DersYükü!M24)","v":""}]
[12,{"$f":"IF(DersYükü!C25=\"\",\"\",DersYükü!C25)","v":""},null,null,null,null,null,null,null,null,null,{"$f":"IF(B26=\"\",\"\",IF(VLOOKUP(DersYükü!M25,#REF!,2,FALSE)=\"\",\"\",VLOOKUP(DersYükü!M25,#REF!,2,FALSE)))","v":""},null,null,null,null,null,null,null,{"$f":"IF(F2=BM26,AG26,\"\")","v":""},null,null,null,null,null,null,null,null,false,{"$f":"IF(W26=\"\",\"\",IF(Ekders!$AN$77>=(VALUE(-WEEKNUM(DersYükü!$M$1)+WEEKNUM(W26)+1)),(VALUE(-WEEKNUM(DersYükü!$M$1)+WEEKNUM(W26)+1)),0))","v":""},null,null,"",null,{"$f":"IF(#REF!=\"\",\"\",#REF!)","v":{"$error":"#REF!"}},{"$f":"IF(#REF!=\"\",\"\",#REF!)","v":{"$error":"#REF!"}},{"$f":"IF(#REF!=\"\",\"\",#REF!)","v":{"$error":"#REF!"}},{"$f":"IF(#REF!=\"\",\"\",#REF!)","v":{"$error":"#REF!"}},{"$f":"IF(#REF!=\"\",\"\",#REF!)","v":{"$error":"#REF!"}},{"$f":"IF(#REF!=\"\",\"\",#REF!)","v":{"$error":"#REF!"}},null,null,null,null,null,null,null,null,null,null,null,null,null,null,null,null,null,null,null,null,null,null,null,null,{"$f":"IF(DersYükü!M25=\"\",\"\",DersYükü!M25)","v":""}]
[13,{"$f":"IF(DersYükü!C26=\"\",\"\",DersYükü!C26)","v":""},null,null,null,null,null,null,null,null,null,{"$f":"IF(B27=\"\",\"\",IF(VLOOKUP(DersYükü!M26,#REF!,2,FALSE)=\"\",\"\",VLOOKUP(DersYükü!M26,#REF!,2,FALSE)))","v":""},null,null,null,null,null,null,null,{"$f":"IF(F2=BM27,AG27,\"\")","v":""},null,null,null,null,null,null,null,null,false,{"$f":"IF(W27=\"\",\"\",IF(Ekders!$AN$77>=(VALUE(-WEEKNUM(DersYükü!$M$1)+WEEKNUM(W27)+1)),(VALUE(-WEEKNUM(DersYükü!$M$1)+WEEKNUM(W27)+1)),0))","v":""},null,null,"",null,{"$f":"IF(#REF!=\"\",\"\",#REF!)","v":{"$error":"#REF!"}},{"$f":"IF(#REF!=\"\",\"\",#REF!)","v":{"$error":"#REF!"}},{"$f":"IF(#REF!=\"\",\"\",#REF!)","v":{"$error":"#REF!"}},{"$f":"IF(#REF!=\"\",\"\",#REF!)","v":{"$error":"#REF!"}},{"$f":"IF(#REF!=\"\",\"\",#REF!)","v":{"$error":"#REF!"}},{"$f":"IF(#REF!=\"\",\"\",#REF!)","v":{"$error":"#REF!"}},null,null,null,null,null,null,null,null,null,null,null,null,null,null,null,null,null,null,null,null,null,null,null,null,{"$f":"IF(DersYükü!M26=\"\",\"\",DersYükü!M26)","v":""}]
[14,{"$f":"IF(DersYükü!C27=\"\",\"\",DersYükü!C27)","v":""},null,null,null,null,null,null,null,null,null,{"$f":"IF(B28=\"\",\"\",IF(VLOOKUP(DersYükü!M27,#REF!,2,FALSE)=\"\",\"\",VLOOKUP(DersYükü!M27,#REF!,2,FALSE)))","v":""},null,null,null,null,null,null,null,{"$f":"IF(F2=BM28,AG28,\"\")","v":""},null,null,null,null,null,null,null,null,false,{"$f":"IF(W28=\"\",\"\",IF(Ekders!$AN$77>=(VALUE(-WEEKNUM(DersYükü!$M$1)+WEEKNUM(W28)+1)),(VALUE(-WEEKNUM(DersYükü!$M$1)+WEEKNUM(W28)+1)),0))","v":""},null,null,"",null,{"$f":"IF(#REF!=\"\",\"\",#REF!)","v":{"$error":"#REF!"}},{"$f":"IF(#REF!=\"\",\"\",#REF!)","v":{"$error":"#REF!"}},{"$f":"IF(#REF!=\"\",\"\",#REF!)","v":{"$error":"#REF!"}},{"$f":"IF(#REF!=\"\",\"\",#REF!)","v":{"$error":"#REF!"}},{"$f":"IF(#REF!=\"\",\"\",#REF!)","v":{"$error":"#REF!"}},{"$f":"IF(#REF!=\"\",\"\",#REF!)","v":{"$error":"#REF!"}},null,null,null,null,null,null,null,null,null,null,null,null,null,null,null,null,null,null,null,null,null,null,null,null,{"$f":"IF(DersYükü!M27=\"\",\"\",DersYükü!M27)","v":""}]
[15,{"$f":"IF(DersYükü!C28=\"\",\"\",DersYükü!C28)","v":""},null,null,null,null,null,null,null,null,null,{"$f":"IF(B29=\"\",\"\",IF(VLOOKUP(DersYükü!M28,#REF!,2,FALSE)=\"\",\"\",VLOOKUP(DersYükü!M28,#REF!,2,FALSE)))","v":""},null,null,null,null,null,null,null,{"$f":"IF(F2=BM29,AG29,\"\")","v":""},null,null,null,null,null,null,null,null,false,{"$f":"IF(W29=\"\",\"\",IF(Ekders!$AN$77>=(VALUE(-WEEKNUM(DersYükü!$M$1)+WEEKNUM(W29)+1)),(VALUE(-WEEKNUM(DersYükü!$M$1)+WEEKNUM(W29)+1)),0))","v":""},null,null,"",null,{"$f":"IF(#REF!=\"\",\"\",#REF!)","v":{"$error":"#REF!"}},{"$f":"IF(#REF!=\"\",\"\",#REF!)","v":{"$error":"#REF!"}},{"$f":"IF(#REF!=\"\",\"\",#REF!)","v":{"$error":"#REF!"}},{"$f":"IF(#REF!=\"\",\"\",#REF!)","v":{"$error":"#REF!"}},{"$f":"IF(#REF!=\"\",\"\",#REF!)","v":{"$error":"#REF!"}},{"$f":"IF(#REF!=\"\",\"\",#REF!)","v":{"$error":"#REF!"}},null,null,null,null,null,null,null,null,null,null,null,null,null,null,null,null,null,null,null,null,null,null,null,null,{"$f":"IF(DersYükü!M28=\"\",\"\",DersYükü!M28)","v":""}]
[null,"TOPLAM",null,null,null,null,null,null,null,null,null,null,null,null,null,null,null,null,null,{"$f":"SUM(T15:V29)","v":0}]
[]
[null,null,null,"İKİNCİ ÖĞRETİM"]
[]
[1,{"$f":"IF(DersYükü!C30=\"\",\"\",DersYükü!C30)","v":""},null,null,null,null,null,null,null,null,null,{"$f":"IF(B34=\"\",\"\",IF(VLOOKUP(DersYükü!M30,#REF!,2,FALSE)=\"\",\"\",VLOOKUP(DersYükü!M30,#REF!,2,FALSE)))","v":""},null,null,null,null,null,null,null,{"$f":"IF(F2=BM34,AG34,\"\")","v":""},null,null,null,null,null,null,null,null,{"$f":"IF(AND(P34>300,P34<=350),7,IF(AND(P34>350,P34<=400),8,IF(AND(P34>400,P34<=450),9,IF(AND(P34>450),10))))","v":false},{"$f":"IF(W34=\"\",\"\",IF(Ekders!$AN$77>=(VALUE(-WEEKNUM(DersYükü!$M$1)+WEEKNUM(W34)+1)),(VALUE(-WEEKNUM(DersYükü!$M$1)+WEEKNUM(W34)+1)),0))","v":""},null,null,{"$f":"IF(P34=\"\",\"\",IF(AND(P34>0,P34<=50),1,IF(AND(P34>50,P34<=100),2,IF(AND(P34>100,P34<=150),3,IF(AND(P34>150,P34<=200),4,IF(AND(P34>200,P34<=250),5,IF(AND(P34>250,P34<=300),6,AC34)))))))","v":""},null,null,null,null,null,null,null,null,null,null,null,null,null,null,null,null,null,null,null,null,null,null,null,null,null,null,null,null,null,null,null,{"$f":"IF(DersYükü!M30=\"\",\"\",DersYükü!M30)","v":""}]
[2,{"$f":"IF(DersYükü!C31=\"\",\"\",DersYükü!C31)","v":""},null,null,null,null,null,null,null,null,null,{"$f":"IF(B35=\"\",\"\",IF(VLOOKUP(DersYükü!M31,#REF!,2,FALSE)=\"\",\"\",VLOOKUP(DersYükü!M31,#REF!,2,FALSE)))","v":""},null,null,null,null,null,null,null,{"$f":"IF(F2=BM35,AG35,\"\")","v":""},null,null,null,null,null,null,null,null,false,{"$f":"IF(W35=\"\",\"\",IF(Ekders!$AN$77>=(VALUE(-WEEKNUM(DersYükü!$M$1)+WEEKNUM(W35)+1)),(VALUE(-WEEKNUM(DersYükü!$M$1)+WEEKNUM(W35)+1)),0))","v":""},null,null,"",null,null,null,null,null,null,null,null,null,null,null,null,null,null,null,null,null,null,null,null,null,null,null,null,null,null,null,null,null,null,null,{"$f":"IF(DersYükü!M31=\"\",\"\",DersYükü!M31)","v":""}]
[3,{"$f":"IF(DersYükü!C32=\"\",\"\",DersYükü!C32)","v":""},null,null,null,null,null,null,null,null,null,{"$f":"IF(B36=\"\",\"\",IF(VLOOKUP(DersYükü!M32,#REF!,2,FALSE)=\"\",\"\",VLOOKUP(DersYükü!M32,#REF!,2,FALSE)))","v":""},null,null,null,null,null,null,null,{"$f":"IF(F2=BM36,AG36,\"\")","v":""},null,null,null,null,null,null,null,null,false,{"$f":"IF(W36=\"\",\"\",IF(Ekders!$AN$77>=(VALUE(-WEEKNUM(DersYükü!$M$1)+WEEKNUM(W36)+1)),(VALUE(-WEEKNUM(DersYükü!$M$1)+WEEKNUM(W36)+1)),0))","v":""},null,null,"",null,null,null,null,null,null,null,null,null,null,null,null,null,null,null,null,null,null,null,null,null,null,null,null,null,null,null,null,null,null,null,{"$f":"IF(DersYükü!M32=\"\",\"\",DersYükü!M32)","v":""}]
[4,{"$f":"IF(DersYükü!C33=\"\",\"\",DersYükü!C33)","v":""},null,null,null,null,null,null,null,null,null,{"$f":"IF(B37=\"\",\"\",IF(VLOOKUP(DersYükü!M33,#REF!,2,FALSE)=\"\",\"\",VLOOKUP(DersYükü!M33,#REF!,2,FALSE)))","v":""},null,null,null,null,null,null,null,{"$f":"IF(F2=BM37,AG37,\"\")","v":""},null,null,null,null,null,null,null,null,false,{"$f":"IF(W37=\"\",\"\",IF(Ekders!$AN$77>=(VALUE(-WEEKNUM(DersYükü!$M$1)+WEEKNUM(W37)+1)),(VALUE(-WEEKNUM(DersYükü!$M$1)+WEEKNUM(W37)+1)),0))","v":""},null,null,"",null,null,null,null,null,null,null,null,null,null,null,null,null,null,null,null,null,null,null,null,null,null,null,null,null,null,null,null,null,null,null,{"$f":"IF(DersYükü!M33=\"\",\"\",DersYükü!M33)","v":""}]
[5,{"$f":"IF(DersYükü!C34=\"\",\"\",DersYükü!C34)","v":""},null,null,null,null,null,null,null,null,null,{"$f":"IF(B38=\"\",\"\",IF(VLOOKUP(DersYükü!M34,#REF!,2,FALSE)=\"\",\"\",VLOOKUP(DersYükü!M34,#REF!,2,FALSE)))","v":""},null,null,null,null,null,null,null,{"$f":"IF(F2=BM38,AG38,\"\")","v":""},null,null,null,null,null,null,null,null,false,{"$f":"IF(W38=\"\",\"\",IF(Ekders!$AN$77>=(VALUE(-WEEKNUM(DersYükü!$M$1)+WEEKNUM(W38)+1)),(VALUE(-WEEKNUM(DersYükü!$M$1)+WEEKNUM(W38)+1)),0))","v":""},null,null,"",null,null,null,null,null,null,null,null,null,null,null,null,null,null,null,null,null,null,null,null,null,null,null,null,null,null,null,null,null,null,null,{"$f":"IF(DersYükü!M34=\"\",\"\",DersYükü!M34)","v":""}]
[6,{"$f":"IF(DersYükü!C35=\"\",\"\",DersYükü!C35)","v":""},null,null,null,null,null,null,null,null,null,{"$f":"IF(B39=\"\",\"\",IF(VLOOKUP(DersYükü!M35,#REF!,2,FALSE)=\"\",\"\",VLOOKUP(DersYükü!M35,#REF!,2,FALSE)))","v":""},null,null,null,null,null,null,null,{"$f":"IF(F2=BM39,AG39,\"\")","v":""},null,null,null,null,null,null,null,null,{"$f":"IF(AND(P39>300,P39<=350),7,IF(AND(P39>350,P39<=400),8,IF(AND(P39>400,P39<=450),9,IF(AND(P39>450),10))))","v":false},{"$f":"IF(W39=\"\",\"\",IF(Ekders!$AN$77>=(VALUE(-WEEKNUM(DersYükü!$M$1)+WEEKNUM(W39)+1)),(VALUE(-WEEKNUM(DersYükü!$M$1)+WEEKNUM(W39)+1)),0))","v":""},null,null,"",null,null,null,null,null,null,null,null,null,null,null,null,null,null,null,null,null,null,null,null,null,null,null,null,null,null,null,null,null,null,null,{"$f":"IF(DersYükü!M35=\"\",\"\",DersYükü!M35)","v":""}]
[7,{"$f":"IF(DersYükü!C36=\"\",\"\",DersYükü!C36)","v":""},null,null,null,null,null,null,null,null,null,{"$f":"IF(B40=\"\",\"\",IF(VLOOKUP(DersYükü!M36,#REF!,2,FALSE)=\"\",\"\",VLOOKUP(DersYükü!M36,#REF!,2,FALSE)))","v":""},null,null,null,null,null,null,null,{"$f":"IF(F2=BM40,AG40,\"\")","v":""},null,null,null,null,null,null,null,null,{"$f":"IF(AND(P40>300,P40<=350),7,IF(AND(P40>350,P40<=400),8,IF(AND(P40>400,P40<=450),9,IF(AND(P40>450),10))))","v":false},{"$f":"IF(W40=\"\",\"\",IF(Ekders!$AN$77>=(VALUE(-WEEKNUM(DersYükü!$M$1)+WEEKNUM(W40)+1)),(VALUE(-WEEKNUM(DersYükü!$M$1)+WEEKNUM(W40)+1)),0))","v":""},null,null,"",null,null,null,null,null,null,null,null,null,null,null,null,null,null,null,null,null,null,null,null,null,null,null,null,null,null,null,null,null,null,null,{"$f":"IF(DersYükü!M36=\"\",\"\",DersYükü!M36)","v":""}]
[8,{"$f":"IF(DersYükü!C37=\"\",\"\",DersYükü!C37)","v":""},null,null,null,null,null,null,null,null,null,{"$f":"IF(B41=\"\",\"\",IF(VLOOKUP(DersYükü!M37,#REF!,2,FALSE)=\"\",\"\",VLOOKUP(DersYükü!M37,#REF!,2,FALSE)))","v":""},null,null,null,null,null,null,null,{"$f":"IF(F2=BM41,AG41,\"\")","v":""},null,null,null,null,null,null,null,null,{"$f":"IF(AND(P41>300,P41<=350),7,IF(AND(P41>350,P41<=400),8,IF(AND(P41>400,P41<=450),9,IF(AND(P41>450),10))))","v":false},{"$f":"IF(W41=\"\",\"\",IF(Ekders!$AN$77>=(VALUE(-WEEKNUM(DersYükü!$M$1)+WEEKNUM(W41)+1)),(VALUE(-WEEKNUM(DersYükü!$M$1)+WEEKNUM(W41)+1)),0))","v":""},null,null,"",null,null,null,null,null,null,null,null,null,null,null,null,null,null,null,null,null,null,null,null,null,null,null,null,null,null,null,null,null,null,null,{"$f":"IF(DersYükü!M37=\"\",\"\",DersYükü!M37)","v":""}]
[9,{"$f":"IF(DersYükü!C38=\"\",\"\",DersYükü!C38)","v":""},null,null,null,null,null,null,null,null,null,{"$f":"IF(B42=\"\",\"\",IF(VLOOKUP(DersYükü!M38,#REF!,2,FALSE)=\"\",\"\",VLOOKUP(DersYükü!M38,#REF!,2,FALSE)))","v":""},null,null,null,null,null,null,null,{"$f":"IF(F2=BM42,AG42,\"\")","v":""},null,null,null,null,null,null,null,null,false,{"$f":"IF(W42=\"\",\"\",IF(Ekders!$AN$77>=(VALUE(-WEEKNUM(DersYükü!$M$1)+WEEKNUM(W42)+1)),(VALUE(-WEEKNUM(DersYükü!$M$1)+WEEKNUM(W42)+1)),0))","v":""},null,null,"",null,null,null,null,null,null,null,null,null,null,null,null,null,null,null,null,null,null,null,null,null,null,null,null,null,null,null,null,null,null,null,{"$f":"IF(DersYükü!M38=\"\",\"\",DersYükü!M38)","v":""}]
[10,{"$f":"IF(DersYükü!C39=\"\",\"\",DersYükü!C39)","v":""},null,null,null,null,null,null,null,null,null,{"$f":"IF(B43=\"\",\"\",IF(VLOOKUP(DersYükü!M39,#REF!,2,FALSE)=\"\",\"\",VLOOKUP(DersYükü!M39,#REF!,2,FALSE)))","v":""},null,null,null,null,null,null,null,{"$f":"IF(F2=BM43,AG43,\"\")","v":""},null,null,null,null,null,null,null,null,false,{"$f":"IF(W43=\"\",\"\",IF(Ekders!$AN$77>=(VALUE(-WEEKNUM(DersYükü!$M$1)+WEEKNUM(W43)+1)),(VALUE(-WEEKNUM(DersYükü!$M$1)+WEEKNUM(W43)+1)),0))","v":""},null,null,"",null,null,null,null,null,null,null,null,null,null,null,null,null,null,null,null,null,null,null,null,null,null,null,null,null,null,null,null,null,null,null,{"$f":"IF(DersYükü!M39=\"\",\"\",DersYükü!M39)","v":""}]
[null,"TOPLAM",null,null,null,null,null,null,null,null,null,null,null,null,null,null,null,null,null,{"$f":"SUM(T34:V43)","v":0}]
[]
[{"$f":"X5","v":""},null,null,null,"ÖĞRETİM YILI",null,null,null,{"$f":"X6","v":0},null,null,"YARIYILINDA YAPILAN DÖNEM SINAVLARINDA BİRİMİMİZDE"]
["ÖRGÜN ÖĞRETİMDEKİ ÜCRETE ESAS BİRİM SAYI:   ",null,null,null,null,null,null,null,null,null,null,null,null,null,{"$f":"T30","v":0},";"]
["İKİNCİ ÖĞRETİMDEKİ ÜCRETE ESAS BİRİM SAYI:   ",null,null,null,null,null,null,null,null,null,null,null,null,null,{"$f":"T44","v":0},"OLMUŞTUR."]
[]
["TARİH"]
["ÖĞR. ELEMANININ","İmzası",null,null,null,null,null,null,null,"BÖLÜM /ANABİLİM DALI BŞK.NIN","İmzası",null,null,null,null,null,null,null,"BİRİM YETKİLİSİNİN","İmzası"]
[]
[]
[null,"Adı ve Soyadı",null,null,null,null,null,null,null,null,"Adı ve Soyadı",null,null,null,null,null,null,null,null,"Adı ve Soyadı"]

{"sheet":"hesap","index":5,"n_rows":314,"n_cols":62,"rows_kept":314,"cut":false,"hidden":true,"merged":[[46,2,46,5],[45,2,45,5],[57,44,57,45],[57,46,57,47],[57,48,57,49],[57,50,57,51],[110,11,110,12],[110,13,110,14],[110,15,110,16],[110,17,110,18],[110,19,110,20],[78,29,78,30],[78,37,78,41],[77,2,77,3],[71,7,71,10],[71,38,71,41],[72,7,72,10],[72,38,72,41],[63,7,63,10],[63,38,63,41],[64,7,64,10],[64,38,64,41],[65,7,65,10],[65,38,65,41],[3,13,3,14],[3,15,3,16],[3,17,3,18],[3,19,3,20],[2,42,2,43],[2,44,2,45],[2,46,2,47],[2,48,2,49],[2,50,2,51],[3,42,3,43],[3,44,3,45],[3,46,3,47],[3,48,3,49],[3,50,3,51],[310,6,310,7],[311,6,311,7],[312,6,312,7],[313,6,313,7],[301,27,301,28],[302,6,302,7],[303,6,303,7],[304,6,304,7],[305,6,305,7],[306,6,306,7],[301,15,301,16],[301,17,301,18],[301,19,301,20],[301,21,301,22],[301,23,301,24],[301,25,301,26],[294,8,295,10],[296,8,297,10],[298,10,299,10],[300,8,300,9],[301,11,301,12],[301,13,301,14],[282,8,283,10],[284,8,285,10],[286,8,287,10],[288,8,289,10],[290,8,291,10],[292,8,293,10],[270,8,271,10],[272,8,273,10],[274,8,275,10],[276,8,277,10],[278,8,279,10],[280,8,281,10],[263,23,263,24],[263,25,263,26],[263,27,263,28],[264,8,265,10],[266,8,267,10],[268,8,269,10],[257,6,257,7],[257,37,257,38],[258,6,258,7],[258,37,258,38],[263,11,263,12],[263,13,263,14],[263,15,263,16],[263,17,263,18],[263,19,263,20],[263,21,263,22],[251,6,251,7],[251,37,251,38],[255,6,255,7],[255,37,255,38],[256,6,256,7],[256,37,256,38],[248,6,248,7],[248,37,248,38],[249,6,249,7],[249,37,249,38],[250,6,250,7],[250,37,250,38],[246,52,246,53],[246,54,246,55],[246,56,246,57],[246,58,246,59],[247,6,247,7],[247,37,247,38],[246,27,246,28],[246,42,246,43],[246,44,246,45],[246,46,246,47],[246,48,246,49],[246,50,246,51],[245,8,245,9],[245,39,245,40],[246,11,246,12],[246,13,246,14],[246,15,246,16],[246,17,246,18],[246,19,246,20],[246,21,246,22],[246,23,246,24],[246,25,246,26],[239,8,240,10],[239,39,240,41],[241,8,242,10],[241,39,242,41],[243,10,244,10],[243,41,244,41],[233,8,234,10],[233,39,234,41],[235,8,236,10],[235,39,236,41],[237,8,238,10],[237,39,238,41],[227,8,228,10],[227,39,228,41],[229,8,230,10],[229,39,230,41],[231,8,232,10],[231,39,232,41],[221,8,222,10],[221,39,222,41],[223,8,224,10],[223,39,224,41],[225,8,226,10],[225,39,226,41],[215,8,216,10],[215,39,216,41],[217,8,218,10],[217,39,218,41],[219,8,220,10],[219,39,220,41],[209,8,210,10],[209,39,210,41],[211,8,212,10],[211,39,212,41],[213,8,214,10],[213,39,214,41],[208,48,208,49],[208,50,208,51],[208,52,208,53],[208,54,208,55],[208,56,208,57],[208,58,208,59],[208,23,208,24],[208,25,208,26],[208,27,208,28],[208,42,208,43],[208,44,208,45],[208,46,208,47],[202,6,202,7],[202,37,202,38],[203,6,203,7],[203,37,203,38],[208,11,208,12],[208,13,208,14],[208,15,208,16],[208,17,208,18],[208,19,208,20],[208,21,208,22],[196,6,196,7],[196,37,196,38],[200,6,200,7],[200,37,200,38],[201,6,201,7],[201,37,201,38],[193,6,193,7],[193,37,193,38],[194,6,194,7],[194,37,194,38],[195,6,195,7],[195,37,195,38],[191,52,191,53],[191,54,191,55],[191,56,191,57],[191,58,191,59],[192,6,192,7],[192,37,192,38],[191,27,191,28],[191,42,191,43],[191,44,191,45],[191,46,191,47],[191,48,191,49],[191,50,191,51],[190,8,190,9],[190,39,190,40],[191,11,191,12],[191,13,191,14],[191,15,191,16],[191,17,191,18],[191,19,191,20],[191,21,191,22],[191,23,191,24],[191,25,191,26],[184,8,185,10],[184,39,185,41],[186,8,187,10],[186,39,187,41],[188,10,189,10],[188,41,189,41],[178,8,179,10],[178,39,179,41],[180,8,181,10],[180,39,181,41],[182,8,183,10],[182,39,183,41],[172,8,173,10],[172,39,173,41],[174,8,175,10],[174,39,175,41],[176,8,177,10],[176,39,177,41],[166,8,167,10],[166,39,167,41],[168,8,169,10],[168,39,169,41],[170,8,171,10],[170,39,171,41],[160,8,161,10],[160,39,161,41],[162,8,163,10],[162,39,163,41],[164,8,165,10],[164,39,165,41],[153,58,153,59],[154,8,155,10],[154,39,155,41],[156,8,157,10],[156,39,157,41],[158,8,159,10],[158,39,159,41],[153,46,153,47],[153,48,153,49],[153,50,153,51],[153,52,153,53],[153,54,153,55],[153,56,153,57],[153,21,153,22],[153,23,153,24],[153,25,153,26],[153,27,153,28],[153,42,153,43],[153,44,153,45],[130,6,130,10],[131,2,131,3],[131,6,131,10],[132,6,132,10],[132,29,132,30],[153,11,153,12],[153,13,153,14],[153,15,153,16],[153,17,153,18],[153,19,153,20],[122,6,129,6],[122,7,122,10],[123,7,123,10],[124,7,124,10],[125,7,125,10],[126,7,126,10],[127,7,127,10],[128,7,128,10],[129,7,129,10],[111,2,111,3],[111,21,111,22],[111,23,111,24],[111,25,111,26],[111,27,111,28],[78,6,78,10],[113,6,121,6],[113,7,113,10],[114,7,114,10],[115,7,115,10],[116,7,116,10],[117,7,117,10],[118,7,118,10],[119,7,119,10],[120,7,120,10],[121,7,121,10],[111,11,111,12],[111,13,111,14],[111,15,111,16],[111,17,111,18],[111,19,111,20],[78,60,78,61],[109,6,112,10],[109,11,109,28],[110,21,110,24],[110,25,110,28],[68,7,68,10],[68,37,75,37],[68,38,68,41],[69,7,69,10],[69,38,69,41],[76,6,76,10],[76,37,76,41],[77,6,77,10],[77,33,77,34],[77,37,77,41],[73,7,73,10],[73,38,73,41],[74,7,74,10],[74,38,74,41],[75,7,75,10],[75,38,75,41],[68,6,75,6],[70,7,70,10],[70,38,70,41],[59,6,67,6],[59,7,59,10],[59,37,67,37],[59,38,59,41],[60,7,60,10],[60,38,60,41],[61,7,61,10],[61,38,61,41],[62,7,62,10],[62,38,62,41],[66,7,66,10],[66,38,66,41],[67,7,67,10],[67,38,67,41],[57,2,57,3],[57,21,57,22],[57,23,57,24],[57,25,57,26],[57,27,57,28],[57,33,57,34],[56,11,56,12],[56,13,56,14],[56,15,56,16],[56,17,56,18],[56,19,56,20],[57,11,57,12],[57,13,57,14],[57,15,57,16],[57,17,57,18],[57,19,57,20],[56,42,56,43],[56,44,56,45],[56,46,56,47],[56,48,56,49],[57,42,57,43],[24,6,24,10],[24,29,24,30],[24,37,24,41],[24,60,24,61],[55,6,58,10],[55,11,55,28],[55,37,58,41],[55,42,55,59],[56,52,56,55],[56,56,56,59],[57,52,57,53],[57,54,57,55],[57,56,57,57],[57,58,57,59],[56,21,56,24],[56,25,56,28],[56,50,56,51],[22,6,22,10],[22,37,22,41],[23,2,23,3],[23,6,23,10],[23,33,23,34],[23,37,23,41],[18,7,18,10],[18,38,18,41],[19,7,19,10],[19,38,19,41],[20,7,20,10],[20,38,20,41],[14,6,21,6],[14,7,14,10],[14,37,21,37],[14,38,14,41],[15,7,15,10],[15,38,15,41],[16,7,16,10],[16,38,16,41],[17,7,17,10],[17,38,17,41],[5,6,13,6],[5,7,5,10],[5,37,13,37],[5,38,5,41],[6,7,6,10],[6,38,6,41],[7,7,7,10],[7,38,7,41],[21,7,21,10],[21,38,21,41],[11,7,11,10],[11,38,11,41],[12,7,12,10],[12,38,12,41],[13,7,13,10],[13,38,13,41],[8,7,8,10],[8,38,8,41],[9,7,9,10],[9,38,9,41],[10,7,10,10],[10,38,10,41],[2,52,2,55],[2,56,2,59],[3,2,3,3],[3,21,3,22],[3,23,3,24],[3,25,3,26],[3,27,3,28],[3,33,3,34],[3,52,3,53],[3,54,3,55],[2,25,2,28],[1,6,4,10],[1,11,1,28],[1,37,4,41],[1,42,1,59],[2,21,2,24],[3,56,3,57],[3,58,3,59],[2,11,2,12],[2,13,2,14],[2,15,2,16],[2,17,2,18],[2,19,2,20],[3,11,3,12]]}
[null,null,null,null,null,null,null,null,null,null,null,null,null,null,null,null,null,null,null,null,null,null,null,null,null,null,null,null,null,null,null,null,null,null,null,null,null,null,null,null,null,null,null,null,null,null,null,null,null,null,null,null,null,null,null,null,null,null,null,null,{"$f":"DersYükü!S1","v":0}]
[null,null,null,null,null,null,"1. HAFTA",null,null,null,null,"TEORİK VE DİĞER DERSLERİN PROGRAMI",null,null,null,null,null,null,null,null,null,null,null,null,null,null,null,null,null,null,null,null,null,null,null,null,null,"2. HAFTA",null,null,null,null,"TEORİK VE DİĞER DERSLERİN PROGRAMI"]
[null,null,null,null,null,null,null,null,null,null,null,{"$f":"Ekders!M90","v":"00:00:00"},null,{"$f":"IFERROR(IF(L3+1>$BI$1,\"\",L3+1),\"\")","v":""},null,{"$f":"IFERROR(IF(N3+1>$BI$1,\"\",N3+1),\"\")","v":""},null,{"$f":"IFERROR(IF(P3+1>$BI$1,\"\",P3+1),\"\")","v":""},null,{"$f":"IFERROR(IF(R3+1>$BI$1,\"\",R3+1),\"\")","v":""},null,{"$f":"IFERROR(IF(T3+1>$BI$1,\"\",T3+1),\"\")","v":""},null,null,null,{"$f":"IFERROR(IF(V3+1>$BI$1,\"\",V3+1),\"\")","v":""},null,null,null,null,null,null,null,null,null,null,null,null,null,null,null,null,{"$f":"IFERROR(IF(Z3+1>$BI$1,\"\",Z3+1),\"\")","v":""},null,{"$f":"IFERROR(IF(AQ3+1>$BI$1,\"\",AQ3+1),\"\")","v":""},null,{"$f":"IFERROR(IF(AS3+1>$BI$1,\"\",AS3+1),\"\")","v":""},null,{"$f":"IFERROR(IF(AU3+1>$BI$1,\"\",AU3+1),\"\")","v":""},null,{"$f":"IFERROR(IF(AW3+1>$BI$1,\"\",AW3+1),\"\")","v":""},null,{"$f":"IFERROR(IF(AY3+1>$BI$1,\"\",AY3+1),\"\")","v":""},null,null,null,{"$f":"IFERROR(IF(BA3+1>$BI$1,\"\",BA3+1),\"\")","v":""}]
[null,null,"1. hafta",null,null,null,null,null,null,null,null,{"$f":"Ekders!S63","v":"00:00:00"},null,{"$f":"IFERROR(IF(L3+1>$BI$1,\"\",L3+1),\"\")","v":""},null,{"$f":"IFERROR(IF(N3+1>$BI$1,\"\",N3+1),\"\")","v":""},null,{"$f":"IFERROR(IF(P3+1>$BI$1,\"\",P3+1),\"\")","v":""},null,{"$f":"IFERROR(IF(R3+1>$BI$1,\"\",R3+1),\"\")","v":""},null,"Ö.Ö",null,"İ.Ö",null,"Ö.Ö",null,"İ.Ö",null,null,null,null,null,"2. hafta",null,null,null,null,null,null,null,null,{"$f":"IFERROR(IF(Z3+1>$BI$1,\"\",Z3+1),\"\")","v":""},null,{"$f":"IFERROR(IF(AQ3+1>$BI$1,\"\",AQ3+1),\"\")","v":""},null,{"$f":"IFERROR(IF(AS3+1>$BI$1,\"\",AS3+1),\"\")","v":""},null,{"$f":"IFERROR(IF(AU3+1>$BI$1,\"\",AU3+1),\"\")","v":""},null,{"$f":"IFERROR(IF(AW3+1>$BI$1,\"\",AW3+1),\"\")","v":""},null,"Ö.Ö",null,"İ.Ö",null,"Ö.Ö",null,"İ.Ö"]
[null,null,"T","DF",null,null,null,null,null,null,null,"T","D","T","D","T","D","T","D","T","D","T","D","T","D","T","D","T","D",null,null,null,null,"T","DF",null,null,null,null,null,null,null,"T","D","T","D","T","D","T","D","T","D","T","D","T","D","T","D","T","D"]
[null,"A",{"$f":"IF(IFERROR(COUNTIF(N$6:N$22,$B6)+COUNTIF(P$6:P$22,$B6)+COUNTIF(R$6:R$22,$B6)+COUNTIF(T$6:T$22,$B6)+COUNTIF(V$6:V$22,$B6)+COUNTIF(X$6:X$22,$B6)+COUNTIF(Z$6:Z$22,$B6)+COUNTIF(AB$6:AB$22,$B6)+COUNTIF(L$6:L$22,$B6),\"\")=0,\"\",IFERROR(COUNTIF(N$6:N$22,$B6)+COUNTIF(P$6:P$22,$B6)+COUNTIF(R$6:R$22,$B6)+COUNTIF(T$6:T$22,$B6)+COUNTIF(V$6:V$22,$B6)+COUNTIF(X$6:X$22,$B6)+COUNTIF(Z$6:Z$22,$B6)+COUNTIF(AB$6:AB$22,$B6)+COUNTIF(L$6:L$22,$B6),\"\"))","v":""},"",null,null,"ÖRGÜN ÖĞRETİM","08.00-09.00",null,null,null,{"$f":"IF(Tatiller!F32=\"\",IF(Tatiller!$X$51=0,IF(DersYükü!F47=\"\",0,DersYükü!F47),Tatiller!F32),Tatiller!F32)","v":0},{"$f":"IF(Tatiller!G32=\"\",IF(Tatiller!$X$51=0,IF(DersYükü!G47=\"\",0,DersYükü!G47),Tatiller!G32),Tatiller!G32)","v":0},{"$f":"IF(Tatiller!H32=\"\",IF(Tatiller!$X$51=0,IF(DersYükü!H47=\"\",0,DersYükü!H47),Tatiller!H32),Tatiller!H32)","v":0},{"$f":"IF(Tatiller!I32=\"\",IF(Tatiller!$X$51=0,IF(DersYükü!I47=\"\",0,DersYükü!I47),Tatiller!I32),Tatiller!I32)","v":0},{"$f":"IF(Tatiller!J32=\"\",IF(Tatiller!$X$51=0,IF(DersYükü!J47=\"\",0,DersYükü!J47),Tatiller!J32),Tatiller!J32)","v":0},{"$f":"IF(Tatiller!K32=\"\",IF(Tatiller!$X$51=0,IF(DersYükü!K47=\"\",0,DersYükü!K47),Tatiller!K32),Tatiller!K32)","v":0},{"$f":"IF(Tatiller!L32=\"\",IF(Tatiller!$X$51=0,IF(DersYükü!L47=\"\",0,DersYükü!L47),Tatiller!L32),Tatiller!L32)","v":0},{"$f":"IF(Tatiller!M32=\"\",IF(Tatiller!$X$51=0,IF(DersYükü!M47=\"\",0,DersYükü!M47),Tatiller!M32),Tatiller!M32)","v":0},{"$f":"IF(Tatiller!N32=\"\",IF(Tatiller!$X$51=0,IF(DersYükü!N47=\"\",0,DersYükü!N47),Tatiller!N32),Tatiller!N32)","v":0},{"$f":"IF(Tatiller!O32=\"\",IF(Tatiller!$X$51=0,IF(DersYükü!O47=\"\",0,DersYükü!O47),Tatiller!O32),Tatiller!O32)","v":0},{"$f":"IF(Tatiller!P32=\"\",IF(Tatiller!$X$51=0,IF(DersYükü!P47=\"\",0,DersYükü!P47),Tatiller!P32),Tatiller!P32)","v":0},{"$f":"IF(Tatiller!Q32=\"\",IF(Tatiller!$X$51=0,IF(DersYükü!Q47=\"\",0,DersYükü!Q47),Tatiller!Q32),Tatiller!Q32)","v":0},{"$f":"IF(Tatiller!R32=\"\",IF(Tatiller!$X$51=0,IF(DersYükü!R47=\"\",0,DersYükü!R47),Tatiller!R32),Tatiller!R32)","v":0},{"$f":"IF(Tatiller!S32=\"\",IF(Tatiller!$X$51=0,IF(DersYükü!S47=\"\",0,DersYükü!S47),Tatiller!S32),Tatiller!S32)","v":0},{"$f":"IF(Tatiller!T32=\"\",IF(Tatiller!$X$51=0,IF(DersYükü!T47=\"\",0,DersYükü!T47),Tatiller!T32),Tatiller!T32)","v":0},{"$f":"IF(Tatiller!U32=\"\",IF(Tatiller!$X$51=0,IF(DersYükü!U47=\"\",0,DersYükü!U47),Tatiller!U32),Tatiller!U32)","v":0},{"$f":"IF(Tatiller!V32=\"\",IF(Tatiller!$X$51=0,IF(DersYükü!V47=\"\",0,DersYükü!V47),Tatiller!V32),Tatiller!V32)","v":0},{"$f":"IF(Tatiller!W32=\"\",IF(Tatiller!$X$51=0,IF(DersYükü!W47=\"\",0,DersYükü!W47),Tatiller!W32),Tatiller!W32)","v":0},null,null,null,"A",{"$f":"IF(IFERROR(COUNTIF(AS$6:AS$22,$B6)+COUNTIF(AU$6:AU$22,$B6)+COUNTIF(AW$6:AW$22,$B6)+COUNTIF(AY$6:AY$22,$B6)+COUNTIF(BA$6:BA$22,$B6)+COUNTIF(BC$6:BC$22,$B6)+COUNTIF(BE$6:BE$22,$B6)+COUNTIF(BG$6:BG$22,$B6)+COUNTIF(AQ$6:AQ$22,$B6),\"\")=0,\"\",IFERROR(COUNTIF(AS$6:AS$22,$B6)+COUNTIF(AU$6:AU$22,$B6)+COUNTIF(AW$6:AW$22,$B6)+COUNTIF(AY$6:AY$22,$B6)+COUNTIF(BA$6:BA$22,$B6)+COUNTIF(BC$6:BC$22,$B6)+COUNTIF(BE$6:BE$22,$B6)+COUNTIF(BG$6:BG$22,$B6)+COUNTIF(AQ$6:AQ$22,$B6),\"\"))","v":""},"",null,null,"ÖRGÜN ÖĞRETİM","08.00-09.00",null,null,null,{"$f":"IF(Tatiller!AH32=\"\",IF(Tatiller!$AZ$51=0,IF(DersYükü!F47=\"\",0,DersYükü!F47),Tatiller!AH32),Tatiller!AH32)","v":0},{"$f":"IF(Tatiller!AI32=\"\",IF(Tatiller!$AZ$51=0,IF(DersYükü!G47=\"\",0,DersYükü!G47),Tatiller!AI32),Tatiller!AI32)","v":0},{"$f":"IF(Tatiller!AJ32=\"\",IF(Tatiller!$AZ$51=0,IF(DersYükü!H47=\"\",0,DersYükü!H47),Tatiller!AJ32),Tatiller!AJ32)","v":0},{"$f":"IF(Tatiller!AK32=\"\",IF(Tatiller!$AZ$51=0,IF(DersYükü!I47=\"\",0,DersYükü!I47),Tatiller!AK32),Tatiller!AK32)","v":0},{"$f":"IF(Tatiller!AL32=\"\",IF(Tatiller!$AZ$51=0,IF(DersYükü!J47=\"\",0,DersYükü!J47),Tatiller!AL32),Tatiller!AL32)","v":0},{"$f":"IF(Tatiller!AM32=\"\",IF(Tatiller!$AZ$51=0,IF(DersYükü!K47=\"\",0,DersYükü!K47),Tatiller!AM32),Tatiller!AM32)","v":0},{"$f":"IF(Tatiller!AN32=\"\",IF(Tatiller!$AZ$51=0,IF(DersYükü!L47=\"\",0,DersYükü!L47),Tatiller!AN32),Tatiller!AN32)","v":0},{"$f":"IF(Tatiller!AO32=\"\",IF(Tatiller!$AZ$51=0,IF(DersYükü!M47=\"\",0,DersYükü!M47),Tatiller!AO32),Tatiller!AO32)","v":0},{"$f":"IF(Tatiller!AP32=\"\",IF(Tatiller!$AZ$51=0,IF(DersYükü!N47=\"\",0,DersYükü!N47),Tatiller!AP32),Tatiller!AP32)","v":0},{"$f":"IF(Tatiller!AQ32=\"\",IF(Tatiller!$AZ$51=0,IF(DersYükü!O47=\"\",0,DersYükü!O47),Tatiller!AQ32),Tatiller!AQ32)","v":0},{"$f":"IF(Tatiller!AR32=\"\",IF(Tatiller!$AZ$51=0,IF(DersYükü!P47=\"\",0,DersYükü!P47),Tatiller!AR32),Tatiller!AR32)","v":0},{"$f":"IF(Tatiller!AS32=\"\",IF(Tatiller!$AZ$51=0,IF(DersYükü!Q47=\"\",0,DersYükü!Q47),Tatiller!AS32),Tatiller!AS32)","v":0},{"$f":"IF(Tatiller!AT32=\"\",IF(Tatiller!$AZ$51=0,IF(DersYükü!R47=\"\",0,DersYükü!R47),Tatiller!AT32),Tatiller!AT32)","v":0},{"$f":"IF(Tatiller!AU32=\"\",IF(Tatiller!$AZ$51=0,IF(DersYükü!S47=\"\",0,DersYükü!S47),Tatiller!AU32),Tatiller!AU32)","v":0},{"$f":"IF(Tatiller!AV32=\"\",IF(Tatiller!$AZ$51=0,IF(DersYükü!T47=\"\",0,DersYükü!T47),Tatiller!AV32),Tatiller!AV32)","v":0},{"$f":"IF(Tatiller!AW32=\"\",IF(Tatiller!$AZ$51=0,IF(DersYükü!U47=\"\",0,DersYükü!U47),Tatiller!AW32),Tatiller!AW32)","v":0},{"$f":"IF(Tatiller!AX32=\"\",IF(Tatiller!$AZ$51=0,IF(DersYükü!V47=\"\",0,DersYükü!V47),Tatiller!AX32),Tatiller!AX32)","v":0},{"$f":"IF(Tatiller!AY32=\"\",IF(Tatiller!$AZ$51=0,IF(DersYükü!W47=\"\",0,DersYükü!W47),Tatiller!AY32),Tatiller!AY32)","v":0}]
[null,"B","","",null,null,null,"09.00-10.00",null,null,null,{"$f":"IF(Tatiller!F33=\"\",IF(Tatiller!$X$51=0,IF(DersYükü!F48=\"\",0,DersYükü!F48),Tatiller!F33),Tatiller!F33)","v":0},{"$f":"IF(Tatiller!G33=\"\",IF(Tatiller!$X$51=0,IF(DersYükü!G48=\"\",0,DersYükü!G48),Tatiller!G33),Tatiller!G33)","v":0},{"$f":"IF(Tatiller!H33=\"\",IF(Tatiller!$X$51=0,IF(DersYükü!H48=\"\",0,DersYükü!H48),Tatiller!H33),Tatiller!H33)","v":0},{"$f":"IF(Tatiller!I33=\"\",IF(Tatiller!$X$51=0,IF(DersYükü!I48=\"\",0,DersYükü!I48),Tatiller!I33),Tatiller!I33)","v":0},{"$f":"IF(Tatiller!J33=\"\",IF(Tatiller!$X$51=0,IF(DersYükü!J48=\"\",0,DersYükü!J48),Tatiller!J33),Tatiller!J33)","v":0},{"$f":"IF(Tatiller!K33=\"\",IF(Tatiller!$X$51=0,IF(DersYükü!K48=\"\",0,DersYükü!K48),Tatiller!K33),Tatiller!K33)","v":0},{"$f":"IF(Tatiller!L33=\"\",IF(Tatiller!$X$51=0,IF(DersYükü!L48=\"\",0,DersYükü!L48),Tatiller!L33),Tatiller!L33)","v":0},{"$f":"IF(Tatiller!M33=\"\",IF(Tatiller!$X$51=0,IF(DersYükü!M48=\"\",0,DersYükü!M48),Tatiller!M33),Tatiller!M33)","v":0},{"$f":"IF(Tatiller!N33=\"\",IF(Tatiller!$X$51=0,IF(DersYükü!N48=\"\",0,DersYükü!N48),Tatiller!N33),Tatiller!N33)","v":0},{"$f":"IF(Tatiller!O33=\"\",IF(Tatiller!$X$51=0,IF(DersYükü!O48=\"\",0,DersYükü!O48),Tatiller!O33),Tatiller!O33)","v":0},{"$f":"IF(Tatiller!P33=\"\",IF(Tatiller!$X$51=0,IF(DersYükü!P48=\"\",0,DersYükü!P48),Tatiller!P33),Tatiller!P33)","v":0},{"$f":"IF(Tatiller!Q33=\"\",IF(Tatiller!$X$51=0,IF(DersYükü!Q48=\"\",0,DersYükü!Q48),Tatiller!Q33),Tatiller!Q33)","v":0},{"$f":"IF(Tatiller!R33=\"\",IF(Tatiller!$X$51=0,IF(DersYükü!R48=\"\",0,DersYükü!R48),Tatiller!R33),Tatiller!R33)","v":0},{"$f":"IF(Tatiller!S33=\"\",IF(Tatiller!$X$51=0,IF(DersYükü!S48=\"\",0,DersYükü!S48),Tatiller!S33),Tatiller!S33)","v":0},{"$f":"IF(Tatiller!T33=\"\",IF(Tatiller!$X$51=0,IF(DersYükü!T48=\"\",0,DersYükü!T48),Tatiller!T33),Tatiller!T33)","v":0},{"$f":"IF(Tatiller!U33=\"\",IF(Tatiller!$X$51=0,IF(DersYükü!U48=\"\",0,DersYükü!U48),Tatiller!U33),Tatiller!U33)","v":0},{"$f":"IF(Tatiller!V33=\"\",IF(Tatiller!$X$51=0,IF(DersYükü!V48=\"\",0,DersYükü!V48),Tatiller!V33),Tatiller!V33)","v":0},{"$f":"IF(Tatiller!W33=\"\",IF(Tatiller!$X$51=0,IF(DersYükü!W48=\"\",0,DersYükü!W48),Tatiller!W33),Tatiller!W33)","v":0},null,null,null,"B","","",null,null,null,"09.00-10.00",null,null,null,{"$f":"IF(Tatiller!AH33=\"\",IF(Tatiller!$AZ$51=0,IF(DersYükü!F48=\"\",0,DersYükü!F48),Tatiller!AH33),Tatiller!AH33)","v":0},{"$f":"IF(Tatiller!AI33=\"\",IF(Tatiller!$AZ$51=0,IF(DersYükü!G48=\"\",0,DersYükü!G48),Tatiller!AI33),Tatiller!AI33)","v":0},{"$f":"IF(Tatiller!AJ33=\"\",IF(Tatiller!$AZ$51=0,IF(DersYükü!H48=\"\",0,DersYükü!H48),Tatiller!AJ33),Tatiller!AJ33)","v":0},{"$f":"IF(Tatiller!AK33=\"\",IF(Tatiller!$AZ$51=0,IF(DersYükü!I48=\"\",0,DersYükü!I48),Tatiller!AK33),Tatiller!AK33)","v":0},{"$f":"IF(Tatiller!AL33=\"\",IF(Tatiller!$AZ$51=0,IF(DersYükü!J48=\"\",0,DersYükü!J48),Tatiller!AL33),Tatiller!AL33)","v":0},{"$f":"IF(Tatiller!AM33=\"\",IF(Tatiller!$AZ$51=0,IF(DersYükü!K48=\"\",0,DersYükü!K48),Tatiller!AM33),Tatiller!AM33)","v":0},{"$f":"IF(Tatiller!AN33=\"\",IF(Tatiller!$AZ$51=0,IF(DersYükü!L48=\"\",0,DersYükü!L48),Tatiller!AN33),Tatiller!AN33)","v":0},{"$f":"IF(Tatiller!AO33=\"\",IF(Tatiller!$AZ$51=0,IF(DersYükü!M48=\"\",0,DersYükü!M48),Tatiller!AO33),Tatiller!AO33)","v":0},{"$f":"IF(Tatiller!AP33=\"\",IF(Tatiller!$AZ$51=0,IF(DersYükü!N48=\"\",0,DersYükü!N48),Tatiller!AP33),Tatiller!AP33)","v":0},{"$f":"IF(Tatiller!AQ33=\"\",IF(Tatiller!$AZ$51=0,IF(DersYükü!O48=\"\",0,DersYükü!O48),Tatiller!AQ33),Tatiller!AQ33)","v":0},{"$f":"IF(Tatiller!AR33=\"\",IF(Tatiller!$AZ$51=0,IF(DersYükü!P48=\"\",0,DersYükü!P48),Tatiller!AR33),Tatiller!AR33)","v":0},{"$f":"IF(Tatiller!AS33=\"\",IF(Tatiller!$AZ$51=0,IF(DersYükü!Q48=\"\",0,DersYükü!Q48),Tatiller!AS33),Tatiller!AS33)","v":0},{"$f":"IF(Tatiller!AT33=\"\",IF(Tatiller!$AZ$51=0,IF(DersYükü!R48=\"\",0,DersYükü!R48),Tatiller!AT33),Tatiller!AT33)","v":0},{"$f":"IF(Tatiller!AU33=\"\",IF(Tatiller!$AZ$51=0,IF(DersYükü!S48=\"\",0,DersYükü!S48),Tatiller!AU33),Tatiller!AU33)","v":0},{"$f":"IF(Tatiller!AV33=\"\",IF(Tatiller!$AZ$51=0,IF(DersYükü!T48=\"\",0,DersYükü!T48),Tatiller!AV33),Tatiller!AV33)","v":0},{"$f":"IF(Tatiller!AW33=\"\",IF(Tatiller!$AZ$51=0,IF(DersYükü!U48=\"\",0,DersYükü!U48),Tatiller!AW33),Tatiller!AW33)","v":0},{"$f":"IF(Tatiller!AX33=\"\",IF(Tatiller!$AZ$51=0,IF(DersYükü!V48=\"\",0,DersYükü!V48),Tatiller!AX33),Tatiller!AX33)","v":0},{"$f":"IF(Tatiller!AY33=\"\",IF(Tatiller!$AZ$51=0,IF(DersYükü!W48=\"\",0,DersYükü!W48),Tatiller!AY33),Tatiller!AY33)","v":0}]
[null,"C","","",null,null,null,"10.00-11.00",null,null,null,{"$f":"IF(Tatiller!F34=\"\",IF(Tatiller!$X$51=0,IF(DersYükü!F49=\"\",0,DersYükü!F49),Tatiller!F34),Tatiller!F34)","v":0},{"$f":"IF(Tatiller!G34=\"\",IF(Tatiller!$X$51=0,IF(DersYükü!G49=\"\",0,DersYükü!G49),Tatiller!G34),Tatiller!G34)","v":0},{"$f":"IF(Tatiller!H34=\"\",IF(Tatiller!$X$51=0,IF(DersYükü!H49=\"\",0,DersYükü!H49),Tatiller!H34),Tatiller!H34)","v":0},{"$f":"IF(Tatiller!I34=\"\",IF(Tatiller!$X$51=0,IF(DersYükü!I49=\"\",0,DersYükü!I49),Tatiller!I34),Tatiller!I34)","v":0},{"$f":"IF(Tatiller!J34=\"\",IF(Tatiller!$X$51=0,IF(DersYükü!J49=\"\",0,DersYükü!J49),Tatiller!J34),Tatiller!J34)","v":0},{"$f":"IF(Tatiller!K34=\"\",IF(Tatiller!$X$51=0,IF(DersYükü!K49=\"\",0,DersYükü!K49),Tatiller!K34),Tatiller!K34)","v":0},{"$f":"IF(Tatiller!L34=\"\",IF(Tatiller!$X$51=0,IF(DersYükü!L49=\"\",0,DersYükü!L49),Tatiller!L34),Tatiller!L34)","v":0},{"$f":"IF(Tatiller!M34=\"\",IF(Tatiller!$X$51=0,IF(DersYükü!M49=\"\",0,DersYükü!M49),Tatiller!M34),Tatiller!M34)","v":0},{"$f":"IF(Tatiller!N34=\"\",IF(Tatiller!$X$51=0,IF(DersYükü!N49=\"\",0,DersYükü!N49),Tatiller!N34),Tatiller!N34)","v":0},{"$f":"IF(Tatiller!O34=\"\",IF(Tatiller!$X$51=0,IF(DersYükü!O49=\"\",0,DersYükü!O49),Tatiller!O34),Tatiller!O34)","v":0},{"$f":"IF(Tatiller!P34=\"\",IF(Tatiller!$X$51=0,IF(DersYükü!P49=\"\",0,DersYükü!P49),Tatiller!P34),Tatiller!P34)","v":0},{"$f":"IF(Tatiller!Q34=\"\",IF(Tatiller!$X$51=0,IF(DersYükü!Q49=\"\",0,DersYükü!Q49),Tatiller!Q34),Tatiller!Q34)","v":0},{"$f":"IF(Tatiller!R34=\"\",IF(Tatiller!$X$51=0,IF(DersYükü!R49=\"\",0,DersYükü!R49),Tatiller!R34),Tatiller!R34)","v":0},{"$f":"IF(Tatiller!S34=\"\",IF(Tatiller!$X$51=0,IF(DersYükü!S49=\"\",0,DersYükü!S49),Tatiller!S34),Tatiller!S34)","v":0},{"$f":"IF(Tatiller!T34=\"\",IF(Tatiller!$X$51=0,IF(DersYükü!T49=\"\",0,DersYükü!T49),Tatiller!T34),Tatiller!T34)","v":0},{"$f":"IF(Tatiller!U34=\"\",IF(Tatiller!$X$51=0,IF(DersYükü!U49=\"\",0,DersYükü!U49),Tatiller!U34),Tatiller!U34)","v":0},{"$f":"IF(Tatiller!V34=\"\",IF(Tatiller!$X$51=0,IF(DersYükü!V49=\"\",0,DersYükü!V49),Tatiller!V34),Tatiller!V34)","v":0},{"$f":"IF(Tatiller!W34=\"\",IF(Tatiller!$X$51=0,IF(DersYükü!W49=\"\",0,DersYükü!W49),Tatiller!W34),Tatiller!W34)","v":0},null,null,null,"C","","",null,null,null,"10.00-11.00",null,null,null,{"$f":"IF(Tatiller!AH34=\"\",IF(Tatiller!$AZ$51=0,IF(DersYükü!F49=\"\",0,DersYükü!F49),Tatiller!AH34),Tatiller!AH34)","v":0},{"$f":"IF(Tatiller!AI34=\"\",IF(Tatiller!$AZ$51=0,IF(DersYükü!G49=\"\",0,DersYükü!G49),Tatiller!AI34),Tatiller!AI34)","v":0},{"$f":"IF(Tatiller!AJ34=\"\",IF(Tatiller!$AZ$51=0,IF(DersYükü!H49=\"\",0,DersYükü!H49),Tatiller!AJ34),Tatiller!AJ34)","v":0},{"$f":"IF(Tatiller!AK34=\"\",IF(Tatiller!$AZ$51=0,IF(DersYükü!I49=\"\",0,DersYükü!I49),Tatiller!AK34),Tatiller!AK34)","v":0},{"$f":"IF(Tatiller!AL34=\"\",IF(Tatiller!$AZ$51=0,IF(DersYükü!J49=\"\",0,DersYükü!J49),Tatiller!AL34),Tatiller!AL34)","v":0},{"$f":"IF(Tatiller!AM34=\"\",IF(Tatiller!$AZ$51=0,IF(DersYükü!K49=\"\",0,DersYükü!K49),Tatiller!AM34),Tatiller!AM34)","v":0},{"$f":"IF(Tatiller!AN34=\"\",IF(Tatiller!$AZ$51=0,IF(DersYükü!L49=\"\",0,DersYükü!L49),Tatiller!AN34),Tatiller!AN34)","v":0},{"$f":"IF(Tatiller!AO34=\"\",IF(Tatiller!$AZ$51=0,IF(DersYükü!M49=\"\",0,DersYükü!M49),Tatiller!AO34),Tatiller!AO34)","v":0},{"$f":"IF(Tatiller!AP34=\"\",IF(Tatiller!$AZ$51=0,IF(DersYükü!N49=\"\",0,DersYükü!N49),Tatiller!AP34),Tatiller!AP34)","v":0},{"$f":"IF(Tatiller!AQ34=\"\",IF(Tatiller!$AZ$51=0,IF(DersYükü!O49=\"\",0,DersYükü!O49),Tatiller!AQ34),Tatiller!AQ34)","v":0},{"$f":"IF(Tatiller!AR34=\"\",IF(Tatiller!$AZ$51=0,IF(DersYükü!P49=\"\",0,DersYükü!P49),Tatiller!AR34),Tatiller!AR34)","v":0},{"$f":"IF(Tatiller!AS34=\"\",IF(Tatiller!$AZ$51=0,IF(DersYükü!Q49=\"\",0,DersYükü!Q49),Tatiller!AS34),Tatiller!AS34)","v":0},{"$f":"IF(Tatiller!AT34=\"\",IF(Tatiller!$AZ$51=0,IF(DersYükü!R49=\"\",0,DersYükü!R49),Tatiller!AT34),Tatiller!AT34)","v":0},{"$f":"IF(Tatiller!AU34=\"\",IF(Tatiller!$AZ$51=0,IF(DersYükü!S49=\"\",0,DersYükü!S49),Tatiller!AU34),Tatiller!AU34)","v":0},{"$f":"IF(Tatiller!AV34=\"\",IF(Tatiller!$AZ$51=0,IF(DersYükü!T49=\"\",0,DersYükü!T49),Tatiller!AV34),Tatiller!AV34)","v":0},{"$f":"IF(Tatiller!AW34=\"\",IF(Tatiller!$AZ$51=0,IF(DersYükü!U49=\"\",0,DersYükü!U49),Tatiller!AW34),Tatiller!AW34)","v":0},{"$f":"IF(Tatiller!AX34=\"\",IF(Tatiller!$AZ$51=0,IF(DersYükü!V49=\"\",0,DersYükü!V49),Tatiller!AX34),Tatiller!AX34)","v":0},{"$f":"IF(Tatiller!AY34=\"\",IF(Tatiller!$AZ$51=0,IF(DersYükü!W49=\"\",0,DersYükü!W49),Tatiller!AY34),Tatiller!AY34)","v":0}]
[null,"D","","",null,null,null,"11.00-12.00",null,null,null,{"$f":"IF(Tatiller!F35=\"\",IF(Tatiller!$X$51=0,IF(DersYükü!F50=\"\",0,DersYükü!F50),Tatiller!F35),Tatiller!F35)","v":0},{"$f":"IF(Tatiller!G35=\"\",IF(Tatiller!$X$51=0,IF(DersYükü!G50=\"\",0,DersYükü!G50),Tatiller!G35),Tatiller!G35)","v":0},{"$f":"IF(Tatiller!H35=\"\",IF(Tatiller!$X$51=0,IF(DersYükü!H50=\"\",0,DersYükü!H50),Tatiller!H35),Tatiller!H35)","v":0},{"$f":"IF(Tatiller!I35=\"\",IF(Tatiller!$X$51=0,IF(DersYükü!I50=\"\",0,DersYükü!I50),Tatiller!I35),Tatiller!I35)","v":0},{"$f":"IF(Tatiller!J35=\"\",IF(Tatiller!$X$51=0,IF(DersYükü!J50=\"\",0,DersYükü!J50),Tatiller!J35),Tatiller!J35)","v":0},{"$f":"IF(Tatiller!K35=\"\",IF(Tatiller!$X$51=0,IF(DersYükü!K50=\"\",0,DersYükü!K50),Tatiller!K35),Tatiller!K35)","v":0},{"$f":"IF(Tatiller!L35=\"\",IF(Tatiller!$X$51=0,IF(DersYükü!L50=\"\",0,DersYükü!L50),Tatiller!L35),Tatiller!L35)","v":0},{"$f":"IF(Tatiller!M35=\"\",IF(Tatiller!$X$51=0,IF(DersYükü!M50=\"\",0,DersYükü!M50),Tatiller!M35),Tatiller!M35)","v":0},{"$f":"IF(Tatiller!N35=\"\",IF(Tatiller!$X$51=0,IF(DersYükü!N50=\"\",0,DersYükü!N50),Tatiller!N35),Tatiller!N35)","v":0},{"$f":"IF(Tatiller!O35=\"\",IF(Tatiller!$X$51=0,IF(DersYükü!O50=\"\",0,DersYükü!O50),Tatiller!O35),Tatiller!O35)","v":0},{"$f":"IF(Tatiller!P35=\"\",IF(Tatiller!$X$51=0,IF(DersYükü!P50=\"\",0,DersYükü!P50),Tatiller!P35),Tatiller!P35)","v":0},{"$f":"IF(Tatiller!Q35=\"\",IF(Tatiller!$X$51=0,IF(DersYükü!Q50=\"\",0,DersYükü!Q50),Tatiller!Q35),Tatiller!Q35)","v":0},{"$f":"IF(Tatiller!R35=\"\",IF(Tatiller!$X$51=0,IF(DersYükü!R50=\"\",0,DersYükü!R50),Tatiller!R35),Tatiller!R35)","v":0},{"$f":"IF(Tatiller!S35=\"\",IF(Tatiller!$X$51=0,IF(DersYükü!S50=\"\",0,DersYükü!S50),Tatiller!S35),Tatiller!S35)","v":0},{"$f":"IF(Tatiller!T35=\"\",IF(Tatiller!$X$51=0,IF(DersYükü!T50=\"\",0,DersYükü!T50),Tatiller!T35),Tatiller!T35)","v":0},{"$f":"IF(Tatiller!U35=\"\",IF(Tatiller!$X$51=0,IF(DersYükü!U50=\"\",0,DersYükü!U50),Tatiller!U35),Tatiller!U35)","v":0},{"$f":"IF(Tatiller!V35=\"\",IF(Tatiller!$X$51=0,IF(DersYükü!V50=\"\",0,DersYükü!V50),Tatiller!V35),Tatiller!V35)","v":0},{"$f":"IF(Tatiller!W35=\"\",IF(Tatiller!$X$51=0,IF(DersYükü!W50=\"\",0,DersYükü!W50),Tatiller!W35),Tatiller!W35)","v":0},null,null,null,"D","","",null,null,null,"11.00-12.00",null,null,null,{"$f":"IF(Tatiller!AH35=\"\",IF(Tatiller!$AZ$51=0,IF(DersYükü!F50=\"\",0,DersYükü!F50),Tatiller!AH35),Tatiller!AH35)","v":0},{"$f":"IF(Tatiller!AI35=\"\",IF(Tatiller!$AZ$51=0,IF(DersYükü!G50=\"\",0,DersYükü!G50),Tatiller!AI35),Tatiller!AI35)","v":0},{"$f":"IF(Tatiller!AJ35=\"\",IF(Tatiller!$AZ$51=0,IF(DersYükü!H50=\"\",0,DersYükü!H50),Tatiller!AJ35),Tatiller!AJ35)","v":0},{"$f":"IF(Tatiller!AK35=\"\",IF(Tatiller!$AZ$51=0,IF(DersYükü!I50=\"\",0,DersYükü!I50),Tatiller!AK35),Tatiller!AK35)","v":0},{"$f":"IF(Tatiller!AL35=\"\",IF(Tatiller!$AZ$51=0,IF(DersYükü!J50=\"\",0,DersYükü!J50),Tatiller!AL35),Tatiller!AL35)","v":0},{"$f":"IF(Tatiller!AM35=\"\",IF(Tatiller!$AZ$51=0,IF(DersYükü!K50=\"\",0,DersYükü!K50),Tatiller!AM35),Tatiller!AM35)","v":0},{"$f":"IF(Tatiller!AN35=\"\",IF(Tatiller!$AZ$51=0,IF(DersYükü!L50=\"\",0,DersYükü!L50),Tatiller!AN35),Tatiller!AN35)","v":0},{"$f":"IF(Tatiller!AO35=\"\",IF(Tatiller!$AZ$51=0,IF(DersYükü!M50=\"\",0,DersYükü!M50),Tatiller!AO35),Tatiller!AO35)","v":0},{"$f":"IF(Tatiller!AP35=\"\",IF(Tatiller!$AZ$51=0,IF(DersYükü!N50=\"\",0,DersYükü!N50),Tatiller!AP35),Tatiller!AP35)","v":0},{"$f":"IF(Tatiller!AQ35=\"\",IF(Tatiller!$AZ$51=0,IF(DersYükü!O50=\"\",0,DersYükü!O50),Tatiller!AQ35),Tatiller!AQ35)","v":0},{"$f":"IF(Tatiller!AR35=\"\",IF(Tatiller!$AZ$51=0,IF(DersYükü!P50=\"\",0,DersYükü!P50),Tatiller!AR35),Tatiller!AR35)","v":0},{"$f":"IF(Tatiller!AS35=\"\",IF(Tatiller!$AZ$51=0,IF(DersYükü!Q50=\"\",0,DersYükü!Q50),Tatiller!AS35),Tatiller!AS35)","v":0},{"$f":"IF(Tatiller!AT35=\"\",IF(Tatiller!$AZ$51=0,IF(DersYükü!R50=\"\",0,DersYükü!R50),Tatiller!AT35),Tatiller!AT35)","v":0},{"$f":"IF(Tatiller!AU35=\"\",IF(Tatiller!$AZ$51=0,IF(DersYükü!S50=\"\",0,DersYükü!S50),Tatiller!AU35),Tatiller!AU35)","v":0},{"$f":"IF(Tatiller!AV35=\"\",IF(Tatiller!$AZ$51=0,IF(DersYükü!T50=\"\",0,DersYükü!T50),Tatiller!AV35),Tatiller!AV35)","v":0},{"$f":"IF(Tatiller!AW35=\"\",IF(Tatiller!$AZ$51=0,IF(DersYükü!U50=\"\",0,DersYükü!U50),Tatiller!AW35),Tatiller!AW35)","v":0},{"$f":"IF(Tatiller!AX35=\"\",IF(Tatiller!$AZ$51=0,IF(DersYükü!V50=\"\",0,DersYükü!V50),Tatiller!AX35),Tatiller!AX35)","v":0},{"$f":"IF(Tatiller!AY35=\"\",IF(Tatiller!$AZ$51=0,IF(DersYükü!W50=\"\",0,DersYükü!W50),Tatiller!AY35),Tatiller!AY35)","v":0}]
[null,"E","","",null,null,null,"12.00-13.00",null,null,null,{"$f":"IF(Tatiller!F36=\"\",IF(Tatiller!$X$51=0,IF(DersYükü!F51=\"\",0,DersYükü!F51),Tatiller!F36),Tatiller!F36)","v":0},{"$f":"IF(Tatiller!G36=\"\",IF(Tatiller!$X$51=0,IF(DersYükü!G51=\"\",0,DersYükü!G51),Tatiller!G36),Tatiller!G36)","v":0},{"$f":"IF(Tatiller!H36=\"\",IF(Tatiller!$X$51=0,IF(DersYükü!H51=\"\",0,DersYükü!H51),Tatiller!H36),Tatiller!H36)","v":0},{"$f":"IF(Tatiller!I36=\"\",IF(Tatiller!$X$51=0,IF(DersYükü!I51=\"\",0,DersYükü!I51),Tatiller!I36),Tatiller!I36)","v":0},{"$f":"IF(Tatiller!J36=\"\",IF(Tatiller!$X$51=0,IF(DersYükü!J51=\"\",0,DersYükü!J51),Tatiller!J36),Tatiller!J36)","v":0},{"$f":"IF(Tatiller!K36=\"\",IF(Tatiller!$X$51=0,IF(DersYükü!K51=\"\",0,DersYükü!K51),Tatiller!K36),Tatiller!K36)","v":0},{"$f":"IF(Tatiller!L36=\"\",IF(Tatiller!$X$51=0,IF(DersYükü!L51=\"\",0,DersYükü!L51),Tatiller!L36),Tatiller!L36)","v":0},{"$f":"IF(Tatiller!M36=\"\",IF(Tatiller!$X$51=0,IF(DersYükü!M51=\"\",0,DersYükü!M51),Tatiller!M36),Tatiller!M36)","v":0},{"$f":"IF(Tatiller!N36=\"\",IF(Tatiller!$X$51=0,IF(DersYükü!N51=\"\",0,DersYükü!N51),Tatiller!N36),Tatiller!N36)","v":0},{"$f":"IF(Tatiller!O36=\"\",IF(Tatiller!$X$51=0,IF(DersYükü!O51=\"\",0,DersYükü!O51),Tatiller!O36),Tatiller!O36)","v":0},{"$f":"IF(Tatiller!P36=\"\",IF(Tatiller!$X$51=0,IF(DersYükü!P51=\"\",0,DersYükü!P51),Tatiller!P36),Tatiller!P36)","v":0},{"$f":"IF(Tatiller!Q36=\"\",IF(Tatiller!$X$51=0,IF(DersYükü!Q51=\"\",0,DersYükü!Q51),Tatiller!Q36),Tatiller!Q36)","v":0},{"$f":"IF(Tatiller!R36=\"\",IF(Tatiller!$X$51=0,IF(DersYükü!R51=\"\",0,DersYükü!R51),Tatiller!R36),Tatiller!R36)","v":0},{"$f":"IF(Tatiller!S36=\"\",IF(Tatiller!$X$51=0,IF(DersYükü!S51=\"\",0,DersYükü!S51),Tatiller!S36),Tatiller!S36)","v":0},{"$f":"IF(Tatiller!T36=\"\",IF(Tatiller!$X$51=0,IF(DersYükü!T51=\"\",0,DersYükü!T51),Tatiller!T36),Tatiller!T36)","v":0},{"$f":"IF(Tatiller!U36=\"\",IF(Tatiller!$X$51=0,IF(DersYükü!U51=\"\",0,DersYükü!U51),Tatiller!U36),Tatiller!U36)","v":0},{"$f":"IF(Tatiller!V36=\"\",IF(Tatiller!$X$51=0,IF(DersYükü!V51=\"\",0,DersYükü!V51),Tatiller!V36),Tatiller!V36)","v":0},{"$f":"IF(Tatiller!W36=\"\",IF(Tatiller!$X$51=0,IF(DersYükü!W51=\"\",0,DersYükü!W51),Tatiller!W36),Tatiller!W36)","v":0},null,null,null,"E","","",null,null,null,"12.00-13.00",null,null,null,{"$f":"IF(Tatiller!AH36=\"\",IF(Tatiller!$AZ$51=0,IF(DersYükü!F51=\"\",0,DersYükü!F51),Tatiller!AH36),Tatiller!AH36)","v":0},{"$f":"IF(Tatiller!AI36=\"\",IF(Tatiller!$AZ$51=0,IF(DersYükü!G51=\"\",0,DersYükü!G51),Tatiller!AI36),Tatiller!AI36)","v":0},{"$f":"IF(Tatiller!AJ36=\"\",IF(Tatiller!$AZ$51=0,IF(DersYükü!H51=\"\",0,DersYükü!H51),Tatiller!AJ36),Tatiller!AJ36)","v":0},{"$f":"IF(Tatiller!AK36=\"\",IF(Tatiller!$AZ$51=0,IF(DersYükü!I51=\"\",0,DersYükü!I51),Tatiller!AK36),Tatiller!AK36)","v":0},{"$f":"IF(Tatiller!AL36=\"\",IF(Tatiller!$AZ$51=0,IF(DersYükü!J51=\"\",0,DersYükü!J51),Tatiller!AL36),Tatiller!AL36)","v":0},{"$f":"IF(Tatiller!AM36=\"\",IF(Tatiller!$AZ$51=0,IF(DersYükü!K51=\"\",0,DersYükü!K51),Tatiller!AM36),Tatiller!AM36)","v":0},{"$f":"IF(Tatiller!AN36=\"\",IF(Tatiller!$AZ$51=0,IF(DersYükü!L51=\"\",0,DersYükü!L51),Tatiller!AN36),Tatiller!AN36)","v":0},{"$f":"IF(Tatiller!AO36=\"\",IF(Tatiller!$AZ$51=0,IF(DersYükü!M51=\"\",0,DersYükü!M51),Tatiller!AO36),Tatiller!AO36)","v":0},{"$f":"IF(Tatiller!AP36=\"\",IF(Tatiller!$AZ$51=0,IF(DersYükü!N51=\"\",0,DersYükü!N51),Tatiller!AP36),Tatiller!AP36)","v":0},{"$f":"IF(Tatiller!AQ36=\"\",IF(Tatiller!$AZ$51=0,IF(DersYükü!O51=\"\",0,DersYükü!O51),Tatiller!AQ36),Tatiller!AQ36)","v":0},{"$f":"IF(Tatiller!AR36=\"\",IF(Tatiller!$AZ$51=0,IF(DersYükü!P51=\"\",0,DersYükü!P51),Tatiller!AR36),Tatiller!AR36)","v":0},{"$f":"IF(Tatiller!AS36=\"\",IF(Tatiller!$AZ$51=0,IF(DersYükü!Q51=\"\",0,DersYükü!Q51),Tatiller!AS36),Tatiller!AS36)","v":0},{"$f":"IF(Tatiller!AT36=\"\",IF(Tatiller!$AZ$51=0,IF(DersYükü!R51=\"\",0,DersYükü!R51),Tatiller!AT36),Tatiller!AT36)","v":0},{"$f":"IF(Tatiller!AU36=\"\",IF(Tatiller!$AZ$51=0,IF(DersYükü!S51=\"\",0,DersYükü!S51),Tatiller!AU36),Tatiller!AU36)","v":0},{"$f":"IF(Tatiller!AV36=\"\",IF(Tatiller!$AZ$51=0,IF(DersYükü!T51=\"\",0,DersYükü!T51),Tatiller!AV36),Tatiller!AV36)","v":0},{"$f":"IF(Tatiller!AW36=\"\",IF(Tatiller!$AZ$51=0,IF(DersYükü!U51=\"\",0,DersYükü!U51),Tatiller!AW36),Tatiller!AW36)","v":0},{"$f":"IF(Tatiller!AX36=\"\",IF(Tatiller!$AZ$51=0,IF(DersYükü!V51=\"\",0,DersYükü!V51),Tatiller!AX36),Tatiller!AX36)","v":0},{"$f":"IF(Tatiller!AY36=\"\",IF(Tatiller!$AZ$51=0,IF(DersYükü!W51=\"\",0,DersYükü!W51),Tatiller!AY36),Tatiller!AY36)","v":0}]
[null,"F","","",null,null,null,"13.00-14.00",null,null,null,{"$f":"IF(Tatiller!F37=\"\",IF(Tatiller!$X$51=0,IF(DersYükü!F52=\"\",0,DersYükü!F52),Tatiller!F37),Tatiller!F37)","v":0},{"$f":"IF(Tatiller!G37=\"\",IF(Tatiller!$X$51=0,IF(DersYükü!G52=\"\",0,DersYükü!G52),Tatiller!G37),Tatiller!G37)","v":0},{"$f":"IF(Tatiller!H37=\"\",IF(Tatiller!$X$51=0,IF(DersYükü!H52=\"\",0,DersYükü!H52),Tatiller!H37),Tatiller!H37)","v":0},{"$f":"IF(Tatiller!I37=\"\",IF(Tatiller!$X$51=0,IF(DersYükü!I52=\"\",0,DersYükü!I52),Tatiller!I37),Tatiller!I37)","v":0},{"$f":"IF(Tatiller!J37=\"\",IF(Tatiller!$X$51=0,IF(DersYükü!J52=\"\",0,DersYükü!J52),Tatiller!J37),Tatiller!J37)","v":0},{"$f":"IF(Tatiller!K37=\"\",IF(Tatiller!$X$51=0,IF(DersYükü!K52=\"\",0,DersYükü!K52),Tatiller!K37),Tatiller!K37)","v":0},{"$f":"IF(Tatiller!L37=\"\",IF(Tatiller!$X$51=0,IF(DersYükü!L52=\"\",0,DersYükü!L52),Tatiller!L37),Tatiller!L37)","v":0},{"$f":"IF(Tatiller!M37=\"\",IF(Tatiller!$X$51=0,IF(DersYükü!M52=\"\",0,DersYükü!M52),Tatiller!M37),Tatiller!M37)","v":0},{"$f":"IF(Tatiller!N37=\"\",IF(Tatiller!$X$51=0,IF(DersYükü!N52=\"\",0,DersYükü!N52),Tatiller!N37),Tatiller!N37)","v":0},{"$f":"IF(Tatiller!O37=\"\",IF(Tatiller!$X$51=0,IF(DersYükü!O52=\"\",0,DersYükü!O52),Tatiller!O37),Tatiller!O37)","v":0},{"$f":"IF(Tatiller!P37=\"\",IF(Tatiller!$X$51=0,IF(DersYükü!P52=\"\",0,DersYükü!P52),Tatiller!P37),Tatiller!P37)","v":0},{"$f":"IF(Tatiller!Q37=\"\",IF(Tatiller!$X$51=0,IF(DersYükü!Q52=\"\",0,DersYükü!Q52),Tatiller!Q37),Tatiller!Q37)","v":0},{"$f":"IF(Tatiller!R37=\"\",IF(Tatiller!$X$51=0,IF(DersYükü!R52=\"\",0,DersYükü!R52),Tatiller!R37),Tatiller!R37)","v":0},{"$f":"IF(Tatiller!S37=\"\",IF(Tatiller!$X$51=0,IF(DersYükü!S52=\"\",0,DersYükü!S52),Tatiller!S37),Tatiller!S37)","v":0},{"$f":"IF(Tatiller!T37=\"\",IF(Tatiller!$X$51=0,IF(DersYükü!T52=\"\",0,DersYükü!T52),Tatiller!T37),Tatiller!T37)","v":0},{"$f":"IF(Tatiller!U37=\"\",IF(Tatiller!$X$51=0,IF(DersYükü!U52=\"\",0,DersYükü!U52),Tatiller!U37),Tatiller!U37)","v":0},{"$f":"IF(Tatiller!V37=\"\",IF(Tatiller!$X$51=0,IF(DersYükü!V52=\"\",0,DersYükü!V52),Tatiller!V37),Tatiller!V37)","v":0},{"$f":"IF(Tatiller!W37=\"\",IF(Tatiller!$X$51=0,IF(DersYükü!W52=\"\",0,DersYükü!W52),Tatiller!W37),Tatiller!W37)","v":0},null,null,null,"F","","",null,null,null,"13.00-14.00",null,null,null,{"$f":"IF(Tatiller!AH37=\"\",IF(Tatiller!$AZ$51=0,IF(DersYükü!F52=\"\",0,DersYükü!F52),Tatiller!AH37),Tatiller!AH37)","v":0},{"$f":"IF(Tatiller!AI37=\"\",IF(Tatiller!$AZ$51=0,IF(DersYükü!G52=\"\",0,DersYükü!G52),Tatiller!AI37),Tatiller!AI37)","v":0},{"$f":"IF(Tatiller!AJ37=\"\",IF(Tatiller!$AZ$51=0,IF(DersYükü!H52=\"\",0,DersYükü!H52),Tatiller!AJ37),Tatiller!AJ37)","v":0},{"$f":"IF(Tatiller!AK37=\"\",IF(Tatiller!$AZ$51=0,IF(DersYükü!I52=\"\",0,DersYükü!I52),Tatiller!AK37),Tatiller!AK37)","v":0},{"$f":"IF(Tatiller!AL37=\"\",IF(Tatiller!$AZ$51=0,IF(DersYükü!J52=\"\",0,DersYükü!J52),Tatiller!AL37),Tatiller!AL37)","v":0},{"$f":"IF(Tatiller!AM37=\"\",IF(Tatiller!$AZ$51=0,IF(DersYükü!K52=\"\",0,DersYükü!K52),Tatiller!AM37),Tatiller!AM37)","v":0},{"$f":"IF(Tatiller!AN37=\"\",IF(Tatiller!$AZ$51=0,IF(DersYükü!L52=\"\",0,DersYükü!L52),Tatiller!AN37),Tatiller!AN37)","v":0},{"$f":"IF(Tatiller!AO37=\"\",IF(Tatiller!$AZ$51=0,IF(DersYükü!M52=\"\",0,DersYükü!M52),Tatiller!AO37),Tatiller!AO37)","v":0},{"$f":"IF(Tatiller!AP37=\"\",IF(Tatiller!$AZ$51=0,IF(DersYükü!N52=\"\",0,DersYükü!N52),Tatiller!AP37),Tatiller!AP37)","v":0},{"$f":"IF(Tatiller!AQ37=\"\",IF(Tatiller!$AZ$51=0,IF(DersYükü!O52=\"\",0,DersYükü!O52),Tatiller!AQ37),Tatiller!AQ37)","v":0},{"$f":"IF(Tatiller!AR37=\"\",IF(Tatiller!$AZ$51=0,IF(DersYükü!P52=\"\",0,DersYükü!P52),Tatiller!AR37),Tatiller!AR37)","v":0},{"$f":"IF(Tatiller!AS37=\"\",IF(Tatiller!$AZ$51=0,IF(DersYükü!Q52=\"\",0,DersYükü!Q52),Tatiller!AS37),Tatiller!AS37)","v":0},{"$f":"IF(Tatiller!AT37=\"\",IF(Tatiller!$AZ$51=0,IF(DersYükü!R52=\"\",0,DersYükü!R52),Tatiller!AT37),Tatiller!AT37)","v":0},{"$f":"IF(Tatiller!AU37=\"\",IF(Tatiller!$AZ$51=0,IF(DersYükü!S52=\"\",0,DersYükü!S52),Tatiller!AU37),Tatiller!AU37)","v":0},{"$f":"IF(Tatiller!AV37=\"\",IF(Tatiller!$AZ$51=0,IF(DersYükü!T52=\"\",0,DersYükü!T52),Tatiller!AV37),Tatiller!AV37)","v":0},{"$f":"IF(Tatiller!AW37=\"\",IF(Tatiller!$AZ$51=0,IF(DersYükü!U52=\"\",0,DersYükü!U52),Tatiller!AW37),Tatiller!AW37)","v":0},{"$f":"IF(Tatiller!AX37=\"\",IF(Tatiller!$AZ$51=0,IF(DersYükü!V52=\"\",0,DersYükü!V52),Tatiller!AX37),Tatiller!AX37)","v":0},{"$f":"IF(Tatiller!AY37=\"\",IF(Tatiller!$AZ$51=0,IF(DersYükü!W52=\"\",0,DersYükü!W52),Tatiller!AY37),Tatiller!AY37)","v":0}]
[null,"G","","",null,null,null,"14.00-15.00",null,null,null,{"$f":"IF(Tatiller!F38=\"\",IF(Tatiller!$X$51=0,IF(DersYükü!F53=\"\",0,DersYükü!F53),Tatiller!F38),Tatiller!F38)","v":0},{"$f":"IF(Tatiller!G38=\"\",IF(Tatiller!$X$51=0,IF(DersYükü!G53=\"\",0,DersYükü!G53),Tatiller!G38),Tatiller!G38)","v":0},{"$f":"IF(Tatiller!H38=\"\",IF(Tatiller!$X$51=0,IF(DersYükü!H53=\"\",0,DersYükü!H53),Tatiller!H38),Tatiller!H38)","v":0},{"$f":"IF(Tatiller!I38=\"\",IF(Tatiller!$X$51=0,IF(DersYükü!I53=\"\",0,DersYükü!I53),Tatiller!I38),Tatiller!I38)","v":0},{"$f":"IF(Tatiller!J38=\"\",IF(Tatiller!$X$51=0,IF(DersYükü!J53=\"\",0,DersYükü!J53),Tatiller!J38),Tatiller!J38)","v":0},{"$f":"IF(Tatiller!K38=\"\",IF(Tatiller!$X$51=0,IF(DersYükü!K53=\"\",0,DersYükü!K53),Tatiller!K38),Tatiller!K38)","v":0},{"$f":"IF(Tatiller!L38=\"\",IF(Tatiller!$X$51=0,IF(DersYükü!L53=\"\",0,DersYükü!L53),Tatiller!L38),Tatiller!L38)","v":0},{"$f":"IF(Tatiller!M38=\"\",IF(Tatiller!$X$51=0,IF(DersYükü!M53=\"\",0,DersYükü!M53),Tatiller!M38),Tatiller!M38)","v":0},{"$f":"IF(Tatiller!N38=\"\",IF(Tatiller!$X$51=0,IF(DersYükü!N53=\"\",0,DersYükü!N53),Tatiller!N38),Tatiller!N38)","v":0},{"$f":"IF(Tatiller!O38=\"\",IF(Tatiller!$X$51=0,IF(DersYükü!O53=\"\",0,DersYükü!O53),Tatiller!O38),Tatiller!O38)","v":0},{"$f":"IF(Tatiller!P38=\"\",IF(Tatiller!$X$51=0,IF(DersYükü!P53=\"\",0,DersYükü!P53),Tatiller!P38),Tatiller!P38)","v":0},{"$f":"IF(Tatiller!Q38=\"\",IF(Tatiller!$X$51=0,IF(DersYükü!Q53=\"\",0,DersYükü!Q53),Tatiller!Q38),Tatiller!Q38)","v":0},{"$f":"IF(Tatiller!R38=\"\",IF(Tatiller!$X$51=0,IF(DersYükü!R53=\"\",0,DersYükü!R53),Tatiller!R38),Tatiller!R38)","v":0},{"$f":"IF(Tatiller!S38=\"\",IF(Tatiller!$X$51=0,IF(DersYükü!S53=\"\",0,DersYükü!S53),Tatiller!S38),Tatiller!S38)","v":0},{"$f":"IF(Tatiller!T38=\"\",IF(Tatiller!$X$51=0,IF(DersYükü!T53=\"\",0,DersYükü!T53),Tatiller!T38),Tatiller!T38)","v":0},{"$f":"IF(Tatiller!U38=\"\",IF(Tatiller!$X$51=0,IF(DersYükü!U53=\"\",0,DersYükü!U53),Tatiller!U38),Tatiller!U38)","v":0},{"$f":"IF(Tatiller!V38=\"\",IF(Tatiller!$X$51=0,IF(DersYükü!V53=\"\",0,DersYükü!V53),Tatiller!V38),Tatiller!V38)","v":0},{"$f":"IF(Tatiller!W38=\"\",IF(Tatiller!$X$51=0,IF(DersYükü!W53=\"\",0,DersYükü!W53),Tatiller!W38),Tatiller!W38)","v":0},null,null,null,"G","","",null,null,null,"14.00-15.00",null,null,null,{"$f":"IF(Tatiller!AH38=\"\",IF(Tatiller!$AZ$51=0,IF(DersYükü!F53=\"\",0,DersYükü!F53),Tatiller!AH38),Tatiller!AH38)","v":0},{"$f":"IF(Tatiller!AI38=\"\",IF(Tatiller!$AZ$51=0,IF(DersYükü!G53=\"\",0,DersYükü!G53),Tatiller!AI38),Tatiller!AI38)","v":0},{"$f":"IF(Tatiller!AJ38=\"\",IF(Tatiller!$AZ$51=0,IF(DersYükü!H53=\"\",0,DersYükü!H53),Tatiller!AJ38),Tatiller!AJ38)","v":0},{"$f":"IF(Tatiller!AK38=\"\",IF(Tatiller!$AZ$51=0,IF(DersYükü!I53=\"\",0,DersYükü!I53),Tatiller!AK38),Tatiller!AK38)","v":0},{"$f":"IF(Tatiller!AL38=\"\",IF(Tatiller!$AZ$51=0,IF(DersYükü!J53=\"\",0,DersYükü!J53),Tatiller!AL38),Tatiller!AL38)","v":0},{"$f":"IF(Tatiller!AM38=\"\",IF(Tatiller!$AZ$51=0,IF(DersYükü!K53=\"\",0,DersYükü!K53),Tatiller!AM38),Tatiller!AM38)","v":0},{"$f":"IF(Tatiller!AN38=\"\",IF(Tatiller!$AZ$51=0,IF(DersYükü!L53=\"\",0,DersYükü!L53),Tatiller!AN38),Tatiller!AN38)","v":0},{"$f":"IF(Tatiller!AO38=\"\",IF(Tatiller!$AZ$51=0,IF(DersYükü!M53=\"\",0,DersYükü!M53),Tatiller!AO38),Tatiller!AO38)","v":0},{"$f":"IF(Tatiller!AP38=\"\",IF(Tatiller!$AZ$51=0,IF(DersYükü!N53=\"\",0,DersYükü!N53),Tatiller!AP38),Tatiller!AP38)","v":0},{"$f":"IF(Tatiller!AQ38=\"\",IF(Tatiller!$AZ$51=0,IF(DersYükü!O53=\"\",0,DersYükü!O53),Tatiller!AQ38),Tatiller!AQ38)","v":0},{"$f":"IF(Tatiller!AR38=\"\",IF(Tatiller!$AZ$51=0,IF(DersYükü!P53=\"\",0,DersYükü!P53),Tatiller!AR38),Tatiller!AR38)","v":0},{"$f":"IF(Tatiller!AS38=\"\",IF(Tatiller!$AZ$51=0,IF(DersYükü!Q53=\"\",0,DersYükü!Q53),Tatiller!AS38),Tatiller!AS38)","v":0},{"$f":"IF(Tatiller!AT38=\"\",IF(Tatiller!$AZ$51=0,IF(DersYükü!R53=\"\",0,DersYükü!R53),Tatiller!AT38),Tatiller!AT38)","v":0},{"$f":"IF(Tatiller!AU38=\"\",IF(Tatiller!$AZ$51=0,IF(DersYükü!S53=\"\",0,DersYükü!S53),Tatiller!AU38),Tatiller!AU38)","v":0},{"$f":"IF(Tatiller!AV38=\"\",IF(Tatiller!$AZ$51=0,IF(DersYükü!T53=\"\",0,DersYükü!T53),Tatiller!AV38),Tatiller!AV38)","v":0},{"$f":"IF(Tatiller!AW38=\"\",IF(Tatiller!$AZ$51=0,IF(DersYükü!U53=\"\",0,DersYükü!U53),Tatiller!AW38),Tatiller!AW38)","v":0},{"$f":"IF(Tatiller!AX38=\"\",IF(Tatiller!$AZ$51=0,IF(DersYükü!V53=\"\",0,DersYükü!V53),Tatiller!AX38),Tatiller!AX38)","v":0},{"$f":"IF(Tatiller!AY38=\"\",IF(Tatiller!$AZ$51=0,IF(DersYükü!W53=\"\",0,DersYükü!W53),Tatiller!AY38),Tatiller!AY38)","v":0}]
[null,"H","","",null,null,null,"15.00-16.00",null,null,null,{"$f":"IF(Tatiller!F39=\"\",IF(Tatiller!$X$51=0,IF(DersYükü!F54=\"\",0,DersYükü!F54),Tatiller!F39),Tatiller!F39)","v":0},{"$f":"IF(Tatiller!G39=\"\",IF(Tatiller!$X$51=0,IF(DersYükü!G54=\"\",0,DersYükü!G54),Tatiller!G39),Tatiller!G39)","v":0},{"$f":"IF(Tatiller!H39=\"\",IF(Tatiller!$X$51=0,IF(DersYükü!H54=\"\",0,DersYükü!H54),Tatiller!H39),Tatiller!H39)","v":0},{"$f":"IF(Tatiller!I39=\"\",IF(Tatiller!$X$51=0,IF(DersYükü!I54=\"\",0,DersYükü!I54),Tatiller!I39),Tatiller!I39)","v":0},{"$f":"IF(Tatiller!J39=\"\",IF(Tatiller!$X$51=0,IF(DersYükü!J54=\"\",0,DersYükü!J54),Tatiller!J39),Tatiller!J39)","v":0},{"$f":"IF(Tatiller!K39=\"\",IF(Tatiller!$X$51=0,IF(DersYükü!K54=\"\",0,DersYükü!K54),Tatiller!K39),Tatiller!K39)","v":0},{"$f":"IF(Tatiller!L39=\"\",IF(Tatiller!$X$51=0,IF(DersYükü!L54=\"\",0,DersYükü!L54),Tatiller!L39),Tatiller!L39)","v":0},{"$f":"IF(Tatiller!M39=\"\",IF(Tatiller!$X$51=0,IF(DersYükü!M54=\"\",0,DersYükü!M54),Tatiller!M39),Tatiller!M39)","v":0},{"$f":"IF(Tatiller!N39=\"\",IF(Tatiller!$X$51=0,IF(DersYükü!N54=\"\",0,DersYükü!N54),Tatiller!N39),Tatiller!N39)","v":0},{"$f":"IF(Tatiller!O39=\"\",IF(Tatiller!$X$51=0,IF(DersYükü!O54=\"\",0,DersYükü!O54),Tatiller!O39),Tatiller!O39)","v":0},{"$f":"IF(Tatiller!P39=\"\",IF(Tatiller!$X$51=0,IF(DersYükü!P54=\"\",0,DersYükü!P54),Tatiller!P39),Tatiller!P39)","v":0},{"$f":"IF(Tatiller!Q39=\"\",IF(Tatiller!$X$51=0,IF(DersYükü!Q54=\"\",0,DersYükü!Q54),Tatiller!Q39),Tatiller!Q39)","v":0},{"$f":"IF(Tatiller!R39=\"\",IF(Tatiller!$X$51=0,IF(DersYükü!R54=\"\",0,DersYükü!R54),Tatiller!R39),Tatiller!R39)","v":0},{"$f":"IF(Tatiller!S39=\"\",IF(Tatiller!$X$51=0,IF(DersYükü!S54=\"\",0,DersYükü!S54),Tatiller!S39),Tatiller!S39)","v":0},{"$f":"IF(Tatiller!T39=\"\",IF(Tatiller!$X$51=0,IF(DersYükü!T54=\"\",0,DersYükü!T54),Tatiller!T39),Tatiller!T39)","v":0},{"$f":"IF(Tatiller!U39=\"\",IF(Tatiller!$X$51=0,IF(DersYükü!U54=\"\",0,DersYükü!U54),Tatiller!U39),Tatiller!U39)","v":0},{"$f":"IF(Tatiller!V39=\"\",IF(Tatiller!$X$51=0,IF(DersYükü!V54=\"\",0,DersYükü!V54),Tatiller!V39),Tatiller!V39)","v":0},{"$f":"IF(Tatiller!W39=\"\",IF(Tatiller!$X$51=0,IF(DersYükü!W54=\"\",0,DersYükü!W54),Tatiller!W39),Tatiller!W39)","v":0},null,null,null,"H","","",null,null,null,"15.00-16.00",null,null,null,{"$f":"IF(Tatiller!AH39=\"\",IF(Tatiller!$AZ$51=0,IF(DersYükü!F54=\"\",0,DersYükü!F54),Tatiller!AH39),Tatiller!AH39)","v":0},{"$f":"IF(Tatiller!AI39=\"\",IF(Tatiller!$AZ$51=0,IF(DersYükü!G54=\"\",0,DersYükü!G54),Tatiller!AI39),Tatiller!AI39)","v":0},{"$f":"IF(Tatiller!AJ39=\"\",IF(Tatiller!$AZ$51=0,IF(DersYükü!H54=\"\",0,DersYükü!H54),Tatiller!AJ39),Tatiller!AJ39)","v":0},{"$f":"IF(Tatiller!AK39=\"\",IF(Tatiller!$AZ$51=0,IF(DersYükü!I54=\"\",0,DersYükü!I54),Tatiller!AK39),Tatiller!AK39)","v":0},{"$f":"IF(Tatiller!AL39=\"\",IF(Tatiller!$AZ$51=0,IF(DersYükü!J54=\"\",0,DersYükü!J54),Tatiller!AL39),Tatiller!AL39)","v":0},{"$f":"IF(Tatiller!AM39=\"\",IF(Tatiller!$AZ$51=0,IF(DersYükü!K54=\"\",0,DersYükü!K54),Tatiller!AM39),Tatiller!AM39)","v":0},{"$f":"IF(Tatiller!AN39=\"\",IF(Tatiller!$AZ$51=0,IF(DersYükü!L54=\"\",0,DersYükü!L54),Tatiller!AN39),Tatiller!AN39)","v":0},{"$f":"IF(Tatiller!AO39=\"\",IF(Tatiller!$AZ$51=0,IF(DersYükü!M54=\"\",0,DersYükü!M54),Tatiller!AO39),Tatiller!AO39)","v":0},{"$f":"IF(Tatiller!AP39=\"\",IF(Tatiller!$AZ$51=0,IF(DersYükü!N54=\"\",0,DersYükü!N54),Tatiller!AP39),Tatiller!AP39)","v":0},{"$f":"IF(Tatiller!AQ39=\"\",IF(Tatiller!$AZ$51=0,IF(DersYükü!O54=\"\",0,DersYükü!O54),Tatiller!AQ39),Tatiller!AQ39)","v":0},{"$f":"IF(Tatiller!AR39=\"\",IF(Tatiller!$AZ$51=0,IF(DersYükü!P54=\"\",0,DersYükü!P54),Tatiller!AR39),Tatiller!AR39)","v":0},{"$f":"IF(Tatiller!AS39=\"\",IF(Tatiller!$AZ$51=0,IF(DersYükü!Q54=\"\",0,DersYükü!Q54),Tatiller!AS39),Tatiller!AS39)","v":0},{"$f":"IF(Tatiller!AT39=\"\",IF(Tatiller!$AZ$51=0,IF(DersYükü!R54=\"\",0,DersYükü!R54),Tatiller!AT39),Tatiller!AT39)","v":0},{"$f":"IF(Tatiller!AU39=\"\",IF(Tatiller!$AZ$51=0,IF(DersYükü!S54=\"\",0,DersYükü!S54),Tatiller!AU39),Tatiller!AU39)","v":0},{"$f":"IF(Tatiller!AV39=\"\",IF(Tatiller!$AZ$51=0,IF(DersYükü!T54=\"\",0,DersYükü!T54),Tatiller!AV39),Tatiller!AV39)","v":0},{"$f":"IF(Tatiller!AW39=\"\",IF(Tatiller!$AZ$51=0,IF(DersYükü!U54=\"\",0,DersYükü!U54),Tatiller!AW39),Tatiller!AW39)","v":0},{"$f":"IF(Tatiller!AX39=\"\",IF(Tatiller!$AZ$51=0,IF(DersYükü!V54=\"\",0,DersYükü!V54),Tatiller!AX39),Tatiller!AX39)","v":0},{"$f":"IF(Tatiller!AY39=\"\",IF(Tatiller!$AZ$51=0,IF(DersYükü!W54=\"\",0,DersYükü!W54),Tatiller!AY39),Tatiller!AY39)","v":0}]
[null,"I","","",null,null,null,"16.00-17.00",null,null,null,{"$f":"IF(Tatiller!F40=\"\",IF(Tatiller!$X$51=0,IF(DersYükü!F55=\"\",0,DersYükü!F55),Tatiller!F40),Tatiller!F40)","v":0},{"$f":"IF(Tatiller!G40=\"\",IF(Tatiller!$X$51=0,IF(DersYükü!G55=\"\",0,DersYükü!G55),Tatiller!G40),Tatiller!G40)","v":0},{"$f":"IF(Tatiller!H40=\"\",IF(Tatiller!$X$51=0,IF(DersYükü!H55=\"\",0,DersYükü!H55),Tatiller!H40),Tatiller!H40)","v":0},{"$f":"IF(Tatiller!I40=\"\",IF(Tatiller!$X$51=0,IF(DersYükü!I55=\"\",0,DersYükü!I55),Tatiller!I40),Tatiller!I40)","v":0},{"$f":"IF(Tatiller!J40=\"\",IF(Tatiller!$X$51=0,IF(DersYükü!J55=\"\",0,DersYükü!J55),Tatiller!J40),Tatiller!J40)","v":0},{"$f":"IF(Tatiller!K40=\"\",IF(Tatiller!$X$51=0,IF(DersYükü!K55=\"\",0,DersYükü!K55),Tatiller!K40),Tatiller!K40)","v":0},{"$f":"IF(Tatiller!L40=\"\",IF(Tatiller!$X$51=0,IF(DersYükü!L55=\"\",0,DersYükü!L55),Tatiller!L40),Tatiller!L40)","v":0},{"$f":"IF(Tatiller!M40=\"\",IF(Tatiller!$X$51=0,IF(DersYükü!M55=\"\",0,DersYükü!M55),Tatiller!M40),Tatiller!M40)","v":0},{"$f":"IF(Tatiller!N40=\"\",IF(Tatiller!$X$51=0,IF(DersYükü!N55=\"\",0,DersYükü!N55),Tatiller!N40),Tatiller!N40)","v":0},{"$f":"IF(Tatiller!O40=\"\",IF(Tatiller!$X$51=0,IF(DersYükü!O55=\"\",0,DersYükü!O55),Tatiller!O40),Tatiller!O40)","v":0},{"$f":"IF(Tatiller!P40=\"\",IF(Tatiller!$X$51=0,IF(DersYükü!P55=\"\",0,DersYükü!P55),Tatiller!P40),Tatiller!P40)","v":0},{"$f":"IF(Tatiller!Q40=\"\",IF(Tatiller!$X$51=0,IF(DersYükü!Q55=\"\",0,DersYükü!Q55),Tatiller!Q40),Tatiller!Q40)","v":0},{"$f":"IF(Tatiller!R40=\"\",IF(Tatiller!$X$51=0,IF(DersYükü!R55=\"\",0,DersYükü!R55),Tatiller!R40),Tatiller!R40)","v":0},{"$f":"IF(Tatiller!S40=\"\",IF(Tatiller!$X$51=0,IF(DersYükü!S55=\"\",0,DersYükü!S55),Tatiller!S40),Tatiller!S40)","v":0},{"$f":"IF(Tatiller!T40=\"\",IF(Tatiller!$X$51=0,IF(DersYükü!T55=\"\",0,DersYükü!T55),Tatiller!T40),Tatiller!T40)","v":0},{"$f":"IF(Tatiller!U40=\"\",IF(Tatiller!$X$51=0,IF(DersYükü!U55=\"\",0,DersYükü!U55),Tatiller!U40),Tatiller!U40)","v":0},{"$f":"IF(Tatiller!V40=\"\",IF(Tatiller!$X$51=0,IF(DersYükü!V55=\"\",0,DersYükü!V55),Tatiller!V40),Tatiller!V40)","v":0},{"$f":"IF(Tatiller!W40=\"\",IF(Tatiller!$X$51=0,IF(DersYükü!W55=\"\",0,DersYükü!W55),Tatiller!W40),Tatiller!W40)","v":0},null,null,null,"I","","",null,null,null,"16.00-17.00",null,null,null,{"$f":"IF(Tatiller!AH40=\"\",IF(Tatiller!$AZ$51=0,IF(DersYükü!F55=\"\",0,DersYükü!F55),Tatiller!AH40),Tatiller!AH40)","v":0},{"$f":"IF(Tatiller!AI40=\"\",IF(Tatiller!$AZ$51=0,IF(DersYükü!G55=\"\",0,DersYükü!G55),Tatiller!AI40),Tatiller!AI40)","v":0},{"$f":"IF(Tatiller!AJ40=\"\",IF(Tatiller!$AZ$51=0,IF(DersYükü!H55=\"\",0,DersYükü!H55),Tatiller!AJ40),Tatiller!AJ40)","v":0},{"$f":"IF(Tatiller!AK40=\"\",IF(Tatiller!$AZ$51=0,IF(DersYükü!I55=\"\",0,DersYükü!I55),Tatiller!AK40),Tatiller!AK40)","v":0},{"$f":"IF(Tatiller!AL40=\"\",IF(Tatiller!$AZ$51=0,IF(DersYükü!J55=\"\",0,DersYükü!J55),Tatiller!AL40),Tatiller!AL40)","v":0},{"$f":"IF(Tatiller!AM40=\"\",IF(Tatiller!$AZ$51=0,IF(DersYükü!K55=\"\",0,DersYükü!K55),Tatiller!AM40),Tatiller!AM40)","v":0},{"$f":"IF(Tatiller!AN40=\"\",IF(Tatiller!$AZ$51=0,IF(DersYükü!L55=\"\",0,DersYükü!L55),Tatiller!AN40),Tatiller!AN40)","v":0},{"$f":"IF(Tatiller!AO40=\"\",IF(Tatiller!$AZ$51=0,IF(DersYükü!M55=\"\",0,DersYükü!M55),Tatiller!AO40),Tatiller!AO40)","v":0},{"$f":"IF(Tatiller!AP40=\"\",IF(Tatiller!$AZ$51=0,IF(DersYükü!N55=\"\",0,DersYükü!N55),Tatiller!AP40),Tatiller!AP40)","v":0},{"$f":"IF(Tatiller!AQ40=\"\",IF(Tatiller!$AZ$51=0,IF(DersYükü!O55=\"\",0,DersYükü!O55),Tatiller!AQ40),Tatiller!AQ40)","v":0},{"$f":"IF(Tatiller!AR40=\"\",IF(Tatiller!$AZ$51=0,IF(DersYükü!P55=\"\",0,DersYükü!P55),Tatiller!AR40),Tatiller!AR40)","v":0},{"$f":"IF(Tatiller!AS40=\"\",IF(Tatiller!$AZ$51=0,IF(DersYükü!Q55=\"\",0,DersYükü!Q55),Tatiller!AS40),Tatiller!AS40)","v":0},{"$f":"IF(Tatiller!AT40=\"\",IF(Tatiller!$AZ$51=0,IF(DersYükü!R55=\"\",0,DersYükü!R55),Tatiller!AT40),Tatiller!AT40)","v":0},{"$f":"IF(Tatiller!AU40=\"\",IF(Tatiller!$AZ$51=0,IF(DersYükü!S55=\"\",0,DersYükü!S55),Tatiller!AU40),Tatiller!AU40)","v":0},{"$f":"IF(Tatiller!AV40=\"\",IF(Tatiller!$AZ$51=0,IF(DersYükü!T55=\"\",0,DersYükü!T55),Tatiller!AV40),Tatiller!AV40)","v":0},{"$f":"IF(Tatiller!AW40=\"\",IF(Tatiller!$AZ$51=0,IF(DersYükü!U55=\"\",0,DersYükü!U55),Tatiller!AW40),Tatiller!AW40)","v":0},{"$f":"IF(Tatiller!AX40=\"\",IF(Tatiller!$AZ$51=0,IF(DersYükü!V55=\"\",0,DersYükü!V55),Tatiller!AX40),Tatiller!AX40)","v":0},{"$f":"IF(Tatiller!AY40=\"\",IF(Tatiller!$AZ$51=0,IF(DersYükü!W55=\"\",0,DersYükü!W55),Tatiller!AY40),Tatiller!AY40)","v":0}]
[null,"J","","",null,null,"İKİNCİ ÖĞRT.","15.00-16.00",null,null,null,{"$f":"IF(Tatiller!F41=\"\",IF(Tatiller!$X$51=0,IF(DersYükü!F56=\"\",0,DersYükü!F56),Tatiller!F41),Tatiller!F41)","v":0},{"$f":"IF(Tatiller!G41=\"\",IF(Tatiller!$X$51=0,IF(DersYükü!G56=\"\",0,DersYükü!G56),Tatiller!G41),Tatiller!G41)","v":0},{"$f":"IF(Tatiller!H41=\"\",IF(Tatiller!$X$51=0,IF(DersYükü!H56=\"\",0,DersYükü!H56),Tatiller!H41),Tatiller!H41)","v":0},{"$f":"IF(Tatiller!I41=\"\",IF(Tatiller!$X$51=0,IF(DersYükü!I56=\"\",0,DersYükü!I56),Tatiller!I41),Tatiller!I41)","v":0},{"$f":"IF(Tatiller!J41=\"\",IF(Tatiller!$X$51=0,IF(DersYükü!J56=\"\",0,DersYükü!J56),Tatiller!J41),Tatiller!J41)","v":0},{"$f":"IF(Tatiller!K41=\"\",IF(Tatiller!$X$51=0,IF(DersYükü!K56=\"\",0,DersYükü!K56),Tatiller!K41),Tatiller!K41)","v":0},{"$f":"IF(Tatiller!L41=\"\",IF(Tatiller!$X$51=0,IF(DersYükü!L56=\"\",0,DersYükü!L56),Tatiller!L41),Tatiller!L41)","v":0},{"$f":"IF(Tatiller!M41=\"\",IF(Tatiller!$X$51=0,IF(DersYükü!M56=\"\",0,DersYükü!M56),Tatiller!M41),Tatiller!M41)","v":0},{"$f":"IF(Tatiller!N41=\"\",IF(Tatiller!$X$51=0,IF(DersYükü!N56=\"\",0,DersYükü!N56),Tatiller!N41),Tatiller!N41)","v":0},{"$f":"IF(Tatiller!O41=\"\",IF(Tatiller!$X$51=0,IF(DersYükü!O56=\"\",0,DersYükü!O56),Tatiller!O41),Tatiller!O41)","v":0},{"$f":"IF(Tatiller!P41=\"\",IF(Tatiller!$X$51=0,IF(DersYükü!P56=\"\",0,DersYükü!P56),Tatiller!P41),Tatiller!P41)","v":0},{"$f":"IF(Tatiller!Q41=\"\",IF(Tatiller!$X$51=0,IF(DersYükü!Q56=\"\",0,DersYükü!Q56),Tatiller!Q41),Tatiller!Q41)","v":0},{"$f":"IF(Tatiller!R41=\"\",IF(Tatiller!$X$51=0,IF(DersYükü!R56=\"\",0,DersYükü!R56),Tatiller!R41),Tatiller!R41)","v":0},{"$f":"IF(Tatiller!S41=\"\",IF(Tatiller!$X$51=0,IF(DersYükü!S56=\"\",0,DersYükü!S56),Tatiller!S41),Tatiller!S41)","v":0},{"$f":"IF(Tatiller!T41=\"\",IF(Tatiller!$X$51=0,IF(DersYükü!T56=\"\",0,DersYükü!T56),Tatiller!T41),Tatiller!T41)","v":0},{"$f":"IF(Tatiller!U41=\"\",IF(Tatiller!$X$51=0,IF(DersYükü!U56=\"\",0,DersYükü!U56),Tatiller!U41),Tatiller!U41)","v":0},{"$f":"IF(Tatiller!V41=\"\",IF(Tatiller!$X$51=0,IF(DersYükü!V56=\"\",0,DersYükü!V56),Tatiller!V41),Tatiller!V41)","v":0},{"$f":"IF(Tatiller!W41=\"\",IF(Tatiller!$X$51=0,IF(DersYükü!W56=\"\",0,DersYükü!W56),Tatiller!W41),Tatiller!W41)","v":0},null,null,null,"J","","",null,null,"İKİNCİ ÖĞRT.","15.00-16.00",null,null,null,{"$f":"IF(Tatiller!AH41=\"\",IF(Tatiller!$AZ$51=0,IF(DersYükü!F56=\"\",0,DersYükü!F56),Tatiller!AH41),Tatiller!AH41)","v":0},{"$f":"IF(Tatiller!AI41=\"\",IF(Tatiller!$AZ$51=0,IF(DersYükü!G56=\"\",0,DersYükü!G56),Tatiller!AI41),Tatiller!AI41)","v":0},{"$f":"IF(Tatiller!AJ41=\"\",IF(Tatiller!$AZ$51=0,IF(DersYükü!H56=\"\",0,DersYükü!H56),Tatiller!AJ41),Tatiller!AJ41)","v":0},{"$f":"IF(Tatiller!AK41=\"\",IF(Tatiller!$AZ$51=0,IF(DersYükü!I56=\"\",0,DersYükü!I56),Tatiller!AK41),Tatiller!AK41)","v":0},{"$f":"IF(Tatiller!AL41=\"\",IF(Tatiller!$AZ$51=0,IF(DersYükü!J56=\"\",0,DersYükü!J56),Tatiller!AL41),Tatiller!AL41)","v":0},{"$f":"IF(Tatiller!AM41=\"\",IF(Tatiller!$AZ$51=0,IF(DersYükü!K56=\"\",0,DersYükü!K56),Tatiller!AM41),Tatiller!AM41)","v":0},{"$f":"IF(Tatiller!AN41=\"\",IF(Tatiller!$AZ$51=0,IF(DersYükü!L56=\"\",0,DersYükü!L56),Tatiller!AN41),Tatiller!AN41)","v":0},{"$f":"IF(Tatiller!AO41=\"\",IF(Tatiller!$AZ$51=0,IF(DersYükü!M56=\"\",0,DersYükü!M56),Tatiller!AO41),Tatiller!AO41)","v":0},{"$f":"IF(Tatiller!AP41=\"\",IF(Tatiller!$AZ$51=0,IF(DersYükü!N56=\"\",0,DersYükü!N56),Tatiller!AP41),Tatiller!AP41)","v":0},{"$f":"IF(Tatiller!AQ41=\"\",IF(Tatiller!$AZ$51=0,IF(DersYükü!O56=\"\",0,DersYükü!O56),Tatiller!AQ41),Tatiller!AQ41)","v":0},{"$f":"IF(Tatiller!AR41=\"\",IF(Tatiller!$AZ$51=0,IF(DersYükü!P56=\"\",0,DersYükü!P56),Tatiller!AR41),Tatiller!AR41)","v":0},{"$f":"IF(Tatiller!AS41=\"\",IF(Tatiller!$AZ$51=0,IF(DersYükü!Q56=\"\",0,DersYükü!Q56),Tatiller!AS41),Tatiller!AS41)","v":0},{"$f":"IF(Tatiller!AT41=\"\",IF(Tatiller!$AZ$51=0,IF(DersYükü!R56=\"\",0,DersYükü!R56),Tatiller!AT41),Tatiller!AT41)","v":0},{"$f":"IF(Tatiller!AU41=\"\",IF(Tatiller!$AZ$51=0,IF(DersYükü!S56=\"\",0,DersYükü!S56),Tatiller!AU41),Tatiller!AU41)","v":0},{"$f":"IF(Tatiller!AV41=\"\",IF(Tatiller!$AZ$51=0,IF(DersYükü!T56=\"\",0,DersYükü!T56),Tatiller!AV41),Tatiller!AV41)","v":0},{"$f":"IF(Tatiller!AW41=\"\",IF(Tatiller!$AZ$51=0,IF(DersYükü!U56=\"\",0,DersYükü!U56),Tatiller!AW41),Tatiller!AW41)","v":0},{"$f":"IF(Tatiller!AX41=\"\",IF(Tatiller!$AZ$51=0,IF(DersYükü!V56=\"\",0,DersYükü!V56),Tatiller!AX41),Tatiller!AX41)","v":0},{"$f":"IF(Tatiller!AY41=\"\",IF(Tatiller!$AZ$51=0,IF(DersYükü!W56=\"\",0,DersYükü!W56),Tatiller!AY41),Tatiller!AY41)","v":0}]
[null,null,null,null,null,null,null,"16.00-17.00",null,null,null,{"$f":"IF(Tatiller!F42=\"\",IF(Tatiller!$X$51=0,IF(DersYükü!F57=\"\",0,DersYükü!F57),Tatiller!F42),Tatiller!F42)","v":0},{"$f":"IF(Tatiller!G42=\"\",IF(Tatiller!$X$51=0,IF(DersYükü!G57=\"\",0,DersYükü!G57),Tatiller!G42),Tatiller!G42)","v":0},{"$f":"IF(Tatiller!H42=\"\",IF(Tatiller!$X$51=0,IF(DersYükü!H57=\"\",0,DersYükü!H57),Tatiller!H42),Tatiller!H42)","v":0},{"$f":"IF(Tatiller!I42=\"\",IF(Tatiller!$X$51=0,IF(DersYükü!I57=\"\",0,DersYükü!I57),Tatiller!I42),Tatiller!I42)","v":0},{"$f":"IF(Tatiller!J42=\"\",IF(Tatiller!$X$51=0,IF(DersYükü!J57=\"\",0,DersYükü!J57),Tatiller!J42),Tatiller!J42)","v":0},{"$f":"IF(Tatiller!K42=\"\",IF(Tatiller!$X$51=0,IF(DersYükü!K57=\"\",0,DersYükü!K57),Tatiller!K42),Tatiller!K42)","v":0},{"$f":"IF(Tatiller!L42=\"\",IF(Tatiller!$X$51=0,IF(DersYükü!L57=\"\",0,DersYükü!L57),Tatiller!L42),Tatiller!L42)","v":0},{"$f":"IF(Tatiller!M42=\"\",IF(Tatiller!$X$51=0,IF(DersYükü!M57=\"\",0,DersYükü!M57),Tatiller!M42),Tatiller!M42)","v":0},{"$f":"IF(Tatiller!N42=\"\",IF(Tatiller!$X$51=0,IF(DersYükü!N57=\"\",0,DersYükü!N57),Tatiller!N42),Tatiller!N42)","v":0},{"$f":"IF(Tatiller!O42=\"\",IF(Tatiller!$X$51=0,IF(DersYükü!O57=\"\",0,DersYükü!O57),Tatiller!O42),Tatiller!O42)","v":0},{"$f":"IF(Tatiller!P42=\"\",IF(Tatiller!$X$51=0,IF(DersYükü!P57=\"\",0,DersYükü!P57),Tatiller!P42),Tatiller!P42)","v":0},{"$f":"IF(Tatiller!Q42=\"\",IF(Tatiller!$X$51=0,IF(DersYükü!Q57=\"\",0,DersYükü!Q57),Tatiller!Q42),Tatiller!Q42)","v":0},{"$f":"IF(Tatiller!R42=\"\",IF(Tatiller!$X$51=0,IF(DersYükü!R57=\"\",0,DersYükü!R57),Tatiller!R42),Tatiller!R42)","v":0},{"$f":"IF(Tatiller!S42=\"\",IF(Tatiller!$X$51=0,IF(DersYükü!S57=\"\",0,DersYükü!S57),Tatiller!S42),Tatiller!S42)","v":0},{"$f":"IF(Tatiller!T42=\"\",IF(Tatiller!$X$51=0,IF(DersYükü!T57=\"\",0,DersYükü!T57),Tatiller!T42),Tatiller!T42)","v":0},{"$f":"IF(Tatiller!U42=\"\",IF(Tatiller!$X$51=0,IF(DersYükü!U57=\"\",0,DersYükü!U57),Tatiller!U42),Tatiller!U42)","v":0},{"$f":"IF(Tatiller!V42=\"\",IF(Tatiller!$X$51=0,IF(DersYükü!V57=\"\",0,DersYükü!V57),Tatiller!V42),Tatiller!V42)","v":0},{"$f":"IF(Tatiller!W42=\"\",IF(Tatiller!$X$51=0,IF(DersYükü!W57=\"\",0,DersYükü!W57),Tatiller!W42),Tatiller!W42)","v":0},null,null,null,null,null,null,null,null,null,"16.00-17.00",null,null,null,{"$f":"IF(Tatiller!AH42=\"\",IF(Tatiller!$AZ$51=0,IF(DersYükü!F57=\"\",0,DersYükü!F57),Tatiller!AH42),Tatiller!AH42)","v":0},{"$f":"IF(Tatiller!AI42=\"\",IF(Tatiller!$AZ$51=0,IF(DersYükü!G57=\"\",0,DersYükü!G57),Tatiller!AI42),Tatiller!AI42)","v":0},{"$f":"IF(Tatiller!AJ42=\"\",IF(Tatiller!$AZ$51=0,IF(DersYükü!H57=\"\",0,DersYükü!H57),Tatiller!AJ42),Tatiller!AJ42)","v":0},{"$f":"IF(Tatiller!AK42=\"\",IF(Tatiller!$AZ$51=0,IF(DersYükü!I57=\"\",0,DersYükü!I57),Tatiller!AK42),Tatiller!AK42)","v":0},{"$f":"IF(Tatiller!AL42=\"\",IF(Tatiller!$AZ$51=0,IF(DersYükü!J57=\"\",0,DersYükü!J57),Tatiller!AL42),Tatiller!AL42)","v":0},{"$f":"IF(Tatiller!AM42=\"\",IF(Tatiller!$AZ$51=0,IF(DersYükü!K57=\"\",0,DersYükü!K57),Tatiller!AM42),Tatiller!AM42)","v":0},{"$f":"IF(Tatiller!AN42=\"\",IF(Tatiller!$AZ$51=0,IF(DersYükü!L57=\"\",0,DersYükü!L57),Tatiller!AN42),Tatiller!AN42)","v":0},{"$f":"IF(Tatiller!AO42=\"\",IF(Tatiller!$AZ$51=0,IF(DersYükü!M57=\"\",0,DersYükü!M57),Tatiller!AO42),Tatiller!AO42)","v":0},{"$f":"IF(Tatiller!AP42=\"\",IF(Tatiller!$AZ$51=0,IF(DersYükü!N57=\"\",0,DersYükü!N57),Tatiller!AP42),Tatiller!AP42)","v":0},{"$f":"IF(Tatiller!AQ42=\"\",IF(Tatiller!$AZ$51=0,IF(DersYükü!O57=\"\",0,DersYükü!O57),Tatiller!AQ42),Tatiller!AQ42)","v":0},{"$f":"IF(Tatiller!AR42=\"\",IF(Tatiller!$AZ$51=0,IF(DersYükü!P57=\"\",0,DersYükü!P57),Tatiller!AR42),Tatiller!AR42)","v":0},{"$f":"IF(Tatiller!AS42=\"\",IF(Tatiller!$AZ$51=0,IF(DersYükü!Q57=\"\",0,DersYükü!Q57),Tatiller!AS42),Tatiller!AS42)","v":0},{"$f":"IF(Tatiller!AT42=\"\",IF(Tatiller!$AZ$51=0,IF(DersYükü!R57=\"\",0,DersYükü!R57),Tatiller!AT42),Tatiller!AT42)","v":0},{"$f":"IF(Tatiller!AU42=\"\",IF(Tatiller!$AZ$51=0,IF(DersYükü!S57=\"\",0,DersYükü!S57),Tatiller!AU42),Tatiller!AU42)","v":0},{"$f":"IF(Tatiller!AV42=\"\",IF(Tatiller!$AZ$51=0,IF(DersYükü!T57=\"\",0,DersYükü!T57),Tatiller!AV42),Tatiller!AV42)","v":0},{"$f":"IF(Tatiller!AW42=\"\",IF(Tatiller!$AZ$51=0,IF(DersYükü!U57=\"\",0,DersYükü!U57),Tatiller!AW42),Tatiller!AW42)","v":0},{"$f":"IF(Tatiller!AX42=\"\",IF(Tatiller!$AZ$51=0,IF(DersYükü!V57=\"\",0,DersYükü!V57),Tatiller!AX42),Tatiller!AX42)","v":0},{"$f":"IF(Tatiller!AY42=\"\",IF(Tatiller!$AZ$51=0,IF(DersYükü!W57=\"\",0,DersYükü!W57),Tatiller!AY42),Tatiller!AY42)","v":0}]
[null,"K",{"$f":"IF(IFERROR(COUNTIF(N$6:N$22,$B17)+COUNTIF(P$6:P$22,$B17)+COUNTIF(R$6:R$22,$B17)+COUNTIF(T$6:T$22,$B17)+COUNTIF(V$6:V$22,$B17)+COUNTIF(X$6:X$22,$B17)+COUNTIF(Z$6:Z$22,$B17)+COUNTIF(AB$6:AB$22,$B17)+COUNTIF(L$6:L$22,$B17),\"\")=0,\"\",IFERROR(COUNTIF(N$6:N$22,$B17)+COUNTIF(P$6:P$22,$B17)+COUNTIF(R$6:R$22,$B17)+COUNTIF(T$6:T$22,$B17)+COUNTIF(V$6:V$22,$B17)+COUNTIF(X$6:X$22,$B17)+COUNTIF(Z$6:Z$22,$B17)+COUNTIF(AB$6:AB$22,$B17)+COUNTIF(L$6:L$22,$B17),\"\"))","v":""},"",null,null,null,"17.00-18.00",null,null,null,{"$f":"IF(Tatiller!F43=\"\",IF(Tatiller!$X$51=0,IF(DersYükü!F58=\"\",0,DersYükü!F58),Tatiller!F43),Tatiller!F43)","v":0},{"$f":"IF(Tatiller!G43=\"\",IF(Tatiller!$X$51=0,IF(DersYükü!G58=\"\",0,DersYükü!G58),Tatiller!G43),Tatiller!G43)","v":0},{"$f":"IF(Tatiller!H43=\"\",IF(Tatiller!$X$51=0,IF(DersYükü!H58=\"\",0,DersYükü!H58),Tatiller!H43),Tatiller!H43)","v":0},{"$f":"IF(Tatiller!I43=\"\",IF(Tatiller!$X$51=0,IF(DersYükü!I58=\"\",0,DersYükü!I58),Tatiller!I43),Tatiller!I43)","v":0},{"$f":"IF(Tatiller!J43=\"\",IF(Tatiller!$X$51=0,IF(DersYükü!J58=\"\",0,DersYükü!J58),Tatiller!J43),Tatiller!J43)","v":0},{"$f":"IF(Tatiller!K43=\"\",IF(Tatiller!$X$51=0,IF(DersYükü!K58=\"\",0,DersYükü!K58),Tatiller!K43),Tatiller!K43)","v":0},{"$f":"IF(Tatiller!L43=\"\",IF(Tatiller!$X$51=0,IF(DersYükü!L58=\"\",0,DersYükü!L58),Tatiller!L43),Tatiller!L43)","v":0},{"$f":"IF(Tatiller!M43=\"\",IF(Tatiller!$X$51=0,IF(DersYükü!M58=\"\",0,DersYükü!M58),Tatiller!M43),Tatiller!M43)","v":0},{"$f":"IF(Tatiller!N43=\"\",IF(Tatiller!$X$51=0,IF(DersYükü!N58=\"\",0,DersYükü!N58),Tatiller!N43),Tatiller!N43)","v":0},{"$f":"IF(Tatiller!O43=\"\",IF(Tatiller!$X$51=0,IF(DersYükü!O58=\"\",0,DersYükü!O58),Tatiller!O43),Tatiller!O43)","v":0},{"$f":"IF(Tatiller!P43=\"\",IF(Tatiller!$X$51=0,IF(DersYükü!P58=\"\",0,DersYükü!P58),Tatiller!P43),Tatiller!P43)","v":0},{"$f":"IF(Tatiller!Q43=\"\",IF(Tatiller!$X$51=0,IF(DersYükü!Q58=\"\",0,DersYükü!Q58),Tatiller!Q43),Tatiller!Q43)","v":0},{"$f":"IF(Tatiller!R43=\"\",IF(Tatiller!$X$51=0,IF(DersYükü!R58=\"\",0,DersYükü!R58),Tatiller!R43),Tatiller!R43)","v":0},{"$f":"IF(Tatiller!S43=\"\",IF(Tatiller!$X$51=0,IF(DersYükü!S58=\"\",0,DersYükü!S58),Tatiller!S43),Tatiller!S43)","v":0},{"$f":"IF(Tatiller!T43=\"\",IF(Tatiller!$X$51=0,IF(DersYükü!T58=\"\",0,DersYükü!T58),Tatiller!T43),Tatiller!T43)","v":0},{"$f":"IF(Tatiller!U43=\"\",IF(Tatiller!$X$51=0,IF(DersYükü!U58=\"\",0,DersYükü!U58),Tatiller!U43),Tatiller!U43)","v":0},{"$f":"IF(Tatiller!V43=\"\",IF(Tatiller!$X$51=0,IF(DersYükü!V58=\"\",0,DersYükü!V58),Tatiller!V43),Tatiller!V43)","v":0},{"$f":"IF(Tatiller!W43=\"\",IF(Tatiller!$X$51=0,IF(DersYükü!W58=\"\",0,DersYükü!W58),Tatiller!W43),Tatiller!W43)","v":0},null,null,null,"K",{"$f":"IF(IFERROR(COUNTIF(AS$6:AS$22,$B17)+COUNTIF(AU$6:AU$22,$B17)+COUNTIF(AW$6:AW$22,$B17)+COUNTIF(AY$6:AY$22,$B17)+COUNTIF(BA$6:BA$22,$B17)+COUNTIF(BC$6:BC$22,$B17)+COUNTIF(BE$6:BE$22,$B17)+COUNTIF(BG$6:BG$22,$B17)+COUNTIF(AQ$6:AQ$22,$B17),\"\")=0,\"\",IFERROR(COUNTIF(AS$6:AS$22,$B17)+COUNTIF(AU$6:AU$22,$B17)+COUNTIF(AW$6:AW$22,$B17)+COUNTIF(AY$6:AY$22,$B17)+COUNTIF(BA$6:BA$22,$B17)+COUNTIF(BC$6:BC$22,$B17)+COUNTIF(BE$6:BE$22,$B17)+COUNTIF(BG$6:BG$22,$B17)+COUNTIF(AQ$6:AQ$22,$B17),\"\"))","v":""},"",null,null,null,"17.00-18.00",null,null,null,{"$f":"IF(Tatiller!AH43=\"\",IF(Tatiller!$AZ$51=0,IF(DersYükü!F58=\"\",0,DersYükü!F58),Tatiller!AH43),Tatiller!AH43)","v":0},{"$f":"IF(Tatiller!AI43=\"\",IF(Tatiller!$AZ$51=0,IF(DersYükü!G58=\"\",0,DersYükü!G58),Tatiller!AI43),Tatiller!AI43)","v":0},{"$f":"IF(Tatiller!AJ43=\"\",IF(Tatiller!$AZ$51=0,IF(DersYükü!H58=\"\",0,DersYükü!H58),Tatiller!AJ43),Tatiller!AJ43)","v":0},{"$f":"IF(Tatiller!AK43=\"\",IF(Tatiller!$AZ$51=0,IF(DersYükü!I58=\"\",0,DersYükü!I58),Tatiller!AK43),Tatiller!AK43)","v":0},{"$f":"IF(Tatiller!AL43=\"\",IF(Tatiller!$AZ$51=0,IF(DersYükü!J58=\"\",0,DersYükü!J58),Tatiller!AL43),Tatiller!AL43)","v":0},{"$f":"IF(Tatiller!AM43=\"\",IF(Tatiller!$AZ$51=0,IF(DersYükü!K58=\"\",0,DersYükü!K58),Tatiller!AM43),Tatiller!AM43)","v":0},{"$f":"IF(Tatiller!AN43=\"\",IF(Tatiller!$AZ$51=0,IF(DersYükü!L58=\"\",0,DersYükü!L58),Tatiller!AN43),Tatiller!AN43)","v":0},{"$f":"IF(Tatiller!AO43=\"\",IF(Tatiller!$AZ$51=0,IF(DersYükü!M58=\"\",0,DersYükü!M58),Tatiller!AO43),Tatiller!AO43)","v":0},{"$f":"IF(Tatiller!AP43=\"\",IF(Tatiller!$AZ$51=0,IF(DersYükü!N58=\"\",0,DersYükü!N58),Tatiller!AP43),Tatiller!AP43)","v":0},{"$f":"IF(Tatiller!AQ43=\"\",IF(Tatiller!$AZ$51=0,IF(DersYükü!O58=\"\",0,DersYükü!O58),Tatiller!AQ43),Tatiller!AQ43)","v":0},{"$f":"IF(Tatiller!AR43=\"\",IF(Tatiller!$AZ$51=0,IF(DersYükü!P58=\"\",0,DersYükü!P58),Tatiller!AR43),Tatiller!AR43)","v":0},{"$f":"IF(Tatiller!AS43=\"\",IF(Tatiller!$AZ$51=0,IF(DersYükü!Q58=\"\",0,DersYükü!Q58),Tatiller!AS43),Tatiller!AS43)","v":0},{"$f":"IF(Tatiller!AT43=\"\",IF(Tatiller!$AZ$51=0,IF(DersYükü!R58=\"\",0,DersYükü!R58),Tatiller!AT43),Tatiller!AT43)","v":0},{"$f":"IF(Tatiller!AU43=\"\",IF(Tatiller!$AZ$51=0,IF(DersYükü!S58=\"\",0,DersYükü!S58),Tatiller!AU43),Tatiller!AU43)","v":0},{"$f":"IF(Tatiller!AV43=\"\",IF(Tatiller!$AZ$51=0,IF(DersYükü!T58=\"\",0,DersYükü!T58),Tatiller!AV43),Tatiller!AV43)","v":0},{"$f":"IF(Tatiller!AW43=\"\",IF(Tatiller!$AZ$51=0,IF(DersYükü!U58=\"\",0,DersYükü!U58),Tatiller!AW43),Tatiller!AW43)","v":0},{"$f":"IF(Tatiller!AX43=\"\",IF(Tatiller!$AZ$51=0,IF(DersYükü!V58=\"\",0,DersYükü!V58),Tatiller!AX43),Tatiller!AX43)","v":0},{"$f":"IF(Tatiller!AY43=\"\",IF(Tatiller!$AZ$51=0,IF(DersYükü!W58=\"\",0,DersYükü!W58),Tatiller!AY43),Tatiller!AY43)","v":0}]
[null,"L","","",null,null,null,"18.00-19.00",null,null,null,{"$f":"IF(Tatiller!F44=\"\",IF(Tatiller!$X$51=0,IF(DersYükü!F59=\"\",0,DersYükü!F59),Tatiller!F44),Tatiller!F44)","v":0},{"$f":"IF(Tatiller!G44=\"\",IF(Tatiller!$X$51=0,IF(DersYükü!G59=\"\",0,DersYükü!G59),Tatiller!G44),Tatiller!G44)","v":0},{"$f":"IF(Tatiller!H44=\"\",IF(Tatiller!$X$51=0,IF(DersYükü!H59=\"\",0,DersYükü!H59),Tatiller!H44),Tatiller!H44)","v":0},{"$f":"IF(Tatiller!I44=\"\",IF(Tatiller!$X$51=0,IF(DersYükü!I59=\"\",0,DersYükü!I59),Tatiller!I44),Tatiller!I44)","v":0},{"$f":"IF(Tatiller!J44=\"\",IF(Tatiller!$X$51=0,IF(DersYükü!J59=\"\",0,DersYükü!J59),Tatiller!J44),Tatiller!J44)","v":0},{"$f":"IF(Tatiller!K44=\"\",IF(Tatiller!$X$51=0,IF(DersYükü!K59=\"\",0,DersYükü!K59),Tatiller!K44),Tatiller!K44)","v":0},{"$f":"IF(Tatiller!L44=\"\",IF(Tatiller!$X$51=0,IF(DersYükü!L59=\"\",0,DersYükü!L59),Tatiller!L44),Tatiller!L44)","v":0},{"$f":"IF(Tatiller!M44=\"\",IF(Tatiller!$X$51=0,IF(DersYükü!M59=\"\",0,DersYükü!M59),Tatiller!M44),Tatiller!M44)","v":0},{"$f":"IF(Tatiller!N44=\"\",IF(Tatiller!$X$51=0,IF(DersYükü!N59=\"\",0,DersYükü!N59),Tatiller!N44),Tatiller!N44)","v":0},{"$f":"IF(Tatiller!O44=\"\",IF(Tatiller!$X$51=0,IF(DersYükü!O59=\"\",0,DersYükü!O59),Tatiller!O44),Tatiller!O44)","v":0},{"$f":"IF(Tatiller!P44=\"\",IF(Tatiller!$X$51=0,IF(DersYükü!P59=\"\",0,DersYükü!P59),Tatiller!P44),Tatiller!P44)","v":0},{"$f":"IF(Tatiller!Q44=\"\",IF(Tatiller!$X$51=0,IF(DersYükü!Q59=\"\",0,DersYükü!Q59),Tatiller!Q44),Tatiller!Q44)","v":0},{"$f":"IF(Tatiller!R44=\"\",IF(Tatiller!$X$51=0,IF(DersYükü!R59=\"\",0,DersYükü!R59),Tatiller!R44),Tatiller!R44)","v":0},{"$f":"IF(Tatiller!S44=\"\",IF(Tatiller!$X$51=0,IF(DersYükü!S59=\"\",0,DersYükü!S59),Tatiller!S44),Tatiller!S44)","v":0},{"$f":"IF(Tatiller!T44=\"\",IF(Tatiller!$X$51=0,IF(DersYükü!T59=\"\",0,DersYükü!T59),Tatiller!T44),Tatiller!T44)","v":0},{"$f":"IF(Tatiller!U44=\"\",IF(Tatiller!$X$51=0,IF(DersYükü!U59=\"\",0,DersYükü!U59),Tatiller!U44),Tatiller!U44)","v":0},{"$f":"IF(Tatiller!V44=\"\",IF(Tatiller!$X$51=0,IF(DersYükü!V59=\"\",0,DersYükü!V59),Tatiller!V44),Tatiller!V44)","v":0},{"$f":"IF(Tatiller!W44=\"\",IF(Tatiller!$X$51=0,IF(DersYükü!W59=\"\",0,DersYükü!W59),Tatiller!W44),Tatiller!W44)","v":0},null,null,null,"L","","",null,null,null,"18.00-19.00",null,null,null,{"$f":"IF(Tatiller!AH44=\"\",IF(Tatiller!$AZ$51=0,IF(DersYükü!F59=\"\",0,DersYükü!F59),Tatiller!AH44),Tatiller!AH44)","v":0},{"$f":"IF(Tatiller!AI44=\"\",IF(Tatiller!$AZ$51=0,IF(DersYükü!G59=\"\",0,DersYükü!G59),Tatiller!AI44),Tatiller!AI44)","v":0},{"$f":"IF(Tatiller!AJ44=\"\",IF(Tatiller!$AZ$51=0,IF(DersYükü!H59=\"\",0,DersYükü!H59),Tatiller!AJ44),Tatiller!AJ44)","v":0},{"$f":"IF(Tatiller!AK44=\"\",IF(Tatiller!$AZ$51=0,IF(DersYükü!I59=\"\",0,DersYükü!I59),Tatiller!AK44),Tatiller!AK44)","v":0},{"$f":"IF(Tatiller!AL44=\"\",IF(Tatiller!$AZ$51=0,IF(DersYükü!J59=\"\",0,DersYükü!J59),Tatiller!AL44),Tatiller!AL44)","v":0},{"$f":"IF(Tatiller!AM44=\"\",IF(Tatiller!$AZ$51=0,IF(DersYükü!K59=\"\",0,DersYükü!K59),Tatiller!AM44),Tatiller!AM44)","v":0},{"$f":"IF(Tatiller!AN44=\"\",IF(Tatiller!$AZ$51=0,IF(DersYükü!L59=\"\",0,DersYükü!L59),Tatiller!AN44),Tatiller!AN44)","v":0},{"$f":"IF(Tatiller!AO44=\"\",IF(Tatiller!$AZ$51=0,IF(DersYükü!M59=\"\",0,DersYükü!M59),Tatiller!AO44),Tatiller!AO44)","v":0},{"$f":"IF(Tatiller!AP44=\"\",IF(Tatiller!$AZ$51=0,IF(DersYükü!N59=\"\",0,DersYükü!N59),Tatiller!AP44),Tatiller!AP44)","v":0},{"$f":"IF(Tatiller!AQ44=\"\",IF(Tatiller!$AZ$51=0,IF(DersYükü!O59=\"\",0,DersYükü!O59),Tatiller!AQ44),Tatiller!AQ44)","v":0},{"$f":"IF(Tatiller!AR44=\"\",IF(Tatiller!$AZ$51=0,IF(DersYükü!P59=\"\",0,DersYükü!P59),Tatiller!AR44),Tatiller!AR44)","v":0},{"$f":"IF(Tatiller!AS44=\"\",IF(Tatiller!$AZ$51=0,IF(DersYükü!Q59=\"\",0,DersYükü!Q59),Tatiller!AS44),Tatiller!AS44)","v":0},{"$f":"IF(Tatiller!AT44=\"\",IF(Tatiller!$AZ$51=0,IF(DersYükü!R59=\"\",0,DersYükü!R59),Tatiller!AT44),Tatiller!AT44)","v":0},{"$f":"IF(Tatiller!AU44=\"\",IF(Tatiller!$AZ$51=0,IF(DersYükü!S59=\"\",0,DersYükü!S59),Tatiller!AU44),Tatiller!AU44)","v":0},{"$f":"IF(Tatiller!AV44=\"\",IF(Tatiller!$AZ$51=0,IF(DersYükü!T59=\"\",0,DersYükü!T59),Tatiller!AV44),Tatiller!AV44)","v":0},{"$f":"IF(Tatiller!AW44=\"\",IF(Tatiller!$AZ$51=0,IF(DersYükü!U59=\"\",0,DersYükü!U59),Tatiller!AW44),Tatiller!AW44)","v":0},{"$f":"IF(Tatiller!AX44=\"\",IF(Tatiller!$AZ$51=0,IF(DersYükü!V59=\"\",0,DersYükü!V59),Tatiller!AX44),Tatiller!AX44)","v":0},{"$f":"IF(Tatiller!AY44=\"\",IF(Tatiller!$AZ$51=0,IF(DersYükü!W59=\"\",0,DersYükü!W59),Tatiller!AY44),Tatiller!AY44)","v":0}]
[null,"M","","",null,null,null,"19.00-20.00",null,null,null,{"$f":"IF(Tatiller!F45=\"\",IF(Tatiller!$X$51=0,IF(DersYükü!F60=\"\",0,DersYükü!F60),Tatiller!F45),Tatiller!F45)","v":0},{"$f":"IF(Tatiller!G45=\"\",IF(Tatiller!$X$51=0,IF(DersYükü!G60=\"\",0,DersYükü!G60),Tatiller!G45),Tatiller!G45)","v":0},{"$f":"IF(Tatiller!H45=\"\",IF(Tatiller!$X$51=0,IF(DersYükü!H60=\"\",0,DersYükü!H60),Tatiller!H45),Tatiller!H45)","v":0},{"$f":"IF(Tatiller!I45=\"\",IF(Tatiller!$X$51=0,IF(DersYükü!I60=\"\",0,DersYükü!I60),Tatiller!I45),Tatiller!I45)","v":0},{"$f":"IF(Tatiller!J45=\"\",IF(Tatiller!$X$51=0,IF(DersYükü!J60=\"\",0,DersYükü!J60),Tatiller!J45),Tatiller!J45)","v":0},{"$f":"IF(Tatiller!K45=\"\",IF(Tatiller!$X$51=0,IF(DersYükü!K60=\"\",0,DersYükü!K60),Tatiller!K45),Tatiller!K45)","v":0},{"$f":"IF(Tatiller!L45=\"\",IF(Tatiller!$X$51=0,IF(DersYükü!L60=\"\",0,DersYükü!L60),Tatiller!L45),Tatiller!L45)","v":0},{"$f":"IF(Tatiller!M45=\"\",IF(Tatiller!$X$51=0,IF(DersYükü!M60=\"\",0,DersYükü!M60),Tatiller!M45),Tatiller!M45)","v":0},{"$f":"IF(Tatiller!N45=\"\",IF(Tatiller!$X$51=0,IF(DersYükü!N60=\"\",0,DersYükü!N60),Tatiller!N45),Tatiller!N45)","v":0},{"$f":"IF(Tatiller!O45=\"\",IF(Tatiller!$X$51=0,IF(DersYükü!O60=\"\",0,DersYükü!O60),Tatiller!O45),Tatiller!O45)","v":0},{"$f":"IF(Tatiller!P45=\"\",IF(Tatiller!$X$51=0,IF(DersYükü!P60=\"\",0,DersYükü!P60),Tatiller!P45),Tatiller!P45)","v":0},{"$f":"IF(Tatiller!Q45=\"\",IF(Tatiller!$X$51=0,IF(DersYükü!Q60=\"\",0,DersYükü!Q60),Tatiller!Q45),Tatiller!Q45)","v":0},{"$f":"IF(Tatiller!R45=\"\",IF(Tatiller!$X$51=0,IF(DersYükü!R60=\"\",0,DersYükü!R60),Tatiller!R45),Tatiller!R45)","v":0},{"$f":"IF(Tatiller!S45=\"\",IF(Tatiller!$X$51=0,IF(DersYükü!S60=\"\",0,DersYükü!S60),Tatiller!S45),Tatiller!S45)","v":0},{"$f":"IF(Tatiller!T45=\"\",IF(Tatiller!$X$51=0,IF(DersYükü!T60=\"\",0,DersYükü!T60),Tatiller!T45),Tatiller!T45)","v":0},{"$f":"IF(Tatiller!U45=\"\",IF(Tatiller!$X$51=0,IF(DersYükü!U60=\"\",0,DersYükü!U60),Tatiller!U45),Tatiller!U45)","v":0},{"$f":"IF(Tatiller!V45=\"\",IF(Tatiller!$X$51=0,IF(DersYükü!V60=\"\",0,DersYükü!V60),Tatiller!V45),Tatiller!V45)","v":0},{"$f":"IF(Tatiller!W45=\"\",IF(Tatiller!$X$51=0,IF(DersYükü!W60=\"\",0,DersYükü!W60),Tatiller!W45),Tatiller!W45)","v":0},null,null,null,"M","","",null,null,null,"19.00-20.00",null,null,null,{"$f":"IF(Tatiller!AH45=\"\",IF(Tatiller!$AZ$51=0,IF(DersYükü!F60=\"\",0,DersYükü!F60),Tatiller!AH45),Tatiller!AH45)","v":0},{"$f":"IF(Tatiller!AI45=\"\",IF(Tatiller!$AZ$51=0,IF(DersYükü!G60=\"\",0,DersYükü!G60),Tatiller!AI45),Tatiller!AI45)","v":0},{"$f":"IF(Tatiller!AJ45=\"\",IF(Tatiller!$AZ$51=0,IF(DersYükü!H60=\"\",0,DersYükü!H60),Tatiller!AJ45),Tatiller!AJ45)","v":0},{"$f":"IF(Tatiller!AK45=\"\",IF(Tatiller!$AZ$51=0,IF(DersYükü!I60=\"\",0,DersYükü!I60),Tatiller!AK45),Tatiller!AK45)","v":0},{"$f":"IF(Tatiller!AL45=\"\",IF(Tatiller!$AZ$51=0,IF(DersYükü!J60=\"\",0,DersYükü!J60),Tatiller!AL45),Tatiller!AL45)","v":0},{"$f":"IF(Tatiller!AM45=\"\",IF(Tatiller!$AZ$51=0,IF(DersYükü!K60=\"\",0,DersYükü!K60),Tatiller!AM45),Tatiller!AM45)","v":0},{"$f":"IF(Tatiller!AN45=\"\",IF(Tatiller!$AZ$51=0,IF(DersYükü!L60=\"\",0,DersYükü!L60),Tatiller!AN45),Tatiller!AN45)","v":0},{"$f":"IF(Tatiller!AO45=\"\",IF(Tatiller!$AZ$51=0,IF(DersYükü!M60=\"\",0,DersYükü!M60),Tatiller!AO45),Tatiller!AO45)","v":0},{"$f":"IF(Tatiller!AP45=\"\",IF(Tatiller!$AZ$51=0,IF(DersYükü!N60=\"\",0,DersYükü!N60),Tatiller!AP45),Tatiller!AP45)","v":0},{"$f":"IF(Tatiller!AQ45=\"\",IF(Tatiller!$AZ$51=0,IF(DersYükü!O60=\"\",0,DersYükü!O60),Tatiller!AQ45),Tatiller!AQ45)","v":0},{"$f":"IF(Tatiller!AR45=\"\",IF(Tatiller!$AZ$51=0,IF(DersYükü!P60=\"\",0,DersYükü!P60),Tatiller!AR45),Tatiller!AR45)","v":0},{"$f":"IF(Tatiller!AS45=\"\",IF(Tatiller!$AZ$51=0,IF(DersYükü!Q60=\"\",0,DersYükü!Q60),Tatiller!AS45),Tatiller!AS45)","v":0},{"$f":"IF(Tatiller!AT45=\"\",IF(Tatiller!$AZ$51=0,IF(DersYükü!R60=\"\",0,DersYükü!R60),Tatiller!AT45),Tatiller!AT45)","v":0},{"$f":"IF(Tatiller!AU45=\"\",IF(Tatiller!$AZ$51=0,IF(DersYükü!S60=\"\",0,DersYükü!S60),Tatiller!AU45),Tatiller!AU45)","v":0},{"$f":"IF(Tatiller!AV45=\"\",IF(Tatiller!$AZ$51=0,IF(DersYükü!T60=\"\",0,DersYükü!T60),Tatiller!AV45),Tatiller!AV45)","v":0},{"$f":"IF(Tatiller!AW45=\"\",IF(Tatiller!$AZ$51=0,IF(DersYükü!U60=\"\",0,DersYükü!U60),Tatiller!AW45),Tatiller!AW45)","v":0},{"$f":"IF(Tatiller!AX45=\"\",IF(Tatiller!$AZ$51=0,IF(DersYükü!V60=\"\",0,DersYükü!V60),Tatiller!AX45),Tatiller!AX45)","v":0},{"$f":"IF(Tatiller!AY45=\"\",IF(Tatiller!$AZ$51=0,IF(DersYükü!W60=\"\",0,DersYükü!W60),Tatiller!AY45),Tatiller!AY45)","v":0}]
[null,"N","","",null,null,null,"20.00-21.00",null,null,null,{"$f":"IF(Tatiller!F46=\"\",IF(Tatiller!$X$51=0,IF(DersYükü!F61=\"\",0,DersYükü!F61),Tatiller!F46),Tatiller!F46)","v":0},{"$f":"IF(Tatiller!G46=\"\",IF(Tatiller!$X$51=0,IF(DersYükü!G61=\"\",0,DersYükü!G61),Tatiller!G46),Tatiller!G46)","v":0},{"$f":"IF(Tatiller!H46=\"\",IF(Tatiller!$X$51=0,IF(DersYükü!H61=\"\",0,DersYükü!H61),Tatiller!H46),Tatiller!H46)","v":0},{"$f":"IF(Tatiller!I46=\"\",IF(Tatiller!$X$51=0,IF(DersYükü!I61=\"\",0,DersYükü!I61),Tatiller!I46),Tatiller!I46)","v":0},{"$f":"IF(Tatiller!J46=\"\",IF(Tatiller!$X$51=0,IF(DersYükü!J61=\"\",0,DersYükü!J61),Tatiller!J46),Tatiller!J46)","v":0},{"$f":"IF(Tatiller!K46=\"\",IF(Tatiller!$X$51=0,IF(DersYükü!K61=\"\",0,DersYükü!K61),Tatiller!K46),Tatiller!K46)","v":0},{"$f":"IF(Tatiller!L46=\"\",IF(Tatiller!$X$51=0,IF(DersYükü!L61=\"\",0,DersYükü!L61),Tatiller!L46),Tatiller!L46)","v":0},{"$f":"IF(Tatiller!M46=\"\",IF(Tatiller!$X$51=0,IF(DersYükü!M61=\"\",0,DersYükü!M61),Tatiller!M46),Tatiller!M46)","v":0},{"$f":"IF(Tatiller!N46=\"\",IF(Tatiller!$X$51=0,IF(DersYükü!N61=\"\",0,DersYükü!N61),Tatiller!N46),Tatiller!N46)","v":0},{"$f":"IF(Tatiller!O46=\"\",IF(Tatiller!$X$51=0,IF(DersYükü!O61=\"\",0,DersYükü!O61),Tatiller!O46),Tatiller!O46)","v":0},{"$f":"IF(Tatiller!P46=\"\",IF(Tatiller!$X$51=0,IF(DersYükü!P61=\"\",0,DersYükü!P61),Tatiller!P46),Tatiller!P46)","v":0},{"$f":"IF(Tatiller!Q46=\"\",IF(Tatiller!$X$51=0,IF(DersYükü!Q61=\"\",0,DersYükü!Q61),Tatiller!Q46),Tatiller!Q46)","v":0},{"$f":"IF(Tatiller!R46=\"\",IF(Tatiller!$X$51=0,IF(DersYükü!R61=\"\",0,DersYükü!R61),Tatiller!R46),Tatiller!R46)","v":0},{"$f":"IF(Tatiller!S46=\"\",IF(Tatiller!$X$51=0,IF(DersYükü!S61=\"\",0,DersYükü!S61),Tatiller!S46),Tatiller!S46)","v":0},{"$f":"IF(Tatiller!T46=\"\",IF(Tatiller!$X$51=0,IF(DersYükü!T61=\"\",0,DersYükü!T61),Tatiller!T46),Tatiller!T46)","v":0},{"$f":"IF(Tatiller!U46=\"\",IF(Tatiller!$X$51=0,IF(DersYükü!U61=\"\",0,DersYükü!U61),Tatiller!U46),Tatiller!U46)","v":0},{"$f":"IF(Tatiller!V46=\"\",IF(Tatiller!$X$51=0,IF(DersYükü!V61=\"\",0,DersYükü!V61),Tatiller!V46),Tatiller!V46)","v":0},{"$f":"IF(Tatiller!W46=\"\",IF(Tatiller!$X$51=0,IF(DersYükü!W61=\"\",0,DersYükü!W61),Tatiller!W46),Tatiller!W46)","v":0},null,null,null,"N","","",null,null,null,"20.00-21.00",null,null,null,{"$f":"IF(Tatiller!AH46=\"\",IF(Tatiller!$AZ$51=0,IF(DersYükü!F61=\"\",0,DersYükü!F61),Tatiller!AH46),Tatiller!AH46)","v":0},{"$f":"IF(Tatiller!AI46=\"\",IF(Tatiller!$AZ$51=0,IF(DersYükü!G61=\"\",0,DersYükü!G61),Tatiller!AI46),Tatiller!AI46)","v":0},{"$f":"IF(Tatiller!AJ46=\"\",IF(Tatiller!$AZ$51=0,IF(DersYükü!H61=\"\",0,DersYükü!H61),Tatiller!AJ46),Tatiller!AJ46)","v":0},{"$f":"IF(Tatiller!AK46=\"\",IF(Tatiller!$AZ$51=0,IF(DersYükü!I61=\"\",0,DersYükü!I61),Tatiller!AK46),Tatiller!AK46)","v":0},{"$f":"IF(Tatiller!AL46=\"\",IF(Tatiller!$AZ$51=0,IF(DersYükü!J61=\"\",0,DersYükü!J61),Tatiller!AL46),Tatiller!AL46)","v":0},{"$f":"IF(Tatiller!AM46=\"\",IF(Tatiller!$AZ$51=0,IF(DersYükü!K61=\"\",0,DersYükü!K61),Tatiller!AM46),Tatiller!AM46)","v":0},{"$f":"IF(Tatiller!AN46=\"\",IF(Tatiller!$AZ$51=0,IF(DersYükü!L61=\"\",0,DersYükü!L61),Tatiller!AN46),Tatiller!AN46)","v":0},{"$f":"IF(Tatiller!AO46=\"\",IF(Tatiller!$AZ$51=0,IF(DersYükü!M61=\"\",0,DersYükü!M61),Tatiller!AO46),Tatiller!AO46)","v":0},{"$f":"IF(Tatiller!AP46=\"\",IF(Tatiller!$AZ$51=0,IF(DersYükü!N61=\"\",0,DersYükü!N61),Tatiller!AP46),Tatiller!AP46)","v":0},{"$f":"IF(Tatiller!AQ46=\"\",IF(Tatiller!$AZ$51=0,IF(DersYükü!O61=\"\",0,DersYükü!O61),Tatiller!AQ46),Tatiller!AQ46)","v":0},{"$f":"IF(Tatiller!AR46=\"\",IF(Tatiller!$AZ$51=0,IF(DersYükü!P61=\"\",0,DersYükü!P61),Tatiller!AR46),Tatiller!AR46)","v":0},{"$f":"IF(Tatiller!AS46=\"\",IF(Tatiller!$AZ$51=0,IF(DersYükü!Q61=\"\",0,DersYükü!Q61),Tatiller!AS46),Tatiller!AS46)","v":0},{"$f":"IF(Tatiller!AT46=\"\",IF(Tatiller!$AZ$51=0,IF(DersYükü!R61=\"\",0,DersYükü!R61),Tatiller!AT46),Tatiller!AT46)","v":0},{"$f":"IF(Tatiller!AU46=\"\",IF(Tatiller!$AZ$51=0,IF(DersYükü!S61=\"\",0,DersYükü!S61),Tatiller!AU46),Tatiller!AU46)","v":0},{"$f":"IF(Tatiller!AV46=\"\",IF(Tatiller!$AZ$51=0,IF(DersYükü!T61=\"\",0,DersYükü!T61),Tatiller!AV46),Tatiller!AV46)","v":0},{"$f":"IF(Tatiller!AW46=\"\",IF(Tatiller!$AZ$51=0,IF(DersYükü!U61=\"\",0,DersYükü!U61),Tatiller!AW46),Tatiller!AW46)","v":0},{"$f":"IF(Tatiller!AX46=\"\",IF(Tatiller!$AZ$51=0,IF(DersYükü!V61=\"\",0,DersYükü!V61),Tatiller!AX46),Tatiller!AX46)","v":0},{"$f":"IF(Tatiller!AY46=\"\",IF(Tatiller!$AZ$51=0,IF(DersYükü!W61=\"\",0,DersYükü!W61),Tatiller!AY46),Tatiller!AY46)","v":0}]
[null,"O","","",null,null,null,"21.00-22.00",null,null,null,{"$f":"IF(Tatiller!F47=\"\",IF(Tatiller!$X$51=0,IF(DersYükü!F62=\"\",0,DersYükü!F62),Tatiller!F47),Tatiller!F47)","v":0},{"$f":"IF(Tatiller!G47=\"\",IF(Tatiller!$X$51=0,IF(DersYükü!G62=\"\",0,DersYükü!G62),Tatiller!G47),Tatiller!G47)","v":0},{"$f":"IF(Tatiller!H47=\"\",IF(Tatiller!$X$51=0,IF(DersYükü!H62=\"\",0,DersYükü!H62),Tatiller!H47),Tatiller!H47)","v":0},{"$f":"IF(Tatiller!I47=\"\",IF(Tatiller!$X$51=0,IF(DersYükü!I62=\"\",0,DersYükü!I62),Tatiller!I47),Tatiller!I47)","v":0},{"$f":"IF(Tatiller!J47=\"\",IF(Tatiller!$X$51=0,IF(DersYükü!J62=\"\",0,DersYükü!J62),Tatiller!J47),Tatiller!J47)","v":0},{"$f":"IF(Tatiller!K47=\"\",IF(Tatiller!$X$51=0,IF(DersYükü!K62=\"\",0,DersYükü!K62),Tatiller!K47),Tatiller!K47)","v":0},{"$f":"IF(Tatiller!L47=\"\",IF(Tatiller!$X$51=0,IF(DersYükü!L62=\"\",0,DersYükü!L62),Tatiller!L47),Tatiller!L47)","v":0},{"$f":"IF(Tatiller!M47=\"\",IF(Tatiller!$X$51=0,IF(DersYükü!M62=\"\",0,DersYükü!M62),Tatiller!M47),Tatiller!M47)","v":0},{"$f":"IF(Tatiller!N47=\"\",IF(Tatiller!$X$51=0,IF(DersYükü!N62=\"\",0,DersYükü!N62),Tatiller!N47),Tatiller!N47)","v":0},{"$f":"IF(Tatiller!O47=\"\",IF(Tatiller!$X$51=0,IF(DersYükü!O62=\"\",0,DersYükü!O62),Tatiller!O47),Tatiller!O47)","v":0},{"$f":"IF(Tatiller!P47=\"\",IF(Tatiller!$X$51=0,IF(DersYükü!P62=\"\",0,DersYükü!P62),Tatiller!P47),Tatiller!P47)","v":0},{"$f":"IF(Tatiller!Q47=\"\",IF(Tatiller!$X$51=0,IF(DersYükü!Q62=\"\",0,DersYükü!Q62),Tatiller!Q47),Tatiller!Q47)","v":0},{"$f":"IF(Tatiller!R47=\"\",IF(Tatiller!$X$51=0,IF(DersYükü!R62=\"\",0,DersYükü!R62),Tatiller!R47),Tatiller!R47)","v":0},{"$f":"IF(Tatiller!S47=\"\",IF(Tatiller!$X$51=0,IF(DersYükü!S62=\"\",0,DersYükü!S62),Tatiller!S47),Tatiller!S47)","v":0},{"$f":"IF(Tatiller!T47=\"\",IF(Tatiller!$X$51=0,IF(DersYükü!T62=\"\",0,DersYükü!T62),Tatiller!T47),Tatiller!T47)","v":0},{"$f":"IF(Tatiller!U47=\"\",IF(Tatiller!$X$51=0,IF(DersYükü!U62=\"\",0,DersYükü!U62),Tatiller!U47),Tatiller!U47)","v":0},{"$f":"IF(Tatiller!V47=\"\",IF(Tatiller!$X$51=0,IF(DersYükü!V62=\"\",0,DersYükü!V62),Tatiller!V47),Tatiller!V47)","v":0},{"$f":"IF(Tatiller!W47=\"\",IF(Tatiller!$X$51=0,IF(DersYükü!W62=\"\",0,DersYükü!W62),Tatiller!W47),Tatiller!W47)","v":0},null,null,null,"O","","",null,null,null,"21.00-22.00",null,null,null,{"$f":"IF(Tatiller!AH47=\"\",IF(Tatiller!$AZ$51=0,IF(DersYükü!F62=\"\",0,DersYükü!F62),Tatiller!AH47),Tatiller!AH47)","v":0},{"$f":"IF(Tatiller!AI47=\"\",IF(Tatiller!$AZ$51=0,IF(DersYükü!G62=\"\",0,DersYükü!G62),Tatiller!AI47),Tatiller!AI47)","v":0},{"$f":"IF(Tatiller!AJ47=\"\",IF(Tatiller!$AZ$51=0,IF(DersYükü!H62=\"\",0,DersYükü!H62),Tatiller!AJ47),Tatiller!AJ47)","v":0},{"$f":"IF(Tatiller!AK47=\"\",IF(Tatiller!$AZ$51=0,IF(DersYükü!I62=\"\",0,DersYükü!I62),Tatiller!AK47),Tatiller!AK47)","v":0},{"$f":"IF(Tatiller!AL47=\"\",IF(Tatiller!$AZ$51=0,IF(DersYükü!J62=\"\",0,DersYükü!J62),Tatiller!AL47),Tatiller!AL47)","v":0},{"$f":"IF(Tatiller!AM47=\"\",IF(Tatiller!$AZ$51=0,IF(DersYükü!K62=\"\",0,DersYükü!K62),Tatiller!AM47),Tatiller!AM47)","v":0},{"$f":"IF(Tatiller!AN47=\"\",IF(Tatiller!$AZ$51=0,IF(DersYükü!L62=\"\",0,DersYükü!L62),Tatiller!AN47),Tatiller!AN47)","v":0},{"$f":"IF(Tatiller!AO47=\"\",IF(Tatiller!$AZ$51=0,IF(DersYükü!M62=\"\",0,DersYükü!M62),Tatiller!AO47),Tatiller!AO47)","v":0},{"$f":"IF(Tatiller!AP47=\"\",IF(Tatiller!$AZ$51=0,IF(DersYükü!N62=\"\",0,DersYükü!N62),Tatiller!AP47),Tatiller!AP47)","v":0},{"$f":"IF(Tatiller!AQ47=\"\",IF(Tatiller!$AZ$51=0,IF(DersYükü!O62=\"\",0,DersYükü!O62),Tatiller!AQ47),Tatiller!AQ47)","v":0},{"$f":"IF(Tatiller!AR47=\"\",IF(Tatiller!$AZ$51=0,IF(DersYükü!P62=\"\",0,DersYükü!P62),Tatiller!AR47),Tatiller!AR47)","v":0},{"$f":"IF(Tatiller!AS47=\"\",IF(Tatiller!$AZ$51=0,IF(DersYükü!Q62=\"\",0,DersYükü!Q62),Tatiller!AS47),Tatiller!AS47)","v":0},{"$f":"IF(Tatiller!AT47=\"\",IF(Tatiller!$AZ$51=0,IF(DersYükü!R62=\"\",0,DersYükü!R62),Tatiller!AT47),Tatiller!AT47)","v":0},{"$f":"IF(Tatiller!AU47=\"\",IF(Tatiller!$AZ$51=0,IF(DersYükü!S62=\"\",0,DersYükü!S62),Tatiller!AU47),Tatiller!AU47)","v":0},{"$f":"IF(Tatiller!AV47=\"\",IF(Tatiller!$AZ$51=0,IF(DersYükü!T62=\"\",0,DersYükü!T62),Tatiller!AV47),Tatiller!AV47)","v":0},{"$f":"IF(Tatiller!AW47=\"\",IF(Tatiller!$AZ$51=0,IF(DersYükü!U62=\"\",0,DersYükü!U62),Tatiller!AW47),Tatiller!AW47)","v":0},{"$f":"IF(Tatiller!AX47=\"\",IF(Tatiller!$AZ$51=0,IF(DersYükü!V62=\"\",0,DersYükü!V62),Tatiller!AX47),Tatiller!AX47)","v":0},{"$f":"IF(Tatiller!AY47=\"\",IF(Tatiller!$AZ$51=0,IF(DersYükü!W62=\"\",0,DersYükü!W62),Tatiller!AY47),Tatiller!AY47)","v":0}]
[null,null,null,null,null,null,null,"22.00-23.00",null,null,null,{"$f":"IF(Tatiller!F48=\"\",IF(Tatiller!$X$51=0,IF(DersYükü!F63=\"\",0,DersYükü!F63),Tatiller!F48),Tatiller!F48)","v":0},{"$f":"IF(Tatiller!G48=\"\",IF(Tatiller!$X$51=0,IF(DersYükü!G63=\"\",0,DersYükü!G63),Tatiller!G48),Tatiller!G48)","v":0},{"$f":"IF(Tatiller!H48=\"\",IF(Tatiller!$X$51=0,IF(DersYükü!H63=\"\",0,DersYükü!H63),Tatiller!H48),Tatiller!H48)","v":0},{"$f":"IF(Tatiller!I48=\"\",IF(Tatiller!$X$51=0,IF(DersYükü!I63=\"\",0,DersYükü!I63),Tatiller!I48),Tatiller!I48)","v":0},{"$f":"IF(Tatiller!J48=\"\",IF(Tatiller!$X$51=0,IF(DersYükü!J63=\"\",0,DersYükü!J63),Tatiller!J48),Tatiller!J48)","v":0},{"$f":"IF(Tatiller!K48=\"\",IF(Tatiller!$X$51=0,IF(DersYükü!K63=\"\",0,DersYükü!K63),Tatiller!K48),Tatiller!K48)","v":0},{"$f":"IF(Tatiller!L48=\"\",IF(Tatiller!$X$51=0,IF(DersYükü!L63=\"\",0,DersYükü!L63),Tatiller!L48),Tatiller!L48)","v":0},{"$f":"IF(Tatiller!M48=\"\",IF(Tatiller!$X$51=0,IF(DersYükü!M63=\"\",0,DersYükü!M63),Tatiller!M48),Tatiller!M48)","v":0},{"$f":"IF(Tatiller!N48=\"\",IF(Tatiller!$X$51=0,IF(DersYükü!N63=\"\",0,DersYükü!N63),Tatiller!N48),Tatiller!N48)","v":0},{"$f":"IF(Tatiller!O48=\"\",IF(Tatiller!$X$51=0,IF(DersYükü!O63=\"\",0,DersYükü!O63),Tatiller!O48),Tatiller!O48)","v":0},{"$f":"IF(Tatiller!P48=\"\",IF(Tatiller!$X$51=0,IF(DersYükü!P63=\"\",0,DersYükü!P63),Tatiller!P48),Tatiller!P48)","v":0},{"$f":"IF(Tatiller!Q48=\"\",IF(Tatiller!$X$51=0,IF(DersYükü!Q63=\"\",0,DersYükü!Q63),Tatiller!Q48),Tatiller!Q48)","v":0},{"$f":"IF(Tatiller!R48=\"\",IF(Tatiller!$X$51=0,IF(DersYükü!R63=\"\",0,DersYükü!R63),Tatiller!R48),Tatiller!R48)","v":0},{"$f":"IF(Tatiller!S48=\"\",IF(Tatiller!$X$51=0,IF(DersYükü!S63=\"\",0,DersYükü!S63),Tatiller!S48),Tatiller!S48)","v":0},{"$f":"IF(Tatiller!T48=\"\",IF(Tatiller!$X$51=0,IF(DersYükü!T63=\"\",0,DersYükü!T63),Tatiller!T48),Tatiller!T48)","v":0},{"$f":"IF(Tatiller!U48=\"\",IF(Tatiller!$X$51=0,IF(DersYükü!U63=\"\",0,DersYükü!U63),Tatiller!U48),Tatiller!U48)","v":0},{"$f":"IF(Tatiller!V48=\"\",IF(Tatiller!$X$51=0,IF(DersYükü!V63=\"\",0,DersYükü!V63),Tatiller!V48),Tatiller!V48)","v":0},{"$f":"IF(Tatiller!W48=\"\",IF(Tatiller!$X$51=0,IF(DersYükü!W63=\"\",0,DersYükü!W63),Tatiller!W48),Tatiller!W48)","v":0},"TEO.","DF",null,null,null,null,null,null,null,"22.00-23.00",null,null,null,{"$f":"IF(Tatiller!AH48=\"\",IF(Tatiller!$AZ$51=0,IF(DersYükü!F63=\"\",0,DersYükü!F63),Tatiller!AH48),Tatiller!AH48)","v":0},{"$f":"IF(Tatiller!AI48=\"\",IF(Tatiller!$AZ$51=0,IF(DersYükü!G63=\"\",0,DersYükü!G63),Tatiller!AI48),Tatiller!AI48)","v":0},{"$f":"IF(Tatiller!AJ48=\"\",IF(Tatiller!$AZ$51=0,IF(DersYükü!H63=\"\",0,DersYükü!H63),Tatiller!AJ48),Tatiller!AJ48)","v":0},{"$f":"IF(Tatiller!AK48=\"\",IF(Tatiller!$AZ$51=0,IF(DersYükü!I63=\"\",0,DersYükü!I63),Tatiller!AK48),Tatiller!AK48)","v":0},{"$f":"IF(Tatiller!AL48=\"\",IF(Tatiller!$AZ$51=0,IF(DersYükü!J63=\"\",0,DersYükü!J63),Tatiller!AL48),Tatiller!AL48)","v":0},{"$f":"IF(Tatiller!AM48=\"\",IF(Tatiller!$AZ$51=0,IF(DersYükü!K63=\"\",0,DersYükü!K63),Tatiller!AM48),Tatiller!AM48)","v":0},{"$f":"IF(Tatiller!AN48=\"\",IF(Tatiller!$AZ$51=0,IF(DersYükü!L63=\"\",0,DersYükü!L63),Tatiller!AN48),Tatiller!AN48)","v":0},{"$f":"IF(Tatiller!AO48=\"\",IF(Tatiller!$AZ$51=0,IF(DersYükü!M63=\"\",0,DersYükü!M63),Tatiller!AO48),Tatiller!AO48)","v":0},{"$f":"IF(Tatiller!AP48=\"\",IF(Tatiller!$AZ$51=0,IF(DersYükü!N63=\"\",0,DersYükü!N63),Tatiller!AP48),Tatiller!AP48)","v":0},{"$f":"IF(Tatiller!AQ48=\"\",IF(Tatiller!$AZ$51=0,IF(DersYükü!O63=\"\",0,DersYükü!O63),Tatiller!AQ48),Tatiller!AQ48)","v":0},{"$f":"IF(Tatiller!AR48=\"\",IF(Tatiller!$AZ$51=0,IF(DersYükü!P63=\"\",0,DersYükü!P63),Tatiller!AR48),Tatiller!AR48)","v":0},{"$f":"IF(Tatiller!AS48=\"\",IF(Tatiller!$AZ$51=0,IF(DersYükü!Q63=\"\",0,DersYükü!Q63),Tatiller!AS48),Tatiller!AS48)","v":0},{"$f":"IF(Tatiller!AT48=\"\",IF(Tatiller!$AZ$51=0,IF(DersYükü!R63=\"\",0,DersYükü!R63),Tatiller!AT48),Tatiller!AT48)","v":0},{"$f":"IF(Tatiller!AU48=\"\",IF(Tatiller!$AZ$51=0,IF(DersYükü!S63=\"\",0,DersYükü!S63),Tatiller!AU48),Tatiller!AU48)","v":0},{"$f":"IF(Tatiller!AV48=\"\",IF(Tatiller!$AZ$51=0,IF(DersYükü!T63=\"\",0,DersYükü!T63),Tatiller!AV48),Tatiller!AV48)","v":0},{"$f":"IF(Tatiller!AW48=\"\",IF(Tatiller!$AZ$51=0,IF(DersYükü!U63=\"\",0,DersYükü!U63),Tatiller!AW48),Tatiller!AW48)","v":0},{"$f":"IF(Tatiller!AX48=\"\",IF(Tatiller!$AZ$51=0,IF(DersYükü!V63=\"\",0,DersYükü!V63),Tatiller!AX48),Tatiller!AX48)","v":0},{"$f":"IF(Tatiller!AY48=\"\",IF(Tatiller!$AZ$51=0,IF(DersYükü!W63=\"\",0,DersYükü!W63),Tatiller!AY48),Tatiller!AY48)","v":0},"TEO.","DF"]
[null,null,null,null,null,null,"TOPLAM (Ö.Ö)",null,null,null,null,{"$f":"COUNTIF(L6:L14,\">=a\")","v":0},{"$f":"COUNTIF(M6:M14,\">=a\")","v":0},0,0,0,0,0,0,0,0,{"$f":"COUNTIF(V6:V22,\">=a\")","v":0},{"$f":"COUNTIF(W6:W22,\">=a\")","v":0},null,null,{"$f":"COUNTIF(Z6:Z22,\">=a\")","v":0},{"$f":"COUNTIF(AA6:AA22,\">=a\")","v":0},null,null,{"$f":"L23+N23+P23+R23+T23+V23+Z23","v":0},{"$f":"M23+O23+Q23+S23+U23+W23+AA23","v":0},null,null,null,null,null,null,"TOPLAM (Ö.Ö)",null,null,null,null,{"$f":"COUNTIF(AQ6:AQ14,\">=a\")","v":0},{"$f":"COUNTIF(AR6:AR14,\">=a\")","v":0},0,0,0,0,0,0,0,0,{"$f":"COUNTIF(BA6:BA22,\">=a\")","v":0},{"$f":"COUNTIF(BB6:BB22,\">=a\")","v":0},null,null,{"$f":"COUNTIF(BE6:BE22,\">=a\")","v":0},{"$f":"COUNTIF(BF6:BF22,\">=a\")","v":0},null,null,{"$f":"AQ23+AS23+AU23+AW23+AY23+BA23+BE23","v":0},{"$f":"AR23+AT23+AV23+AX23+AZ23+BB23+BF23","v":0}]
[null,null,"1. hafta",null,null,null,"TOPLAM (İ.Ö)",null,null,null,null,{"$f":"COUNTIF(L15:L22,\">O\")","v":0},{"$f":"COUNTIF(M15:M22,\">O\")","v":0},0,0,0,0,0,0,0,0,null,null,{"$f":"COUNTIF(X6:X22,\">O\")","v":0},{"$f":"COUNTIF(Y6:Y22,\">O\")","v":0},null,null,{"$f":"COUNTIF(AB6:AB22,\">O\")","v":0},{"$f":"COUNTIF(AC6:AC22,\">O\")","v":0},{"$f":"L24+N24+P24+R24+T24+X24+AB24","v":0},{"$f":"M24+O24+Q24+S24+U24+Y24+AC24","v":0},null,null,"2. hafta",null,null,null,"TOPLAM (İ.Ö)",null,null,null,null,{"$f":"COUNTIF(AQ15:AQ22,\">O\")","v":0},{"$f":"COUNTIF(AR15:AR22,\">O\")","v":0},0,0,0,0,0,0,0,0,null,null,{"$f":"COUNTIF(BC6:BC22,\">O\")","v":0},{"$f":"COUNTIF(BD6:BD22,\">O\")","v":0},null,null,{"$f":"COUNTIF(BG6:BG22,\">O\")","v":0},{"$f":"COUNTIF(BH6:BH22,\">O\")","v":0},{"$f":"AQ24+AS24+AU24+AW24+AY24+BC24+BG24","v":0},{"$f":"AR24+AT24+AV24+AX24+AZ24+BD24+BH24","v":0}]
[null,null,"T","DF",null,null,"GENEL TOPLAM",null,null,null,null,{"$f":"L23+L24","v":0},{"$f":"M23+M24","v":0},0,0,0,0,0,0,0,0,0,0,0,0,0,0,0,0,{"$f":"SUM(L25:AC25)","v":0},null,null,null,"T","DF",null,null,"GENEL TOPLAM",null,null,null,null,{"$f":"AQ23+AQ24","v":0},{"$f":"AR23+AR24","v":0},0,0,0,0,0,0,0,0,0,0,0,0,0,0,0,0,{"$f":"SUM(AQ25:BH25)","v":0}]
[null,"P",{"$f":"IF(IFERROR(COUNTIF(N$6:N$22,$B26)+COUNTIF(P$6:P$22,$B26)+COUNTIF(R$6:R$22,$B26)+COUNTIF(T$6:T$22,$B26)+COUNTIF(V$6:V$22,$B26)+COUNTIF(X$6:X$22,$B26)+COUNTIF(Z$6:Z$22,$B26)+COUNTIF(AB$6:AB$22,$B26)+COUNTIF(L$6:L$22,$B26),\"\")=0,\"\",IFERROR(COUNTIF(N$6:N$22,$B26)+COUNTIF(P$6:P$22,$B26)+COUNTIF(R$6:R$22,$B26)+COUNTIF(T$6:T$22,$B26)+COUNTIF(V$6:V$22,$B26)+COUNTIF(X$6:X$22,$B26)+COUNTIF(Z$6:Z$22,$B26)+COUNTIF(AB$6:AB$22,$B26)+COUNTIF(L$6:L$22,$B26),\"\"))","v":""},"",null,null,null,null,null,null,null,null,null,null,null,null,null,null,null,null,null,null,null,null,null,null,null,null,null,null,null,null,"P",{"$f":"IF(IFERROR(COUNTIF(AS$6:AS$22,$B26)+COUNTIF(AU$6:AU$22,$B26)+COUNTIF(AW$6:AW$22,$B26)+COUNTIF(AY$6:AY$22,$B26)+COUNTIF(BA$6:BA$22,$B26)+COUNTIF(BC$6:BC$22,$B26)+COUNTIF(BE$6:BE$22,$B26)+COUNTIF(BG$6:BG$22,$B26)+COUNTIF(AQ$6:AQ$22,$B26),\"\")=0,\"\",IFERROR(COUNTIF(AS$6:AS$22,$B26)+COUNTIF(AU$6:AU$22,$B26)+COUNTIF(AW$6:AW$22,$B26)+COUNTIF(AY$6:AY$22,$B26)+COUNTIF(BA$6:BA$22,$B26)+COUNTIF(BC$6:BC$22,$B26)+COUNTIF(BE$6:BE$22,$B26)+COUNTIF(BG$6:BG$22,$B26)+COUNTIF(AQ$6:AQ$22,$B26),\"\"))","v":""},""]
[null,"R","","",null,null,null,null,null,null,null,null,null,null,null,null,null,null,null,null,null,null,null,null,null,null,null,null,null,null,null,null,"R","",""]
[null,"S","","",null,null,null,null,null,null,null,null,null,null,null,null,null,null,null,null,null,null,null,null,null,null,null,null,null,null,null,null,"S","",""]
[null,"T","","",null,null,null,null,null,null,null,null,null,null,null,null,null,null,null,null,null,null,null,null,null,null,null,null,null,null,null,null,"T","",""]
[null,"U","","",null,null,null,null,null,null,null,null,null,null,null,null,null,null,null,null,null,null,null,null,null,null,null,null,null,null,null,null,"U","",""]
[null,"V","","",null,null,null,null,null,null,null,null,null,null,null,null,null,null,null,null,null,null,null,null,null,null,null,null,null,null,null,null,"V","",""]
[null,"W","","",null,null,null,null,null,null,null,null,null,null,null,null,null,null,null,null,null,null,null,null,null,null,null,null,null,null,null,null,"W","",""]
[null,"X","","",null,null,null,null,null,null,null,null,null,null,null,null,null,null,null,null,null,null,null,null,null,null,null,null,null,null,null,null,"X","",""]
[null,"Y","","",null,null,null,null,null,null,null,null,null,null,null,null,null,null,null,null,null,null,null,null,null,null,null,null,null,null,null,null,"Y","",""]
[null,"Z","","",null,null,null,null,null,null,null,null,null,null,null,null,null,null,null,null,null,null,null,null,null,null,null,null,null,null,null,null,"Z","",""]
[]
[]
[]
[]
[]
[]
[]
[]
[]
[]
[]
[]
[]
[]
[]
[]
[]
[]
[]
[]
[null,null,null,null,null,null,"3. HAFTA",null,null,null,null,"TEORİK VE DİĞER DERSLERİN PROGRAMI",null,null,null,null,null,null,null,null,null,null,null,null,null,null,null,null,null,null,null,null,null,null,null,null,null,"4. HAFTA",null,null,null,null,"TEORİK VE DİĞER DERSLERİN PROGRAMI"]
[null,null,null,null,null,null,null,null,null,null,null,{"$f":"IFERROR(IF(BE3+1>$BI$1,\"\",BE3+1),\"\")","v":""},null,{"$f":"IFERROR(IF(L57+1>$BI$1,\"\",L57+1),\"\")","v":""},null,{"$f":"IFERROR(IF(N57+1>$BI$1,\"\",N57+1),\"\")","v":""},null,{"$f":"IFERROR(IF(P57+1>$BI$1,\"\",P57+1),\"\")","v":""},null,{"$f":"IFERROR(IF(R57+1>$BI$1,\"\",R57+1),\"\")","v":""},null,{"$f":"IFERROR(IF(T57+1>$BI$1,\"\",T57+1),\"\")","v":""},null,null,null,{"$f":"IFERROR(IF(V57+1>$BI$1,\"\",V57+1),\"\")","v":""},null,null,null,null,null,null,null,null,null,null,null,null,null,null,null,null,{"$f":"IFERROR(IF(Z57+1>$BI$1,\"\",Z57+1),\"\")","v":""},null,{"$f":"IFERROR(IF(AQ57+1>$BI$1,\"\",AQ57+1),\"\")","v":""},null,{"$f":"IFERROR(IF(AS57+1>$BI$1,\"\",AS57+1),\"\")","v":""},null,{"$f":"IFERROR(IF(AU57+1>$BI$1,\"\",AU57+1),\"\")","v":""},null,{"$f":"IFERROR(IF(AW57+1>$BI$1,\"\",AW57+1),\"\")","v":""},null,{"$f":"IFERROR(IF(AY57+1>$BI$1,\"\",AY57+1),\"\")","v":""},null,null,null,{"$f":"IFERROR(IF(BA57+1>$BI$1,\"\",BA57+1),\"\")","v":""}]
[null,null,"3. hafta",null,null,null,null,null,null,null,null,{"$f":"IFERROR(IF(BE3+1>$BI$1,\"\",BE3+1),\"\")","v":""},null,{"$f":"IFERROR(IF(L57+1>$BI$1,\"\",L57+1),\"\")","v":""},null,{"$f":"IFERROR(IF(N57+1>$BI$1,\"\",N57+1),\"\")","v":""},null,{"$f":"IFERROR(IF(P57+1>$BI$1,\"\",P57+1),\"\")","v":""},null,{"$f":"IFERROR(IF(R57+1>$BI$1,\"\",R57+1),\"\")","v":""},null,"Ö.Ö",null,"İ.Ö",null,"Ö.Ö",null,"İ.Ö",null,null,null,null,null,"4. hafta",null,null,null,null,null,null,null,null,{"$f":"IFERROR(IF(Z57+1>$BI$1,\"\",Z57+1),\"\")","v":""},null,{"$f":"IFERROR(IF(AQ57+1>$BI$1,\"\",AQ57+1),\"\")","v":""},null,{"$f":"IFERROR(IF(AS57+1>$BI$1,\"\",AS57+1),\"\")","v":""},null,{"$f":"IFERROR(IF(AU57+1>$BI$1,\"\",AU57+1),\"\")","v":""},null,{"$f":"IFERROR(IF(AW57+1>$BI$1,\"\",AW57+1),\"\")","v":""},null,"Ö.Ö",null,"İ.Ö",null,"Ö.Ö",null,"İ.Ö"]
[null,null,"T","DF",null,null,null,null,null,null,null,"T","D","T","D","T","D","T","D","T","D","T","D","T","D","T","D","T","D",null,null,null,null,"T","DF",null,null,null,null,null,null,null,"T","D","T","D","T","D","T","D","T","D","T","D","T","D","T","D","T","D"]
[null,"A",{"$f":"IF(IFERROR(COUNTIF(N$60:N$76,$B60)+COUNTIF(P$60:P$76,$B60)+COUNTIF(R$60:R$76,$B60)+COUNTIF(T$60:T$76,$B60)+COUNTIF(V$60:V$76,$B60)+COUNTIF(X$60:X$76,$B60)+COUNTIF(Z$60:Z$76,$B60)+COUNTIF(AB$60:AB$76,$B60)+COUNTIF(L$60:L$76,$B60),\"\")=0,\"\",IFERROR(COUNTIF(N$60:N$76,$B60)+COUNTIF(P$60:P$76,$B60)+COUNTIF(R$60:R$76,$B60)+COUNTIF(T$60:T$76,$B60)+COUNTIF(V$60:V$76,$B60)+COUNTIF(X$60:X$76,$B60)+COUNTIF(Z$60:Z$76,$B60)+COUNTIF(AB$60:AB$76,$B60)+COUNTIF(L$60:L$76,$B60),\"\"))","v":""},"",null,null,"ÖRGÜN ÖĞRETİM","08.00-09.00",null,null,null,{"$f":"IF(Tatiller!F58=\"\",IF(Tatiller!$X$77=0,IF(DersYükü!F47=\"\",0,DersYükü!F47),Tatiller!F58),Tatiller!F58)","v":0},{"$f":"IF(Tatiller!G58=\"\",IF(Tatiller!$X$77=0,IF(DersYükü!G47=\"\",0,DersYükü!G47),Tatiller!G58),Tatiller!G58)","v":0},{"$f":"IF(Tatiller!H58=\"\",IF(Tatiller!$X$77=0,IF(DersYükü!H47=\"\",0,DersYükü!H47),Tatiller!H58),Tatiller!H58)","v":0},{"$f":"IF(Tatiller!I58=\"\",IF(Tatiller!$X$77=0,IF(DersYükü!I47=\"\",0,DersYükü!I47),Tatiller!I58),Tatiller!I58)","v":0},{"$f":"IF(Tatiller!J58=\"\",IF(Tatiller!$X$77=0,IF(DersYükü!J47=\"\",0,DersYükü!J47),Tatiller!J58),Tatiller!J58)","v":0},{"$f":"IF(Tatiller!K58=\"\",IF(Tatiller!$X$77=0,IF(DersYükü!K47=\"\",0,DersYükü!K47),Tatiller!K58),Tatiller!K58)","v":0},{"$f":"IF(Tatiller!L58=\"\",IF(Tatiller!$X$77=0,IF(DersYükü!L47=\"\",0,DersYükü!L47),Tatiller!L58),Tatiller!L58)","v":0},{"$f":"IF(Tatiller!M58=\"\",IF(Tatiller!$X$77=0,IF(DersYükü!M47=\"\",0,DersYükü!M47),Tatiller!M58),Tatiller!M58)","v":0},{"$f":"IF(Tatiller!N58=\"\",IF(Tatiller!$X$77=0,IF(DersYükü!N47=\"\",0,DersYükü!N47),Tatiller!N58),Tatiller!N58)","v":0},{"$f":"IF(Tatiller!O58=\"\",IF(Tatiller!$X$77=0,IF(DersYükü!O47=\"\",0,DersYükü!O47),Tatiller!O58),Tatiller!O58)","v":0},{"$f":"IF(Tatiller!P58=\"\",IF(Tatiller!$X$77=0,IF(DersYükü!P47=\"\",0,DersYükü!P47),Tatiller!P58),Tatiller!P58)","v":0},{"$f":"IF(Tatiller!Q58=\"\",IF(Tatiller!$X$77=0,IF(DersYükü!Q47=\"\",0,DersYükü!Q47),Tatiller!Q58),Tatiller!Q58)","v":0},{"$f":"IF(Tatiller!R58=\"\",IF(Tatiller!$X$77=0,IF(DersYükü!R47=\"\",0,DersYükü!R47),Tatiller!R58),Tatiller!R58)","v":0},{"$f":"IF(Tatiller!S58=\"\",IF(Tatiller!$X$77=0,IF(DersYükü!S47=\"\",0,DersYükü!S47),Tatiller!S58),Tatiller!S58)","v":0},{"$f":"IF(Tatiller!T58=\"\",IF(Tatiller!$X$77=0,IF(DersYükü!T47=\"\",0,DersYükü!T47),Tatiller!T58),Tatiller!T58)","v":0},{"$f":"IF(Tatiller!U58=\"\",IF(Tatiller!$X$77=0,IF(DersYükü!U47=\"\",0,DersYükü!U47),Tatiller!U58),Tatiller!U58)","v":0},{"$f":"IF(Tatiller!V58=\"\",IF(Tatiller!$X$77=0,IF(DersYükü!V47=\"\",0,DersYükü!V47),Tatiller!V58),Tatiller!V58)","v":0},{"$f":"IF(Tatiller!W58=\"\",IF(Tatiller!$X$77=0,IF(DersYükü!W47=\"\",0,DersYükü!W47),Tatiller!W58),Tatiller!W58)","v":0},null,null,null,"A",{"$f":"IF(IFERROR(COUNTIF(AS$60:AS$76,$B60)+COUNTIF(AU$60:AU$76,$B60)+COUNTIF(AW$60:AW$76,$B60)+COUNTIF(AY$60:AY$76,$B60)+COUNTIF(BA$60:BA$76,$B60)+COUNTIF(BC$60:BC$76,$B60)+COUNTIF(BE$60:BE$76,$B60)+COUNTIF(BG$60:BG$76,$B60)+COUNTIF(AQ$60:AQ$76,$B60),\"\")=0,\"\",IFERROR(COUNTIF(AS$60:AS$76,$B60)+COUNTIF(AU$60:AU$76,$B60)+COUNTIF(AW$60:AW$76,$B60)+COUNTIF(AY$60:AY$76,$B60)+COUNTIF(BA$60:BA$76,$B60)+COUNTIF(BC$60:BC$76,$B60)+COUNTIF(BE$60:BE$76,$B60)+COUNTIF(BG$60:BG$76,$B60)+COUNTIF(AQ$60:AQ$76,$B60),\"\"))","v":""},"",null,null,"ÖRGÜN ÖĞRETİM","08.00-09.00",null,null,null,{"$f":"IF(Tatiller!AH58=\"\",IF(Tatiller!$AZ$77=0,IF(DersYükü!F47=\"\",0,DersYükü!F47),Tatiller!AH58),Tatiller!AH58)","v":0},{"$f":"IF(Tatiller!AI58=\"\",IF(Tatiller!$AZ$77=0,IF(DersYükü!G47=\"\",0,DersYükü!G47),Tatiller!AI58),Tatiller!AI58)","v":0},{"$f":"IF(Tatiller!AJ58=\"\",IF(Tatiller!$AZ$77=0,IF(DersYükü!H47=\"\",0,DersYükü!H47),Tatiller!AJ58),Tatiller!AJ58)","v":0},{"$f":"IF(Tatiller!AK58=\"\",IF(Tatiller!$AZ$77=0,IF(DersYükü!I47=\"\",0,DersYükü!I47),Tatiller!AK58),Tatiller!AK58)","v":0},{"$f":"IF(Tatiller!AL58=\"\",IF(Tatiller!$AZ$77=0,IF(DersYükü!J47=\"\",0,DersYükü!J47),Tatiller!AL58),Tatiller!AL58)","v":0},{"$f":"IF(Tatiller!AM58=\"\",IF(Tatiller!$AZ$77=0,IF(DersYükü!K47=\"\",0,DersYükü!K47),Tatiller!AM58),Tatiller!AM58)","v":0},{"$f":"IF(Tatiller!AN58=\"\",IF(Tatiller!$AZ$77=0,IF(DersYükü!L47=\"\",0,DersYükü!L47),Tatiller!AN58),Tatiller!AN58)","v":0},{"$f":"IF(Tatiller!AO58=\"\",IF(Tatiller!$AZ$77=0,IF(DersYükü!M47=\"\",0,DersYükü!M47),Tatiller!AO58),Tatiller!AO58)","v":0},{"$f":"IF(Tatiller!AP58=\"\",IF(Tatiller!$AZ$77=0,IF(DersYükü!N47=\"\",0,DersYükü!N47),Tatiller!AP58),Tatiller!AP58)","v":0},{"$f":"IF(Tatiller!AQ58=\"\",IF(Tatiller!$AZ$77=0,IF(DersYükü!O47=\"\",0,DersYükü!O47),Tatiller!AQ58),Tatiller!AQ58)","v":0},{"$f":"IF(Tatiller!AR58=\"\",IF(Tatiller!$AZ$77=0,IF(DersYükü!P47=\"\",0,DersYükü!P47),Tatiller!AR58),Tatiller!AR58)","v":0},{"$f":"IF(Tatiller!AS58=\"\",IF(Tatiller!$AZ$77=0,IF(DersYükü!Q47=\"\",0,DersYükü!Q47),Tatiller!AS58),Tatiller!AS58)","v":0},{"$f":"IF(Tatiller!AT58=\"\",IF(Tatiller!$AZ$77=0,IF(DersYükü!R47=\"\",0,DersYükü!R47),Tatiller!AT58),Tatiller!AT58)","v":0},{"$f":"IF(Tatiller!AU58=\"\",IF(Tatiller!$AZ$77=0,IF(DersYükü!S47=\"\",0,DersYükü!S47),Tatiller!AU58),Tatiller!AU58)","v":0},{"$f":"IF(Tatiller!AV58=\"\",IF(Tatiller!$AZ$77=0,IF(DersYükü!T47=\"\",0,DersYükü!T47),Tatiller!AV58),Tatiller!AV58)","v":0},{"$f":"IF(Tatiller!AW58=\"\",IF(Tatiller!$AZ$77=0,IF(DersYükü!U47=\"\",0,DersYükü!U47),Tatiller!AW58),Tatiller!AW58)","v":0},{"$f":"IF(Tatiller!AX58=\"\",IF(Tatiller!$AZ$77=0,IF(DersYükü!V47=\"\",0,DersYükü!V47),Tatiller!AX58),Tatiller!AX58)","v":0},{"$f":"IF(Tatiller!AY58=\"\",IF(Tatiller!$AZ$77=0,IF(DersYükü!W47=\"\",0,DersYükü!W47),Tatiller!AY58),Tatiller!AY58)","v":0}]
[null,"B","","",null,null,null,"09.00-10.00",null,null,null,{"$f":"IF(Tatiller!F59=\"\",IF(Tatiller!$X$77=0,IF(DersYükü!F48=\"\",0,DersYükü!F48),Tatiller!F59),Tatiller!F59)","v":0},{"$f":"IF(Tatiller!G59=\"\",IF(Tatiller!$X$77=0,IF(DersYükü!G48=\"\",0,DersYükü!G48),Tatiller!G59),Tatiller!G59)","v":0},{"$f":"IF(Tatiller!H59=\"\",IF(Tatiller!$X$77=0,IF(DersYükü!H48=\"\",0,DersYükü!H48),Tatiller!H59),Tatiller!H59)","v":0},{"$f":"IF(Tatiller!I59=\"\",IF(Tatiller!$X$77=0,IF(DersYükü!I48=\"\",0,DersYükü!I48),Tatiller!I59),Tatiller!I59)","v":0},{"$f":"IF(Tatiller!J59=\"\",IF(Tatiller!$X$77=0,IF(DersYükü!J48=\"\",0,DersYükü!J48),Tatiller!J59),Tatiller!J59)","v":0},{"$f":"IF(Tatiller!K59=\"\",IF(Tatiller!$X$77=0,IF(DersYükü!K48=\"\",0,DersYükü!K48),Tatiller!K59),Tatiller!K59)","v":0},{"$f":"IF(Tatiller!L59=\"\",IF(Tatiller!$X$77=0,IF(DersYükü!L48=\"\",0,DersYükü!L48),Tatiller!L59),Tatiller!L59)","v":0},{"$f":"IF(Tatiller!M59=\"\",IF(Tatiller!$X$77=0,IF(DersYükü!M48=\"\",0,DersYükü!M48),Tatiller!M59),Tatiller!M59)","v":0},{"$f":"IF(Tatiller!N59=\"\",IF(Tatiller!$X$77=0,IF(DersYükü!N48=\"\",0,DersYükü!N48),Tatiller!N59),Tatiller!N59)","v":0},{"$f":"IF(Tatiller!O59=\"\",IF(Tatiller!$X$77=0,IF(DersYükü!O48=\"\",0,DersYükü!O48),Tatiller!O59),Tatiller!O59)","v":0},{"$f":"IF(Tatiller!P59=\"\",IF(Tatiller!$X$77=0,IF(DersYükü!P48=\"\",0,DersYükü!P48),Tatiller!P59),Tatiller!P59)","v":0},{"$f":"IF(Tatiller!Q59=\"\",IF(Tatiller!$X$77=0,IF(DersYükü!Q48=\"\",0,DersYükü!Q48),Tatiller!Q59),Tatiller!Q59)","v":0},{"$f":"IF(Tatiller!R59=\"\",IF(Tatiller!$X$77=0,IF(DersYükü!R48=\"\",0,DersYükü!R48),Tatiller!R59),Tatiller!R59)","v":0},{"$f":"IF(Tatiller!S59=\"\",IF(Tatiller!$X$77=0,IF(DersYükü!S48=\"\",0,DersYükü!S48),Tatiller!S59),Tatiller!S59)","v":0},{"$f":"IF(Tatiller!T59=\"\",IF(Tatiller!$X$77=0,IF(DersYükü!T48=\"\",0,DersYükü!T48),Tatiller!T59),Tatiller!T59)","v":0},{"$f":"IF(Tatiller!U59=\"\",IF(Tatiller!$X$77=0,IF(DersYükü!U48=\"\",0,DersYükü!U48),Tatiller!U59),Tatiller!U59)","v":0},{"$f":"IF(Tatiller!V59=\"\",IF(Tatiller!$X$77=0,IF(DersYükü!V48=\"\",0,DersYükü!V48),Tatiller!V59),Tatiller!V59)","v":0},{"$f":"IF(Tatiller!W59=\"\",IF(Tatiller!$X$77=0,IF(DersYükü!W48=\"\",0,DersYükü!W48),Tatiller!W59),Tatiller!W59)","v":0},null,null,null,"B","","",null,null,null,"09.00-10.00",null,null,null,{"$f":"IF(Tatiller!AH59=\"\",IF(Tatiller!$AZ$77=0,IF(DersYükü!F48=\"\",0,DersYükü!F48),Tatiller!AH59),Tatiller!AH59)","v":0},{"$f":"IF(Tatiller!AI59=\"\",IF(Tatiller!$AZ$77=0,IF(DersYükü!G48=\"\",0,DersYükü!G48),Tatiller!AI59),Tatiller!AI59)","v":0},{"$f":"IF(Tatiller!AJ59=\"\",IF(Tatiller!$AZ$77=0,IF(DersYükü!H48=\"\",0,DersYükü!H48),Tatiller!AJ59),Tatiller!AJ59)","v":0},{"$f":"IF(Tatiller!AK59=\"\",IF(Tatiller!$AZ$77=0,IF(DersYükü!I48=\"\",0,DersYükü!I48),Tatiller!AK59),Tatiller!AK59)","v":0},{"$f":"IF(Tatiller!AL59=\"\",IF(Tatiller!$AZ$77=0,IF(DersYükü!J48=\"\",0,DersYükü!J48),Tatiller!AL59),Tatiller!AL59)","v":0},{"$f":"IF(Tatiller!AM59=\"\",IF(Tatiller!$AZ$77=0,IF(DersYükü!K48=\"\",0,DersYükü!K48),Tatiller!AM59),Tatiller!AM59)","v":0},{"$f":"IF(Tatiller!AN59=\"\",IF(Tatiller!$AZ$77=0,IF(DersYükü!L48=\"\",0,DersYükü!L48),Tatiller!AN59),Tatiller!AN59)","v":0},{"$f":"IF(Tatiller!AO59=\"\",IF(Tatiller!$AZ$77=0,IF(DersYükü!M48=\"\",0,DersYükü!M48),Tatiller!AO59),Tatiller!AO59)","v":0},{"$f":"IF(Tatiller!AP59=\"\",IF(Tatiller!$AZ$77=0,IF(DersYükü!N48=\"\",0,DersYükü!N48),Tatiller!AP59),Tatiller!AP59)","v":0},{"$f":"IF(Tatiller!AQ59=\"\",IF(Tatiller!$AZ$77=0,IF(DersYükü!O48=\"\",0,DersYükü!O48),Tatiller!AQ59),Tatiller!AQ59)","v":0},{"$f":"IF(Tatiller!AR59=\"\",IF(Tatiller!$AZ$77=0,IF(DersYükü!P48=\"\",0,DersYükü!P48),Tatiller!AR59),Tatiller!AR59)","v":0},{"$f":"IF(Tatiller!AS59=\"\",IF(Tatiller!$AZ$77=0,IF(DersYükü!Q48=\"\",0,DersYükü!Q48),Tatiller!AS59),Tatiller!AS59)","v":0},{"$f":"IF(Tatiller!AT59=\"\",IF(Tatiller!$AZ$77=0,IF(DersYükü!R48=\"\",0,DersYükü!R48),Tatiller!AT59),Tatiller!AT59)","v":0},{"$f":"IF(Tatiller!AU59=\"\",IF(Tatiller!$AZ$77=0,IF(DersYükü!S48=\"\",0,DersYükü!S48),Tatiller!AU59),Tatiller!AU59)","v":0},{"$f":"IF(Tatiller!AV59=\"\",IF(Tatiller!$AZ$77=0,IF(DersYükü!T48=\"\",0,DersYükü!T48),Tatiller!AV59),Tatiller!AV59)","v":0},{"$f":"IF(Tatiller!AW59=\"\",IF(Tatiller!$AZ$77=0,IF(DersYükü!U48=\"\",0,DersYükü!U48),Tatiller!AW59),Tatiller!AW59)","v":0},{"$f":"IF(Tatiller!AX59=\"\",IF(Tatiller!$AZ$77=0,IF(DersYükü!V48=\"\",0,DersYükü!V48),Tatiller!AX59),Tatiller!AX59)","v":0},{"$f":"IF(Tatiller!AY59=\"\",IF(Tatiller!$AZ$77=0,IF(DersYükü!W48=\"\",0,DersYükü!W48),Tatiller!AY59),Tatiller!AY59)","v":0}]
[null,"C","","",null,null,null,"10.00-11.00",null,null,null,{"$f":"IF(Tatiller!F60=\"\",IF(Tatiller!$X$77=0,IF(DersYükü!F49=\"\",0,DersYükü!F49),Tatiller!F60),Tatiller!F60)","v":0},{"$f":"IF(Tatiller!G60=\"\",IF(Tatiller!$X$77=0,IF(DersYükü!G49=\"\",0,DersYükü!G49),Tatiller!G60),Tatiller!G60)","v":0},{"$f":"IF(Tatiller!H60=\"\",IF(Tatiller!$X$77=0,IF(DersYükü!H49=\"\",0,DersYükü!H49),Tatiller!H60),Tatiller!H60)","v":0},{"$f":"IF(Tatiller!I60=\"\",IF(Tatiller!$X$77=0,IF(DersYükü!I49=\"\",0,DersYükü!I49),Tatiller!I60),Tatiller!I60)","v":0},{"$f":"IF(Tatiller!J60=\"\",IF(Tatiller!$X$77=0,IF(DersYükü!J49=\"\",0,DersYükü!J49),Tatiller!J60),Tatiller!J60)","v":0},{"$f":"IF(Tatiller!K60=\"\",IF(Tatiller!$X$77=0,IF(DersYükü!K49=\"\",0,DersYükü!K49),Tatiller!K60),Tatiller!K60)","v":0},{"$f":"IF(Tatiller!L60=\"\",IF(Tatiller!$X$77=0,IF(DersYükü!L49=\"\",0,DersYükü!L49),Tatiller!L60),Tatiller!L60)","v":0},{"$f":"IF(Tatiller!M60=\"\",IF(Tatiller!$X$77=0,IF(DersYükü!M49=\"\",0,DersYükü!M49),Tatiller!M60),Tatiller!M60)","v":0},{"$f":"IF(Tatiller!N60=\"\",IF(Tatiller!$X$77=0,IF(DersYükü!N49=\"\",0,DersYükü!N49),Tatiller!N60),Tatiller!N60)","v":0},{"$f":"IF(Tatiller!O60=\"\",IF(Tatiller!$X$77=0,IF(DersYükü!O49=\"\",0,DersYükü!O49),Tatiller!O60),Tatiller!O60)","v":0},{"$f":"IF(Tatiller!P60=\"\",IF(Tatiller!$X$77=0,IF(DersYükü!P49=\"\",0,DersYükü!P49),Tatiller!P60),Tatiller!P60)","v":0},{"$f":"IF(Tatiller!Q60=\"\",IF(Tatiller!$X$77=0,IF(DersYükü!Q49=\"\",0,DersYükü!Q49),Tatiller!Q60),Tatiller!Q60)","v":0},{"$f":"IF(Tatiller!R60=\"\",IF(Tatiller!$X$77=0,IF(DersYükü!R49=\"\",0,DersYükü!R49),Tatiller!R60),Tatiller!R60)","v":0},{"$f":"IF(Tatiller!S60=\"\",IF(Tatiller!$X$77=0,IF(DersYükü!S49=\"\",0,DersYükü!S49),Tatiller!S60),Tatiller!S60)","v":0},{"$f":"IF(Tatiller!T60=\"\",IF(Tatiller!$X$77=0,IF(DersYükü!T49=\"\",0,DersYükü!T49),Tatiller!T60),Tatiller!T60)","v":0},{"$f":"IF(Tatiller!U60=\"\",IF(Tatiller!$X$77=0,IF(DersYükü!U49=\"\",0,DersYükü!U49),Tatiller!U60),Tatiller!U60)","v":0},{"$f":"IF(Tatiller!V60=\"\",IF(Tatiller!$X$77=0,IF(DersYükü!V49=\"\",0,DersYükü!V49),Tatiller!V60),Tatiller!V60)","v":0},{"$f":"IF(Tatiller!W60=\"\",IF(Tatiller!$X$77=0,IF(DersYükü!W49=\"\",0,DersYükü!W49),Tatiller!W60),Tatiller!W60)","v":0},null,null,null,"C","","",null,null,null,"10.00-11.00",null,null,null,{"$f":"IF(Tatiller!AH60=\"\",IF(Tatiller!$AZ$77=0,IF(DersYükü!F49=\"\",0,DersYükü!F49),Tatiller!AH60),Tatiller!AH60)","v":0},{"$f":"IF(Tatiller!AI60=\"\",IF(Tatiller!$AZ$77=0,IF(DersYükü!G49=\"\",0,DersYükü!G49),Tatiller!AI60),Tatiller!AI60)","v":0},{"$f":"IF(Tatiller!AJ60=\"\",IF(Tatiller!$AZ$77=0,IF(DersYükü!H49=\"\",0,DersYükü!H49),Tatiller!AJ60),Tatiller!AJ60)","v":0},{"$f":"IF(Tatiller!AK60=\"\",IF(Tatiller!$AZ$77=0,IF(DersYükü!I49=\"\",0,DersYükü!I49),Tatiller!AK60),Tatiller!AK60)","v":0},{"$f":"IF(Tatiller!AL60=\"\",IF(Tatiller!$AZ$77=0,IF(DersYükü!J49=\"\",0,DersYükü!J49),Tatiller!AL60),Tatiller!AL60)","v":0},{"$f":"IF(Tatiller!AM60=\"\",IF(Tatiller!$AZ$77=0,IF(DersYükü!K49=\"\",0,DersYükü!K49),Tatiller!AM60),Tatiller!AM60)","v":0},{"$f":"IF(Tatiller!AN60=\"\",IF(Tatiller!$AZ$77=0,IF(DersYükü!L49=\"\",0,DersYükü!L49),Tatiller!AN60),Tatiller!AN60)","v":0},{"$f":"IF(Tatiller!AO60=\"\",IF(Tatiller!$AZ$77=0,IF(DersYükü!M49=\"\",0,DersYükü!M49),Tatiller!AO60),Tatiller!AO60)","v":0},{"$f":"IF(Tatiller!AP60=\"\",IF(Tatiller!$AZ$77=0,IF(DersYükü!N49=\"\",0,DersYükü!N49),Tatiller!AP60),Tatiller!AP60)","v":0},{"$f":"IF(Tatiller!AQ60=\"\",IF(Tatiller!$AZ$77=0,IF(DersYükü!O49=\"\",0,DersYükü!O49),Tatiller!AQ60),Tatiller!AQ60)","v":0},{"$f":"IF(Tatiller!AR60=\"\",IF(Tatiller!$AZ$77=0,IF(DersYükü!P49=\"\",0,DersYükü!P49),Tatiller!AR60),Tatiller!AR60)","v":0},{"$f":"IF(Tatiller!AS60=\"\",IF(Tatiller!$AZ$77=0,IF(DersYükü!Q49=\"\",0,DersYükü!Q49),Tatiller!AS60),Tatiller!AS60)","v":0},{"$f":"IF(Tatiller!AT60=\"\",IF(Tatiller!$AZ$77=0,IF(DersYükü!R49=\"\",0,DersYükü!R49),Tatiller!AT60),Tatiller!AT60)","v":0},{"$f":"IF(Tatiller!AU60=\"\",IF(Tatiller!$AZ$77=0,IF(DersYükü!S49=\"\",0,DersYükü!S49),Tatiller!AU60),Tatiller!AU60)","v":0},{"$f":"IF(Tatiller!AV60=\"\",IF(Tatiller!$AZ$77=0,IF(DersYükü!T49=\"\",0,DersYükü!T49),Tatiller!AV60),Tatiller!AV60)","v":0},{"$f":"IF(Tatiller!AW60=\"\",IF(Tatiller!$AZ$77=0,IF(DersYükü!U49=\"\",0,DersYükü!U49),Tatiller!AW60),Tatiller!AW60)","v":0},{"$f":"IF(Tatiller!AX60=\"\",IF(Tatiller!$AZ$77=0,IF(DersYükü!V49=\"\",0,DersYükü!V49),Tatiller!AX60),Tatiller!AX60)","v":0},{"$f":"IF(Tatiller!AY60=\"\",IF(Tatiller!$AZ$77=0,IF(DersYükü!W49=\"\",0,DersYükü!W49),Tatiller!AY60),Tatiller!AY60)","v":0}]
[null,"D","","",null,null,null,"11.00-12.00",null,null,null,{"$f":"IF(Tatiller!F61=\"\",IF(Tatiller!$X$77=0,IF(DersYükü!F50=\"\",0,DersYükü!F50),Tatiller!F61),Tatiller!F61)","v":0},{"$f":"IF(Tatiller!G61=\"\",IF(Tatiller!$X$77=0,IF(DersYükü!G50=\"\",0,DersYükü!G50),Tatiller!G61),Tatiller!G61)","v":0},{"$f":"IF(Tatiller!H61=\"\",IF(Tatiller!$X$77=0,IF(DersYükü!H50=\"\",0,DersYükü!H50),Tatiller!H61),Tatiller!H61)","v":0},{"$f":"IF(Tatiller!I61=\"\",IF(Tatiller!$X$77=0,IF(DersYükü!I50=\"\",0,DersYükü!I50),Tatiller!I61),Tatiller!I61)","v":0},{"$f":"IF(Tatiller!J61=\"\",IF(Tatiller!$X$77=0,IF(DersYükü!J50=\"\",0,DersYükü!J50),Tatiller!J61),Tatiller!J61)","v":0},{"$f":"IF(Tatiller!K61=\"\",IF(Tatiller!$X$77=0,IF(DersYükü!K50=\"\",0,DersYükü!K50),Tatiller!K61),Tatiller!K61)","v":0},{"$f":"IF(Tatiller!L61=\"\",IF(Tatiller!$X$77=0,IF(DersYükü!L50=\"\",0,DersYükü!L50),Tatiller!L61),Tatiller!L61)","v":0},{"$f":"IF(Tatiller!M61=\"\",IF(Tatiller!$X$77=0,IF(DersYükü!M50=\"\",0,DersYükü!M50),Tatiller!M61),Tatiller!M61)","v":0},{"$f":"IF(Tatiller!N61=\"\",IF(Tatiller!$X$77=0,IF(DersYükü!N50=\"\",0,DersYükü!N50),Tatiller!N61),Tatiller!N61)","v":0},{"$f":"IF(Tatiller!O61=\"\",IF(Tatiller!$X$77=0,IF(DersYükü!O50=\"\",0,DersYükü!O50),Tatiller!O61),Tatiller!O61)","v":0},{"$f":"IF(Tatiller!P61=\"\",IF(Tatiller!$X$77=0,IF(DersYükü!P50=\"\",0,DersYükü!P50),Tatiller!P61),Tatiller!P61)","v":0},{"$f":"IF(Tatiller!Q61=\"\",IF(Tatiller!$X$77=0,IF(DersYükü!Q50=\"\",0,DersYükü!Q50),Tatiller!Q61),Tatiller!Q61)","v":0},{"$f":"IF(Tatiller!R61=\"\",IF(Tatiller!$X$77=0,IF(DersYükü!R50=\"\",0,DersYükü!R50),Tatiller!R61),Tatiller!R61)","v":0},{"$f":"IF(Tatiller!S61=\"\",IF(Tatiller!$X$77=0,IF(DersYükü!S50=\"\",0,DersYükü!S50),Tatiller!S61),Tatiller!S61)","v":0},{"$f":"IF(Tatiller!T61=\"\",IF(Tatiller!$X$77=0,IF(DersYükü!T50=\"\",0,DersYükü!T50),Tatiller!T61),Tatiller!T61)","v":0},{"$f":"IF(Tatiller!U61=\"\",IF(Tatiller!$X$77=0,IF(DersYükü!U50=\"\",0,DersYükü!U50),Tatiller!U61),Tatiller!U61)","v":0},{"$f":"IF(Tatiller!V61=\"\",IF(Tatiller!$X$77=0,IF(DersYükü!V50=\"\",0,DersYükü!V50),Tatiller!V61),Tatiller!V61)","v":0},{"$f":"IF(Tatiller!W61=\"\",IF(Tatiller!$X$77=0,IF(DersYükü!W50=\"\",0,DersYükü!W50),Tatiller!W61),Tatiller!W61)","v":0},null,null,null,"D","","",null,null,null,"11.00-12.00",null,null,null,{"$f":"IF(Tatiller!AH61=\"\",IF(Tatiller!$AZ$77=0,IF(DersYükü!F50=\"\",0,DersYükü!F50),Tatiller!AH61),Tatiller!AH61)","v":0},{"$f":"IF(Tatiller!AI61=\"\",IF(Tatiller!$AZ$77=0,IF(DersYükü!G50=\"\",0,DersYükü!G50),Tatiller!AI61),Tatiller!AI61)","v":0},{"$f":"IF(Tatiller!AJ61=\"\",IF(Tatiller!$AZ$77=0,IF(DersYükü!H50=\"\",0,DersYükü!H50),Tatiller!AJ61),Tatiller!AJ61)","v":0},{"$f":"IF(Tatiller!AK61=\"\",IF(Tatiller!$AZ$77=0,IF(DersYükü!I50=\"\",0,DersYükü!I50),Tatiller!AK61),Tatiller!AK61)","v":0},{"$f":"IF(Tatiller!AL61=\"\",IF(Tatiller!$AZ$77=0,IF(DersYükü!J50=\"\",0,DersYükü!J50),Tatiller!AL61),Tatiller!AL61)","v":0},{"$f":"IF(Tatiller!AM61=\"\",IF(Tatiller!$AZ$77=0,IF(DersYükü!K50=\"\",0,DersYükü!K50),Tatiller!AM61),Tatiller!AM61)","v":0},{"$f":"IF(Tatiller!AN61=\"\",IF(Tatiller!$AZ$77=0,IF(DersYükü!L50=\"\",0,DersYükü!L50),Tatiller!AN61),Tatiller!AN61)","v":0},{"$f":"IF(Tatiller!AO61=\"\",IF(Tatiller!$AZ$77=0,IF(DersYükü!M50=\"\",0,DersYükü!M50),Tatiller!AO61),Tatiller!AO61)","v":0},{"$f":"IF(Tatiller!AP61=\"\",IF(Tatiller!$AZ$77=0,IF(DersYükü!N50=\"\",0,DersYükü!N50),Tatiller!AP61),Tatiller!AP61)","v":0},{"$f":"IF(Tatiller!AQ61=\"\",IF(Tatiller!$AZ$77=0,IF(DersYükü!O50=\"\",0,DersYükü!O50),Tatiller!AQ61),Tatiller!AQ61)","v":0},{"$f":"IF(Tatiller!AR61=\"\",IF(Tatiller!$AZ$77=0,IF(DersYükü!P50=\"\",0,DersYükü!P50),Tatiller!AR61),Tatiller!AR61)","v":0},{"$f":"IF(Tatiller!AS61=\"\",IF(Tatiller!$AZ$77=0,IF(DersYükü!Q50=\"\",0,DersYükü!Q50),Tatiller!AS61),Tatiller!AS61)","v":0},{"$f":"IF(Tatiller!AT61=\"\",IF(Tatiller!$AZ$77=0,IF(DersYükü!R50=\"\",0,DersYükü!R50),Tatiller!AT61),Tatiller!AT61)","v":0},{"$f":"IF(Tatiller!AU61=\"\",IF(Tatiller!$AZ$77=0,IF(DersYükü!S50=\"\",0,DersYükü!S50),Tatiller!AU61),Tatiller!AU61)","v":0},{"$f":"IF(Tatiller!AV61=\"\",IF(Tatiller!$AZ$77=0,IF(DersYükü!T50=\"\",0,DersYükü!T50),Tatiller!AV61),Tatiller!AV61)","v":0},{"$f":"IF(Tatiller!AW61=\"\",IF(Tatiller!$AZ$77=0,IF(DersYükü!U50=\"\",0,DersYükü!U50),Tatiller!AW61),Tatiller!AW61)","v":0},{"$f":"IF(Tatiller!AX61=\"\",IF(Tatiller!$AZ$77=0,IF(DersYükü!V50=\"\",0,DersYükü!V50),Tatiller!AX61),Tatiller!AX61)","v":0},{"$f":"IF(Tatiller!AY61=\"\",IF(Tatiller!$AZ$77=0,IF(DersYükü!W50=\"\",0,DersYükü!W50),Tatiller!AY61),Tatiller!AY61)","v":0}]
[null,"E","","",null,null,null,"12.00-13.00",null,null,null,{"$f":"IF(Tatiller!F62=\"\",IF(Tatiller!$X$77=0,IF(DersYükü!F51=\"\",0,DersYükü!F51),Tatiller!F62),Tatiller!F62)","v":0},{"$f":"IF(Tatiller!G62=\"\",IF(Tatiller!$X$77=0,IF(DersYükü!G51=\"\",0,DersYükü!G51),Tatiller!G62),Tatiller!G62)","v":0},{"$f":"IF(Tatiller!H62=\"\",IF(Tatiller!$X$77=0,IF(DersYükü!H51=\"\",0,DersYükü!H51),Tatiller!H62),Tatiller!H62)","v":0},{"$f":"IF(Tatiller!I62=\"\",IF(Tatiller!$X$77=0,IF(DersYükü!I51=\"\",0,DersYükü!I51),Tatiller!I62),Tatiller!I62)","v":0},{"$f":"IF(Tatiller!J62=\"\",IF(Tatiller!$X$77=0,IF(DersYükü!J51=\"\",0,DersYükü!J51),Tatiller!J62),Tatiller!J62)","v":0},{"$f":"IF(Tatiller!K62=\"\",IF(Tatiller!$X$77=0,IF(DersYükü!K51=\"\",0,DersYükü!K51),Tatiller!K62),Tatiller!K62)","v":0},{"$f":"IF(Tatiller!L62=\"\",IF(Tatiller!$X$77=0,IF(DersYükü!L51=\"\",0,DersYükü!L51),Tatiller!L62),Tatiller!L62)","v":0},{"$f":"IF(Tatiller!M62=\"\",IF(Tatiller!$X$77=0,IF(DersYükü!M51=\"\",0,DersYükü!M51),Tatiller!M62),Tatiller!M62)","v":0},{"$f":"IF(Tatiller!N62=\"\",IF(Tatiller!$X$77=0,IF(DersYükü!N51=\"\",0,DersYükü!N51),Tatiller!N62),Tatiller!N62)","v":0},{"$f":"IF(Tatiller!O62=\"\",IF(Tatiller!$X$77=0,IF(DersYükü!O51=\"\",0,DersYükü!O51),Tatiller!O62),Tatiller!O62)","v":0},{"$f":"IF(Tatiller!P62=\"\",IF(Tatiller!$X$77=0,IF(DersYükü!P51=\"\",0,DersYükü!P51),Tatiller!P62),Tatiller!P62)","v":0},{"$f":"IF(Tatiller!Q62=\"\",IF(Tatiller!$X$77=0,IF(DersYükü!Q51=\"\",0,DersYükü!Q51),Tatiller!Q62),Tatiller!Q62)","v":0},{"$f":"IF(Tatiller!R62=\"\",IF(Tatiller!$X$77=0,IF(DersYükü!R51=\"\",0,DersYükü!R51),Tatiller!R62),Tatiller!R62)","v":0},{"$f":"IF(Tatiller!S62=\"\",IF(Tatiller!$X$77=0,IF(DersYükü!S51=\"\",0,DersYükü!S51),Tatiller!S62),Tatiller!S62)","v":0},{"$f":"IF(Tatiller!T62=\"\",IF(Tatiller!$X$77=0,IF(DersYükü!T51=\"\",0,DersYükü!T51),Tatiller!T62),Tatiller!T62)","v":0},{"$f":"IF(Tatiller!U62=\"\",IF(Tatiller!$X$77=0,IF(DersYükü!U51=\"\",0,DersYükü!U51),Tatiller!U62),Tatiller!U62)","v":0},{"$f":"IF(Tatiller!V62=\"\",IF(Tatiller!$X$77=0,IF(DersYükü!V51=\"\",0,DersYükü!V51),Tatiller!V62),Tatiller!V62)","v":0},{"$f":"IF(Tatiller!W62=\"\",IF(Tatiller!$X$77=0,IF(DersYükü!W51=\"\",0,DersYükü!W51),Tatiller!W62),Tatiller!W62)","v":0},null,null,null,"E","","",null,null,null,"12.00-13.00",null,null,null,{"$f":"IF(Tatiller!AH62=\"\",IF(Tatiller!$AZ$77=0,IF(DersYükü!F51=\"\",0,DersYükü!F51),Tatiller!AH62),Tatiller!AH62)","v":0},{"$f":"IF(Tatiller!AI62=\"\",IF(Tatiller!$AZ$77=0,IF(DersYükü!G51=\"\",0,DersYükü!G51),Tatiller!AI62),Tatiller!AI62)","v":0},{"$f":"IF(Tatiller!AJ62=\"\",IF(Tatiller!$AZ$77=0,IF(DersYükü!H51=\"\",0,DersYükü!H51),Tatiller!AJ62),Tatiller!AJ62)","v":0},{"$f":"IF(Tatiller!AK62=\"\",IF(Tatiller!$AZ$77=0,IF(DersYükü!I51=\"\",0,DersYükü!I51),Tatiller!AK62),Tatiller!AK62)","v":0},{"$f":"IF(Tatiller!AL62=\"\",IF(Tatiller!$AZ$77=0,IF(DersYükü!J51=\"\",0,DersYükü!J51),Tatiller!AL62),Tatiller!AL62)","v":0},{"$f":"IF(Tatiller!AM62=\"\",IF(Tatiller!$AZ$77=0,IF(DersYükü!K51=\"\",0,DersYükü!K51),Tatiller!AM62),Tatiller!AM62)","v":0},{"$f":"IF(Tatiller!AN62=\"\",IF(Tatiller!$AZ$77=0,IF(DersYükü!L51=\"\",0,DersYükü!L51),Tatiller!AN62),Tatiller!AN62)","v":0},{"$f":"IF(Tatiller!AO62=\"\",IF(Tatiller!$AZ$77=0,IF(DersYükü!M51=\"\",0,DersYükü!M51),Tatiller!AO62),Tatiller!AO62)","v":0},{"$f":"IF(Tatiller!AP62=\"\",IF(Tatiller!$AZ$77=0,IF(DersYükü!N51=\"\",0,DersYükü!N51),Tatiller!AP62),Tatiller!AP62)","v":0},{"$f":"IF(Tatiller!AQ62=\"\",IF(Tatiller!$AZ$77=0,IF(DersYükü!O51=\"\",0,DersYükü!O51),Tatiller!AQ62),Tatiller!AQ62)","v":0},{"$f":"IF(Tatiller!AR62=\"\",IF(Tatiller!$AZ$77=0,IF(DersYükü!P51=\"\",0,DersYükü!P51),Tatiller!AR62),Tatiller!AR62)","v":0},{"$f":"IF(Tatiller!AS62=\"\",IF(Tatiller!$AZ$77=0,IF(DersYükü!Q51=\"\",0,DersYükü!Q51),Tatiller!AS62),Tatiller!AS62)","v":0},{"$f":"IF(Tatiller!AT62=\"\",IF(Tatiller!$AZ$77=0,IF(DersYükü!R51=\"\",0,DersYükü!R51),Tatiller!AT62),Tatiller!AT62)","v":0},{"$f":"IF(Tatiller!AU62=\"\",IF(Tatiller!$AZ$77=0,IF(DersYükü!S51=\"\",0,DersYükü!S51),Tatiller!AU62),Tatiller!AU62)","v":0},{"$f":"IF(Tatiller!AV62=\"\",IF(Tatiller!$AZ$77=0,IF(DersYükü!T51=\"\",0,DersYükü!T51),Tatiller!AV62),Tatiller!AV62)","v":0},{"$f":"IF(Tatiller!AW62=\"\",IF(Tatiller!$AZ$77=0,IF(DersYükü!U51=\"\",0,DersYükü!U51),Tatiller!AW62),Tatiller!AW62)","v":0},{"$f":"IF(Tatiller!AX62=\"\",IF(Tatiller!$AZ$77=0,IF(DersYükü!V51=\"\",0,DersYükü!V51),Tatiller!AX62),Tatiller!AX62)","v":0},{"$f":"IF(Tatiller!AY62=\"\",IF(Tatiller!$AZ$77=0,IF(DersYükü!W51=\"\",0,DersYükü!W51),Tatiller!AY62),Tatiller!AY62)","v":0}]
[null,"F","","",null,null,null,"13.00-14.00",null,null,null,{"$f":"IF(Tatiller!F63=\"\",IF(Tatiller!$X$77=0,IF(DersYükü!F52=\"\",0,DersYükü!F52),Tatiller!F63),Tatiller!F63)","v":0},{"$f":"IF(Tatiller!G63=\"\",IF(Tatiller!$X$77=0,IF(DersYükü!G52=\"\",0,DersYükü!G52),Tatiller!G63),Tatiller!G63)","v":0},{"$f":"IF(Tatiller!H63=\"\",IF(Tatiller!$X$77=0,IF(DersYükü!H52=\"\",0,DersYükü!H52),Tatiller!H63),Tatiller!H63)","v":0},{"$f":"IF(Tatiller!I63=\"\",IF(Tatiller!$X$77=0,IF(DersYükü!I52=\"\",0,DersYükü!I52),Tatiller!I63),Tatiller!I63)","v":0},{"$f":"IF(Tatiller!J63=\"\",IF(Tatiller!$X$77=0,IF(DersYükü!J52=\"\",0,DersYükü!J52),Tatiller!J63),Tatiller!J63)","v":0},{"$f":"IF(Tatiller!K63=\"\",IF(Tatiller!$X$77=0,IF(DersYükü!K52=\"\",0,DersYükü!K52),Tatiller!K63),Tatiller!K63)","v":0},{"$f":"IF(Tatiller!L63=\"\",IF(Tatiller!$X$77=0,IF(DersYükü!L52=\"\",0,DersYükü!L52),Tatiller!L63),Tatiller!L63)","v":0},{"$f":"IF(Tatiller!M63=\"\",IF(Tatiller!$X$77=0,IF(DersYükü!M52=\"\",0,DersYükü!M52),Tatiller!M63),Tatiller!M63)","v":0},{"$f":"IF(Tatiller!N63=\"\",IF(Tatiller!$X$77=0,IF(DersYükü!N52=\"\",0,DersYükü!N52),Tatiller!N63),Tatiller!N63)","v":0},{"$f":"IF(Tatiller!O63=\"\",IF(Tatiller!$X$77=0,IF(DersYükü!O52=\"\",0,DersYükü!O52),Tatiller!O63),Tatiller!O63)","v":0},{"$f":"IF(Tatiller!P63=\"\",IF(Tatiller!$X$77=0,IF(DersYükü!P52=\"\",0,DersYükü!P52),Tatiller!P63),Tatiller!P63)","v":0},{"$f":"IF(Tatiller!Q63=\"\",IF(Tatiller!$X$77=0,IF(DersYükü!Q52=\"\",0,DersYükü!Q52),Tatiller!Q63),Tatiller!Q63)","v":0},{"$f":"IF(Tatiller!R63=\"\",IF(Tatiller!$X$77=0,IF(DersYükü!R52=\"\",0,DersYükü!R52),Tatiller!R63),Tatiller!R63)","v":0},{"$f":"IF(Tatiller!S63=\"\",IF(Tatiller!$X$77=0,IF(DersYükü!S52=\"\",0,DersYükü!S52),Tatiller!S63),Tatiller!S63)","v":0},{"$f":"IF(Tatiller!T63=\"\",IF(Tatiller!$X$77=0,IF(DersYükü!T52=\"\",0,DersYükü!T52),Tatiller!T63),Tatiller!T63)","v":0},{"$f":"IF(Tatiller!U63=\"\",IF(Tatiller!$X$77=0,IF(DersYükü!U52=\"\",0,DersYükü!U52),Tatiller!U63),Tatiller!U63)","v":0},{"$f":"IF(Tatiller!V63=\"\",IF(Tatiller!$X$77=0,IF(DersYükü!V52=\"\",0,DersYükü!V52),Tatiller!V63),Tatiller!V63)","v":0},{"$f":"IF(Tatiller!W63=\"\",IF(Tatiller!$X$77=0,IF(DersYükü!W52=\"\",0,DersYükü!W52),Tatiller!W63),Tatiller!W63)","v":0},null,null,null,"F","","",null,null,null,"13.00-14.00",null,null,null,{"$f":"IF(Tatiller!AH63=\"\",IF(Tatiller!$AZ$77=0,IF(DersYükü!F52=\"\",0,DersYükü!F52),Tatiller!AH63),Tatiller!AH63)","v":0},{"$f":"IF(Tatiller!AI63=\"\",IF(Tatiller!$AZ$77=0,IF(DersYükü!G52=\"\",0,DersYükü!G52),Tatiller!AI63),Tatiller!AI63)","v":0},{"$f":"IF(Tatiller!AJ63=\"\",IF(Tatiller!$AZ$77=0,IF(DersYükü!H52=\"\",0,DersYükü!H52),Tatiller!AJ63),Tatiller!AJ63)","v":0},{"$f":"IF(Tatiller!AK63=\"\",IF(Tatiller!$AZ$77=0,IF(DersYükü!I52=\"\",0,DersYükü!I52),Tatiller!AK63),Tatiller!AK63)","v":0},{"$f":"IF(Tatiller!AL63=\"\",IF(Tatiller!$AZ$77=0,IF(DersYükü!J52=\"\",0,DersYükü!J52),Tatiller!AL63),Tatiller!AL63)","v":0},{"$f":"IF(Tatiller!AM63=\"\",IF(Tatiller!$AZ$77=0,IF(DersYükü!K52=\"\",0,DersYükü!K52),Tatiller!AM63),Tatiller!AM63)","v":0},{"$f":"IF(Tatiller!AN63=\"\",IF(Tatiller!$AZ$77=0,IF(DersYükü!L52=\"\",0,DersYükü!L52),Tatiller!AN63),Tatiller!AN63)","v":0},{"$f":"IF(Tatiller!AO63=\"\",IF(Tatiller!$AZ$77=0,IF(DersYükü!M52=\"\",0,DersYükü!M52),Tatiller!AO63),Tatiller!AO63)","v":0},{"$f":"IF(Tatiller!AP63=\"\",IF(Tatiller!$AZ$77=0,IF(DersYükü!N52=\"\",0,DersYükü!N52),Tatiller!AP63),Tatiller!AP63)","v":0},{"$f":"IF(Tatiller!AQ63=\"\",IF(Tatiller!$AZ$77=0,IF(DersYükü!O52=\"\",0,DersYükü!O52),Tatiller!AQ63),Tatiller!AQ63)","v":0},{"$f":"IF(Tatiller!AR63=\"\",IF(Tatiller!$AZ$77=0,IF(DersYükü!P52=\"\",0,DersYükü!P52),Tatiller!AR63),Tatiller!AR63)","v":0},{"$f":"IF(Tatiller!AS63=\"\",IF(Tatiller!$AZ$77=0,IF(DersYükü!Q52=\"\",0,DersYükü!Q52),Tatiller!AS63),Tatiller!AS63)","v":0},{"$f":"IF(Tatiller!AT63=\"\",IF(Tatiller!$AZ$77=0,IF(DersYükü!R52=\"\",0,DersYükü!R52),Tatiller!AT63),Tatiller!AT63)","v":0},{"$f":"IF(Tatiller!AU63=\"\",IF(Tatiller!$AZ$77=0,IF(DersYükü!S52=\"\",0,DersYükü!S52),Tatiller!AU63),Tatiller!AU63)","v":0},{"$f":"IF(Tatiller!AV63=\"\",IF(Tatiller!$AZ$77=0,IF(DersYükü!T52=\"\",0,DersYükü!T52),Tatiller!AV63),Tatiller!AV63)","v":0},{"$f":"IF(Tatiller!AW63=\"\",IF(Tatiller!$AZ$77=0,IF(DersYükü!U52=\"\",0,DersYükü!U52),Tatiller!AW63),Tatiller!AW63)","v":0},{"$f":"IF(Tatiller!AX63=\"\",IF(Tatiller!$AZ$77=0,IF(DersYükü!V52=\"\",0,DersYükü!V52),Tatiller!AX63),Tatiller!AX63)","v":0},{"$f":"IF(Tatiller!AY63=\"\",IF(Tatiller!$AZ$77=0,IF(DersYükü!W52=\"\",0,DersYükü!W52),Tatiller!AY63),Tatiller!AY63)","v":0}]
[null,"G","","",null,null,null,"14.00-15.00",null,null,null,{"$f":"IF(Tatiller!F64=\"\",IF(Tatiller!$X$77=0,IF(DersYükü!F53=\"\",0,DersYükü!F53),Tatiller!F64),Tatiller!F64)","v":0},{"$f":"IF(Tatiller!G64=\"\",IF(Tatiller!$X$77=0,IF(DersYükü!G53=\"\",0,DersYükü!G53),Tatiller!G64),Tatiller!G64)","v":0},{"$f":"IF(Tatiller!H64=\"\",IF(Tatiller!$X$77=0,IF(DersYükü!H53=\"\",0,DersYükü!H53),Tatiller!H64),Tatiller!H64)","v":0},{"$f":"IF(Tatiller!I64=\"\",IF(Tatiller!$X$77=0,IF(DersYükü!I53=\"\",0,DersYükü!I53),Tatiller!I64),Tatiller!I64)","v":0},{"$f":"IF(Tatiller!J64=\"\",IF(Tatiller!$X$77=0,IF(DersYükü!J53=\"\",0,DersYükü!J53),Tatiller!J64),Tatiller!J64)","v":0},{"$f":"IF(Tatiller!K64=\"\",IF(Tatiller!$X$77=0,IF(DersYükü!K53=\"\",0,DersYükü!K53),Tatiller!K64),Tatiller!K64)","v":0},{"$f":"IF(Tatiller!L64=\"\",IF(Tatiller!$X$77=0,IF(DersYükü!L53=\"\",0,DersYükü!L53),Tatiller!L64),Tatiller!L64)","v":0},{"$f":"IF(Tatiller!M64=\"\",IF(Tatiller!$X$77=0,IF(DersYükü!M53=\"\",0,DersYükü!M53),Tatiller!M64),Tatiller!M64)","v":0},{"$f":"IF(Tatiller!N64=\"\",IF(Tatiller!$X$77=0,IF(DersYükü!N53=\"\",0,DersYükü!N53),Tatiller!N64),Tatiller!N64)","v":0},{"$f":"IF(Tatiller!O64=\"\",IF(Tatiller!$X$77=0,IF(DersYükü!O53=\"\",0,DersYükü!O53),Tatiller!O64),Tatiller!O64)","v":0},{"$f":"IF(Tatiller!P64=\"\",IF(Tatiller!$X$77=0,IF(DersYükü!P53=\"\",0,DersYükü!P53),Tatiller!P64),Tatiller!P64)","v":0},{"$f":"IF(Tatiller!Q64=\"\",IF(Tatiller!$X$77=0,IF(DersYükü!Q53=\"\",0,DersYükü!Q53),Tatiller!Q64),Tatiller!Q64)","v":0},{"$f":"IF(Tatiller!R64=\"\",IF(Tatiller!$X$77=0,IF(DersYükü!R53=\"\",0,DersYükü!R53),Tatiller!R64),Tatiller!R64)","v":0},{"$f":"IF(Tatiller!S64=\"\",IF(Tatiller!$X$77=0,IF(DersYükü!S53=\"\",0,DersYükü!S53),Tatiller!S64),Tatiller!S64)","v":0},{"$f":"IF(Tatiller!T64=\"\",IF(Tatiller!$X$77=0,IF(DersYükü!T53=\"\",0,DersYükü!T53),Tatiller!T64),Tatiller!T64)","v":0},{"$f":"IF(Tatiller!U64=\"\",IF(Tatiller!$X$77=0,IF(DersYükü!U53=\"\",0,DersYükü!U53),Tatiller!U64),Tatiller!U64)","v":0},{"$f":"IF(Tatiller!V64=\"\",IF(Tatiller!$X$77=0,IF(DersYükü!V53=\"\",0,DersYükü!V53),Tatiller!V64),Tatiller!V64)","v":0},{"$f":"IF(Tatiller!W64=\"\",IF(Tatiller!$X$77=0,IF(DersYükü!W53=\"\",0,DersYükü!W53),Tatiller!W64),Tatiller!W64)","v":0},null,null,null,"G","","",null,null,null,"14.00-15.00",null,null,null,{"$f":"IF(Tatiller!AH64=\"\",IF(Tatiller!$AZ$77=0,IF(DersYükü!F53=\"\",0,DersYükü!F53),Tatiller!AH64),Tatiller!AH64)","v":0},{"$f":"IF(Tatiller!AI64=\"\",IF(Tatiller!$AZ$77=0,IF(DersYükü!G53=\"\",0,DersYükü!G53),Tatiller!AI64),Tatiller!AI64)","v":0},{"$f":"IF(Tatiller!AJ64=\"\",IF(Tatiller!$AZ$77=0,IF(DersYükü!H53=\"\",0,DersYükü!H53),Tatiller!AJ64),Tatiller!AJ64)","v":0},{"$f":"IF(Tatiller!AK64=\"\",IF(Tatiller!$AZ$77=0,IF(DersYükü!I53=\"\",0,DersYükü!I53),Tatiller!AK64),Tatiller!AK64)","v":0},{"$f":"IF(Tatiller!AL64=\"\",IF(Tatiller!$AZ$77=0,IF(DersYükü!J53=\"\",0,DersYükü!J53),Tatiller!AL64),Tatiller!AL64)","v":0},{"$f":"IF(Tatiller!AM64=\"\",IF(Tatiller!$AZ$77=0,IF(DersYükü!K53=\"\",0,DersYükü!K53),Tatiller!AM64),Tatiller!AM64)","v":0},{"$f":"IF(Tatiller!AN64=\"\",IF(Tatiller!$AZ$77=0,IF(DersYükü!L53=\"\",0,DersYükü!L53),Tatiller!AN64),Tatiller!AN64)","v":0},{"$f":"IF(Tatiller!AO64=\"\",IF(Tatiller!$AZ$77=0,IF(DersYükü!M53=\"\",0,DersYükü!M53),Tatiller!AO64),Tatiller!AO64)","v":0},{"$f":"IF(Tatiller!AP64=\"\",IF(Tatiller!$AZ$77=0,IF(DersYükü!N53=\"\",0,DersYükü!N53),Tatiller!AP64),Tatiller!AP64)","v":0},{"$f":"IF(Tatiller!AQ64=\"\",IF(Tatiller!$AZ$77=0,IF(DersYükü!O53=\"\",0,DersYükü!O53),Tatiller!AQ64),Tatiller!AQ64)","v":0},{"$f":"IF(Tatiller!AR64=\"\",IF(Tatiller!$AZ$77=0,IF(DersYükü!P53=\"\",0,DersYükü!P53),Tatiller!AR64),Tatiller!AR64)","v":0},{"$f":"IF(Tatiller!AS64=\"\",IF(Tatiller!$AZ$77=0,IF(DersYükü!Q53=\"\",0,DersYükü!Q53),Tatiller!AS64),Tatiller!AS64)","v":0},{"$f":"IF(Tatiller!AT64=\"\",IF(Tatiller!$AZ$77=0,IF(DersYükü!R53=\"\",0,DersYükü!R53),Tatiller!AT64),Tatiller!AT64)","v":0},{"$f":"IF(Tatiller!AU64=\"\",IF(Tatiller!$AZ$77=0,IF(DersYükü!S53=\"\",0,DersYükü!S53),Tatiller!AU64),Tatiller!AU64)","v":0},{"$f":"IF(Tatiller!AV64=\"\",IF(Tatiller!$AZ$77=0,IF(DersYükü!T53=\"\",0,DersYükü!T53),Tatiller!AV64),Tatiller!AV64)","v":0},{"$f":"IF(Tatiller!AW64=\"\",IF(Tatiller!$AZ$77=0,IF(DersYükü!U53=\"\",0,DersYükü!U53),Tatiller!AW64),Tatiller!AW64)","v":0},{"$f":"IF(Tatiller!AX64=\"\",IF(Tatiller!$AZ$77=0,IF(DersYükü!V53=\"\",0,DersYükü!V53),Tatiller!AX64),Tatiller!AX64)","v":0},{"$f":"IF(Tatiller!AY64=\"\",IF(Tatiller!$AZ$77=0,IF(DersYükü!W53=\"\",0,DersYükü!W53),Tatiller!AY64),Tatiller!AY64)","v":0}]
[null,"H","","",null,null,null,"15.00-16.00",null,null,null,{"$f":"IF(Tatiller!F65=\"\",IF(Tatiller!$X$77=0,IF(DersYükü!F54=\"\",0,DersYükü!F54),Tatiller!F65),Tatiller!F65)","v":0},{"$f":"IF(Tatiller!G65=\"\",IF(Tatiller!$X$77=0,IF(DersYükü!G54=\"\",0,DersYükü!G54),Tatiller!G65),Tatiller!G65)","v":0},{"$f":"IF(Tatiller!H65=\"\",IF(Tatiller!$X$77=0,IF(DersYükü!H54=\"\",0,DersYükü!H54),Tatiller!H65),Tatiller!H65)","v":0},{"$f":"IF(Tatiller!I65=\"\",IF(Tatiller!$X$77=0,IF(DersYükü!I54=\"\",0,DersYükü!I54),Tatiller!I65),Tatiller!I65)","v":0},{"$f":"IF(Tatiller!J65=\"\",IF(Tatiller!$X$77=0,IF(DersYükü!J54=\"\",0,DersYükü!J54),Tatiller!J65),Tatiller!J65)","v":0},{"$f":"IF(Tatiller!K65=\"\",IF(Tatiller!$X$77=0,IF(DersYükü!K54=\"\",0,DersYükü!K54),Tatiller!K65),Tatiller!K65)","v":0},{"$f":"IF(Tatiller!L65=\"\",IF(Tatiller!$X$77=0,IF(DersYükü!L54=\"\",0,DersYükü!L54),Tatiller!L65),Tatiller!L65)","v":0},{"$f":"IF(Tatiller!M65=\"\",IF(Tatiller!$X$77=0,IF(DersYükü!M54=\"\",0,DersYükü!M54),Tatiller!M65),Tatiller!M65)","v":0},{"$f":"IF(Tatiller!N65=\"\",IF(Tatiller!$X$77=0,IF(DersYükü!N54=\"\",0,DersYükü!N54),Tatiller!N65),Tatiller!N65)","v":0},{"$f":"IF(Tatiller!O65=\"\",IF(Tatiller!$X$77=0,IF(DersYükü!O54=\"\",0,DersYükü!O54),Tatiller!O65),Tatiller!O65)","v":0},{"$f":"IF(Tatiller!P65=\"\",IF(Tatiller!$X$77=0,IF(DersYükü!P54=\"\",0,DersYükü!P54),Tatiller!P65),Tatiller!P65)","v":0},{"$f":"IF(Tatiller!Q65=\"\",IF(Tatiller!$X$77=0,IF(DersYükü!Q54=\"\",0,DersYükü!Q54),Tatiller!Q65),Tatiller!Q65)","v":0},{"$f":"IF(Tatiller!R65=\"\",IF(Tatiller!$X$77=0,IF(DersYükü!R54=\"\",0,DersYükü!R54),Tatiller!R65),Tatiller!R65)","v":0},{"$f":"IF(Tatiller!S65=\"\",IF(Tatiller!$X$77=0,IF(DersYükü!S54=\"\",0,DersYükü!S54),Tatiller!S65),Tatiller!S65)","v":0},{"$f":"IF(Tatiller!T65=\"\",IF(Tatiller!$X$77=0,IF(DersYükü!T54=\"\",0,DersYükü!T54),Tatiller!T65),Tatiller!T65)","v":0},{"$f":"IF(Tatiller!U65=\"\",IF(Tatiller!$X$77=0,IF(DersYükü!U54=\"\",0,DersYükü!U54),Tatiller!U65),Tatiller!U65)","v":0},{"$f":"IF(Tatiller!V65=\"\",IF(Tatiller!$X$77=0,IF(DersYükü!V54=\"\",0,DersYükü!V54),Tatiller!V65),Tatiller!V65)","v":0},{"$f":"IF(Tatiller!W65=\"\",IF(Tatiller!$X$77=0,IF(DersYükü!W54=\"\",0,DersYükü!W54),Tatiller!W65),Tatiller!W65)","v":0},null,null,null,"H","","",null,null,null,"15.00-16.00",null,null,null,{"$f":"IF(Tatiller!AH65=\"\",IF(Tatiller!$AZ$77=0,IF(DersYükü!F54=\"\",0,DersYükü!F54),Tatiller!AH65),Tatiller!AH65)","v":0},{"$f":"IF(Tatiller!AI65=\"\",IF(Tatiller!$AZ$77=0,IF(DersYükü!G54=\"\",0,DersYükü!G54),Tatiller!AI65),Tatiller!AI65)","v":0},{"$f":"IF(Tatiller!AJ65=\"\",IF(Tatiller!$AZ$77=0,IF(DersYükü!H54=\"\",0,DersYükü!H54),Tatiller!AJ65),Tatiller!AJ65)","v":0},{"$f":"IF(Tatiller!AK65=\"\",IF(Tatiller!$AZ$77=0,IF(DersYükü!I54=\"\",0,DersYükü!I54),Tatiller!AK65),Tatiller!AK65)","v":0},{"$f":"IF(Tatiller!AL65=\"\",IF(Tatiller!$AZ$77=0,IF(DersYükü!J54=\"\",0,DersYükü!J54),Tatiller!AL65),Tatiller!AL65)","v":0},{"$f":"IF(Tatiller!AM65=\"\",IF(Tatiller!$AZ$77=0,IF(DersYükü!K54=\"\",0,DersYükü!K54),Tatiller!AM65),Tatiller!AM65)","v":0},{"$f":"IF(Tatiller!AN65=\"\",IF(Tatiller!$AZ$77=0,IF(DersYükü!L54=\"\",0,DersYükü!L54),Tatiller!AN65),Tatiller!AN65)","v":0},{"$f":"IF(Tatiller!AO65=\"\",IF(Tatiller!$AZ$77=0,IF(DersYükü!M54=\"\",0,DersYükü!M54),Tatiller!AO65),Tatiller!AO65)","v":0},{"$f":"IF(Tatiller!AP65=\"\",IF(Tatiller!$AZ$77=0,IF(DersYükü!N54=\"\",0,DersYükü!N54),Tatiller!AP65),Tatiller!AP65)","v":0},{"$f":"IF(Tatiller!AQ65=\"\",IF(Tatiller!$AZ$77=0,IF(DersYükü!O54=\"\",0,DersYükü!O54),Tatiller!AQ65),Tatiller!AQ65)","v":0},{"$f":"IF(Tatiller!AR65=\"\",IF(Tatiller!$AZ$77=0,IF(DersYükü!P54=\"\",0,DersYükü!P54),Tatiller!AR65),Tatiller!AR65)","v":0},{"$f":"IF(Tatiller!AS65=\"\",IF(Tatiller!$AZ$77=0,IF(DersYükü!Q54=\"\",0,DersYükü!Q54),Tatiller!AS65),Tatiller!AS65)","v":0},{"$f":"IF(Tatiller!AT65=\"\",IF(Tatiller!$AZ$77=0,IF(DersYükü!R54=\"\",0,DersYükü!R54),Tatiller!AT65),Tatiller!AT65)","v":0},{"$f":"IF(Tatiller!AU65=\"\",IF(Tatiller!$AZ$77=0,IF(DersYükü!S54=\"\",0,DersYükü!S54),Tatiller!AU65),Tatiller!AU65)","v":0},{"$f":"IF(Tatiller!AV65=\"\",IF(Tatiller!$AZ$77=0,IF(DersYükü!T54=\"\",0,DersYükü!T54),Tatiller!AV65),Tatiller!AV65)","v":0},{"$f":"IF(Tatiller!AW65=\"\",IF(Tatiller!$AZ$77=0,IF(DersYükü!U54=\"\",0,DersYükü!U54),Tatiller!AW65),Tatiller!AW65)","v":0},{"$f":"IF(Tatiller!AX65=\"\",IF(Tatiller!$AZ$77=0,IF(DersYükü!V54=\"\",0,DersYükü!V54),Tatiller!AX65),Tatiller!AX65)","v":0},{"$f":"IF(Tatiller!AY65=\"\",IF(Tatiller!$AZ$77=0,IF(DersYükü!W54=\"\",0,DersYükü!W54),Tatiller!AY65),Tatiller!AY65)","v":0}]
[null,"I","","",null,null,null,"16.00-17.00",null,null,null,{"$f":"IF(Tatiller!F66=\"\",IF(Tatiller!$X$77=0,IF(DersYükü!F55=\"\",0,DersYükü!F55),Tatiller!F66),Tatiller!F66)","v":0},{"$f":"IF(Tatiller!G66=\"\",IF(Tatiller!$X$77=0,IF(DersYükü!G55=\"\",0,DersYükü!G55),Tatiller!G66),Tatiller!G66)","v":0},{"$f":"IF(Tatiller!H66=\"\",IF(Tatiller!$X$77=0,IF(DersYükü!H55=\"\",0,DersYükü!H55),Tatiller!H66),Tatiller!H66)","v":0},{"$f":"IF(Tatiller!I66=\"\",IF(Tatiller!$X$77=0,IF(DersYükü!I55=\"\",0,DersYükü!I55),Tatiller!I66),Tatiller!I66)","v":0},{"$f":"IF(Tatiller!J66=\"\",IF(Tatiller!$X$77=0,IF(DersYükü!J55=\"\",0,DersYükü!J55),Tatiller!J66),Tatiller!J66)","v":0},{"$f":"IF(Tatiller!K66=\"\",IF(Tatiller!$X$77=0,IF(DersYükü!K55=\"\",0,DersYükü!K55),Tatiller!K66),Tatiller!K66)","v":0},{"$f":"IF(Tatiller!L66=\"\",IF(Tatiller!$X$77=0,IF(DersYükü!L55=\"\",0,DersYükü!L55),Tatiller!L66),Tatiller!L66)","v":0},{"$f":"IF(Tatiller!M66=\"\",IF(Tatiller!$X$77=0,IF(DersYükü!M55=\"\",0,DersYükü!M55),Tatiller!M66),Tatiller!M66)","v":0},{"$f":"IF(Tatiller!N66=\"\",IF(Tatiller!$X$77=0,IF(DersYükü!N55=\"\",0,DersYükü!N55),Tatiller!N66),Tatiller!N66)","v":0},{"$f":"IF(Tatiller!O66=\"\",IF(Tatiller!$X$77=0,IF(DersYükü!O55=\"\",0,DersYükü!O55),Tatiller!O66),Tatiller!O66)","v":0},{"$f":"IF(Tatiller!P66=\"\",IF(Tatiller!$X$77=0,IF(DersYükü!P55=\"\",0,DersYükü!P55),Tatiller!P66),Tatiller!P66)","v":0},{"$f":"IF(Tatiller!Q66=\"\",IF(Tatiller!$X$77=0,IF(DersYükü!Q55=\"\",0,DersYükü!Q55),Tatiller!Q66),Tatiller!Q66)","v":0},{"$f":"IF(Tatiller!R66=\"\",IF(Tatiller!$X$77=0,IF(DersYükü!R55=\"\",0,DersYükü!R55),Tatiller!R66),Tatiller!R66)","v":0},{"$f":"IF(Tatiller!S66=\"\",IF(Tatiller!$X$77=0,IF(DersYükü!S55=\"\",0,DersYükü!S55),Tatiller!S66),Tatiller!S66)","v":0},{"$f":"IF(Tatiller!T66=\"\",IF(Tatiller!$X$77=0,IF(DersYükü!T55=\"\",0,DersYükü!T55),Tatiller!T66),Tatiller!T66)","v":0},{"$f":"IF(Tatiller!U66=\"\",IF(Tatiller!$X$77=0,IF(DersYükü!U55=\"\",0,DersYükü!U55),Tatiller!U66),Tatiller!U66)","v":0},{"$f":"IF(Tatiller!V66=\"\",IF(Tatiller!$X$77=0,IF(DersYükü!V55=\"\",0,DersYükü!V55),Tatiller!V66),Tatiller!V66)","v":0},{"$f":"IF(Tatiller!W66=\"\",IF(Tatiller!$X$77=0,IF(DersYükü!W55=\"\",0,DersYükü!W55),Tatiller!W66),Tatiller!W66)","v":0},null,null,null,"I","","",null,null,null,"16.00-17.00",null,null,null,{"$f":"IF(Tatiller!AH66=\"\",IF(Tatiller!$AZ$77=0,IF(DersYükü!F55=\"\",0,DersYükü!F55),Tatiller!AH66),Tatiller!AH66)","v":0},{"$f":"IF(Tatiller!AI66=\"\",IF(Tatiller!$AZ$77=0,IF(DersYükü!G55=\"\",0,DersYükü!G55),Tatiller!AI66),Tatiller!AI66)","v":0},{"$f":"IF(Tatiller!AJ66=\"\",IF(Tatiller!$AZ$77=0,IF(DersYükü!H55=\"\",0,DersYükü!H55),Tatiller!AJ66),Tatiller!AJ66)","v":0},{"$f":"IF(Tatiller!AK66=\"\",IF(Tatiller!$AZ$77=0,IF(DersYükü!I55=\"\",0,DersYükü!I55),Tatiller!AK66),Tatiller!AK66)","v":0},{"$f":"IF(Tatiller!AL66=\"\",IF(Tatiller!$AZ$77=0,IF(DersYükü!J55=\"\",0,DersYükü!J55),Tatiller!AL66),Tatiller!AL66)","v":0},{"$f":"IF(Tatiller!AM66=\"\",IF(Tatiller!$AZ$77=0,IF(DersYükü!K55=\"\",0,DersYükü!K55),Tatiller!AM66),Tatiller!AM66)","v":0},{"$f":"IF(Tatiller!AN66=\"\",IF(Tatiller!$AZ$77=0,IF(DersYükü!L55=\"\",0,DersYükü!L55),Tatiller!AN66),Tatiller!AN66)","v":0},{"$f":"IF(Tatiller!AO66=\"\",IF(Tatiller!$AZ$77=0,IF(DersYükü!M55=\"\",0,DersYükü!M55),Tatiller!AO66),Tatiller!AO66)","v":0},{"$f":"IF(Tatiller!AP66=\"\",IF(Tatiller!$AZ$77=0,IF(DersYükü!N55=\"\",0,DersYükü!N55),Tatiller!AP66),Tatiller!AP66)","v":0},{"$f":"IF(Tatiller!AQ66=\"\",IF(Tatiller!$AZ$77=0,IF(DersYükü!O55=\"\",0,DersYükü!O55),Tatiller!AQ66),Tatiller!AQ66)","v":0},{"$f":"IF(Tatiller!AR66=\"\",IF(Tatiller!$AZ$77=0,IF(DersYükü!P55=\"\",0,DersYükü!P55),Tatiller!AR66),Tatiller!AR66)","v":0},{"$f":"IF(Tatiller!AS66=\"\",IF(Tatiller!$AZ$77=0,IF(DersYükü!Q55=\"\",0,DersYükü!Q55),Tatiller!AS66),Tatiller!AS66)","v":0},{"$f":"IF(Tatiller!AT66=\"\",IF(Tatiller!$AZ$77=0,IF(DersYükü!R55=\"\",0,DersYükü!R55),Tatiller!AT66),Tatiller!AT66)","v":0},{"$f":"IF(Tatiller!AU66=\"\",IF(Tatiller!$AZ$77=0,IF(DersYükü!S55=\"\",0,DersYükü!S55),Tatiller!AU66),Tatiller!AU66)","v":0},{"$f":"IF(Tatiller!AV66=\"\",IF(Tatiller!$AZ$77=0,IF(DersYükü!T55=\"\",0,DersYükü!T55),Tatiller!AV66),Tatiller!AV66)","v":0},{"$f":"IF(Tatiller!AW66=\"\",IF(Tatiller!$AZ$77=0,IF(DersYükü!U55=\"\",0,DersYükü!U55),Tatiller!AW66),Tatiller!AW66)","v":0},{"$f":"IF(Tatiller!AX66=\"\",IF(Tatiller!$AZ$77=0,IF(DersYükü!V55=\"\",0,DersYükü!V55),Tatiller!AX66),Tatiller!AX66)","v":0},{"$f":"IF(Tatiller!AY66=\"\",IF(Tatiller!$AZ$77=0,IF(DersYükü!W55=\"\",0,DersYükü!W55),Tatiller!AY66),Tatiller!AY66)","v":0}]
[null,"J","","",null,null,"İKİNCİ ÖĞRT.","15.00-16.00",null,null,null,{"$f":"IF(Tatiller!F67=\"\",IF(Tatiller!$X$77=0,IF(DersYükü!F56=\"\",0,DersYükü!F56),Tatiller!F67),Tatiller!F67)","v":0},{"$f":"IF(Tatiller!G67=\"\",IF(Tatiller!$X$77=0,IF(DersYükü!G56=\"\",0,DersYükü!G56),Tatiller!G67),Tatiller!G67)","v":0},{"$f":"IF(Tatiller!H67=\"\",IF(Tatiller!$X$77=0,IF(DersYükü!H56=\"\",0,DersYükü!H56),Tatiller!H67),Tatiller!H67)","v":0},{"$f":"IF(Tatiller!I67=\"\",IF(Tatiller!$X$77=0,IF(DersYükü!I56=\"\",0,DersYükü!I56),Tatiller!I67),Tatiller!I67)","v":0},{"$f":"IF(Tatiller!J67=\"\",IF(Tatiller!$X$77=0,IF(DersYükü!J56=\"\",0,DersYükü!J56),Tatiller!J67),Tatiller!J67)","v":0},{"$f":"IF(Tatiller!K67=\"\",IF(Tatiller!$X$77=0,IF(DersYükü!K56=\"\",0,DersYükü!K56),Tatiller!K67),Tatiller!K67)","v":0},{"$f":"IF(Tatiller!L67=\"\",IF(Tatiller!$X$77=0,IF(DersYükü!L56=\"\",0,DersYükü!L56),Tatiller!L67),Tatiller!L67)","v":0},{"$f":"IF(Tatiller!M67=\"\",IF(Tatiller!$X$77=0,IF(DersYükü!M56=\"\",0,DersYükü!M56),Tatiller!M67),Tatiller!M67)","v":0},{"$f":"IF(Tatiller!N67=\"\",IF(Tatiller!$X$77=0,IF(DersYükü!N56=\"\",0,DersYükü!N56),Tatiller!N67),Tatiller!N67)","v":0},{"$f":"IF(Tatiller!O67=\"\",IF(Tatiller!$X$77=0,IF(DersYükü!O56=\"\",0,DersYükü!O56),Tatiller!O67),Tatiller!O67)","v":0},{"$f":"IF(Tatiller!P67=\"\",IF(Tatiller!$X$77=0,IF(DersYükü!P56=\"\",0,DersYükü!P56),Tatiller!P67),Tatiller!P67)","v":0},{"$f":"IF(Tatiller!Q67=\"\",IF(Tatiller!$X$77=0,IF(DersYükü!Q56=\"\",0,DersYükü!Q56),Tatiller!Q67),Tatiller!Q67)","v":0},{"$f":"IF(Tatiller!R67=\"\",IF(Tatiller!$X$77=0,IF(DersYükü!R56=\"\",0,DersYükü!R56),Tatiller!R67),Tatiller!R67)","v":0},{"$f":"IF(Tatiller!S67=\"\",IF(Tatiller!$X$77=0,IF(DersYükü!S56=\"\",0,DersYükü!S56),Tatiller!S67),Tatiller!S67)","v":0},{"$f":"IF(Tatiller!T67=\"\",IF(Tatiller!$X$77=0,IF(DersYükü!T56=\"\",0,DersYükü!T56),Tatiller!T67),Tatiller!T67)","v":0},{"$f":"IF(Tatiller!U67=\"\",IF(Tatiller!$X$77=0,IF(DersYükü!U56=\"\",0,DersYükü!U56),Tatiller!U67),Tatiller!U67)","v":0},{"$f":"IF(Tatiller!V67=\"\",IF(Tatiller!$X$77=0,IF(DersYükü!V56=\"\",0,DersYükü!V56),Tatiller!V67),Tatiller!V67)","v":0},{"$f":"IF(Tatiller!W67=\"\",IF(Tatiller!$X$77=0,IF(DersYükü!W56=\"\",0,DersYükü!W56),Tatiller!W67),Tatiller!W67)","v":0},null,null,null,"J","","",null,null,"İKİNCİ ÖĞRT.","15.00-16.00",null,null,null,{"$f":"IF(Tatiller!AH67=\"\",IF(Tatiller!$AZ$77=0,IF(DersYükü!F56=\"\",0,DersYükü!F56),Tatiller!AH67),Tatiller!AH67)","v":0},{"$f":"IF(Tatiller!AI67=\"\",IF(Tatiller!$AZ$77=0,IF(DersYükü!G56=\"\",0,DersYükü!G56),Tatiller!AI67),Tatiller!AI67)","v":0},{"$f":"IF(Tatiller!AJ67=\"\",IF(Tatiller!$AZ$77=0,IF(DersYükü!H56=\"\",0,DersYükü!H56),Tatiller!AJ67),Tatiller!AJ67)","v":0},{"$f":"IF(Tatiller!AK67=\"\",IF(Tatiller!$AZ$77=0,IF(DersYükü!I56=\"\",0,DersYükü!I56),Tatiller!AK67),Tatiller!AK67)","v":0},{"$f":"IF(Tatiller!AL67=\"\",IF(Tatiller!$AZ$77=0,IF(DersYükü!J56=\"\",0,DersYükü!J56),Tatiller!AL67),Tatiller!AL67)","v":0},{"$f":"IF(Tatiller!AM67=\"\",IF(Tatiller!$AZ$77=0,IF(DersYükü!K56=\"\",0,DersYükü!K56),Tatiller!AM67),Tatiller!AM67)","v":0},{"$f":"IF(Tatiller!AN67=\"\",IF(Tatiller!$AZ$77=0,IF(DersYükü!L56=\"\",0,DersYükü!L56),Tatiller!AN67),Tatiller!AN67)","v":0},{"$f":"IF(Tatiller!AO67=\"\",IF(Tatiller!$AZ$77=0,IF(DersYükü!M56=\"\",0,DersYükü!M56),Tatiller!AO67),Tatiller!AO67)","v":0},{"$f":"IF(Tatiller!AP67=\"\",IF(Tatiller!$AZ$77=0,IF(DersYükü!N56=\"\",0,DersYükü!N56),Tatiller!AP67),Tatiller!AP67)","v":0},{"$f":"IF(Tatiller!AQ67=\"\",IF(Tatiller!$AZ$77=0,IF(DersYükü!O56=\"\",0,DersYükü!O56),Tatiller!AQ67),Tatiller!AQ67)","v":0},{"$f":"IF(Tatiller!AR67=\"\",IF(Tatiller!$AZ$77=0,IF(DersYükü!P56=\"\",0,DersYükü!P56),Tatiller!AR67),Tatiller!AR67)","v":0},{"$f":"IF(Tatiller!AS67=\"\",IF(Tatiller!$AZ$77=0,IF(DersYükü!Q56=\"\",0,DersYükü!Q56),Tatiller!AS67),Tatiller!AS67)","v":0},{"$f":"IF(Tatiller!AT67=\"\",IF(Tatiller!$AZ$77=0,IF(DersYükü!R56=\"\",0,DersYükü!R56),Tatiller!AT67),Tatiller!AT67)","v":0},{"$f":"IF(Tatiller!AU67=\"\",IF(Tatiller!$AZ$77=0,IF(DersYükü!S56=\"\",0,DersYükü!S56),Tatiller!AU67),Tatiller!AU67)","v":0},{"$f":"IF(Tatiller!AV67=\"\",IF(Tatiller!$AZ$77=0,IF(DersYükü!T56=\"\",0,DersYükü!T56),Tatiller!AV67),Tatiller!AV67)","v":0},{"$f":"IF(Tatiller!AW67=\"\",IF(Tatiller!$AZ$77=0,IF(DersYükü!U56=\"\",0,DersYükü!U56),Tatiller!AW67),Tatiller!AW67)","v":0},{"$f":"IF(Tatiller!AX67=\"\",IF(Tatiller!$AZ$77=0,IF(DersYükü!V56=\"\",0,DersYükü!V56),Tatiller!AX67),Tatiller!AX67)","v":0},{"$f":"IF(Tatiller!AY67=\"\",IF(Tatiller!$AZ$77=0,IF(DersYükü!W56=\"\",0,DersYükü!W56),Tatiller!AY67),Tatiller!AY67)","v":0}]
[null,null,null,null,null,null,null,"16.00-17.00",null,null,null,{"$f":"IF(Tatiller!F68=\"\",IF(Tatiller!$X$77=0,IF(DersYükü!F57=\"\",0,DersYükü!F57),Tatiller!F68),Tatiller!F68)","v":0},{"$f":"IF(Tatiller!G68=\"\",IF(Tatiller!$X$77=0,IF(DersYükü!G57=\"\",0,DersYükü!G57),Tatiller!G68),Tatiller!G68)","v":0},{"$f":"IF(Tatiller!H68=\"\",IF(Tatiller!$X$77=0,IF(DersYükü!H57=\"\",0,DersYükü!H57),Tatiller!H68),Tatiller!H68)","v":0},{"$f":"IF(Tatiller!I68=\"\",IF(Tatiller!$X$77=0,IF(DersYükü!I57=\"\",0,DersYükü!I57),Tatiller!I68),Tatiller!I68)","v":0},{"$f":"IF(Tatiller!J68=\"\",IF(Tatiller!$X$77=0,IF(DersYükü!J57=\"\",0,DersYükü!J57),Tatiller!J68),Tatiller!J68)","v":0},{"$f":"IF(Tatiller!K68=\"\",IF(Tatiller!$X$77=0,IF(DersYükü!K57=\"\",0,DersYükü!K57),Tatiller!K68),Tatiller!K68)","v":0},{"$f":"IF(Tatiller!L68=\"\",IF(Tatiller!$X$77=0,IF(DersYükü!L57=\"\",0,DersYükü!L57),Tatiller!L68),Tatiller!L68)","v":0},{"$f":"IF(Tatiller!M68=\"\",IF(Tatiller!$X$77=0,IF(DersYükü!M57=\"\",0,DersYükü!M57),Tatiller!M68),Tatiller!M68)","v":0},{"$f":"IF(Tatiller!N68=\"\",IF(Tatiller!$X$77=0,IF(DersYükü!N57=\"\",0,DersYükü!N57),Tatiller!N68),Tatiller!N68)","v":0},{"$f":"IF(Tatiller!O68=\"\",IF(Tatiller!$X$77=0,IF(DersYükü!O57=\"\",0,DersYükü!O57),Tatiller!O68),Tatiller!O68)","v":0},{"$f":"IF(Tatiller!P68=\"\",IF(Tatiller!$X$77=0,IF(DersYükü!P57=\"\",0,DersYükü!P57),Tatiller!P68),Tatiller!P68)","v":0},{"$f":"IF(Tatiller!Q68=\"\",IF(Tatiller!$X$77=0,IF(DersYükü!Q57=\"\",0,DersYükü!Q57),Tatiller!Q68),Tatiller!Q68)","v":0},{"$f":"IF(Tatiller!R68=\"\",IF(Tatiller!$X$77=0,IF(DersYükü!R57=\"\",0,DersYükü!R57),Tatiller!R68),Tatiller!R68)","v":0},{"$f":"IF(Tatiller!S68=\"\",IF(Tatiller!$X$77=0,IF(DersYükü!S57=\"\",0,DersYükü!S57),Tatiller!S68),Tatiller!S68)","v":0},{"$f":"IF(Tatiller!T68=\"\",IF(Tatiller!$X$77=0,IF(DersYükü!T57=\"\",0,DersYükü!T57),Tatiller!T68),Tatiller!T68)","v":0},{"$f":"IF(Tatiller!U68=\"\",IF(Tatiller!$X$77=0,IF(DersYükü!U57=\"\",0,DersYükü!U57),Tatiller!U68),Tatiller!U68)","v":0},{"$f":"IF(Tatiller!V68=\"\",IF(Tatiller!$X$77=0,IF(DersYükü!V57=\"\",0,DersYükü!V57),Tatiller!V68),Tatiller!V68)","v":0},{"$f":"IF(Tatiller!W68=\"\",IF(Tatiller!$X$77=0,IF(DersYükü!W57=\"\",0,DersYükü!W57),Tatiller!W68),Tatiller!W68)","v":0},null,null,null,null,null,null,null,null,null,"16.00-17.00",null,null,null,{"$f":"IF(Tatiller!AH68=\"\",IF(Tatiller!$AZ$77=0,IF(DersYükü!F57=\"\",0,DersYükü!F57),Tatiller!AH68),Tatiller!AH68)","v":0},{"$f":"IF(Tatiller!AI68=\"\",IF(Tatiller!$AZ$77=0,IF(DersYükü!G57=\"\",0,DersYükü!G57),Tatiller!AI68),Tatiller!AI68)","v":0},{"$f":"IF(Tatiller!AJ68=\"\",IF(Tatiller!$AZ$77=0,IF(DersYükü!H57=\"\",0,DersYükü!H57),Tatiller!AJ68),Tatiller!AJ68)","v":0},{"$f":"IF(Tatiller!AK68=\"\",IF(Tatiller!$AZ$77=0,IF(DersYükü!I57=\"\",0,DersYükü!I57),Tatiller!AK68),Tatiller!AK68)","v":0},{"$f":"IF(Tatiller!AL68=\"\",IF(Tatiller!$AZ$77=0,IF(DersYükü!J57=\"\",0,DersYükü!J57),Tatiller!AL68),Tatiller!AL68)","v":0},{"$f":"IF(Tatiller!AM68=\"\",IF(Tatiller!$AZ$77=0,IF(DersYükü!K57=\"\",0,DersYükü!K57),Tatiller!AM68),Tatiller!AM68)","v":0},{"$f":"IF(Tatiller!AN68=\"\",IF(Tatiller!$AZ$77=0,IF(DersYükü!L57=\"\",0,DersYükü!L57),Tatiller!AN68),Tatiller!AN68)","v":0},{"$f":"IF(Tatiller!AO68=\"\",IF(Tatiller!$AZ$77=0,IF(DersYükü!M57=\"\",0,DersYükü!M57),Tatiller!AO68),Tatiller!AO68)","v":0},{"$f":"IF(Tatiller!AP68=\"\",IF(Tatiller!$AZ$77=0,IF(DersYükü!N57=\"\",0,DersYükü!N57),Tatiller!AP68),Tatiller!AP68)","v":0},{"$f":"IF(Tatiller!AQ68=\"\",IF(Tatiller!$AZ$77=0,IF(DersYükü!O57=\"\",0,DersYükü!O57),Tatiller!AQ68),Tatiller!AQ68)","v":0},{"$f":"IF(Tatiller!AR68=\"\",IF(Tatiller!$AZ$77=0,IF(DersYükü!P57=\"\",0,DersYükü!P57),Tatiller!AR68),Tatiller!AR68)","v":0},{"$f":"IF(Tatiller!AS68=\"\",IF(Tatiller!$AZ$77=0,IF(DersYükü!Q57=\"\",0,DersYükü!Q57),Tatiller!AS68),Tatiller!AS68)","v":0},{"$f":"IF(Tatiller!AT68=\"\",IF(Tatiller!$AZ$77=0,IF(DersYükü!R57=\"\",0,DersYükü!R57),Tatiller!AT68),Tatiller!AT68)","v":0},{"$f":"IF(Tatiller!AU68=\"\",IF(Tatiller!$AZ$77=0,IF(DersYükü!S57=\"\",0,DersYükü!S57),Tatiller!AU68),Tatiller!AU68)","v":0},{"$f":"IF(Tatiller!AV68=\"\",IF(Tatiller!$AZ$77=0,IF(DersYükü!T57=\"\",0,DersYükü!T57),Tatiller!AV68),Tatiller!AV68)","v":0},{"$f":"IF(Tatiller!AW68=\"\",IF(Tatiller!$AZ$77=0,IF(DersYükü!U57=\"\",0,DersYükü!U57),Tatiller!AW68),Tatiller!AW68)","v":0},{"$f":"IF(Tatiller!AX68=\"\",IF(Tatiller!$AZ$77=0,IF(DersYükü!V57=\"\",0,DersYükü!V57),Tatiller!AX68),Tatiller!AX68)","v":0},{"$f":"IF(Tatiller!AY68=\"\",IF(Tatiller!$AZ$77=0,IF(DersYükü!W57=\"\",0,DersYükü!W57),Tatiller!AY68),Tatiller!AY68)","v":0}]
[null,"K",{"$f":"IF(IFERROR(COUNTIF(N$60:N$76,$B71)+COUNTIF(P$60:P$76,$B71)+COUNTIF(R$60:R$76,$B71)+COUNTIF(T$60:T$76,$B71)+COUNTIF(V$60:V$76,$B71)+COUNTIF(X$60:X$76,$B71)+COUNTIF(Z$60:Z$76,$B71)+COUNTIF(AB$60:AB$76,$B71)+COUNTIF(L$60:L$76,$B71),\"\")=0,\"\",IFERROR(COUNTIF(N$60:N$76,$B71)+COUNTIF(P$60:P$76,$B71)+COUNTIF(R$60:R$76,$B71)+COUNTIF(T$60:T$76,$B71)+COUNTIF(V$60:V$76,$B71)+COUNTIF(X$60:X$76,$B71)+COUNTIF(Z$60:Z$76,$B71)+COUNTIF(AB$60:AB$76,$B71)+COUNTIF(L$60:L$76,$B71),\"\"))","v":""},"",null,null,null,"17.00-18.00",null,null,null,{"$f":"IF(Tatiller!F69=\"\",IF(Tatiller!$X$77=0,IF(DersYükü!F58=\"\",0,DersYükü!F58),Tatiller!F69),Tatiller!F69)","v":0},{"$f":"IF(Tatiller!G69=\"\",IF(Tatiller!$X$77=0,IF(DersYükü!G58=\"\",0,DersYükü!G58),Tatiller!G69),Tatiller!G69)","v":0},{"$f":"IF(Tatiller!H69=\"\",IF(Tatiller!$X$77=0,IF(DersYükü!H58=\"\",0,DersYükü!H58),Tatiller!H69),Tatiller!H69)","v":0},{"$f":"IF(Tatiller!I69=\"\",IF(Tatiller!$X$77=0,IF(DersYükü!I58=\"\",0,DersYükü!I58),Tatiller!I69),Tatiller!I69)","v":0},{"$f":"IF(Tatiller!J69=\"\",IF(Tatiller!$X$77=0,IF(DersYükü!J58=\"\",0,DersYükü!J58),Tatiller!J69),Tatiller!J69)","v":0},{"$f":"IF(Tatiller!K69=\"\",IF(Tatiller!$X$77=0,IF(DersYükü!K58=\"\",0,DersYükü!K58),Tatiller!K69),Tatiller!K69)","v":0},{"$f":"IF(Tatiller!L69=\"\",IF(Tatiller!$X$77=0,IF(DersYükü!L58=\"\",0,DersYükü!L58),Tatiller!L69),Tatiller!L69)","v":0},{"$f":"IF(Tatiller!M69=\"\",IF(Tatiller!$X$77=0,IF(DersYükü!M58=\"\",0,DersYükü!M58),Tatiller!M69),Tatiller!M69)","v":0},{"$f":"IF(Tatiller!N69=\"\",IF(Tatiller!$X$77=0,IF(DersYükü!N58=\"\",0,DersYükü!N58),Tatiller!N69),Tatiller!N69)","v":0},{"$f":"IF(Tatiller!O69=\"\",IF(Tatiller!$X$77=0,IF(DersYükü!O58=\"\",0,DersYükü!O58),Tatiller!O69),Tatiller!O69)","v":0},{"$f":"IF(Tatiller!P69=\"\",IF(Tatiller!$X$77=0,IF(DersYükü!P58=\"\",0,DersYükü!P58),Tatiller!P69),Tatiller!P69)","v":0},{"$f":"IF(Tatiller!Q69=\"\",IF(Tatiller!$X$77=0,IF(DersYükü!Q58=\"\",0,DersYükü!Q58),Tatiller!Q69),Tatiller!Q69)","v":0},{"$f":"IF(Tatiller!R69=\"\",IF(Tatiller!$X$77=0,IF(DersYükü!R58=\"\",0,DersYükü!R58),Tatiller!R69),Tatiller!R69)","v":0},{"$f":"IF(Tatiller!S69=\"\",IF(Tatiller!$X$77=0,IF(DersYükü!S58=\"\",0,DersYükü!S58),Tatiller!S69),Tatiller!S69)","v":0},{"$f":"IF(Tatiller!T69=\"\",IF(Tatiller!$X$77=0,IF(DersYükü!T58=\"\",0,DersYükü!T58),Tatiller!T69),Tatiller!T69)","v":0},{"$f":"IF(Tatiller!U69=\"\",IF(Tatiller!$X$77=0,IF(DersYükü!U58=\"\",0,DersYükü!U58),Tatiller!U69),Tatiller!U69)","v":0},{"$f":"IF(Tatiller!V69=\"\",IF(Tatiller!$X$77=0,IF(DersYükü!V58=\"\",0,DersYükü!V58),Tatiller!V69),Tatiller!V69)","v":0},{"$f":"IF(Tatiller!W69=\"\",IF(Tatiller!$X$77=0,IF(DersYükü!W58=\"\",0,DersYükü!W58),Tatiller!W69),Tatiller!W69)","v":0},null,null,null,"K",{"$f":"IF(IFERROR(COUNTIF(AS$60:AS$76,$B71)+COUNTIF(AU$60:AU$76,$B71)+COUNTIF(AW$60:AW$76,$B71)+COUNTIF(AY$60:AY$76,$B71)+COUNTIF(BA$60:BA$76,$B71)+COUNTIF(BC$60:BC$76,$B71)+COUNTIF(BE$60:BE$76,$B71)+COUNTIF(BG$60:BG$76,$B71)+COUNTIF(AQ$60:AQ$76,$B71),\"\")=0,\"\",IFERROR(COUNTIF(AS$60:AS$76,$B71)+COUNTIF(AU$60:AU$76,$B71)+COUNTIF(AW$60:AW$76,$B71)+COUNTIF(AY$60:AY$76,$B71)+COUNTIF(BA$60:BA$76,$B71)+COUNTIF(BC$60:BC$76,$B71)+COUNTIF(BE$60:BE$76,$B71)+COUNTIF(BG$60:BG$76,$B71)+COUNTIF(AQ$60:AQ$76,$B71),\"\"))","v":""},"",null,null,null,"17.00-18.00",null,null,null,{"$f":"IF(Tatiller!AH69=\"\",IF(Tatiller!$AZ$77=0,IF(DersYükü!F58=\"\",0,DersYükü!F58),Tatiller!AH69),Tatiller!AH69)","v":0},{"$f":"IF(Tatiller!AI69=\"\",IF(Tatiller!$AZ$77=0,IF(DersYükü!G58=\"\",0,DersYükü!G58),Tatiller!AI69),Tatiller!AI69)","v":0},{"$f":"IF(Tatiller!AJ69=\"\",IF(Tatiller!$AZ$77=0,IF(DersYükü!H58=\"\",0,DersYükü!H58),Tatiller!AJ69),Tatiller!AJ69)","v":0},{"$f":"IF(Tatiller!AK69=\"\",IF(Tatiller!$AZ$77=0,IF(DersYükü!I58=\"\",0,DersYükü!I58),Tatiller!AK69),Tatiller!AK69)","v":0},{"$f":"IF(Tatiller!AL69=\"\",IF(Tatiller!$AZ$77=0,IF(DersYükü!J58=\"\",0,DersYükü!J58),Tatiller!AL69),Tatiller!AL69)","v":0},{"$f":"IF(Tatiller!AM69=\"\",IF(Tatiller!$AZ$77=0,IF(DersYükü!K58=\"\",0,DersYükü!K58),Tatiller!AM69),Tatiller!AM69)","v":0},{"$f":"IF(Tatiller!AN69=\"\",IF(Tatiller!$AZ$77=0,IF(DersYükü!L58=\"\",0,DersYükü!L58),Tatiller!AN69),Tatiller!AN69)","v":0},{"$f":"IF(Tatiller!AO69=\"\",IF(Tatiller!$AZ$77=0,IF(DersYükü!M58=\"\",0,DersYükü!M58),Tatiller!AO69),Tatiller!AO69)","v":0},{"$f":"IF(Tatiller!AP69=\"\",IF(Tatiller!$AZ$77=0,IF(DersYükü!N58=\"\",0,DersYükü!N58),Tatiller!AP69),Tatiller!AP69)","v":0},{"$f":"IF(Tatiller!AQ69=\"\",IF(Tatiller!$AZ$77=0,IF(DersYükü!O58=\"\",0,DersYükü!O58),Tatiller!AQ69),Tatiller!AQ69)","v":0},{"$f":"IF(Tatiller!AR69=\"\",IF(Tatiller!$AZ$77=0,IF(DersYükü!P58=\"\",0,DersYükü!P58),Tatiller!AR69),Tatiller!AR69)","v":0},{"$f":"IF(Tatiller!AS69=\"\",IF(Tatiller!$AZ$77=0,IF(DersYükü!Q58=\"\",0,DersYükü!Q58),Tatiller!AS69),Tatiller!AS69)","v":0},{"$f":"IF(Tatiller!AT69=\"\",IF(Tatiller!$AZ$77=0,IF(DersYükü!R58=\"\",0,DersYükü!R58),Tatiller!AT69),Tatiller!AT69)","v":0},{"$f":"IF(Tatiller!AU69=\"\",IF(Tatiller!$AZ$77=0,IF(DersYükü!S58=\"\",0,DersYükü!S58),Tatiller!AU69),Tatiller!AU69)","v":0},{"$f":"IF(Tatiller!AV69=\"\",IF(Tatiller!$AZ$77=0,IF(DersYükü!T58=\"\",0,DersYükü!T58),Tatiller!AV69),Tatiller!AV69)","v":0},{"$f":"IF(Tatiller!AW69=\"\",IF(Tatiller!$AZ$77=0,IF(DersYükü!U58=\"\",0,DersYükü!U58),Tatiller!AW69),Tatiller!AW69)","v":0},{"$f":"IF(Tatiller!AX69=\"\",IF(Tatiller!$AZ$77=0,IF(DersYükü!V58=\"\",0,DersYükü!V58),Tatiller!AX69),Tatiller!AX69)","v":0},{"$f":"IF(Tatiller!AY69=\"\",IF(Tatiller!$AZ$77=0,IF(DersYükü!W58=\"\",0,DersYükü!W58),Tatiller!AY69),Tatiller!AY69)","v":0}]
[null,"L","","",null,null,null,"18.00-19.00",null,null,null,{"$f":"IF(Tatiller!F70=\"\",IF(Tatiller!$X$77=0,IF(DersYükü!F59=\"\",0,DersYükü!F59),Tatiller!F70),Tatiller!F70)","v":0},{"$f":"IF(Tatiller!G70=\"\",IF(Tatiller!$X$77=0,IF(DersYükü!G59=\"\",0,DersYükü!G59),Tatiller!G70),Tatiller!G70)","v":0},{"$f":"IF(Tatiller!H70=\"\",IF(Tatiller!$X$77=0,IF(DersYükü!H59=\"\",0,DersYükü!H59),Tatiller!H70),Tatiller!H70)","v":0},{"$f":"IF(Tatiller!I70=\"\",IF(Tatiller!$X$77=0,IF(DersYükü!I59=\"\",0,DersYükü!I59),Tatiller!I70),Tatiller!I70)","v":0},{"$f":"IF(Tatiller!J70=\"\",IF(Tatiller!$X$77=0,IF(DersYükü!J59=\"\",0,DersYükü!J59),Tatiller!J70),Tatiller!J70)","v":0},{"$f":"IF(Tatiller!K70=\"\",IF(Tatiller!$X$77=0,IF(DersYükü!K59=\"\",0,DersYükü!K59),Tatiller!K70),Tatiller!K70)","v":0},{"$f":"IF(Tatiller!L70=\"\",IF(Tatiller!$X$77=0,IF(DersYükü!L59=\"\",0,DersYükü!L59),Tatiller!L70),Tatiller!L70)","v":0},{"$f":"IF(Tatiller!M70=\"\",IF(Tatiller!$X$77=0,IF(DersYükü!M59=\"\",0,DersYükü!M59),Tatiller!M70),Tatiller!M70)","v":0},{"$f":"IF(Tatiller!N70=\"\",IF(Tatiller!$X$77=0,IF(DersYükü!N59=\"\",0,DersYükü!N59),Tatiller!N70),Tatiller!N70)","v":0},{"$f":"IF(Tatiller!O70=\"\",IF(Tatiller!$X$77=0,IF(DersYükü!O59=\"\",0,DersYükü!O59),Tatiller!O70),Tatiller!O70)","v":0},{"$f":"IF(Tatiller!P70=\"\",IF(Tatiller!$X$77=0,IF(DersYükü!P59=\"\",0,DersYükü!P59),Tatiller!P70),Tatiller!P70)","v":0},{"$f":"IF(Tatiller!Q70=\"\",IF(Tatiller!$X$77=0,IF(DersYükü!Q59=\"\",0,DersYükü!Q59),Tatiller!Q70),Tatiller!Q70)","v":0},{"$f":"IF(Tatiller!R70=\"\",IF(Tatiller!$X$77=0,IF(DersYükü!R59=\"\",0,DersYükü!R59),Tatiller!R70),Tatiller!R70)","v":0},{"$f":"IF(Tatiller!S70=\"\",IF(Tatiller!$X$77=0,IF(DersYükü!S59=\"\",0,DersYükü!S59),Tatiller!S70),Tatiller!S70)","v":0},{"$f":"IF(Tatiller!T70=\"\",IF(Tatiller!$X$77=0,IF(DersYükü!T59=\"\",0,DersYükü!T59),Tatiller!T70),Tatiller!T70)","v":0},{"$f":"IF(Tatiller!U70=\"\",IF(Tatiller!$X$77=0,IF(DersYükü!U59=\"\",0,DersYükü!U59),Tatiller!U70),Tatiller!U70)","v":0},{"$f":"IF(Tatiller!V70=\"\",IF(Tatiller!$X$77=0,IF(DersYükü!V59=\"\",0,DersYükü!V59),Tatiller!V70),Tatiller!V70)","v":0},{"$f":"IF(Tatiller!W70=\"\",IF(Tatiller!$X$77=0,IF(DersYükü!W59=\"\",0,DersYükü!W59),Tatiller!W70),Tatiller!W70)","v":0},null,null,null,"L","","",null,null,null,"18.00-19.00",null,null,null,{"$f":"IF(Tatiller!AH70=\"\",IF(Tatiller!$AZ$77=0,IF(DersYükü!F59=\"\",0,DersYükü!F59),Tatiller!AH70),Tatiller!AH70)","v":0},{"$f":"IF(Tatiller!AI70=\"\",IF(Tatiller!$AZ$77=0,IF(DersYükü!G59=\"\",0,DersYükü!G59),Tatiller!AI70),Tatiller!AI70)","v":0},{"$f":"IF(Tatiller!AJ70=\"\",IF(Tatiller!$AZ$77=0,IF(DersYükü!H59=\"\",0,DersYükü!H59),Tatiller!AJ70),Tatiller!AJ70)","v":0},{"$f":"IF(Tatiller!AK70=\"\",IF(Tatiller!$AZ$77=0,IF(DersYükü!I59=\"\",0,DersYükü!I59),Tatiller!AK70),Tatiller!AK70)","v":0},{"$f":"IF(Tatiller!AL70=\"\",IF(Tatiller!$AZ$77=0,IF(DersYükü!J59=\"\",0,DersYükü!J59),Tatiller!AL70),Tatiller!AL70)","v":0},{"$f":"IF(Tatiller!AM70=\"\",IF(Tatiller!$AZ$77=0,IF(DersYükü!K59=\"\",0,DersYükü!K59),Tatiller!AM70),Tatiller!AM70)","v":0},{"$f":"IF(Tatiller!AN70=\"\",IF(Tatiller!$AZ$77=0,IF(DersYükü!L59=\"\",0,DersYükü!L59),Tatiller!AN70),Tatiller!AN70)","v":0},{"$f":"IF(Tatiller!AO70=\"\",IF(Tatiller!$AZ$77=0,IF(DersYükü!M59=\"\",0,DersYükü!M59),Tatiller!AO70),Tatiller!AO70)","v":0},{"$f":"IF(Tatiller!AP70=\"\",IF(Tatiller!$AZ$77=0,IF(DersYükü!N59=\"\",0,DersYükü!N59),Tatiller!AP70),Tatiller!AP70)","v":0},{"$f":"IF(Tatiller!AQ70=\"\",IF(Tatiller!$AZ$77=0,IF(DersYükü!O59=\"\",0,DersYükü!O59),Tatiller!AQ70),Tatiller!AQ70)","v":0},{"$f":"IF(Tatiller!AR70=\"\",IF(Tatiller!$AZ$77=0,IF(DersYükü!P59=\"\",0,DersYükü!P59),Tatiller!AR70),Tatiller!AR70)","v":0},{"$f":"IF(Tatiller!AS70=\"\",IF(Tatiller!$AZ$77=0,IF(DersYükü!Q59=\"\",0,DersYükü!Q59),Tatiller!AS70),Tatiller!AS70)","v":0},{"$f":"IF(Tatiller!AT70=\"\",IF(Tatiller!$AZ$77=0,IF(DersYükü!R59=\"\",0,DersYükü!R59),Tatiller!AT70),Tatiller!AT70)","v":0},{"$f":"IF(Tatiller!AU70=\"\",IF(Tatiller!$AZ$77=0,IF(DersYükü!S59=\"\",0,DersYükü!S59),Tatiller!AU70),Tatiller!AU70)","v":0},{"$f":"IF(Tatiller!AV70=\"\",IF(Tatiller!$AZ$77=0,IF(DersYükü!T59=\"\",0,DersYükü!T59),Tatiller!AV70),Tatiller!AV70)","v":0},{"$f":"IF(Tatiller!AW70=\"\",IF(Tatiller!$AZ$77=0,IF(DersYükü!U59=\"\",0,DersYükü!U59),Tatiller!AW70),Tatiller!AW70)","v":0},{"$f":"IF(Tatiller!AX70=\"\",IF(Tatiller!$AZ$77=0,IF(DersYükü!V59=\"\",0,DersYükü!V59),Tatiller!AX70),Tatiller!AX70)","v":0},{"$f":"IF(Tatiller!AY70=\"\",IF(Tatiller!$AZ$77=0,IF(DersYükü!W59=\"\",0,DersYükü!W59),Tatiller!AY70),Tatiller!AY70)","v":0}]
[null,"M","","",null,null,null,"19.00-20.00",null,null,null,{"$f":"IF(Tatiller!F71=\"\",IF(Tatiller!$X$77=0,IF(DersYükü!F60=\"\",0,DersYükü!F60),Tatiller!F71),Tatiller!F71)","v":0},{"$f":"IF(Tatiller!G71=\"\",IF(Tatiller!$X$77=0,IF(DersYükü!G60=\"\",0,DersYükü!G60),Tatiller!G71),Tatiller!G71)","v":0},{"$f":"IF(Tatiller!H71=\"\",IF(Tatiller!$X$77=0,IF(DersYükü!H60=\"\",0,DersYükü!H60),Tatiller!H71),Tatiller!H71)","v":0},{"$f":"IF(Tatiller!I71=\"\",IF(Tatiller!$X$77=0,IF(DersYükü!I60=\"\",0,DersYükü!I60),Tatiller!I71),Tatiller!I71)","v":0},{"$f":"IF(Tatiller!J71=\"\",IF(Tatiller!$X$77=0,IF(DersYükü!J60=\"\",0,DersYükü!J60),Tatiller!J71),Tatiller!J71)","v":0},{"$f":"IF(Tatiller!K71=\"\",IF(Tatiller!$X$77=0,IF(DersYükü!K60=\"\",0,DersYükü!K60),Tatiller!K71),Tatiller!K71)","v":0},{"$f":"IF(Tatiller!L71=\"\",IF(Tatiller!$X$77=0,IF(DersYükü!L60=\"\",0,DersYükü!L60),Tatiller!L71),Tatiller!L71)","v":0},{"$f":"IF(Tatiller!M71=\"\",IF(Tatiller!$X$77=0,IF(DersYükü!M60=\"\",0,DersYükü!M60),Tatiller!M71),Tatiller!M71)","v":0},{"$f":"IF(Tatiller!N71=\"\",IF(Tatiller!$X$77=0,IF(DersYükü!N60=\"\",0,DersYükü!N60),Tatiller!N71),Tatiller!N71)","v":0},{"$f":"IF(Tatiller!O71=\"\",IF(Tatiller!$X$77=0,IF(DersYükü!O60=\"\",0,DersYükü!O60),Tatiller!O71),Tatiller!O71)","v":0},{"$f":"IF(Tatiller!P71=\"\",IF(Tatiller!$X$77=0,IF(DersYükü!P60=\"\",0,DersYükü!P60),Tatiller!P71),Tatiller!P71)","v":0},{"$f":"IF(Tatiller!Q71=\"\",IF(Tatiller!$X$77=0,IF(DersYükü!Q60=\"\",0,DersYükü!Q60),Tatiller!Q71),Tatiller!Q71)","v":0},{"$f":"IF(Tatiller!R71=\"\",IF(Tatiller!$X$77=0,IF(DersYükü!R60=\"\",0,DersYükü!R60),Tatiller!R71),Tatiller!R71)","v":0},{"$f":"IF(Tatiller!S71=\"\",IF(Tatiller!$X$77=0,IF(DersYükü!S60=\"\",0,DersYükü!S60),Tatiller!S71),Tatiller!S71)","v":0},{"$f":"IF(Tatiller!T71=\"\",IF(Tatiller!$X$77=0,IF(DersYükü!T60=\"\",0,DersYükü!T60),Tatiller!T71),Tatiller!T71)","v":0},{"$f":"IF(Tatiller!U71=\"\",IF(Tatiller!$X$77=0,IF(DersYükü!U60=\"\",0,DersYükü!U60),Tatiller!U71),Tatiller!U71)","v":0},{"$f":"IF(Tatiller!V71=\"\",IF(Tatiller!$X$77=0,IF(DersYükü!V60=\"\",0,DersYükü!V60),Tatiller!V71),Tatiller!V71)","v":0},{"$f":"IF(Tatiller!W71=\"\",IF(Tatiller!$X$77=0,IF(DersYükü!W60=\"\",0,DersYükü!W60),Tatiller!W71),Tatiller!W71)","v":0},null,null,null,"M","","",null,null,null,"19.00-20.00",null,null,null,{"$f":"IF(Tatiller!AH71=\"\",IF(Tatiller!$AZ$77=0,IF(DersYükü!F60=\"\",0,DersYükü!F60),Tatiller!AH71),Tatiller!AH71)","v":0},{"$f":"IF(Tatiller!AI71=\"\",IF(Tatiller!$AZ$77=0,IF(DersYükü!G60=\"\",0,DersYükü!G60),Tatiller!AI71),Tatiller!AI71)","v":0},{"$f":"IF(Tatiller!AJ71=\"\",IF(Tatiller!$AZ$77=0,IF(DersYükü!H60=\"\",0,DersYükü!H60),Tatiller!AJ71),Tatiller!AJ71)","v":0},{"$f":"IF(Tatiller!AK71=\"\",IF(Tatiller!$AZ$77=0,IF(DersYükü!I60=\"\",0,DersYükü!I60),Tatiller!AK71),Tatiller!AK71)","v":0},{"$f":"IF(Tatiller!AL71=\"\",IF(Tatiller!$AZ$77=0,IF(DersYükü!J60=\"\",0,DersYükü!J60),Tatiller!AL71),Tatiller!AL71)","v":0},{"$f":"IF(Tatiller!AM71=\"\",IF(Tatiller!$AZ$77=0,IF(DersYükü!K60=\"\",0,DersYükü!K60),Tatiller!AM71),Tatiller!AM71)","v":0},{"$f":"IF(Tatiller!AN71=\"\",IF(Tatiller!$AZ$77=0,IF(DersYükü!L60=\"\",0,DersYükü!L60),Tatiller!AN71),Tatiller!AN71)","v":0},{"$f":"IF(Tatiller!AO71=\"\",IF(Tatiller!$AZ$77=0,IF(DersYükü!M60=\"\",0,DersYükü!M60),Tatiller!AO71),Tatiller!AO71)","v":0},{"$f":"IF(Tatiller!AP71=\"\",IF(Tatiller!$AZ$77=0,IF(DersYükü!N60=\"\",0,DersYükü!N60),Tatiller!AP71),Tatiller!AP71)","v":0},{"$f":"IF(Tatiller!AQ71=\"\",IF(Tatiller!$AZ$77=0,IF(DersYükü!O60=\"\",0,DersYükü!O60),Tatiller!AQ71),Tatiller!AQ71)","v":0},{"$f":"IF(Tatiller!AR71=\"\",IF(Tatiller!$AZ$77=0,IF(DersYükü!P60=\"\",0,DersYükü!P60),Tatiller!AR71),Tatiller!AR71)","v":0},{"$f":"IF(Tatiller!AS71=\"\",IF(Tatiller!$AZ$77=0,IF(DersYükü!Q60=\"\",0,DersYükü!Q60),Tatiller!AS71),Tatiller!AS71)","v":0},{"$f":"IF(Tatiller!AT71=\"\",IF(Tatiller!$AZ$77=0,IF(DersYükü!R60=\"\",0,DersYükü!R60),Tatiller!AT71),Tatiller!AT71)","v":0},{"$f":"IF(Tatiller!AU71=\"\",IF(Tatiller!$AZ$77=0,IF(DersYükü!S60=\"\",0,DersYükü!S60),Tatiller!AU71),Tatiller!AU71)","v":0},{"$f":"IF(Tatiller!AV71=\"\",IF(Tatiller!$AZ$77=0,IF(DersYükü!T60=\"\",0,DersYükü!T60),Tatiller!AV71),Tatiller!AV71)","v":0},{"$f":"IF(Tatiller!AW71=\"\",IF(Tatiller!$AZ$77=0,IF(DersYükü!U60=\"\",0,DersYükü!U60),Tatiller!AW71),Tatiller!AW71)","v":0},{"$f":"IF(Tatiller!AX71=\"\",IF(Tatiller!$AZ$77=0,IF(DersYükü!V60=\"\",0,DersYükü!V60),Tatiller!AX71),Tatiller!AX71)","v":0},{"$f":"IF(Tatiller!AY71=\"\",IF(Tatiller!$AZ$77=0,IF(DersYükü!W60=\"\",0,DersYükü!W60),Tatiller!AY71),Tatiller!AY71)","v":0}]
[null,"N","","",null,null,null,"20.00-21.00",null,null,null,{"$f":"IF(Tatiller!F72=\"\",IF(Tatiller!$X$77=0,IF(DersYükü!F61=\"\",0,DersYükü!F61),Tatiller!F72),Tatiller!F72)","v":0},{"$f":"IF(Tatiller!G72=\"\",IF(Tatiller!$X$77=0,IF(DersYükü!G61=\"\",0,DersYükü!G61),Tatiller!G72),Tatiller!G72)","v":0},{"$f":"IF(Tatiller!H72=\"\",IF(Tatiller!$X$77=0,IF(DersYükü!H61=\"\",0,DersYükü!H61),Tatiller!H72),Tatiller!H72)","v":0},{"$f":"IF(Tatiller!I72=\"\",IF(Tatiller!$X$77=0,IF(DersYükü!I61=\"\",0,DersYükü!I61),Tatiller!I72),Tatiller!I72)","v":0},{"$f":"IF(Tatiller!J72=\"\",IF(Tatiller!$X$77=0,IF(DersYükü!J61=\"\",0,DersYükü!J61),Tatiller!J72),Tatiller!J72)","v":0},{"$f":"IF(Tatiller!K72=\"\",IF(Tatiller!$X$77=0,IF(DersYükü!K61=\"\",0,DersYükü!K61),Tatiller!K72),Tatiller!K72)","v":0},{"$f":"IF(Tatiller!L72=\"\",IF(Tatiller!$X$77=0,IF(DersYükü!L61=\"\",0,DersYükü!L61),Tatiller!L72),Tatiller!L72)","v":0},{"$f":"IF(Tatiller!M72=\"\",IF(Tatiller!$X$77=0,IF(DersYükü!M61=\"\",0,DersYükü!M61),Tatiller!M72),Tatiller!M72)","v":0},{"$f":"IF(Tatiller!N72=\"\",IF(Tatiller!$X$77=0,IF(DersYükü!N61=\"\",0,DersYükü!N61),Tatiller!N72),Tatiller!N72)","v":0},{"$f":"IF(Tatiller!O72=\"\",IF(Tatiller!$X$77=0,IF(DersYükü!O61=\"\",0,DersYükü!O61),Tatiller!O72),Tatiller!O72)","v":0},{"$f":"IF(Tatiller!P72=\"\",IF(Tatiller!$X$77=0,IF(DersYükü!P61=\"\",0,DersYükü!P61),Tatiller!P72),Tatiller!P72)","v":0},{"$f":"IF(Tatiller!Q72=\"\",IF(Tatiller!$X$77=0,IF(DersYükü!Q61=\"\",0,DersYükü!Q61),Tatiller!Q72),Tatiller!Q72)","v":0},{"$f":"IF(Tatiller!R72=\"\",IF(Tatiller!$X$77=0,IF(DersYükü!R61=\"\",0,DersYükü!R61),Tatiller!R72),Tatiller!R72)","v":0},{"$f":"IF(Tatiller!S72=\"\",IF(Tatiller!$X$77=0,IF(DersYükü!S61=\"\",0,DersYükü!S61),Tatiller!S72),Tatiller!S72)","v":0},{"$f":"IF(Tatiller!T72=\"\",IF(Tatiller!$X$77=0,IF(DersYükü!T61=\"\",0,DersYükü!T61),Tatiller!T72),Tatiller!T72)","v":0},{"$f":"IF(Tatiller!U72=\"\",IF(Tatiller!$X$77=0,IF(DersYükü!U61=\"\",0,DersYükü!U61),Tatiller!U72),Tatiller!U72)","v":0},{"$f":"IF(Tatiller!V72=\"\",IF(Tatiller!$X$77=0,IF(DersYükü!V61=\"\",0,DersYükü!V61),Tatiller!V72),Tatiller!V72)","v":0},{"$f":"IF(Tatiller!W72=\"\",IF(Tatiller!$X$77=0,IF(DersYükü!W61=\"\",0,DersYükü!W61),Tatiller!W72),Tatiller!W72)","v":0},null,null,null,"N","","",null,null,null,"20.00-21.00",null,null,null,{"$f":"IF(Tatiller!AH72=\"\",IF(Tatiller!$AZ$77=0,IF(DersYükü!F61=\"\",0,DersYükü!F61),Tatiller!AH72),Tatiller!AH72)","v":0},{"$f":"IF(Tatiller!AI72=\"\",IF(Tatiller!$AZ$77=0,IF(DersYükü!G61=\"\",0,DersYükü!G61),Tatiller!AI72),Tatiller!AI72)","v":0},{"$f":"IF(Tatiller!AJ72=\"\",IF(Tatiller!$AZ$77=0,IF(DersYükü!H61=\"\",0,DersYükü!H61),Tatiller!AJ72),Tatiller!AJ72)","v":0},{"$f":"IF(Tatiller!AK72=\"\",IF(Tatiller!$AZ$77=0,IF(DersYükü!I61=\"\",0,DersYükü!I61),Tatiller!AK72),Tatiller!AK72)","v":0},{"$f":"IF(Tatiller!AL72=\"\",IF(Tatiller!$AZ$77=0,IF(DersYükü!J61=\"\",0,DersYükü!J61),Tatiller!AL72),Tatiller!AL72)","v":0},{"$f":"IF(Tatiller!AM72=\"\",IF(Tatiller!$AZ$77=0,IF(DersYükü!K61=\"\",0,DersYükü!K61),Tatiller!AM72),Tatiller!AM72)","v":0},{"$f":"IF(Tatiller!AN72=\"\",IF(Tatiller!$AZ$77=0,IF(DersYükü!L61=\"\",0,DersYükü!L61),Tatiller!AN72),Tatiller!AN72)","v":0},{"$f":"IF(Tatiller!AO72=\"\",IF(Tatiller!$AZ$77=0,IF(DersYükü!M61=\"\",0,DersYükü!M61),Tatiller!AO72),Tatiller!AO72)","v":0},{"$f":"IF(Tatiller!AP72=\"\",IF(Tatiller!$AZ$77=0,IF(DersYükü!N61=\"\",0,DersYükü!N61),Tatiller!AP72),Tatiller!AP72)","v":0},{"$f":"IF(Tatiller!AQ72=\"\",IF(Tatiller!$AZ$77=0,IF(DersYükü!O61=\"\",0,DersYükü!O61),Tatiller!AQ72),Tatiller!AQ72)","v":0},{"$f":"IF(Tatiller!AR72=\"\",IF(Tatiller!$AZ$77=0,IF(DersYükü!P61=\"\",0,DersYükü!P61),Tatiller!AR72),Tatiller!AR72)","v":0},{"$f":"IF(Tatiller!AS72=\"\",IF(Tatiller!$AZ$77=0,IF(DersYükü!Q61=\"\",0,DersYükü!Q61),Tatiller!AS72),Tatiller!AS72)","v":0},{"$f":"IF(Tatiller!AT72=\"\",IF(Tatiller!$AZ$77=0,IF(DersYükü!R61=\"\",0,DersYükü!R61),Tatiller!AT72),Tatiller!AT72)","v":0},{"$f":"IF(Tatiller!AU72=\"\",IF(Tatiller!$AZ$77=0,IF(DersYükü!S61=\"\",0,DersYükü!S61),Tatiller!AU72),Tatiller!AU72)","v":0},{"$f":"IF(Tatiller!AV72=\"\",IF(Tatiller!$AZ$77=0,IF(DersYükü!T61=\"\",0,DersYükü!T61),Tatiller!AV72),Tatiller!AV72)","v":0},{"$f":"IF(Tatiller!AW72=\"\",IF(Tatiller!$AZ$77=0,IF(DersYükü!U61=\"\",0,DersYükü!U61),Tatiller!AW72),Tatiller!AW72)","v":0},{"$f":"IF(Tatiller!AX72=\"\",IF(Tatiller!$AZ$77=0,IF(DersYükü!V61=\"\",0,DersYükü!V61),Tatiller!AX72),Tatiller!AX72)","v":0},{"$f":"IF(Tatiller!AY72=\"\",IF(Tatiller!$AZ$77=0,IF(DersYükü!W61=\"\",0,DersYükü!W61),Tatiller!AY72),Tatiller!AY72)","v":0}]
[null,"O","","",null,null,null,"21.00-22.00",null,null,null,{"$f":"IF(Tatiller!F73=\"\",IF(Tatiller!$X$77=0,IF(DersYükü!F62=\"\",0,DersYükü!F62),Tatiller!F73),Tatiller!F73)","v":0},{"$f":"IF(Tatiller!G73=\"\",IF(Tatiller!$X$77=0,IF(DersYükü!G62=\"\",0,DersYükü!G62),Tatiller!G73),Tatiller!G73)","v":0},{"$f":"IF(Tatiller!H73=\"\",IF(Tatiller!$X$77=0,IF(DersYükü!H62=\"\",0,DersYükü!H62),Tatiller!H73),Tatiller!H73)","v":0},{"$f":"IF(Tatiller!I73=\"\",IF(Tatiller!$X$77=0,IF(DersYükü!I62=\"\",0,DersYükü!I62),Tatiller!I73),Tatiller!I73)","v":0},{"$f":"IF(Tatiller!J73=\"\",IF(Tatiller!$X$77=0,IF(DersYükü!J62=\"\",0,DersYükü!J62),Tatiller!J73),Tatiller!J73)","v":0},{"$f":"IF(Tatiller!K73=\"\",IF(Tatiller!$X$77=0,IF(DersYükü!K62=\"\",0,DersYükü!K62),Tatiller!K73),Tatiller!K73)","v":0},{"$f":"IF(Tatiller!L73=\"\",IF(Tatiller!$X$77=0,IF(DersYükü!L62=\"\",0,DersYükü!L62),Tatiller!L73),Tatiller!L73)","v":0},{"$f":"IF(Tatiller!M73=\"\",IF(Tatiller!$X$77=0,IF(DersYükü!M62=\"\",0,DersYükü!M62),Tatiller!M73),Tatiller!M73)","v":0},{"$f":"IF(Tatiller!N73=\"\",IF(Tatiller!$X$77=0,IF(DersYükü!N62=\"\",0,DersYükü!N62),Tatiller!N73),Tatiller!N73)","v":0},{"$f":"IF(Tatiller!O73=\"\",IF(Tatiller!$X$77=0,IF(DersYükü!O62=\"\",0,DersYükü!O62),Tatiller!O73),Tatiller!O73)","v":0},{"$f":"IF(Tatiller!P73=\"\",IF(Tatiller!$X$77=0,IF(DersYükü!P62=\"\",0,DersYükü!P62),Tatiller!P73),Tatiller!P73)","v":0},{"$f":"IF(Tatiller!Q73=\"\",IF(Tatiller!$X$77=0,IF(DersYükü!Q62=\"\",0,DersYükü!Q62),Tatiller!Q73),Tatiller!Q73)","v":0},{"$f":"IF(Tatiller!R73=\"\",IF(Tatiller!$X$77=0,IF(DersYükü!R62=\"\",0,DersYükü!R62),Tatiller!R73),Tatiller!R73)","v":0},{"$f":"IF(Tatiller!S73=\"\",IF(Tatiller!$X$77=0,IF(DersYükü!S62=\"\",0,DersYükü!S62),Tatiller!S73),Tatiller!S73)","v":0},{"$f":"IF(Tatiller!T73=\"\",IF(Tatiller!$X$77=0,IF(DersYükü!T62=\"\",0,DersYükü!T62),Tatiller!T73),Tatiller!T73)","v":0},{"$f":"IF(Tatiller!U73=\"\",IF(Tatiller!$X$77=0,IF(DersYükü!U62=\"\",0,DersYükü!U62),Tatiller!U73),Tatiller!U73)","v":0},{"$f":"IF(Tatiller!V73=\"\",IF(Tatiller!$X$77=0,IF(DersYükü!V62=\"\",0,DersYükü!V62),Tatiller!V73),Tatiller!V73)","v":0},{"$f":"IF(Tatiller!W73=\"\",IF(Tatiller!$X$77=0,IF(DersYükü!W62=\"\",0,DersYükü!W62),Tatiller!W73),Tatiller!W73)","v":0},null,null,null,"O","","",null,null,null,"21.00-22.00",null,null,null,{"$f":"IF(Tatiller!AH73=\"\",IF(Tatiller!$AZ$77=0,IF(DersYükü!F62=\"\",0,DersYükü!F62),Tatiller!AH73),Tatiller!AH73)","v":0},{"$f":"IF(Tatiller!AI73=\"\",IF(Tatiller!$AZ$77=0,IF(DersYükü!G62=\"\",0,DersYükü!G62),Tatiller!AI73),Tatiller!AI73)","v":0},{"$f":"IF(Tatiller!AJ73=\"\",IF(Tatiller!$AZ$77=0,IF(DersYükü!H62=\"\",0,DersYükü!H62),Tatiller!AJ73),Tatiller!AJ73)","v":0},{"$f":"IF(Tatiller!AK73=\"\",IF(Tatiller!$AZ$77=0,IF(DersYükü!I62=\"\",0,DersYükü!I62),Tatiller!AK73),Tatiller!AK73)","v":0},{"$f":"IF(Tatiller!AL73=\"\",IF(Tatiller!$AZ$77=0,IF(DersYükü!J62=\"\",0,DersYükü!J62),Tatiller!AL73),Tatiller!AL73)","v":0},{"$f":"IF(Tatiller!AM73=\"\",IF(Tatiller!$AZ$77=0,IF(DersYükü!K62=\"\",0,DersYükü!K62),Tatiller!AM73),Tatiller!AM73)","v":0},{"$f":"IF(Tatiller!AN73=\"\",IF(Tatiller!$AZ$77=0,IF(DersYükü!L62=\"\",0,DersYükü!L62),Tatiller!AN73),Tatiller!AN73)","v":0},{"$f":"IF(Tatiller!AO73=\"\",IF(Tatiller!$AZ$77=0,IF(DersYükü!M62=\"\",0,DersYükü!M62),Tatiller!AO73),Tatiller!AO73)","v":0},{"$f":"IF(Tatiller!AP73=\"\",IF(Tatiller!$AZ$77=0,IF(DersYükü!N62=\"\",0,DersYükü!N62),Tatiller!AP73),Tatiller!AP73)","v":0},{"$f":"IF(Tatiller!AQ73=\"\",IF(Tatiller!$AZ$77=0,IF(DersYükü!O62=\"\",0,DersYükü!O62),Tatiller!AQ73),Tatiller!AQ73)","v":0},{"$f":"IF(Tatiller!AR73=\"\",IF(Tatiller!$AZ$77=0,IF(DersYükü!P62=\"\",0,DersYükü!P62),Tatiller!AR73),Tatiller!AR73)","v":0},{"$f":"IF(Tatiller!AS73=\"\",IF(Tatiller!$AZ$77=0,IF(DersYükü!Q62=\"\",0,DersYükü!Q62),Tatiller!AS73),Tatiller!AS73)","v":0},{"$f":"IF(Tatiller!AT73=\"\",IF(Tatiller!$AZ$77=0,IF(DersYükü!R62=\"\",0,DersYükü!R62),Tatiller!AT73),Tatiller!AT73)","v":0},{"$f":"IF(Tatiller!AU73=\"\",IF(Tatiller!$AZ$77=0,IF(DersYükü!S62=\"\",0,DersYükü!S62),Tatiller!AU73),Tatiller!AU73)","v":0},{"$f":"IF(Tatiller!AV73=\"\",IF(Tatiller!$AZ$77=0,IF(DersYükü!T62=\"\",0,DersYükü!T62),Tatiller!AV73),Tatiller!AV73)","v":0},{"$f":"IF(Tatiller!AW73=\"\",IF(Tatiller!$AZ$77=0,IF(DersYükü!U62=\"\",0,DersYükü!U62),Tatiller!AW73),Tatiller!AW73)","v":0},{"$f":"IF(Tatiller!AX73=\"\",IF(Tatiller!$AZ$77=0,IF(DersYükü!V62=\"\",0,DersYükü!V62),Tatiller!AX73),Tatiller!AX73)","v":0},{"$f":"IF(Tatiller!AY73=\"\",IF(Tatiller!$AZ$77=0,IF(DersYükü!W62=\"\",0,DersYükü!W62),Tatiller!AY73),Tatiller!AY73)","v":0}]
[null,null,null,null,null,null,null,"22.00-23.00",null,null,null,{"$f":"IF(Tatiller!F74=\"\",IF(Tatiller!$X$77=0,IF(DersYükü!F63=\"\",0,DersYükü!F63),Tatiller!F74),Tatiller!F74)","v":0},{"$f":"IF(Tatiller!G74=\"\",IF(Tatiller!$X$77=0,IF(DersYükü!G63=\"\",0,DersYükü!G63),Tatiller!G74),Tatiller!G74)","v":0},{"$f":"IF(Tatiller!H74=\"\",IF(Tatiller!$X$77=0,IF(DersYükü!H63=\"\",0,DersYükü!H63),Tatiller!H74),Tatiller!H74)","v":0},{"$f":"IF(Tatiller!I74=\"\",IF(Tatiller!$X$77=0,IF(DersYükü!I63=\"\",0,DersYükü!I63),Tatiller!I74),Tatiller!I74)","v":0},{"$f":"IF(Tatiller!J74=\"\",IF(Tatiller!$X$77=0,IF(DersYükü!J63=\"\",0,DersYükü!J63),Tatiller!J74),Tatiller!J74)","v":0},{"$f":"IF(Tatiller!K74=\"\",IF(Tatiller!$X$77=0,IF(DersYükü!K63=\"\",0,DersYükü!K63),Tatiller!K74),Tatiller!K74)","v":0},{"$f":"IF(Tatiller!L74=\"\",IF(Tatiller!$X$77=0,IF(DersYükü!L63=\"\",0,DersYükü!L63),Tatiller!L74),Tatiller!L74)","v":0},{"$f":"IF(Tatiller!M74=\"\",IF(Tatiller!$X$77=0,IF(DersYükü!M63=\"\",0,DersYükü!M63),Tatiller!M74),Tatiller!M74)","v":0},{"$f":"IF(Tatiller!N74=\"\",IF(Tatiller!$X$77=0,IF(DersYükü!N63=\"\",0,DersYükü!N63),Tatiller!N74),Tatiller!N74)","v":0},{"$f":"IF(Tatiller!O74=\"\",IF(Tatiller!$X$77=0,IF(DersYükü!O63=\"\",0,DersYükü!O63),Tatiller!O74),Tatiller!O74)","v":0},{"$f":"IF(Tatiller!P74=\"\",IF(Tatiller!$X$77=0,IF(DersYükü!P63=\"\",0,DersYükü!P63),Tatiller!P74),Tatiller!P74)","v":0},{"$f":"IF(Tatiller!Q74=\"\",IF(Tatiller!$X$77=0,IF(DersYükü!Q63=\"\",0,DersYükü!Q63),Tatiller!Q74),Tatiller!Q74)","v":0},{"$f":"IF(Tatiller!R74=\"\",IF(Tatiller!$X$77=0,IF(DersYükü!R63=\"\",0,DersYükü!R63),Tatiller!R74),Tatiller!R74)","v":0},{"$f":"IF(Tatiller!S74=\"\",IF(Tatiller!$X$77=0,IF(DersYükü!S63=\"\",0,DersYükü!S63),Tatiller!S74),Tatiller!S74)","v":0},{"$f":"IF(Tatiller!T74=\"\",IF(Tatiller!$X$77=0,IF(DersYükü!T63=\"\",0,DersYükü!T63),Tatiller!T74),Tatiller!T74)","v":0},{"$f":"IF(Tatiller!U74=\"\",IF(Tatiller!$X$77=0,IF(DersYükü!U63=\"\",0,DersYükü!U63),Tatiller!U74),Tatiller!U74)","v":0},{"$f":"IF(Tatiller!V74=\"\",IF(Tatiller!$X$77=0,IF(DersYükü!V63=\"\",0,DersYükü!V63),Tatiller!V74),Tatiller!V74)","v":0},{"$f":"IF(Tatiller!W74=\"\",IF(Tatiller!$X$77=0,IF(DersYükü!W63=\"\",0,DersYükü!W63),Tatiller!W74),Tatiller!W74)","v":0},"TEO.","DF",null,null,null,null,null,null,null,"22.00-23.00",null,null,null,{"$f":"IF(Tatiller!AH74=\"\",IF(Tatiller!$AZ$77=0,IF(DersYükü!F63=\"\",0,DersYükü!F63),Tatiller!AH74),Tatiller!AH74)","v":0},{"$f":"IF(Tatiller!AI74=\"\",IF(Tatiller!$AZ$77=0,IF(DersYükü!G63=\"\",0,DersYükü!G63),Tatiller!AI74),Tatiller!AI74)","v":0},{"$f":"IF(Tatiller!AJ74=\"\",IF(Tatiller!$AZ$77=0,IF(DersYükü!H63=\"\",0,DersYükü!H63),Tatiller!AJ74),Tatiller!AJ74)","v":0},{"$f":"IF(Tatiller!AK74=\"\",IF(Tatiller!$AZ$77=0,IF(DersYükü!I63=\"\",0,DersYükü!I63),Tatiller!AK74),Tatiller!AK74)","v":0},{"$f":"IF(Tatiller!AL74=\"\",IF(Tatiller!$AZ$77=0,IF(DersYükü!J63=\"\",0,DersYükü!J63),Tatiller!AL74),Tatiller!AL74)","v":0},{"$f":"IF(Tatiller!AM74=\"\",IF(Tatiller!$AZ$77=0,IF(DersYükü!K63=\"\",0,DersYükü!K63),Tatiller!AM74),Tatiller!AM74)","v":0},{"$f":"IF(Tatiller!AN74=\"\",IF(Tatiller!$AZ$77=0,IF(DersYükü!L63=\"\",0,DersYükü!L63),Tatiller!AN74),Tatiller!AN74)","v":0},{"$f":"IF(Tatiller!AO74=\"\",IF(Tatiller!$AZ$77=0,IF(DersYükü!M63=\"\",0,DersYükü!M63),Tatiller!AO74),Tatiller!AO74)","v":0},{"$f":"IF(Tatiller!AP74=\"\",IF(Tatiller!$AZ$77=0,IF(DersYükü!N63=\"\",0,DersYükü!N63),Tatiller!AP74),Tatiller!AP74)","v":0},{"$f":"IF(Tatiller!AQ74=\"\",IF(Tatiller!$AZ$77=0,IF(DersYükü!O63=\"\",0,DersYükü!O63),Tatiller!AQ74),Tatiller!AQ74)","v":0},{"$f":"IF(Tatiller!AR74=\"\",IF(Tatiller!$AZ$77=0,IF(DersYükü!P63=\"\",0,DersYükü!P63),Tatiller!AR74),Tatiller!AR74)","v":0},{"$f":"IF(Tatiller!AS74=\"\",IF(Tatiller!$AZ$77=0,IF(DersYükü!Q63=\"\",0,DersYükü!Q63),Tatiller!AS74),Tatiller!AS74)","v":0},{"$f":"IF(Tatiller!AT74=\"\",IF(Tatiller!$AZ$77=0,IF(DersYükü!R63=\"\",0,DersYükü!R63),Tatiller!AT74),Tatiller!AT74)","v":0},{"$f":"IF(Tatiller!AU74=\"\",IF(Tatiller!$AZ$77=0,IF(DersYükü!S63=\"\",0,DersYükü!S63),Tatiller!AU74),Tatiller!AU74)","v":0},{"$f":"IF(Tatiller!AV74=\"\",IF(Tatiller!$AZ$77=0,IF(DersYükü!T63=\"\",0,DersYükü!T63),Tatiller!AV74),Tatiller!AV74)","v":0},{"$f":"IF(Tatiller!AW74=\"\",IF(Tatiller!$AZ$77=0,IF(DersYükü!U63=\"\",0,DersYükü!U63),Tatiller!AW74),Tatiller!AW74)","v":0},{"$f":"IF(Tatiller!AX74=\"\",IF(Tatiller!$AZ$77=0,IF(DersYükü!V63=\"\",0,DersYükü!V63),Tatiller!AX74),Tatiller!AX74)","v":0},{"$f":"IF(Tatiller!AY74=\"\",IF(Tatiller!$AZ$77=0,IF(DersYükü!W63=\"\",0,DersYükü!W63),Tatiller!AY74),Tatiller!AY74)","v":0},"TEO.","DF"]
[null,null,null,null,null,null,"TOPLAM (Ö.Ö)",null,null,null,null,{"$f":"COUNTIF(L60:L68,\">=a\")","v":0},{"$f":"COUNTIF(M60:M68,\">=a\")","v":0},0,0,0,0,0,0,0,0,{"$f":"COUNTIF(V60:V76,\">=a\")","v":0},{"$f":"COUNTIF(W60:W76,\">=a\")","v":0},null,null,{"$f":"COUNTIF(Z60:Z76,\">=a\")","v":0},{"$f":"COUNTIF(AA60:AA76,\">=a\")","v":0},null,null,{"$f":"L77+N77+P77+R77+T77+V77+Z77","v":0},{"$f":"M77+O77+Q77+S77+U77+W77+AA77","v":0},null,null,null,null,null,null,"TOPLAM (Ö.Ö)",null,null,null,null,{"$f":"COUNTIF(AQ60:AQ68,\">=a\")","v":0},{"$f":"COUNTIF(AR60:AR68,\">=a\")","v":0},0,0,0,0,0,0,0,0,{"$f":"COUNTIF(BA60:BA76,\">=a\")","v":0},{"$f":"COUNTIF(BB60:BB76,\">=a\")","v":0},null,null,{"$f":"COUNTIF(BE60:BE76,\">=a\")","v":0},{"$f":"COUNTIF(BF60:BF76,\">=a\")","v":0},null,null,{"$f":"AQ77+AS77+AU77+AW77+AY77+BA77+BE77","v":0},{"$f":"AR77+AT77+AV77+AX77+AZ77+BB77+BF77","v":0}]
[null,null,"3. hafta",null,null,null,"TOPLAM (İ.Ö)",null,null,null,null,{"$f":"COUNTIF(L69:L76,\">O\")","v":0},{"$f":"COUNTIF(M69:M76,\">O\")","v":0},0,0,0,0,0,0,0,0,null,null,{"$f":"COUNTIF(X60:X76,\">O\")","v":0},{"$f":"COUNTIF(Y60:Y76,\">O\")","v":0},null,null,{"$f":"COUNTIF(AB60:AB76,\">O\")","v":0},{"$f":"COUNTIF(AC60:AC76,\">O\")","v":0},{"$f":"L78+N78+P78+R78+T78+X78+AB78","v":0},{"$f":"M78+O78+Q78+S78+U78+Y78+AC78","v":0},null,null,"4. hafta",null,null,null,"TOPLAM (İ.Ö)",null,null,null,null,{"$f":"COUNTIF(AQ69:AQ76,\">O\")","v":0},{"$f":"COUNTIF(AR69:AR76,\">O\")","v":0},0,0,0,0,0,0,0,0,null,null,{"$f":"COUNTIF(BC60:BC76,\">O\")","v":0},{"$f":"COUNTIF(BD60:BD76,\">O\")","v":0},null,null,{"$f":"COUNTIF(BG60:BG76,\">O\")","v":0},{"$f":"COUNTIF(BH60:BH76,\">O\")","v":0},{"$f":"AQ78+AS78+AU78+AW78+AY78+BC78+BG78","v":0},{"$f":"AR78+AT78+AV78+AX78+AZ78+BD78+BH78","v":0}]
[null,null,"T","DF",null,null,"GENEL TOPLAM",null,null,null,null,{"$f":"L77+L78","v":0},{"$f":"M77+M78","v":0},0,0,0,0,0,0,0,0,0,0,0,0,0,0,0,0,{"$f":"SUM(L79:AC79)","v":0},null,null,null,"T","DF",null,null,"GENEL TOPLAM",null,null,null,null,{"$f":"AQ77+AQ78","v":0},{"$f":"AR77+AR78","v":0},0,0,0,0,0,0,0,0,0,0,0,0,0,0,0,0,{"$f":"SUM(AQ79:BH79)","v":0}]
[null,"P",{"$f":"IF(IFERROR(COUNTIF(N$60:N$76,$B80)+COUNTIF(P$60:P$76,$B80)+COUNTIF(R$60:R$76,$B80)+COUNTIF(T$60:T$76,$B80)+COUNTIF(V$60:V$76,$B80)+COUNTIF(X$60:X$76,$B80)+COUNTIF(Z$60:Z$76,$B80)+COUNTIF(AB$60:AB$76,$B80)+COUNTIF(L$60:L$76,$B80),\"\")=0,\"\",IFERROR(COUNTIF(N$60:N$76,$B80)+COUNTIF(P$60:P$76,$B80)+COUNTIF(R$60:R$76,$B80)+COUNTIF(T$60:T$76,$B80)+COUNTIF(V$60:V$76,$B80)+COUNTIF(X$60:X$76,$B80)+COUNTIF(Z$60:Z$76,$B80)+COUNTIF(AB$60:AB$76,$B80)+COUNTIF(L$60:L$76,$B80),\"\"))","v":""},"",null,null,null,null,null,null,null,null,null,null,null,null,null,null,null,null,null,null,null,null,null,null,null,null,null,null,null,null,"P",{"$f":"IF(IFERROR(COUNTIF(AS$60:AS$76,$B80)+COUNTIF(AU$60:AU$76,$B80)+COUNTIF(AW$60:AW$76,$B80)+COUNTIF(AY$60:AY$76,$B80)+COUNTIF(BA$60:BA$76,$B80)+COUNTIF(BC$60:BC$76,$B80)+COUNTIF(BE$60:BE$76,$B80)+COUNTIF(BG$60:BG$76,$B80)+COUNTIF(AQ$60:AQ$76,$B80),\"\")=0,\"\",IFERROR(COUNTIF(AS$60:AS$76,$B80)+COUNTIF(AU$60:AU$76,$B80)+COUNTIF(AW$60:AW$76,$B80)+COUNTIF(AY$60:AY$76,$B80)+COUNTIF(BA$60:BA$76,$B80)+COUNTIF(BC$60:BC$76,$B80)+COUNTIF(BE$60:BE$76,$B80)+COUNTIF(BG$60:BG$76,$B80)+COUNTIF(AQ$60:AQ$76,$B80),\"\"))","v":""},""]
[null,"R","","",null,null,null,null,null,null,null,null,null,null,null,null,null,null,null,null,null,null,null,null,null,null,null,null,null,null,null,null,"R","",""]
[null,"S","","",null,null,null,null,null,null,null,null,null,null,null,null,null,null,null,null,null,null,null,null,null,null,null,null,null,null,null,null,"S","",""]
[null,"T","","",null,null,null,null,null,null,null,null,null,null,null,null,null,null,null,null,null,null,null,null,null,null,null,null,null,null,null,null,"T","",""]
[null,"U","","",null,null,null,null,null,null,null,null,null,null,null,null,null,null,null,null,null,null,null,null,null,null,null,null,null,null,null,null,"U","",""]
[null,"V","","",null,null,null,null,null,null,null,null,null,null,null,null,null,null,null,null,null,null,null,null,null,null,null,null,null,null,null,null,"V","",""]
[null,"W","","",null,null,null,null,null,null,null,null,null,null,null,null,null,null,null,null,null,null,null,null,null,null,null,null,null,null,null,null,"W","",""]
[null,"X","","",null,null,null,null,null,null,null,null,null,null,null,null,null,null,null,null,null,null,null,null,null,null,null,null,null,null,null,null,"X","",""]
[null,"Y","","",null,null,null,null,null,null,null,null,null,null,null,null,null,null,null,null,null,null,null,null,null,null,null,null,null,null,null,null,"Y","",""]
[null,"Z","","",null,null,null,null,null,null,null,null,null,null,null,null,null,null,null,null,null,null,null,null,null,null,null,null,null,null,null,null,"Z","",""]
[]
[]
[]
[]
[]
[]
[]
[]
[]
[]
[]
[]
[]
[]
[]
[]
[]
[]
[]
[]
[null,null,null,null,null,null,"5. HAFTA",null,null,null,null,"TEORİK VE DİĞER DERSLERİN PROGRAMI"]
[null,null,null,null,null,null,null,null,null,null,null,{"$f":"IFERROR(IF(BE57+1>$BI$1,\"\",BE57+1),\"\")","v":""},null,{"$f":"IFERROR(IF(L111+1>$BI$1,\"\",L111+1),\"\")","v":""},null,{"$f":"IFERROR(IF(N111+1>$BI$1,\"\",N111+1),\"\")","v":""},null,{"$f":"IFERROR(IF(P111+1>$BI$1,\"\",P111+1),\"\")","v":""},null,{"$f":"IFERROR(IF(R111+1>$BI$1,\"\",R111+1),\"\")","v":""},null,{"$f":"IFERROR(IF(T111+1>$BI$1,\"\",T111+1),\"\")","v":""},null,null,null,{"$f":"IFERROR(IF(V111+1>$BI$1,\"\",V111+1),\"\")","v":""}]
[null,null,"5. hafta",null,null,null,null,null,null,null,null,{"$f":"IFERROR(IF(BE57+1>$BI$1,\"\",BE57+1),\"\")","v":""},null,{"$f":"IFERROR(IF(L111+1>$BI$1,\"\",L111+1),\"\")","v":""},null,{"$f":"IFERROR(IF(N111+1>$BI$1,\"\",N111+1),\"\")","v":""},null,{"$f":"IFERROR(IF(P111+1>$BI$1,\"\",P111+1),\"\")","v":""},null,{"$f":"IFERROR(IF(R111+1>$BI$1,\"\",R111+1),\"\")","v":""},null,"Ö.Ö",null,"İ.Ö",null,"Ö.Ö",null,"İ.Ö"]
[null,null,"T","DF",null,null,null,null,null,null,null,"T","D","T","D","T","D","T","D","T","D","T","D","T","D","T","D","T","D"]
[null,"A",{"$f":"IF(IFERROR(COUNTIF(N$114:N$130,$B114)+COUNTIF(P$114:P$130,$B114)+COUNTIF(R$114:R$130,$B114)+COUNTIF(T$114:T$130,$B114)+COUNTIF(V$114:V$130,$B114)+COUNTIF(X$114:X$130,$B114)+COUNTIF(Z$114:Z$130,$B114)+COUNTIF(AB$114:AB$130,$B114)+COUNTIF(L$114:L$130,$B114),\"\")=0,\"\",IFERROR(COUNTIF(N$114:N$130,$B114)+COUNTIF(P$114:P$130,$B114)+COUNTIF(R$114:R$130,$B114)+COUNTIF(T$114:T$130,$B114)+COUNTIF(V$114:V$130,$B114)+COUNTIF(X$114:X$130,$B114)+COUNTIF(Z$114:Z$130,$B114)+COUNTIF(AB$114:AB$130,$B114)+COUNTIF(L$114:L$130,$B114),\"\"))","v":""},"",null,null,"ÖRGÜN ÖĞRETİM","08.00-09.00",null,null,null,{"$f":"IF(Tatiller!F84=\"\",IF(Tatiller!$X$103=0,IF(DersYükü!F47=\"\",0,DersYükü!F47),Tatiller!F84),Tatiller!F84)","v":0},{"$f":"IF(Tatiller!G84=\"\",IF(Tatiller!$X$103=0,IF(DersYükü!G47=\"\",0,DersYükü!G47),Tatiller!G84),Tatiller!G84)","v":0},{"$f":"IF(Tatiller!H84=\"\",IF(Tatiller!$X$103=0,IF(DersYükü!H47=\"\",0,DersYükü!H47),Tatiller!H84),Tatiller!H84)","v":0},{"$f":"IF(Tatiller!I84=\"\",IF(Tatiller!$X$103=0,IF(DersYükü!I47=\"\",0,DersYükü!I47),Tatiller!I84),Tatiller!I84)","v":0},{"$f":"IF(Tatiller!J84=\"\",IF(Tatiller!$X$103=0,IF(DersYükü!J47=\"\",0,DersYükü!J47),Tatiller!J84),Tatiller!J84)","v":0},{"$f":"IF(Tatiller!K84=\"\",IF(Tatiller!$X$103=0,IF(DersYükü!K47=\"\",0,DersYükü!K47),Tatiller!K84),Tatiller!K84)","v":0},{"$f":"IF(Tatiller!L84=\"\",IF(Tatiller!$X$103=0,IF(DersYükü!L47=\"\",0,DersYükü!L47),Tatiller!L84),Tatiller!L84)","v":0},{"$f":"IF(Tatiller!M84=\"\",IF(Tatiller!$X$103=0,IF(DersYükü!M47=\"\",0,DersYükü!M47),Tatiller!M84),Tatiller!M84)","v":0},{"$f":"IF(Tatiller!N84=\"\",IF(Tatiller!$X$103=0,IF(DersYükü!N47=\"\",0,DersYükü!N47),Tatiller!N84),Tatiller!N84)","v":0},{"$f":"IF(Tatiller!O84=\"\",IF(Tatiller!$X$103=0,IF(DersYükü!O47=\"\",0,DersYükü!O47),Tatiller!O84),Tatiller!O84)","v":0},{"$f":"IF(Tatiller!P84=\"\",IF(Tatiller!$X$103=0,IF(DersYükü!P47=\"\",0,DersYükü!P47),Tatiller!P84),Tatiller!P84)","v":0},{"$f":"IF(Tatiller!Q84=\"\",IF(Tatiller!$X$103=0,IF(DersYükü!Q47=\"\",0,DersYükü!Q47),Tatiller!Q84),Tatiller!Q84)","v":0},{"$f":"IF(Tatiller!R84=\"\",IF(Tatiller!$X$103=0,IF(DersYükü!R47=\"\",0,DersYükü!R47),Tatiller!R84),Tatiller!R84)","v":0},{"$f":"IF(Tatiller!S84=\"\",IF(Tatiller!$X$103=0,IF(DersYükü!S47=\"\",0,DersYükü!S47),Tatiller!S84),Tatiller!S84)","v":0},{"$f":"IF(Tatiller!T84=\"\",IF(Tatiller!$X$103=0,IF(DersYükü!T47=\"\",0,DersYükü!T47),Tatiller!T84),Tatiller!T84)","v":0},{"$f":"IF(Tatiller!U84=\"\",IF(Tatiller!$X$103=0,IF(DersYükü!U47=\"\",0,DersYükü!U47),Tatiller!U84),Tatiller!U84)","v":0},{"$f":"IF(Tatiller!V84=\"\",IF(Tatiller!$X$103=0,IF(DersYükü!V47=\"\",0,DersYükü!V47),Tatiller!V84),Tatiller!V84)","v":0},{"$f":"IF(Tatiller!W84=\"\",IF(Tatiller!$X$103=0,IF(DersYükü!W47=\"\",0,DersYükü!W47),Tatiller!W84),Tatiller!W84)","v":0}]
[null,"B","","",null,null,null,"09.00-10.00",null,null,null,{"$f":"IF(Tatiller!F85=\"\",IF(Tatiller!$X$103=0,IF(DersYükü!F48=\"\",0,DersYükü!F48),Tatiller!F85),Tatiller!F85)","v":0},{"$f":"IF(Tatiller!G85=\"\",IF(Tatiller!$X$103=0,IF(DersYükü!G48=\"\",0,DersYükü!G48),Tatiller!G85),Tatiller!G85)","v":0},{"$f":"IF(Tatiller!H85=\"\",IF(Tatiller!$X$103=0,IF(DersYükü!H48=\"\",0,DersYükü!H48),Tatiller!H85),Tatiller!H85)","v":0},{"$f":"IF(Tatiller!I85=\"\",IF(Tatiller!$X$103=0,IF(DersYükü!I48=\"\",0,DersYükü!I48),Tatiller!I85),Tatiller!I85)","v":0},{"$f":"IF(Tatiller!J85=\"\",IF(Tatiller!$X$103=0,IF(DersYükü!J48=\"\",0,DersYükü!J48),Tatiller!J85),Tatiller!J85)","v":0},{"$f":"IF(Tatiller!K85=\"\",IF(Tatiller!$X$103=0,IF(DersYükü!K48=\"\",0,DersYükü!K48),Tatiller!K85),Tatiller!K85)","v":0},{"$f":"IF(Tatiller!L85=\"\",IF(Tatiller!$X$103=0,IF(DersYükü!L48=\"\",0,DersYükü!L48),Tatiller!L85),Tatiller!L85)","v":0},{"$f":"IF(Tatiller!M85=\"\",IF(Tatiller!$X$103=0,IF(DersYükü!M48=\"\",0,DersYükü!M48),Tatiller!M85),Tatiller!M85)","v":0},{"$f":"IF(Tatiller!N85=\"\",IF(Tatiller!$X$103=0,IF(DersYükü!N48=\"\",0,DersYükü!N48),Tatiller!N85),Tatiller!N85)","v":0},{"$f":"IF(Tatiller!O85=\"\",IF(Tatiller!$X$103=0,IF(DersYükü!O48=\"\",0,DersYükü!O48),Tatiller!O85),Tatiller!O85)","v":0},{"$f":"IF(Tatiller!P85=\"\",IF(Tatiller!$X$103=0,IF(DersYükü!P48=\"\",0,DersYükü!P48),Tatiller!P85),Tatiller!P85)","v":0},{"$f":"IF(Tatiller!Q85=\"\",IF(Tatiller!$X$103=0,IF(DersYükü!Q48=\"\",0,DersYükü!Q48),Tatiller!Q85),Tatiller!Q85)","v":0},{"$f":"IF(Tatiller!R85=\"\",IF(Tatiller!$X$103=0,IF(DersYükü!R48=\"\",0,DersYükü!R48),Tatiller!R85),Tatiller!R85)","v":0},{"$f":"IF(Tatiller!S85=\"\",IF(Tatiller!$X$103=0,IF(DersYükü!S48=\"\",0,DersYükü!S48),Tatiller!S85),Tatiller!S85)","v":0},{"$f":"IF(Tatiller!T85=\"\",IF(Tatiller!$X$103=0,IF(DersYükü!T48=\"\",0,DersYükü!T48),Tatiller!T85),Tatiller!T85)","v":0},{"$f":"IF(Tatiller!U85=\"\",IF(Tatiller!$X$103=0,IF(DersYükü!U48=\"\",0,DersYükü!U48),Tatiller!U85),Tatiller!U85)","v":0},{"$f":"IF(Tatiller!V85=\"\",IF(Tatiller!$X$103=0,IF(DersYükü!V48=\"\",0,DersYükü!V48),Tatiller!V85),Tatiller!V85)","v":0},{"$f":"IF(Tatiller!W85=\"\",IF(Tatiller!$X$103=0,IF(DersYükü!W48=\"\",0,DersYükü!W48),Tatiller!W85),Tatiller!W85)","v":0}]
[null,"C","","",null,null,null,"10.00-11.00",null,null,null,{"$f":"IF(Tatiller!F86=\"\",IF(Tatiller!$X$103=0,IF(DersYükü!F49=\"\",0,DersYükü!F49),Tatiller!F86),Tatiller!F86)","v":0},{"$f":"IF(Tatiller!G86=\"\",IF(Tatiller!$X$103=0,IF(DersYükü!G49=\"\",0,DersYükü!G49),Tatiller!G86),Tatiller!G86)","v":0},{"$f":"IF(Tatiller!H86=\"\",IF(Tatiller!$X$103=0,IF(DersYükü!H49=\"\",0,DersYükü!H49),Tatiller!H86),Tatiller!H86)","v":0},{"$f":"IF(Tatiller!I86=\"\",IF(Tatiller!$X$103=0,IF(DersYükü!I49=\"\",0,DersYükü!I49),Tatiller!I86),Tatiller!I86)","v":0},{"$f":"IF(Tatiller!J86=\"\",IF(Tatiller!$X$103=0,IF(DersYükü!J49=\"\",0,DersYükü!J49),Tatiller!J86),Tatiller!J86)","v":0},{"$f":"IF(Tatiller!K86=\"\",IF(Tatiller!$X$103=0,IF(DersYükü!K49=\"\",0,DersYükü!K49),Tatiller!K86),Tatiller!K86)","v":0},{"$f":"IF(Tatiller!L86=\"\",IF(Tatiller!$X$103=0,IF(DersYükü!L49=\"\",0,DersYükü!L49),Tatiller!L86),Tatiller!L86)","v":0},{"$f":"IF(Tatiller!M86=\"\",IF(Tatiller!$X$103=0,IF(DersYükü!M49=\"\",0,DersYükü!M49),Tatiller!M86),Tatiller!M86)","v":0},{"$f":"IF(Tatiller!N86=\"\",IF(Tatiller!$X$103=0,IF(DersYükü!N49=\"\",0,DersYükü!N49),Tatiller!N86),Tatiller!N86)","v":0},{"$f":"IF(Tatiller!O86=\"\",IF(Tatiller!$X$103=0,IF(DersYükü!O49=\"\",0,DersYükü!O49),Tatiller!O86),Tatiller!O86)","v":0},{"$f":"IF(Tatiller!P86=\"\",IF(Tatiller!$X$103=0,IF(DersYükü!P49=\"\",0,DersYükü!P49),Tatiller!P86),Tatiller!P86)","v":0},{"$f":"IF(Tatiller!Q86=\"\",IF(Tatiller!$X$103=0,IF(DersYükü!Q49=\"\",0,DersYükü!Q49),Tatiller!Q86),Tatiller!Q86)","v":0},{"$f":"IF(Tatiller!R86=\"\",IF(Tatiller!$X$103=0,IF(DersYükü!R49=\"\",0,DersYükü!R49),Tatiller!R86),Tatiller!R86)","v":0},{"$f":"IF(Tatiller!S86=\"\",IF(Tatiller!$X$103=0,IF(DersYükü!S49=\"\",0,DersYükü!S49),Tatiller!S86),Tatiller!S86)","v":0},{"$f":"IF(Tatiller!T86=\"\",IF(Tatiller!$X$103=0,IF(DersYükü!T49=\"\",0,DersYükü!T49),Tatiller!T86),Tatiller!T86)","v":0},{"$f":"IF(Tatiller!U86=\"\",IF(Tatiller!$X$103=0,IF(DersYükü!U49=\"\",0,DersYükü!U49),Tatiller!U86),Tatiller!U86)","v":0},{"$f":"IF(Tatiller!V86=\"\",IF(Tatiller!$X$103=0,IF(DersYükü!V49=\"\",0,DersYükü!V49),Tatiller!V86),Tatiller!V86)","v":0},{"$f":"IF(Tatiller!W86=\"\",IF(Tatiller!$X$103=0,IF(DersYükü!W49=\"\",0,DersYükü!W49),Tatiller!W86),Tatiller!W86)","v":0}]
[null,"D","","",null,null,null,"11.00-12.00",null,null,null,{"$f":"IF(Tatiller!F87=\"\",IF(Tatiller!$X$103=0,IF(DersYükü!F50=\"\",0,DersYükü!F50),Tatiller!F87),Tatiller!F87)","v":0},{"$f":"IF(Tatiller!G87=\"\",IF(Tatiller!$X$103=0,IF(DersYükü!G50=\"\",0,DersYükü!G50),Tatiller!G87),Tatiller!G87)","v":0},{"$f":"IF(Tatiller!H87=\"\",IF(Tatiller!$X$103=0,IF(DersYükü!H50=\"\",0,DersYükü!H50),Tatiller!H87),Tatiller!H87)","v":0},{"$f":"IF(Tatiller!I87=\"\",IF(Tatiller!$X$103=0,IF(DersYükü!I50=\"\",0,DersYükü!I50),Tatiller!I87),Tatiller!I87)","v":0},{"$f":"IF(Tatiller!J87=\"\",IF(Tatiller!$X$103=0,IF(DersYükü!J50=\"\",0,DersYükü!J50),Tatiller!J87),Tatiller!J87)","v":0},{"$f":"IF(Tatiller!K87=\"\",IF(Tatiller!$X$103=0,IF(DersYükü!K50=\"\",0,DersYükü!K50),Tatiller!K87),Tatiller!K87)","v":0},{"$f":"IF(Tatiller!L87=\"\",IF(Tatiller!$X$103=0,IF(DersYükü!L50=\"\",0,DersYükü!L50),Tatiller!L87),Tatiller!L87)","v":0},{"$f":"IF(Tatiller!M87=\"\",IF(Tatiller!$X$103=0,IF(DersYükü!M50=\"\",0,DersYükü!M50),Tatiller!M87),Tatiller!M87)","v":0},{"$f":"IF(Tatiller!N87=\"\",IF(Tatiller!$X$103=0,IF(DersYükü!N50=\"\",0,DersYükü!N50),Tatiller!N87),Tatiller!N87)","v":0},{"$f":"IF(Tatiller!O87=\"\",IF(Tatiller!$X$103=0,IF(DersYükü!O50=\"\",0,DersYükü!O50),Tatiller!O87),Tatiller!O87)","v":0},{"$f":"IF(Tatiller!P87=\"\",IF(Tatiller!$X$103=0,IF(DersYükü!P50=\"\",0,DersYükü!P50),Tatiller!P87),Tatiller!P87)","v":0},{"$f":"IF(Tatiller!Q87=\"\",IF(Tatiller!$X$103=0,IF(DersYükü!Q50=\"\",0,DersYükü!Q50),Tatiller!Q87),Tatiller!Q87)","v":0},{"$f":"IF(Tatiller!R87=\"\",IF(Tatiller!$X$103=0,IF(DersYükü!R50=\"\",0,DersYükü!R50),Tatiller!R87),Tatiller!R87)","v":0},{"$f":"IF(Tatiller!S87=\"\",IF(Tatiller!$X$103=0,IF(DersYükü!S50=\"\",0,DersYükü!S50),Tatiller!S87),Tatiller!S87)","v":0},{"$f":"IF(Tatiller!T87=\"\",IF(Tatiller!$X$103=0,IF(DersYükü!T50=\"\",0,DersYükü!T50),Tatiller!T87),Tatiller!T87)","v":0},{"$f":"IF(Tatiller!U87=\"\",IF(Tatiller!$X$103=0,IF(DersYükü!U50=\"\",0,DersYükü!U50),Tatiller!U87),Tatiller!U87)","v":0},{"$f":"IF(Tatiller!V87=\"\",IF(Tatiller!$X$103=0,IF(DersYükü!V50=\"\",0,DersYükü!V50),Tatiller!V87),Tatiller!V87)","v":0},{"$f":"IF(Tatiller!W87=\"\",IF(Tatiller!$X$103=0,IF(DersYükü!W50=\"\",0,DersYükü!W50),Tatiller!W87),Tatiller!W87)","v":0}]
[null,"E","","",null,null,null,"12.00-13.00",null,null,null,{"$f":"IF(Tatiller!F88=\"\",IF(Tatiller!$X$103=0,IF(DersYükü!F51=\"\",0,DersYükü!F51),Tatiller!F88),Tatiller!F88)","v":0},{"$f":"IF(Tatiller!G88=\"\",IF(Tatiller!$X$103=0,IF(DersYükü!G51=\"\",0,DersYükü!G51),Tatiller!G88),Tatiller!G88)","v":0},{"$f":"IF(Tatiller!H88=\"\",IF(Tatiller!$X$103=0,IF(DersYükü!H51=\"\",0,DersYükü!H51),Tatiller!H88),Tatiller!H88)","v":0},{"$f":"IF(Tatiller!I88=\"\",IF(Tatiller!$X$103=0,IF(DersYükü!I51=\"\",0,DersYükü!I51),Tatiller!I88),Tatiller!I88)","v":0},{"$f":"IF(Tatiller!J88=\"\",IF(Tatiller!$X$103=0,IF(DersYükü!J51=\"\",0,DersYükü!J51),Tatiller!J88),Tatiller!J88)","v":0},{"$f":"IF(Tatiller!K88=\"\",IF(Tatiller!$X$103=0,IF(DersYükü!K51=\"\",0,DersYükü!K51),Tatiller!K88),Tatiller!K88)","v":0},{"$f":"IF(Tatiller!L88=\"\",IF(Tatiller!$X$103=0,IF(DersYükü!L51=\"\",0,DersYükü!L51),Tatiller!L88),Tatiller!L88)","v":0},{"$f":"IF(Tatiller!M88=\"\",IF(Tatiller!$X$103=0,IF(DersYükü!M51=\"\",0,DersYükü!M51),Tatiller!M88),Tatiller!M88)","v":0},{"$f":"IF(Tatiller!N88=\"\",IF(Tatiller!$X$103=0,IF(DersYükü!N51=\"\",0,DersYükü!N51),Tatiller!N88),Tatiller!N88)","v":0},{"$f":"IF(Tatiller!O88=\"\",IF(Tatiller!$X$103=0,IF(DersYükü!O51=\"\",0,DersYükü!O51),Tatiller!O88),Tatiller!O88)","v":0},{"$f":"IF(Tatiller!P88=\"\",IF(Tatiller!$X$103=0,IF(DersYükü!P51=\"\",0,DersYükü!P51),Tatiller!P88),Tatiller!P88)","v":0},{"$f":"IF(Tatiller!Q88=\"\",IF(Tatiller!$X$103=0,IF(DersYükü!Q51=\"\",0,DersYükü!Q51),Tatiller!Q88),Tatiller!Q88)","v":0},{"$f":"IF(Tatiller!R88=\"\",IF(Tatiller!$X$103=0,IF(DersYükü!R51=\"\",0,DersYükü!R51),Tatiller!R88),Tatiller!R88)","v":0},{"$f":"IF(Tatiller!S88=\"\",IF(Tatiller!$X$103=0,IF(DersYükü!S51=\"\",0,DersYükü!S51),Tatiller!S88),Tatiller!S88)","v":0},{"$f":"IF(Tatiller!T88=\"\",IF(Tatiller!$X$103=0,IF(DersYükü!T51=\"\",0,DersYükü!T51),Tatiller!T88),Tatiller!T88)","v":0},{"$f":"IF(Tatiller!U88=\"\",IF(Tatiller!$X$103=0,IF(DersYükü!U51=\"\",0,DersYükü!U51),Tatiller!U88),Tatiller!U88)","v":0},{"$f":"IF(Tatiller!V88=\"\",IF(Tatiller!$X$103=0,IF(DersYükü!V51=\"\",0,DersYükü!V51),Tatiller!V88),Tatiller!V88)","v":0},{"$f":"IF(Tatiller!W88=\"\",IF(Tatiller!$X$103=0,IF(DersYükü!W51=\"\",0,DersYükü!W51),Tatiller!W88),Tatiller!W88)","v":0}]
[null,"F","","",null,null,null,"13.00-14.00",null,null,null,{"$f":"IF(Tatiller!F89=\"\",IF(Tatiller!$X$103=0,IF(DersYükü!F52=\"\",0,DersYükü!F52),Tatiller!F89),Tatiller!F89)","v":0},{"$f":"IF(Tatiller!G89=\"\",IF(Tatiller!$X$103=0,IF(DersYükü!G52=\"\",0,DersYükü!G52),Tatiller!G89),Tatiller!G89)","v":0},{"$f":"IF(Tatiller!H89=\"\",IF(Tatiller!$X$103=0,IF(DersYükü!H52=\"\",0,DersYükü!H52),Tatiller!H89),Tatiller!H89)","v":0},{"$f":"IF(Tatiller!I89=\"\",IF(Tatiller!$X$103=0,IF(DersYükü!I52=\"\",0,DersYükü!I52),Tatiller!I89),Tatiller!I89)","v":0},{"$f":"IF(Tatiller!J89=\"\",IF(Tatiller!$X$103=0,IF(DersYükü!J52=\"\",0,DersYükü!J52),Tatiller!J89),Tatiller!J89)","v":0},{"$f":"IF(Tatiller!K89=\"\",IF(Tatiller!$X$103=0,IF(DersYükü!K52=\"\",0,DersYükü!K52),Tatiller!K89),Tatiller!K89)","v":0},{"$f":"IF(Tatiller!L89=\"\",IF(Tatiller!$X$103=0,IF(DersYükü!L52=\"\",0,DersYükü!L52),Tatiller!L89),Tatiller!L89)","v":0},{"$f":"IF(Tatiller!M89=\"\",IF(Tatiller!$X$103=0,IF(DersYükü!M52=\"\",0,DersYükü!M52),Tatiller!M89),Tatiller!M89)","v":0},{"$f":"IF(Tatiller!N89=\"\",IF(Tatiller!$X$103=0,IF(DersYükü!N52=\"\",0,DersYükü!N52),Tatiller!N89),Tatiller!N89)","v":0},{"$f":"IF(Tatiller!O89=\"\",IF(Tatiller!$X$103=0,IF(DersYükü!O52=\"\",0,DersYükü!O52),Tatiller!O89),Tatiller!O89)","v":0},{"$f":"IF(Tatiller!P89=\"\",IF(Tatiller!$X$103=0,IF(DersYükü!P52=\"\",0,DersYükü!P52),Tatiller!P89),Tatiller!P89)","v":0},{"$f":"IF(Tatiller!Q89=\"\",IF(Tatiller!$X$103=0,IF(DersYükü!Q52=\"\",0,DersYükü!Q52),Tatiller!Q89),Tatiller!Q89)","v":0},{"$f":"IF(Tatiller!R89=\"\",IF(Tatiller!$X$103=0,IF(DersYükü!R52=\"\",0,DersYükü!R52),Tatiller!R89),Tatiller!R89)","v":0},{"$f":"IF(Tatiller!S89=\"\",IF(Tatiller!$X$103=0,IF(DersYükü!S52=\"\",0,DersYükü!S52),Tatiller!S89),Tatiller!S89)","v":0},{"$f":"IF(Tatiller!T89=\"\",IF(Tatiller!$X$103=0,IF(DersYükü!T52=\"\",0,DersYükü!T52),Tatiller!T89),Tatiller!T89)","v":0},{"$f":"IF(Tatiller!U89=\"\",IF(Tatiller!$X$103=0,IF(DersYükü!U52=\"\",0,DersYükü!U52),Tatiller!U89),Tatiller!U89)","v":0},{"$f":"IF(Tatiller!V89=\"\",IF(Tatiller!$X$103=0,IF(DersYükü!V52=\"\",0,DersYükü!V52),Tatiller!V89),Tatiller!V89)","v":0},{"$f":"IF(Tatiller!W89=\"\",IF(Tatiller!$X$103=0,IF(DersYükü!W52=\"\",0,DersYükü!W52),Tatiller!W89),Tatiller!W89)","v":0}]
[null,"G","","",null,null,null,"14.00-15.00",null,null,null,{"$f":"IF(Tatiller!F90=\"\",IF(Tatiller!$X$103=0,IF(DersYükü!F53=\"\",0,DersYükü!F53),Tatiller!F90),Tatiller!F90)","v":0},{"$f":"IF(Tatiller!G90=\"\",IF(Tatiller!$X$103=0,IF(DersYükü!G53=\"\",0,DersYükü!G53),Tatiller!G90),Tatiller!G90)","v":0},{"$f":"IF(Tatiller!H90=\"\",IF(Tatiller!$X$103=0,IF(DersYükü!H53=\"\",0,DersYükü!H53),Tatiller!H90),Tatiller!H90)","v":0},{"$f":"IF(Tatiller!I90=\"\",IF(Tatiller!$X$103=0,IF(DersYükü!I53=\"\",0,DersYükü!I53),Tatiller!I90),Tatiller!I90)","v":0},{"$f":"IF(Tatiller!J90=\"\",IF(Tatiller!$X$103=0,IF(DersYükü!J53=\"\",0,DersYükü!J53),Tatiller!J90),Tatiller!J90)","v":0},{"$f":"IF(Tatiller!K90=\"\",IF(Tatiller!$X$103=0,IF(DersYükü!K53=\"\",0,DersYükü!K53),Tatiller!K90),Tatiller!K90)","v":0},{"$f":"IF(Tatiller!L90=\"\",IF(Tatiller!$X$103=0,IF(DersYükü!L53=\"\",0,DersYükü!L53),Tatiller!L90),Tatiller!L90)","v":0},{"$f":"IF(Tatiller!M90=\"\",IF(Tatiller!$X$103=0,IF(DersYükü!M53=\"\",0,DersYükü!M53),Tatiller!M90),Tatiller!M90)","v":0},{"$f":"IF(Tatiller!N90=\"\",IF(Tatiller!$X$103=0,IF(DersYükü!N53=\"\",0,DersYükü!N53),Tatiller!N90),Tatiller!N90)","v":0},{"$f":"IF(Tatiller!O90=\"\",IF(Tatiller!$X$103=0,IF(DersYükü!O53=\"\",0,DersYükü!O53),Tatiller!O90),Tatiller!O90)","v":0},{"$f":"IF(Tatiller!P90=\"\",IF(Tatiller!$X$103=0,IF(DersYükü!P53=\"\",0,DersYükü!P53),Tatiller!P90),Tatiller!P90)","v":0},{"$f":"IF(Tatiller!Q90=\"\",IF(Tatiller!$X$103=0,IF(DersYükü!Q53=\"\",0,DersYükü!Q53),Tatiller!Q90),Tatiller!Q90)","v":0},{"$f":"IF(Tatiller!R90=\"\",IF(Tatiller!$X$103=0,IF(DersYükü!R53=\"\",0,DersYükü!R53),Tatiller!R90),Tatiller!R90)","v":0},{"$f":"IF(Tatiller!S90=\"\",IF(Tatiller!$X$103=0,IF(DersYükü!S53=\"\",0,DersYükü!S53),Tatiller!S90),Tatiller!S90)","v":0},{"$f":"IF(Tatiller!T90=\"\",IF(Tatiller!$X$103=0,IF(DersYükü!T53=\"\",0,DersYükü!T53),Tatiller!T90),Tatiller!T90)","v":0},{"$f":"IF(Tatiller!U90=\"\",IF(Tatiller!$X$103=0,IF(DersYükü!U53=\"\",0,DersYükü!U53),Tatiller!U90),Tatiller!U90)","v":0},{"$f":"IF(Tatiller!V90=\"\",IF(Tatiller!$X$103=0,IF(DersYükü!V53=\"\",0,DersYükü!V53),Tatiller!V90),Tatiller!V90)","v":0},{"$f":"IF(Tatiller!W90=\"\",IF(Tatiller!$X$103=0,IF(DersYükü!W53=\"\",0,DersYükü!W53),Tatiller!W90),Tatiller!W90)","v":0}]
[null,"H","","",null,null,null,"15.00-16.00",null,null,null,{"$f":"IF(Tatiller!F91=\"\",IF(Tatiller!$X$103=0,IF(DersYükü!F54=\"\",0,DersYükü!F54),Tatiller!F91),Tatiller!F91)","v":0},{"$f":"IF(Tatiller!G91=\"\",IF(Tatiller!$X$103=0,IF(DersYükü!G54=\"\",0,DersYükü!G54),Tatiller!G91),Tatiller!G91)","v":0},{"$f":"IF(Tatiller!H91=\"\",IF(Tatiller!$X$103=0,IF(DersYükü!H54=\"\",0,DersYükü!H54),Tatiller!H91),Tatiller!H91)","v":0},{"$f":"IF(Tatiller!I91=\"\",IF(Tatiller!$X$103=0,IF(DersYükü!I54=\"\",0,DersYükü!I54),Tatiller!I91),Tatiller!I91)","v":0},{"$f":"IF(Tatiller!J91=\"\",IF(Tatiller!$X$103=0,IF(DersYükü!J54=\"\",0,DersYükü!J54),Tatiller!J91),Tatiller!J91)","v":0},{"$f":"IF(Tatiller!K91=\"\",IF(Tatiller!$X$103=0,IF(DersYükü!K54=\"\",0,DersYükü!K54),Tatiller!K91),Tatiller!K91)","v":0},{"$f":"IF(Tatiller!L91=\"\",IF(Tatiller!$X$103=0,IF(DersYükü!L54=\"\",0,DersYükü!L54),Tatiller!L91),Tatiller!L91)","v":0},{"$f":"IF(Tatiller!M91=\"\",IF(Tatiller!$X$103=0,IF(DersYükü!M54=\"\",0,DersYükü!M54),Tatiller!M91),Tatiller!M91)","v":0},{"$f":"IF(Tatiller!N91=\"\",IF(Tatiller!$X$103=0,IF(DersYükü!N54=\"\",0,DersYükü!N54),Tatiller!N91),Tatiller!N91)","v":0},{"$f":"IF(Tatiller!O91=\"\",IF(Tatiller!$X$103=0,IF(DersYükü!O54=\"\",0,DersYükü!O54),Tatiller!O91),Tatiller!O91)","v":0},{"$f":"IF(Tatiller!P91=\"\",IF(Tatiller!$X$103=0,IF(DersYükü!P54=\"\",0,DersYükü!P54),Tatiller!P91),Tatiller!P91)","v":0},{"$f":"IF(Tatiller!Q91=\"\",IF(Tatiller!$X$103=0,IF(DersYükü!Q54=\"\",0,DersYükü!Q54),Tatiller!Q91),Tatiller!Q91)","v":0},{"$f":"IF(Tatiller!R91=\"\",IF(Tatiller!$X$103=0,IF(DersYükü!R54=\"\",0,DersYükü!R54),Tatiller!R91),Tatiller!R91)","v":0},{"$f":"IF(Tatiller!S91=\"\",IF(Tatiller!$X$103=0,IF(DersYükü!S54=\"\",0,DersYükü!S54),Tatiller!S91),Tatiller!S91)","v":0},{"$f":"IF(Tatiller!T91=\"\",IF(Tatiller!$X$103=0,IF(DersYükü!T54=\"\",0,DersYükü!T54),Tatiller!T91),Tatiller!T91)","v":0},{"$f":"IF(Tatiller!U91=\"\",IF(Tatiller!$X$103=0,IF(DersYükü!U54=\"\",0,DersYükü!U54),Tatiller!U91),Tatiller!U91)","v":0},{"$f":"IF(Tatiller!V91=\"\",IF(Tatiller!$X$103=0,IF(DersYükü!V54=\"\",0,DersYükü!V54),Tatiller!V91),Tatiller!V91)","v":0},{"$f":"IF(Tatiller!W91=\"\",IF(Tatiller!$X$103=0,IF(DersYükü!W54=\"\",0,DersYükü!W54),Tatiller!W91),Tatiller!W91)","v":0}]
[null,"I","","",null,null,null,"16.00-17.00",null,null,null,{"$f":"IF(Tatiller!F92=\"\",IF(Tatiller!$X$103=0,IF(DersYükü!F55=\"\",0,DersYükü!F55),Tatiller!F92),Tatiller!F92)","v":0},{"$f":"IF(Tatiller!G92=\"\",IF(Tatiller!$X$103=0,IF(DersYükü!G55=\"\",0,DersYükü!G55),Tatiller!G92),Tatiller!G92)","v":0},{"$f":"IF(Tatiller!H92=\"\",IF(Tatiller!$X$103=0,IF(DersYükü!H55=\"\",0,DersYükü!H55),Tatiller!H92),Tatiller!H92)","v":0},{"$f":"IF(Tatiller!I92=\"\",IF(Tatiller!$X$103=0,IF(DersYükü!I55=\"\",0,DersYükü!I55),Tatiller!I92),Tatiller!I92)","v":0},{"$f":"IF(Tatiller!J92=\"\",IF(Tatiller!$X$103=0,IF(DersYükü!J55=\"\",0,DersYükü!J55),Tatiller!J92),Tatiller!J92)","v":0},{"$f":"IF(Tatiller!K92=\"\",IF(Tatiller!$X$103=0,IF(DersYükü!K55=\"\",0,DersYükü!K55),Tatiller!K92),Tatiller!K92)","v":0},{"$f":"IF(Tatiller!L92=\"\",IF(Tatiller!$X$103=0,IF(DersYükü!L55=\"\",0,DersYükü!L55),Tatiller!L92),Tatiller!L92)","v":0},{"$f":"IF(Tatiller!M92=\"\",IF(Tatiller!$X$103=0,IF(DersYükü!M55=\"\",0,DersYükü!M55),Tatiller!M92),Tatiller!M92)","v":0},{"$f":"IF(Tatiller!N92=\"\",IF(Tatiller!$X$103=0,IF(DersYükü!N55=\"\",0,DersYükü!N55),Tatiller!N92),Tatiller!N92)","v":0},{"$f":"IF(Tatiller!O92=\"\",IF(Tatiller!$X$103=0,IF(DersYükü!O55=\"\",0,DersYükü!O55),Tatiller!O92),Tatiller!O92)","v":0},{"$f":"IF(Tatiller!P92=\"\",IF(Tatiller!$X$103=0,IF(DersYükü!P55=\"\",0,DersYükü!P55),Tatiller!P92),Tatiller!P92)","v":0},{"$f":"IF(Tatiller!Q92=\"\",IF(Tatiller!$X$103=0,IF(DersYükü!Q55=\"\",0,DersYükü!Q55),Tatiller!Q92),Tatiller!Q92)","v":0},{"$f":"IF(Tatiller!R92=\"\",IF(Tatiller!$X$103=0,IF(DersYükü!R55=\"\",0,DersYükü!R55),Tatiller!R92),Tatiller!R92)","v":0},{"$f":"IF(Tatiller!S92=\"\",IF(Tatiller!$X$103=0,IF(DersYükü!S55=\"\",0,DersYükü!S55),Tatiller!S92),Tatiller!S92)","v":0},{"$f":"IF(Tatiller!T92=\"\",IF(Tatiller!$X$103=0,IF(DersYükü!T55=\"\",0,DersYükü!T55),Tatiller!T92),Tatiller!T92)","v":0},{"$f":"IF(Tatiller!U92=\"\",IF(Tatiller!$X$103=0,IF(DersYükü!U55=\"\",0,DersYükü!U55),Tatiller!U92),Tatiller!U92)","v":0},{"$f":"IF(Tatiller!V92=\"\",IF(Tatiller!$X$103=0,IF(DersYükü!V55=\"\",0,DersYükü!V55),Tatiller!V92),Tatiller!V92)","v":0},{"$f":"IF(Tatiller!W92=\"\",IF(Tatiller!$X$103=0,IF(DersYükü!W55=\"\",0,DersYükü!W55),Tatiller!W92),Tatiller!W92)","v":0}]
[null,"J","","",null,null,"İKİNCİ ÖĞRT.","15.00-16.00",null,null,null,{"$f":"IF(Tatiller!F93=\"\",IF(Tatiller!$X$103=0,IF(DersYükü!F56=\"\",0,DersYükü!F56),Tatiller!F93),Tatiller!F93)","v":0},{"$f":"IF(Tatiller!G93=\"\",IF(Tatiller!$X$103=0,IF(DersYükü!G56=\"\",0,DersYükü!G56),Tatiller!G93),Tatiller!G93)","v":0},{"$f":"IF(Tatiller!H93=\"\",IF(Tatiller!$X$103=0,IF(DersYükü!H56=\"\",0,DersYükü!H56),Tatiller!H93),Tatiller!H93)","v":0},{"$f":"IF(Tatiller!I93=\"\",IF(Tatiller!$X$103=0,IF(DersYükü!I56=\"\",0,DersYükü!I56),Tatiller!I93),Tatiller!I93)","v":0},{"$f":"IF(Tatiller!J93=\"\",IF(Tatiller!$X$103=0,IF(DersYükü!J56=\"\",0,DersYükü!J56),Tatiller!J93),Tatiller!J93)","v":0},{"$f":"IF(Tatiller!K93=\"\",IF(Tatiller!$X$103=0,IF(DersYükü!K56=\"\",0,DersYükü!K56),Tatiller!K93),Tatiller!K93)","v":0},{"$f":"IF(Tatiller!L93=\"\",IF(Tatiller!$X$103=0,IF(DersYükü!L56=\"\",0,DersYükü!L56),Tatiller!L93),Tatiller!L93)","v":0},{"$f":"IF(Tatiller!M93=\"\",IF(Tatiller!$X$103=0,IF(DersYükü!M56=\"\",0,DersYükü!M56),Tatiller!M93),Tatiller!M93)","v":0},{"$f":"IF(Tatiller!N93=\"\",IF(Tatiller!$X$103=0,IF(DersYükü!N56=\"\",0,DersYükü!N56),Tatiller!N93),Tatiller!N93)","v":0},{"$f":"IF(Tatiller!O93=\"\",IF(Tatiller!$X$103=0,IF(DersYükü!O56=\"\",0,DersYükü!O56),Tatiller!O93),Tatiller!O93)","v":0},{"$f":"IF(Tatiller!P93=\"\",IF(Tatiller!$X$103=0,IF(DersYükü!P56=\"\",0,DersYükü!P56),Tatiller!P93),Tatiller!P93)","v":0},{"$f":"IF(Tatiller!Q93=\"\",IF(Tatiller!$X$103=0,IF(DersYükü!Q56=\"\",0,DersYükü!Q56),Tatiller!Q93),Tatiller!Q93)","v":0},{"$f":"IF(Tatiller!R93=\"\",IF(Tatiller!$X$103=0,IF(DersYükü!R56=\"\",0,DersYükü!R56),Tatiller!R93),Tatiller!R93)","v":0},{"$f":"IF(Tatiller!S93=\"\",IF(Tatiller!$X$103=0,IF(DersYükü!S56=\"\",0,DersYükü!S56),Tatiller!S93),Tatiller!S93)","v":0},{"$f":"IF(Tatiller!T93=\"\",IF(Tatiller!$X$103=0,IF(DersYükü!T56=\"\",0,DersYükü!T56),Tatiller!T93),Tatiller!T93)","v":0},{"$f":"IF(Tatiller!U93=\"\",IF(Tatiller!$X$103=0,IF(DersYükü!U56=\"\",0,DersYükü!U56),Tatiller!U93),Tatiller!U93)","v":0},{"$f":"IF(Tatiller!V93=\"\",IF(Tatiller!$X$103=0,IF(DersYükü!V56=\"\",0,DersYükü!V56),Tatiller!V93),Tatiller!V93)","v":0},{"$f":"IF(Tatiller!W93=\"\",IF(Tatiller!$X$103=0,IF(DersYükü!W56=\"\",0,DersYükü!W56),Tatiller!W93),Tatiller!W93)","v":0}]
["boş",null,null,null,null,null,null,"16.00-17.00",null,null,null,{"$f":"IF(Tatiller!F94=\"\",IF(Tatiller!$X$103=0,IF(DersYükü!F57=\"\",0,DersYükü!F57),Tatiller!F94),Tatiller!F94)","v":0},{"$f":"IF(Tatiller!G94=\"\",IF(Tatiller!$X$103=0,IF(DersYükü!G57=\"\",0,DersYükü!G57),Tatiller!G94),Tatiller!G94)","v":0},{"$f":"IF(Tatiller!H94=\"\",IF(Tatiller!$X$103=0,IF(DersYükü!H57=\"\",0,DersYükü!H57),Tatiller!H94),Tatiller!H94)","v":0},{"$f":"IF(Tatiller!I94=\"\",IF(Tatiller!$X$103=0,IF(DersYükü!I57=\"\",0,DersYükü!I57),Tatiller!I94),Tatiller!I94)","v":0},{"$f":"IF(Tatiller!J94=\"\",IF(Tatiller!$X$103=0,IF(DersYükü!J57=\"\",0,DersYükü!J57),Tatiller!J94),Tatiller!J94)","v":0},{"$f":"IF(Tatiller!K94=\"\",IF(Tatiller!$X$103=0,IF(DersYükü!K57=\"\",0,DersYükü!K57),Tatiller!K94),Tatiller!K94)","v":0},{"$f":"IF(Tatiller!L94=\"\",IF(Tatiller!$X$103=0,IF(DersYükü!L57=\"\",0,DersYükü!L57),Tatiller!L94),Tatiller!L94)","v":0},{"$f":"IF(Tatiller!M94=\"\",IF(Tatiller!$X$103=0,IF(DersYükü!M57=\"\",0,DersYükü!M57),Tatiller!M94),Tatiller!M94)","v":0},{"$f":"IF(Tatiller!N94=\"\",IF(Tatiller!$X$103=0,IF(DersYükü!N57=\"\",0,DersYükü!N57),Tatiller!N94),Tatiller!N94)","v":0},{"$f":"IF(Tatiller!O94=\"\",IF(Tatiller!$X$103=0,IF(DersYükü!O57=\"\",0,DersYükü!O57),Tatiller!O94),Tatiller!O94)","v":0},{"$f":"IF(Tatiller!P94=\"\",IF(Tatiller!$X$103=0,IF(DersYükü!P57=\"\",0,DersYükü!P57),Tatiller!P94),Tatiller!P94)","v":0},{"$f":"IF(Tatiller!Q94=\"\",IF(Tatiller!$X$103=0,IF(DersYükü!Q57=\"\",0,DersYükü!Q57),Tatiller!Q94),Tatiller!Q94)","v":0},{"$f":"IF(Tatiller!R94=\"\",IF(Tatiller!$X$103=0,IF(DersYükü!R57=\"\",0,DersYükü!R57),Tatiller!R94),Tatiller!R94)","v":0},{"$f":"IF(Tatiller!S94=\"\",IF(Tatiller!$X$103=0,IF(DersYükü!S57=\"\",0,DersYükü!S57),Tatiller!S94),Tatiller!S94)","v":0},{"$f":"IF(Tatiller!T94=\"\",IF(Tatiller!$X$103=0,IF(DersYükü!T57=\"\",0,DersYükü!T57),Tatiller!T94),Tatiller!T94)","v":0},{"$f":"IF(Tatiller!U94=\"\",IF(Tatiller!$X$103=0,IF(DersYükü!U57=\"\",0,DersYükü!U57),Tatiller!U94),Tatiller!U94)","v":0},{"$f":"IF(Tatiller!V94=\"\",IF(Tatiller!$X$103=0,IF(DersYükü!V57=\"\",0,DersYükü!V57),Tatiller!V94),Tatiller!V94)","v":0},{"$f":"IF(Tatiller!W94=\"\",IF(Tatiller!$X$103=0,IF(DersYükü!W57=\"\",0,DersYükü!W57),Tatiller!W94),Tatiller!W94)","v":0}]
[null,"K",{"$f":"IF(IFERROR(COUNTIF(N$114:N$130,$B125)+COUNTIF(P$114:P$130,$B125)+COUNTIF(R$114:R$130,$B125)+COUNTIF(T$114:T$130,$B125)+COUNTIF(V$114:V$130,$B125)+COUNTIF(X$114:X$130,$B125)+COUNTIF(Z$114:Z$130,$B125)+COUNTIF(AB$114:AB$130,$B125)+COUNTIF(L$114:L$130,$B125),\"\")=0,\"\",IFERROR(COUNTIF(N$114:N$130,$B125)+COUNTIF(P$114:P$130,$B125)+COUNTIF(R$114:R$130,$B125)+COUNTIF(T$114:T$130,$B125)+COUNTIF(V$114:V$130,$B125)+COUNTIF(X$114:X$130,$B125)+COUNTIF(Z$114:Z$130,$B125)+COUNTIF(AB$114:AB$130,$B125)+COUNTIF(L$114:L$130,$B125),\"\"))","v":""},"",null,null,null,"17.00-18.00",null,null,null,{"$f":"IF(Tatiller!F95=\"\",IF(Tatiller!$X$103=0,IF(DersYükü!F58=\"\",0,DersYükü!F58),Tatiller!F95),Tatiller!F95)","v":0},{"$f":"IF(Tatiller!G95=\"\",IF(Tatiller!$X$103=0,IF(DersYükü!G58=\"\",0,DersYükü!G58),Tatiller!G95),Tatiller!G95)","v":0},{"$f":"IF(Tatiller!H95=\"\",IF(Tatiller!$X$103=0,IF(DersYükü!H58=\"\",0,DersYükü!H58),Tatiller!H95),Tatiller!H95)","v":0},{"$f":"IF(Tatiller!I95=\"\",IF(Tatiller!$X$103=0,IF(DersYükü!I58=\"\",0,DersYükü!I58),Tatiller!I95),Tatiller!I95)","v":0},{"$f":"IF(Tatiller!J95=\"\",IF(Tatiller!$X$103=0,IF(DersYükü!J58=\"\",0,DersYükü!J58),Tatiller!J95),Tatiller!J95)","v":0},{"$f":"IF(Tatiller!K95=\"\",IF(Tatiller!$X$103=0,IF(DersYükü!K58=\"\",0,DersYükü!K58),Tatiller!K95),Tatiller!K95)","v":0},{"$f":"IF(Tatiller!L95=\"\",IF(Tatiller!$X$103=0,IF(DersYükü!L58=\"\",0,DersYükü!L58),Tatiller!L95),Tatiller!L95)","v":0},{"$f":"IF(Tatiller!M95=\"\",IF(Tatiller!$X$103=0,IF(DersYükü!M58=\"\",0,DersYükü!M58),Tatiller!M95),Tatiller!M95)","v":0},{"$f":"IF(Tatiller!N95=\"\",IF(Tatiller!$X$103=0,IF(DersYükü!N58=\"\",0,DersYükü!N58),Tatiller!N95),Tatiller!N95)","v":0},{"$f":"IF(Tatiller!O95=\"\",IF(Tatiller!$X$103=0,IF(DersYükü!O58=\"\",0,DersYükü!O58),Tatiller!O95),Tatiller!O95)","v":0},{"$f":"IF(Tatiller!P95=\"\",IF(Tatiller!$X$103=0,IF(DersYükü!P58=\"\",0,DersYükü!P58),Tatiller!P95),Tatiller!P95)","v":0},{"$f":"IF(Tatiller!Q95=\"\",IF(Tatiller!$X$103=0,IF(DersYükü!Q58=\"\",0,DersYükü!Q58),Tatiller!Q95),Tatiller!Q95)","v":0},{"$f":"IF(Tatiller!R95=\"\",IF(Tatiller!$X$103=0,IF(DersYükü!R58=\"\",0,DersYükü!R58),Tatiller!R95),Tatiller!R95)","v":0},{"$f":"IF(Tatiller!S95=\"\",IF(Tatiller!$X$103=0,IF(DersYükü!S58=\"\",0,DersYükü!S58),Tatiller!S95),Tatiller!S95)","v":0},{"$f":"IF(Tatiller!T95=\"\",IF(Tatiller!$X$103=0,IF(DersYükü!T58=\"\",0,DersYükü!T58),Tatiller!T95),Tatiller!T95)","v":0},{"$f":"IF(Tatiller!U95=\"\",IF(Tatiller!$X$103=0,IF(DersYükü!U58=\"\",0,DersYükü!U58),Tatiller!U95),Tatiller!U95)","v":0},{"$f":"IF(Tatiller!V95=\"\",IF(Tatiller!$X$103=0,IF(DersYükü!V58=\"\",0,DersYükü!V58),Tatiller!V95),Tatiller!V95)","v":0},{"$f":"IF(Tatiller!W95=\"\",IF(Tatiller!$X$103=0,IF(DersYükü!W58=\"\",0,DersYükü!W58),Tatiller!W95),Tatiller!W95)","v":0}]
[null,"L","","",null,null,null,"18.00-19.00",null,null,null,{"$f":"IF(Tatiller!F96=\"\",IF(Tatiller!$X$103=0,IF(DersYükü!F59=\"\",0,DersYükü!F59),Tatiller!F96),Tatiller!F96)","v":0},{"$f":"IF(Tatiller!G96=\"\",IF(Tatiller!$X$103=0,IF(DersYükü!G59=\"\",0,DersYükü!G59),Tatiller!G96),Tatiller!G96)","v":0},{"$f":"IF(Tatiller!H96=\"\",IF(Tatiller!$X$103=0,IF(DersYükü!H59=\"\",0,DersYükü!H59),Tatiller!H96),Tatiller!H96)","v":0},{"$f":"IF(Tatiller!I96=\"\",IF(Tatiller!$X$103=0,IF(DersYükü!I59=\"\",0,DersYükü!I59),Tatiller!I96),Tatiller!I96)","v":0},{"$f":"IF(Tatiller!J96=\"\",IF(Tatiller!$X$103=0,IF(DersYükü!J59=\"\",0,DersYükü!J59),Tatiller!J96),Tatiller!J96)","v":0},{"$f":"IF(Tatiller!K96=\"\",IF(Tatiller!$X$103=0,IF(DersYükü!K59=\"\",0,DersYükü!K59),Tatiller!K96),Tatiller!K96)","v":0},{"$f":"IF(Tatiller!L96=\"\",IF(Tatiller!$X$103=0,IF(DersYükü!L59=\"\",0,DersYükü!L59),Tatiller!L96),Tatiller!L96)","v":0},{"$f":"IF(Tatiller!M96=\"\",IF(Tatiller!$X$103=0,IF(DersYükü!M59=\"\",0,DersYükü!M59),Tatiller!M96),Tatiller!M96)","v":0},{"$f":"IF(Tatiller!N96=\"\",IF(Tatiller!$X$103=0,IF(DersYükü!N59=\"\",0,DersYükü!N59),Tatiller!N96),Tatiller!N96)","v":0},{"$f":"IF(Tatiller!O96=\"\",IF(Tatiller!$X$103=0,IF(DersYükü!O59=\"\",0,DersYükü!O59),Tatiller!O96),Tatiller!O96)","v":0},{"$f":"IF(Tatiller!P96=\"\",IF(Tatiller!$X$103=0,IF(DersYükü!P59=\"\",0,DersYükü!P59),Tatiller!P96),Tatiller!P96)","v":0},{"$f":"IF(Tatiller!Q96=\"\",IF(Tatiller!$X$103=0,IF(DersYükü!Q59=\"\",0,DersYükü!Q59),Tatiller!Q96),Tatiller!Q96)","v":0},{"$f":"IF(Tatiller!R96=\"\",IF(Tatiller!$X$103=0,IF(DersYükü!R59=\"\",0,DersYükü!R59),Tatiller!R96),Tatiller!R96)","v":0},{"$f":"IF(Tatiller!S96=\"\",IF(Tatiller!$X$103=0,IF(DersYükü!S59=\"\",0,DersYükü!S59),Tatiller!S96),Tatiller!S96)","v":0},{"$f":"IF(Tatiller!T96=\"\",IF(Tatiller!$X$103=0,IF(DersYükü!T59=\"\",0,DersYükü!T59),Tatiller!T96),Tatiller!T96)","v":0},{"$f":"IF(Tatiller!U96=\"\",IF(Tatiller!$X$103=0,IF(DersYükü!U59=\"\",0,DersYükü!U59),Tatiller!U96),Tatiller!U96)","v":0},{"$f":"IF(Tatiller!V96=\"\",IF(Tatiller!$X$103=0,IF(DersYükü!V59=\"\",0,DersYükü!V59),Tatiller!V96),Tatiller!V96)","v":0},{"$f":"IF(Tatiller!W96=\"\",IF(Tatiller!$X$103=0,IF(DersYükü!W59=\"\",0,DersYükü!W59),Tatiller!W96),Tatiller!W96)","v":0}]
[null,"M","","",null,null,null,"19.00-20.00",null,null,null,{"$f":"IF(Tatiller!F97=\"\",IF(Tatiller!$X$103=0,IF(DersYükü!F60=\"\",0,DersYükü!F60),Tatiller!F97),Tatiller!F97)","v":0},{"$f":"IF(Tatiller!G97=\"\",IF(Tatiller!$X$103=0,IF(DersYükü!G60=\"\",0,DersYükü!G60),Tatiller!G97),Tatiller!G97)","v":0},{"$f":"IF(Tatiller!H97=\"\",IF(Tatiller!$X$103=0,IF(DersYükü!H60=\"\",0,DersYükü!H60),Tatiller!H97),Tatiller!H97)","v":0},{"$f":"IF(Tatiller!I97=\"\",IF(Tatiller!$X$103=0,IF(DersYükü!I60=\"\",0,DersYükü!I60),Tatiller!I97),Tatiller!I97)","v":0},{"$f":"IF(Tatiller!J97=\"\",IF(Tatiller!$X$103=0,IF(DersYükü!J60=\"\",0,DersYükü!J60),Tatiller!J97),Tatiller!J97)","v":0},{"$f":"IF(Tatiller!K97=\"\",IF(Tatiller!$X$103=0,IF(DersYükü!K60=\"\",0,DersYükü!K60),Tatiller!K97),Tatiller!K97)","v":0},{"$f":"IF(Tatiller!L97=\"\",IF(Tatiller!$X$103=0,IF(DersYükü!L60=\"\",0,DersYükü!L60),Tatiller!L97),Tatiller!L97)","v":0},{"$f":"IF(Tatiller!M97=\"\",IF(Tatiller!$X$103=0,IF(DersYükü!M60=\"\",0,DersYükü!M60),Tatiller!M97),Tatiller!M97)","v":0},{"$f":"IF(Tatiller!N97=\"\",IF(Tatiller!$X$103=0,IF(DersYükü!N60=\"\",0,DersYükü!N60),Tatiller!N97),Tatiller!N97)","v":0},{"$f":"IF(Tatiller!O97=\"\",IF(Tatiller!$X$103=0,IF(DersYükü!O60=\"\",0,DersYükü!O60),Tatiller!O97),Tatiller!O97)","v":0},{"$f":"IF(Tatiller!P97=\"\",IF(Tatiller!$X$103=0,IF(DersYükü!P60=\"\",0,DersYükü!P60),Tatiller!P97),Tatiller!P97)","v":0},{"$f":"IF(Tatiller!Q97=\"\",IF(Tatiller!$X$103=0,IF(DersYükü!Q60=\"\",0,DersYükü!Q60),Tatiller!Q97),Tatiller!Q97)","v":0},{"$f":"IF(Tatiller!R97=\"\",IF(Tatiller!$X$103=0,IF(DersYükü!R60=\"\",0,DersYükü!R60),Tatiller!R97),Tatiller!R97)","v":0},{"$f":"IF(Tatiller!S97=\"\",IF(Tatiller!$X$103=0,IF(DersYükü!S60=\"\",0,DersYükü!S60),Tatiller!S97),Tatiller!S97)","v":0},{"$f":"IF(Tatiller!T97=\"\",IF(Tatiller!$X$103=0,IF(DersYükü!T60=\"\",0,DersYükü!T60),Tatiller!T97),Tatiller!T97)","v":0},{"$f":"IF(Tatiller!U97=\"\",IF(Tatiller!$X$103=0,IF(DersYükü!U60=\"\",0,DersYükü!U60),Tatiller!U97),Tatiller!U97)","v":0},{"$f":"IF(Tatiller!V97=\"\",IF(Tatiller!$X$103=0,IF(DersYükü!V60=\"\",0,DersYükü!V60),Tatiller!V97),Tatiller!V97)","v":0},{"$f":"IF(Tatiller!W97=\"\",IF(Tatiller!$X$103=0,IF(DersYükü!W60=\"\",0,DersYükü!W60),Tatiller!W97),Tatiller!W97)","v":0}]
[null,"N","","",null,null,null,"20.00-21.00",null,null,null,{"$f":"IF(Tatiller!F98=\"\",IF(Tatiller!$X$103=0,IF(DersYükü!F61=\"\",0,DersYükü!F61),Tatiller!F98),Tatiller!F98)","v":0},{"$f":"IF(Tatiller!G98=\"\",IF(Tatiller!$X$103=0,IF(DersYükü!G61=\"\",0,DersYükü!G61),Tatiller!G98),Tatiller!G98)","v":0},{"$f":"IF(Tatiller!H98=\"\",IF(Tatiller!$X$103=0,IF(DersYükü!H61=\"\",0,DersYükü!H61),Tatiller!H98),Tatiller!H98)","v":0},{"$f":"IF(Tatiller!I98=\"\",IF(Tatiller!$X$103=0,IF(DersYükü!I61=\"\",0,DersYükü!I61),Tatiller!I98),Tatiller!I98)","v":0},{"$f":"IF(Tatiller!J98=\"\",IF(Tatiller!$X$103=0,IF(DersYükü!J61=\"\",0,DersYükü!J61),Tatiller!J98),Tatiller!J98)","v":0},{"$f":"IF(Tatiller!K98=\"\",IF(Tatiller!$X$103=0,IF(DersYükü!K61=\"\",0,DersYükü!K61),Tatiller!K98),Tatiller!K98)","v":0},{"$f":"IF(Tatiller!L98=\"\",IF(Tatiller!$X$103=0,IF(DersYükü!L61=\"\",0,DersYükü!L61),Tatiller!L98),Tatiller!L98)","v":0},{"$f":"IF(Tatiller!M98=\"\",IF(Tatiller!$X$103=0,IF(DersYükü!M61=\"\",0,DersYükü!M61),Tatiller!M98),Tatiller!M98)","v":0},{"$f":"IF(Tatiller!N98=\"\",IF(Tatiller!$X$103=0,IF(DersYükü!N61=\"\",0,DersYükü!N61),Tatiller!N98),Tatiller!N98)","v":0},{"$f":"IF(Tatiller!O98=\"\",IF(Tatiller!$X$103=0,IF(DersYükü!O61=\"\",0,DersYükü!O61),Tatiller!O98),Tatiller!O98)","v":0},{"$f":"IF(Tatiller!P98=\"\",IF(Tatiller!$X$103=0,IF(DersYükü!P61=\"\",0,DersYükü!P61),Tatiller!P98),Tatiller!P98)","v":0},{"$f":"IF(Tatiller!Q98=\"\",IF(Tatiller!$X$103=0,IF(DersYükü!Q61=\"\",0,DersYükü!Q61),Tatiller!Q98),Tatiller!Q98)","v":0},{"$f":"IF(Tatiller!R98=\"\",IF(Tatiller!$X$103=0,IF(DersYükü!R61=\"\",0,DersYükü!R61),Tatiller!R98),Tatiller!R98)","v":0},{"$f":"IF(Tatiller!S98=\"\",IF(Tatiller!$X$103=0,IF(DersYükü!S61=\"\",0,DersYükü!S61),Tatiller!S98),Tatiller!S98)","v":0},{"$f":"IF(Tatiller!T98=\"\",IF(Tatiller!$X$103=0,IF(DersYükü!T61=\"\",0,DersYükü!T61),Tatiller!T98),Tatiller!T98)","v":0},{"$f":"IF(Tatiller!U98=\"\",IF(Tatiller!$X$103=0,IF(DersYükü!U61=\"\",0,DersYükü!U61),Tatiller!U98),Tatiller!U98)","v":0},{"$f":"IF(Tatiller!V98=\"\",IF(Tatiller!$X$103=0,IF(DersYükü!V61=\"\",0,DersYükü!V61),Tatiller!V98),Tatiller!V98)","v":0},{"$f":"IF(Tatiller!W98=\"\",IF(Tatiller!$X$103=0,IF(DersYükü!W61=\"\",0,DersYükü!W61),Tatiller!W98),Tatiller!W98)","v":0}]
[null,"O","","",null,null,null,"21.00-22.00",null,null,null,{"$f":"IF(Tatiller!F99=\"\",IF(Tatiller!$X$103=0,IF(DersYükü!F62=\"\",0,DersYükü!F62),Tatiller!F99),Tatiller!F99)","v":0},{"$f":"IF(Tatiller!G99=\"\",IF(Tatiller!$X$103=0,IF(DersYükü!G62=\"\",0,DersYükü!G62),Tatiller!G99),Tatiller!G99)","v":0},{"$f":"IF(Tatiller!H99=\"\",IF(Tatiller!$X$103=0,IF(DersYükü!H62=\"\",0,DersYükü!H62),Tatiller!H99),Tatiller!H99)","v":0},{"$f":"IF(Tatiller!I99=\"\",IF(Tatiller!$X$103=0,IF(DersYükü!I62=\"\",0,DersYükü!I62),Tatiller!I99),Tatiller!I99)","v":0},{"$f":"IF(Tatiller!J99=\"\",IF(Tatiller!$X$103=0,IF(DersYükü!J62=\"\",0,DersYükü!J62),Tatiller!J99),Tatiller!J99)","v":0},{"$f":"IF(Tatiller!K99=\"\",IF(Tatiller!$X$103=0,IF(DersYükü!K62=\"\",0,DersYükü!K62),Tatiller!K99),Tatiller!K99)","v":0},{"$f":"IF(Tatiller!L99=\"\",IF(Tatiller!$X$103=0,IF(DersYükü!L62=\"\",0,DersYükü!L62),Tatiller!L99),Tatiller!L99)","v":0},{"$f":"IF(Tatiller!M99=\"\",IF(Tatiller!$X$103=0,IF(DersYükü!M62=\"\",0,DersYükü!M62),Tatiller!M99),Tatiller!M99)","v":0},{"$f":"IF(Tatiller!N99=\"\",IF(Tatiller!$X$103=0,IF(DersYükü!N62=\"\",0,DersYükü!N62),Tatiller!N99),Tatiller!N99)","v":0},{"$f":"IF(Tatiller!O99=\"\",IF(Tatiller!$X$103=0,IF(DersYükü!O62=\"\",0,DersYükü!O62),Tatiller!O99),Tatiller!O99)","v":0},{"$f":"IF(Tatiller!P99=\"\",IF(Tatiller!$X$103=0,IF(DersYükü!P62=\"\",0,DersYükü!P62),Tatiller!P99),Tatiller!P99)","v":0},{"$f":"IF(Tatiller!Q99=\"\",IF(Tatiller!$X$103=0,IF(DersYükü!Q62=\"\",0,DersYükü!Q62),Tatiller!Q99),Tatiller!Q99)","v":0},{"$f":"IF(Tatiller!R99=\"\",IF(Tatiller!$X$103=0,IF(DersYükü!R62=\"\",0,DersYükü!R62),Tatiller!R99),Tatiller!R99)","v":0},{"$f":"IF(Tatiller!S99=\"\",IF(Tatiller!$X$103=0,IF(DersYükü!S62=\"\",0,DersYükü!S62),Tatiller!S99),Tatiller!S99)","v":0},{"$f":"IF(Tatiller!T99=\"\",IF(Tatiller!$X$103=0,IF(DersYükü!T62=\"\",0,DersYükü!T62),Tatiller!T99),Tatiller!T99)","v":0},{"$f":"IF(Tatiller!U99=\"\",IF(Tatiller!$X$103=0,IF(DersYükü!U62=\"\",0,DersYükü!U62),Tatiller!U99),Tatiller!U99)","v":0},{"$f":"IF(Tatiller!V99=\"\",IF(Tatiller!$X$103=0,IF(DersYükü!V62=\"\",0,DersYükü!V62),Tatiller!V99),Tatiller!V99)","v":0},{"$f":"IF(Tatiller!W99=\"\",IF(Tatiller!$X$103=0,IF(DersYükü!W62=\"\",0,DersYükü!W62),Tatiller!W99),Tatiller!W99)","v":0}]
[null,null,null,null,null,null,null,"22.00-23.00",null,null,null,{"$f":"IF(Tatiller!F100=\"\",IF(Tatiller!$X$103=0,IF(DersYükü!F63=\"\",0,DersYükü!F63),Tatiller!F100),Tatiller!F100)","v":0},{"$f":"IF(Tatiller!G100=\"\",IF(Tatiller!$X$103=0,IF(DersYükü!G63=\"\",0,DersYükü!G63),Tatiller!G100),Tatiller!G100)","v":0},{"$f":"IF(Tatiller!H100=\"\",IF(Tatiller!$X$103=0,IF(DersYükü!H63=\"\",0,DersYükü!H63),Tatiller!H100),Tatiller!H100)","v":0},{"$f":"IF(Tatiller!I100=\"\",IF(Tatiller!$X$103=0,IF(DersYükü!I63=\"\",0,DersYükü!I63),Tatiller!I100),Tatiller!I100)","v":0},{"$f":"IF(Tatiller!J100=\"\",IF(Tatiller!$X$103=0,IF(DersYükü!J63=\"\",0,DersYükü!J63),Tatiller!J100),Tatiller!J100)","v":0},{"$f":"IF(Tatiller!K100=\"\",IF(Tatiller!$X$103=0,IF(DersYükü!K63=\"\",0,DersYükü!K63),Tatiller!K100),Tatiller!K100)","v":0},{"$f":"IF(Tatiller!L100=\"\",IF(Tatiller!$X$103=0,IF(DersYükü!L63=\"\",0,DersYükü!L63),Tatiller!L100),Tatiller!L100)","v":0},{"$f":"IF(Tatiller!M100=\"\",IF(Tatiller!$X$103=0,IF(DersYükü!M63=\"\",0,DersYükü!M63),Tatiller!M100),Tatiller!M100)","v":0},{"$f":"IF(Tatiller!N100=\"\",IF(Tatiller!$X$103=0,IF(DersYükü!N63=\"\",0,DersYükü!N63),Tatiller!N100),Tatiller!N100)","v":0},{"$f":"IF(Tatiller!O100=\"\",IF(Tatiller!$X$103=0,IF(DersYükü!O63=\"\",0,DersYükü!O63),Tatiller!O100),Tatiller!O100)","v":0},{"$f":"IF(Tatiller!P100=\"\",IF(Tatiller!$X$103=0,IF(DersYükü!P63=\"\",0,DersYükü!P63),Tatiller!P100),Tatiller!P100)","v":0},{"$f":"IF(Tatiller!Q100=\"\",IF(Tatiller!$X$103=0,IF(DersYükü!Q63=\"\",0,DersYükü!Q63),Tatiller!Q100),Tatiller!Q100)","v":0},{"$f":"IF(Tatiller!R100=\"\",IF(Tatiller!$X$103=0,IF(DersYükü!R63=\"\",0,DersYükü!R63),Tatiller!R100),Tatiller!R100)","v":0},{"$f":"IF(Tatiller!S100=\"\",IF(Tatiller!$X$103=0,IF(DersYükü!S63=\"\",0,DersYükü!S63),Tatiller!S100),Tatiller!S100)","v":0},{"$f":"IF(Tatiller!T100=\"\",IF(Tatiller!$X$103=0,IF(DersYükü!T63=\"\",0,DersYükü!T63),Tatiller!T100),Tatiller!T100)","v":0},{"$f":"IF(Tatiller!U100=\"\",IF(Tatiller!$X$103=0,IF(DersYükü!U63=\"\",0,DersYükü!U63),Tatiller!U100),Tatiller!U100)","v":0},{"$f":"IF(Tatiller!V100=\"\",IF(Tatiller!$X$103=0,IF(DersYükü!V63=\"\",0,DersYükü!V63),Tatiller!V100),Tatiller!V100)","v":0},{"$f":"IF(Tatiller!W100=\"\",IF(Tatiller!$X$103=0,IF(DersYükü!W63=\"\",0,DersYükü!W63),Tatiller!W100),Tatiller!W100)","v":0},"TEO.","DF"]
[null,null,null,null,null,null,"TOPLAM (Ö.Ö)",null,null,null,null,{"$f":"COUNTIF(L114:L122,\">=a\")","v":0},{"$f":"COUNTIF(M114:M122,\">=a\")","v":0},0,0,0,0,0,0,0,0,{"$f":"COUNTIF(V114:V130,\">=a\")","v":0},{"$f":"COUNTIF(W114:W130,\">=a\")","v":0},null,null,{"$f":"COUNTIF(Z114:Z130,\">=a\")","v":0},{"$f":"COUNTIF(AA114:AA130,\">=a\")","v":0},null,null,{"$f":"L131+N131+P131+R131+T131+V131+Z131","v":0},{"$f":"M131+O131+Q131+S131+U131+W131+AA131","v":0}]
[null,null,"5. hafta",null,null,null,"TOPLAM (İ.Ö)",null,null,null,null,{"$f":"COUNTIF(L123:L130,\">O\")","v":0},{"$f":"COUNTIF(M123:M130,\">O\")","v":0},0,0,0,0,0,0,0,0,null,null,{"$f":"COUNTIF(X114:X130,\">O\")","v":0},{"$f":"COUNTIF(Y114:Y130,\">O\")","v":0},null,null,{"$f":"COUNTIF(AB114:AB130,\">O\")","v":0},{"$f":"COUNTIF(AC114:AC130,\">O\")","v":0},{"$f":"L132+N132+P132+R132+T132+X132+AB132","v":0},{"$f":"M132+O132+Q132+S132+U132+Y132+AC132","v":0}]
[null,null,"T","DF",null,null,"GENEL TOPLAM",null,null,null,null,{"$f":"L131+L132","v":0},{"$f":"M131+M132","v":0},0,0,0,0,0,0,0,0,0,0,0,0,0,0,0,0,{"$f":"SUM(L133:AC133)","v":0}]
[null,"P",{"$f":"IF(IFERROR(COUNTIF(N$114:N$130,$B134)+COUNTIF(P$114:P$130,$B134)+COUNTIF(R$114:R$130,$B134)+COUNTIF(T$114:T$130,$B134)+COUNTIF(V$114:V$130,$B134)+COUNTIF(X$114:X$130,$B134)+COUNTIF(Z$114:Z$130,$B134)+COUNTIF(AB$114:AB$130,$B134)+COUNTIF(L$114:L$130,$B134),\"\")=0,\"\",IFERROR(COUNTIF(N$114:N$130,$B134)+COUNTIF(P$114:P$130,$B134)+COUNTIF(R$114:R$130,$B134)+COUNTIF(T$114:T$130,$B134)+COUNTIF(V$114:V$130,$B134)+COUNTIF(X$114:X$130,$B134)+COUNTIF(Z$114:Z$130,$B134)+COUNTIF(AB$114:AB$130,$B134)+COUNTIF(L$114:L$130,$B134),\"\"))","v":""},""]
[null,"R","",""]
[null,"S","",""]
[null,"T","",""]
[null,"U","",""]
[null,"V","",""]
[null,"W","",""]
[null,"X","",""]
[null,"Y","",""]
[null,"Z","",""]
[]
[]
[]
[]
[]
[]
[]
[]
[]
[null,null,null,null,null,"1.hafta",null,null,null,null,null,"TEO","DF","TEO","DF","TEO","DF","TEO","DF","TEO","DF","TEO","DF","TEO","DF","TEO","DF","TEO","DF",null,null,null,null,null,null,null,"2.hafta",null,null,null,null,null,"TEO","DF","TEO","DF","TEO","DF","TEO","DF","TEO","DF","TEO","DF","TEO","DF","TEO","DF","TEO","DF"]
[null,null,null,null,null,null,null,null,null,null,"SAAT","PAZARTESİ",null,"SALI",null,"ÇARŞAMBA",null,"PERŞEMBE",null,"CUMA",null,"CUMARTESİ",null,"C. TESİ (İ.Ö)",null,"PAZAR",null,"PAZAR (İ.Ö)",null,null,null,null,null,null,null,null,null,null,null,null,null,"SAAT","PAZARTESİ",null,"SALI",null,"ÇARŞAMBA",null,"PERŞEMBE",null,"CUMA",null,"CUMARTESİ",null,"C. TESİ (İ.Ö)",null,"PAZAR",null,"PAZAR (İ.Ö)"]
[null,null,null,null,null,null,null,null,"08:15-09:00",null,null,{"$f":"IF(L6=\"\",\"\",L6)","v":0},0,0,0,0,0,0,0,0,0,0,0,0,0,0,0,0,0,null,null,null,null,null,null,null,null,null,null,"08:15-09:00",null,null,{"$f":"IF(AQ6=\"\",\"\",AQ6)","v":0},0,0,0,0,0,0,0,0,0,0,0,0,0,0,0,0,0]
[null,null,null,null,null,null,null,null,null,null,null,{"$f":"IF(L6>0,VLOOKUP(L6,DersYükü!$A$14:$W$39,13,FALSE),\"\")","v":""},{"$f":"IF(M6>0,VLOOKUP(M6,DersYükü!$A$14:$W$39,13,FALSE),\"\")","v":""},{"$f":"IF(N6>0,VLOOKUP(N6,DersYükü!$A$14:$W$39,13,FALSE),\"\")","v":""},{"$f":"IF(O6>0,VLOOKUP(O6,DersYükü!$A$14:$W$39,13,FALSE),\"\")","v":""},{"$f":"IF(P6>0,VLOOKUP(P6,DersYükü!$A$14:$W$39,13,FALSE),\"\")","v":""},{"$f":"IF(Q6>0,VLOOKUP(Q6,DersYükü!$A$14:$W$39,13,FALSE),\"\")","v":""},{"$f":"IF(R6>0,VLOOKUP(R6,DersYükü!$A$14:$W$39,13,FALSE),\"\")","v":""},{"$f":"IF(S6>0,VLOOKUP(S6,DersYükü!$A$14:$W$39,13,FALSE),\"\")","v":""},{"$f":"IF(T6>0,VLOOKUP(T6,DersYükü!$A$14:$W$39,13,FALSE),\"\")","v":""},{"$f":"IF(U6>0,VLOOKUP(U6,DersYükü!$A$14:$W$39,13,FALSE),\"\")","v":""},{"$f":"IF(V6>0,VLOOKUP(V6,DersYükü!$A$14:$W$39,13,FALSE),\"\")","v":""},{"$f":"IF(W6>0,VLOOKUP(W6,DersYükü!$A$14:$W$39,13,FALSE),\"\")","v":""},{"$f":"IF(X6>0,VLOOKUP(X6,DersYükü!$A$14:$W$39,13,FALSE),\"\")","v":""},{"$f":"IF(Y6>0,VLOOKUP(Y6,DersYükü!$A$14:$W$39,13,FALSE),\"\")","v":""},{"$f":"IF(Z6>0,VLOOKUP(Z6,DersYükü!$A$14:$W$39,13,FALSE),\"\")","v":""},{"$f":"IF(AA6>0,VLOOKUP(AA6,DersYükü!$A$14:$W$39,13,FALSE),\"\")","v":""},{"$f":"IF(AB6>0,VLOOKUP(AB6,DersYükü!$A$14:$W$39,13,FALSE),\"\")","v":""},{"$f":"IF(AC6>0,VLOOKUP(AC6,DersYükü!$A$14:$W$39,13,FALSE),\"\")","v":""},null,null,null,null,null,null,null,null,null,null,null,null,null,{"$f":"IF(AQ6>0,VLOOKUP(AQ6,DersYükü!$A$14:$W$39,13,FALSE),\"\")","v":""},{"$f":"IF(AR6>0,VLOOKUP(AR6,DersYükü!$A$14:$W$39,13,FALSE),\"\")","v":""},{"$f":"IF(AS6>0,VLOOKUP(AS6,DersYükü!$A$14:$W$39,13,FALSE),\"\")","v":""},{"$f":"IF(AT6>0,VLOOKUP(AT6,DersYükü!$A$14:$W$39,13,FALSE),\"\")","v":""},{"$f":"IF(AU6>0,VLOOKUP(AU6,DersYükü!$A$14:$W$39,13,FALSE),\"\")","v":""},{"$f":"IF(AV6>0,VLOOKUP(AV6,DersYükü!$A$14:$W$39,13,FALSE),\"\")","v":""},{"$f":"IF(AW6>0,VLOOKUP(AW6,DersYükü!$A$14:$W$39,13,FALSE),\"\")","v":""},{"$f":"IF(AX6>0,VLOOKUP(AX6,DersYükü!$A$14:$W$39,13,FALSE),\"\")","v":""},{"$f":"IF(AY6>0,VLOOKUP(AY6,DersYükü!$A$14:$W$39,13,FALSE),\"\")","v":""},{"$f":"IF(AZ6>0,VLOOKUP(AZ6,DersYükü!$A$14:$W$39,13,FALSE),\"\")","v":""},{"$f":"IF(BA6>0,VLOOKUP(BA6,DersYükü!$A$14:$W$39,13,FALSE),\"\")","v":""},{"$f":"IF(BB6>0,VLOOKUP(BB6,DersYükü!$A$14:$W$39,13,FALSE),\"\")","v":""},{"$f":"IF(BC6>0,VLOOKUP(BC6,DersYükü!$A$14:$W$39,13,FALSE),\"\")","v":""},{"$f":"IF(BD6>0,VLOOKUP(BD6,DersYükü!$A$14:$W$39,13,FALSE),\"\")","v":""},{"$f":"IF(BE6>0,VLOOKUP(BE6,DersYükü!$A$14:$W$39,13,FALSE),\"\")","v":""},{"$f":"IF(BF6>0,VLOOKUP(BF6,DersYükü!$A$14:$W$39,13,FALSE),\"\")","v":""},{"$f":"IF(BG6>0,VLOOKUP(BG6,DersYükü!$A$14:$W$39,13,FALSE),\"\")","v":""},{"$f":"IF(BH6>0,VLOOKUP(BH6,DersYükü!$A$14:$W$39,13,FALSE),\"\")","v":""}]
[null,null,null,null,null,null,null,null,"09:15-10:00",null,null,{"$f":"IF(L7=\"\",\"\",L7)","v":0},0,0,0,0,0,0,0,0,0,0,0,0,0,0,0,0,0,null,null,null,null,null,null,null,null,null,null,"09:15-10:00",null,null,{"$f":"IF(AQ7=\"\",\"\",AQ7)","v":0},0,0,0,0,0,0,0,0,0,0,0,0,0,0,0,0,0]
[null,null,null,null,null,null,null,null,null,null,null,{"$f":"IF(L7>0,VLOOKUP(L7,DersYükü!$A$14:$W$39,13,FALSE),\"\")","v":""},{"$f":"IF(M7>0,VLOOKUP(M7,DersYükü!$A$14:$W$39,13,FALSE),\"\")","v":""},{"$f":"IF(N7>0,VLOOKUP(N7,DersYükü!$A$14:$W$39,13,FALSE),\"\")","v":""},{"$f":"IF(O7>0,VLOOKUP(O7,DersYükü!$A$14:$W$39,13,FALSE),\"\")","v":""},{"$f":"IF(P7>0,VLOOKUP(P7,DersYükü!$A$14:$W$39,13,FALSE),\"\")","v":""},{"$f":"IF(Q7>0,VLOOKUP(Q7,DersYükü!$A$14:$W$39,13,FALSE),\"\")","v":""},{"$f":"IF(R7>0,VLOOKUP(R7,DersYükü!$A$14:$W$39,13,FALSE),\"\")","v":""},{"$f":"IF(S7>0,VLOOKUP(S7,DersYükü!$A$14:$W$39,13,FALSE),\"\")","v":""},{"$f":"IF(T7>0,VLOOKUP(T7,DersYükü!$A$14:$W$39,13,FALSE),\"\")","v":""},{"$f":"IF(U7>0,VLOOKUP(U7,DersYükü!$A$14:$W$39,13,FALSE),\"\")","v":""},{"$f":"IF(V7>0,VLOOKUP(V7,DersYükü!$A$14:$W$39,13,FALSE),\"\")","v":""},{"$f":"IF(W7>0,VLOOKUP(W7,DersYükü!$A$14:$W$39,13,FALSE),\"\")","v":""},{"$f":"IF(X7>0,VLOOKUP(X7,DersYükü!$A$14:$W$39,13,FALSE),\"\")","v":""},{"$f":"IF(Y7>0,VLOOKUP(Y7,DersYükü!$A$14:$W$39,13,FALSE),\"\")","v":""},{"$f":"IF(Z7>0,VLOOKUP(Z7,DersYükü!$A$14:$W$39,13,FALSE),\"\")","v":""},{"$f":"IF(AA7>0,VLOOKUP(AA7,DersYükü!$A$14:$W$39,13,FALSE),\"\")","v":""},{"$f":"IF(AB7>0,VLOOKUP(AB7,DersYükü!$A$14:$W$39,13,FALSE),\"\")","v":""},{"$f":"IF(AC7>0,VLOOKUP(AC7,DersYükü!$A$14:$W$39,13,FALSE),\"\")","v":""},null,null,null,null,null,null,null,null,null,null,null,null,null,{"$f":"IF(AQ7>0,VLOOKUP(AQ7,DersYükü!$A$14:$W$39,13,FALSE),\"\")","v":""},{"$f":"IF(AR7>0,VLOOKUP(AR7,DersYükü!$A$14:$W$39,13,FALSE),\"\")","v":""},{"$f":"IF(AS7>0,VLOOKUP(AS7,DersYükü!$A$14:$W$39,13,FALSE),\"\")","v":""},{"$f":"IF(AT7>0,VLOOKUP(AT7,DersYükü!$A$14:$W$39,13,FALSE),\"\")","v":""},{"$f":"IF(AU7>0,VLOOKUP(AU7,DersYükü!$A$14:$W$39,13,FALSE),\"\")","v":""},{"$f":"IF(AV7>0,VLOOKUP(AV7,DersYükü!$A$14:$W$39,13,FALSE),\"\")","v":""},{"$f":"IF(AW7>0,VLOOKUP(AW7,DersYükü!$A$14:$W$39,13,FALSE),\"\")","v":""},{"$f":"IF(AX7>0,VLOOKUP(AX7,DersYükü!$A$14:$W$39,13,FALSE),\"\")","v":""},{"$f":"IF(AY7>0,VLOOKUP(AY7,DersYükü!$A$14:$W$39,13,FALSE),\"\")","v":""},{"$f":"IF(AZ7>0,VLOOKUP(AZ7,DersYükü!$A$14:$W$39,13,FALSE),\"\")","v":""},{"$f":"IF(BA7>0,VLOOKUP(BA7,DersYükü!$A$14:$W$39,13,FALSE),\"\")","v":""},{"$f":"IF(BB7>0,VLOOKUP(BB7,DersYükü!$A$14:$W$39,13,FALSE),\"\")","v":""},{"$f":"IF(BC7>0,VLOOKUP(BC7,DersYükü!$A$14:$W$39,13,FALSE),\"\")","v":""},{"$f":"IF(BD7>0,VLOOKUP(BD7,DersYükü!$A$14:$W$39,13,FALSE),\"\")","v":""},{"$f":"IF(BE7>0,VLOOKUP(BE7,DersYükü!$A$14:$W$39,13,FALSE),\"\")","v":""},{"$f":"IF(BF7>0,VLOOKUP(BF7,DersYükü!$A$14:$W$39,13,FALSE),\"\")","v":""},{"$f":"IF(BG7>0,VLOOKUP(BG7,DersYükü!$A$14:$W$39,13,FALSE),\"\")","v":""},{"$f":"IF(BH7>0,VLOOKUP(BH7,DersYükü!$A$14:$W$39,13,FALSE),\"\")","v":""}]
[null,null,null,null,null,null,null,null,"10:15-11:00",null,null,{"$f":"IF(L8=\"\",\"\",L8)","v":0},0,0,0,0,0,0,0,0,0,0,0,0,0,0,0,0,0,null,null,null,null,null,null,null,null,null,null,"10:15-11:00",null,null,{"$f":"IF(AQ8=\"\",\"\",AQ8)","v":0},0,0,0,0,0,0,0,0,0,0,0,0,0,0,0,0,0]
[null,null,null,null,null,null,null,null,null,null,null,{"$f":"IF(L8>0,VLOOKUP(L8,DersYükü!$A$14:$W$39,13,FALSE),\"\")","v":""},{"$f":"IF(M8>0,VLOOKUP(M8,DersYükü!$A$14:$W$39,13,FALSE),\"\")","v":""},{"$f":"IF(N8>0,VLOOKUP(N8,DersYükü!$A$14:$W$39,13,FALSE),\"\")","v":""},{"$f":"IF(O8>0,VLOOKUP(O8,DersYükü!$A$14:$W$39,13,FALSE),\"\")","v":""},{"$f":"IF(P8>0,VLOOKUP(P8,DersYükü!$A$14:$W$39,13,FALSE),\"\")","v":""},{"$f":"IF(Q8>0,VLOOKUP(Q8,DersYükü!$A$14:$W$39,13,FALSE),\"\")","v":""},{"$f":"IF(R8>0,VLOOKUP(R8,DersYükü!$A$14:$W$39,13,FALSE),\"\")","v":""},{"$f":"IF(S8>0,VLOOKUP(S8,DersYükü!$A$14:$W$39,13,FALSE),\"\")","v":""},{"$f":"IF(T8>0,VLOOKUP(T8,DersYükü!$A$14:$W$39,13,FALSE),\"\")","v":""},{"$f":"IF(U8>0,VLOOKUP(U8,DersYükü!$A$14:$W$39,13,FALSE),\"\")","v":""},{"$f":"IF(V8>0,VLOOKUP(V8,DersYükü!$A$14:$W$39,13,FALSE),\"\")","v":""},{"$f":"IF(W8>0,VLOOKUP(W8,DersYükü!$A$14:$W$39,13,FALSE),\"\")","v":""},{"$f":"IF(X8>0,VLOOKUP(X8,DersYükü!$A$14:$W$39,13,FALSE),\"\")","v":""},{"$f":"IF(Y8>0,VLOOKUP(Y8,DersYükü!$A$14:$W$39,13,FALSE),\"\")","v":""},{"$f":"IF(Z8>0,VLOOKUP(Z8,DersYükü!$A$14:$W$39,13,FALSE),\"\")","v":""},{"$f":"IF(AA8>0,VLOOKUP(AA8,DersYükü!$A$14:$W$39,13,FALSE),\"\")","v":""},{"$f":"IF(AB8>0,VLOOKUP(AB8,DersYükü!$A$14:$W$39,13,FALSE),\"\")","v":""},{"$f":"IF(AC8>0,VLOOKUP(AC8,DersYükü!$A$14:$W$39,13,FALSE),\"\")","v":""},null,null,null,null,null,null,null,null,null,null,null,null,null,{"$f":"IF(AQ8>0,VLOOKUP(AQ8,DersYükü!$A$14:$W$39,13,FALSE),\"\")","v":""},{"$f":"IF(AR8>0,VLOOKUP(AR8,DersYükü!$A$14:$W$39,13,FALSE),\"\")","v":""},{"$f":"IF(AS8>0,VLOOKUP(AS8,DersYükü!$A$14:$W$39,13,FALSE),\"\")","v":""},{"$f":"IF(AT8>0,VLOOKUP(AT8,DersYükü!$A$14:$W$39,13,FALSE),\"\")","v":""},{"$f":"IF(AU8>0,VLOOKUP(AU8,DersYükü!$A$14:$W$39,13,FALSE),\"\")","v":""},{"$f":"IF(AV8>0,VLOOKUP(AV8,DersYükü!$A$14:$W$39,13,FALSE),\"\")","v":""},{"$f":"IF(AW8>0,VLOOKUP(AW8,DersYükü!$A$14:$W$39,13,FALSE),\"\")","v":""},{"$f":"IF(AX8>0,VLOOKUP(AX8,DersYükü!$A$14:$W$39,13,FALSE),\"\")","v":""},{"$f":"IF(AY8>0,VLOOKUP(AY8,DersYükü!$A$14:$W$39,13,FALSE),\"\")","v":""},{"$f":"IF(AZ8>0,VLOOKUP(AZ8,DersYükü!$A$14:$W$39,13,FALSE),\"\")","v":""},{"$f":"IF(BA8>0,VLOOKUP(BA8,DersYükü!$A$14:$W$39,13,FALSE),\"\")","v":""},{"$f":"IF(BB8>0,VLOOKUP(BB8,DersYükü!$A$14:$W$39,13,FALSE),\"\")","v":""},{"$f":"IF(BC8>0,VLOOKUP(BC8,DersYükü!$A$14:$W$39,13,FALSE),\"\")","v":""},{"$f":"IF(BD8>0,VLOOKUP(BD8,DersYükü!$A$14:$W$39,13,FALSE),\"\")","v":""},{"$f":"IF(BE8>0,VLOOKUP(BE8,DersYükü!$A$14:$W$39,13,FALSE),\"\")","v":""},{"$f":"IF(BF8>0,VLOOKUP(BF8,DersYükü!$A$14:$W$39,13,FALSE),\"\")","v":""},{"$f":"IF(BG8>0,VLOOKUP(BG8,DersYükü!$A$14:$W$39,13,FALSE),\"\")","v":""},{"$f":"IF(BH8>0,VLOOKUP(BH8,DersYükü!$A$14:$W$39,13,FALSE),\"\")","v":""}]
[null,null,null,null,null,null,null,null,"11:15-12:00",null,null,{"$f":"IF(L9=\"\",\"\",L9)","v":0},0,0,0,0,0,0,0,0,0,0,0,0,0,0,0,0,0,null,null,null,null,null,null,null,null,null,null,"11:15-12:00",null,null,{"$f":"IF(AQ9=\"\",\"\",AQ9)","v":0},0,0,0,0,0,0,0,0,0,0,0,0,0,0,0,0,0]
[null,null,null,null,null,null,null,null,null,null,null,{"$f":"IF(L9>0,VLOOKUP(L9,DersYükü!$A$14:$W$39,13,FALSE),\"\")","v":""},{"$f":"IF(M9>0,VLOOKUP(M9,DersYükü!$A$14:$W$39,13,FALSE),\"\")","v":""},{"$f":"IF(N9>0,VLOOKUP(N9,DersYükü!$A$14:$W$39,13,FALSE),\"\")","v":""},{"$f":"IF(O9>0,VLOOKUP(O9,DersYükü!$A$14:$W$39,13,FALSE),\"\")","v":""},{"$f":"IF(P9>0,VLOOKUP(P9,DersYükü!$A$14:$W$39,13,FALSE),\"\")","v":""},{"$f":"IF(Q9>0,VLOOKUP(Q9,DersYükü!$A$14:$W$39,13,FALSE),\"\")","v":""},{"$f":"IF(R9>0,VLOOKUP(R9,DersYükü!$A$14:$W$39,13,FALSE),\"\")","v":""},{"$f":"IF(S9>0,VLOOKUP(S9,DersYükü!$A$14:$W$39,13,FALSE),\"\")","v":""},{"$f":"IF(T9>0,VLOOKUP(T9,DersYükü!$A$14:$W$39,13,FALSE),\"\")","v":""},{"$f":"IF(U9>0,VLOOKUP(U9,DersYükü!$A$14:$W$39,13,FALSE),\"\")","v":""},{"$f":"IF(V9>0,VLOOKUP(V9,DersYükü!$A$14:$W$39,13,FALSE),\"\")","v":""},{"$f":"IF(W9>0,VLOOKUP(W9,DersYükü!$A$14:$W$39,13,FALSE),\"\")","v":""},{"$f":"IF(X9>0,VLOOKUP(X9,DersYükü!$A$14:$W$39,13,FALSE),\"\")","v":""},{"$f":"IF(Y9>0,VLOOKUP(Y9,DersYükü!$A$14:$W$39,13,FALSE),\"\")","v":""},{"$f":"IF(Z9>0,VLOOKUP(Z9,DersYükü!$A$14:$W$39,13,FALSE),\"\")","v":""},{"$f":"IF(AA9>0,VLOOKUP(AA9,DersYükü!$A$14:$W$39,13,FALSE),\"\")","v":""},{"$f":"IF(AB9>0,VLOOKUP(AB9,DersYükü!$A$14:$W$39,13,FALSE),\"\")","v":""},{"$f":"IF(AC9>0,VLOOKUP(AC9,DersYükü!$A$14:$W$39,13,FALSE),\"\")","v":""},null,null,null,null,null,null,null,null,null,null,null,null,null,{"$f":"IF(AQ9>0,VLOOKUP(AQ9,DersYükü!$A$14:$W$39,13,FALSE),\"\")","v":""},{"$f":"IF(AR9>0,VLOOKUP(AR9,DersYükü!$A$14:$W$39,13,FALSE),\"\")","v":""},{"$f":"IF(AS9>0,VLOOKUP(AS9,DersYükü!$A$14:$W$39,13,FALSE),\"\")","v":""},{"$f":"IF(AT9>0,VLOOKUP(AT9,DersYükü!$A$14:$W$39,13,FALSE),\"\")","v":""},{"$f":"IF(AU9>0,VLOOKUP(AU9,DersYükü!$A$14:$W$39,13,FALSE),\"\")","v":""},{"$f":"IF(AV9>0,VLOOKUP(AV9,DersYükü!$A$14:$W$39,13,FALSE),\"\")","v":""},{"$f":"IF(AW9>0,VLOOKUP(AW9,DersYükü!$A$14:$W$39,13,FALSE),\"\")","v":""},{"$f":"IF(AX9>0,VLOOKUP(AX9,DersYükü!$A$14:$W$39,13,FALSE),\"\")","v":""},{"$f":"IF(AY9>0,VLOOKUP(AY9,DersYükü!$A$14:$W$39,13,FALSE),\"\")","v":""},{"$f":"IF(AZ9>0,VLOOKUP(AZ9,DersYükü!$A$14:$W$39,13,FALSE),\"\")","v":""},{"$f":"IF(BA9>0,VLOOKUP(BA9,DersYükü!$A$14:$W$39,13,FALSE),\"\")","v":""},{"$f":"IF(BB9>0,VLOOKUP(BB9,DersYükü!$A$14:$W$39,13,FALSE),\"\")","v":""},{"$f":"IF(BC9>0,VLOOKUP(BC9,DersYükü!$A$14:$W$39,13,FALSE),\"\")","v":""},{"$f":"IF(BD9>0,VLOOKUP(BD9,DersYükü!$A$14:$W$39,13,FALSE),\"\")","v":""},{"$f":"IF(BE9>0,VLOOKUP(BE9,DersYükü!$A$14:$W$39,13,FALSE),\"\")","v":""},{"$f":"IF(BF9>0,VLOOKUP(BF9,DersYükü!$A$14:$W$39,13,FALSE),\"\")","v":""},{"$f":"IF(BG9>0,VLOOKUP(BG9,DersYükü!$A$14:$W$39,13,FALSE),\"\")","v":""},{"$f":"IF(BH9>0,VLOOKUP(BH9,DersYükü!$A$14:$W$39,13,FALSE),\"\")","v":""}]
[null,null,null,null,null,null,null,null,"12:00-13:15",null,null,{"$f":"IF(L10=\"\",\"\",L10)","v":0},0,0,0,0,0,0,0,0,0,0,0,0,0,0,0,0,0,null,null,null,null,null,null,null,null,null,null,"12:00-13:15",null,null,{"$f":"IF(AQ10=\"\",\"\",AQ10)","v":0},0,0,0,0,0,0,0,0,0,0,0,0,0,0,0,0,0]
[null,null,null,null,null,null,null,null,null,null,null,{"$f":"IF(L10>0,VLOOKUP(L10,DersYükü!$A$14:$W$39,13,FALSE),\"\")","v":""},{"$f":"IF(M10>0,VLOOKUP(M10,DersYükü!$A$14:$W$39,13,FALSE),\"\")","v":""},{"$f":"IF(N10>0,VLOOKUP(N10,DersYükü!$A$14:$W$39,13,FALSE),\"\")","v":""},{"$f":"IF(O10>0,VLOOKUP(O10,DersYükü!$A$14:$W$39,13,FALSE),\"\")","v":""},{"$f":"IF(P10>0,VLOOKUP(P10,DersYükü!$A$14:$W$39,13,FALSE),\"\")","v":""},{"$f":"IF(Q10>0,VLOOKUP(Q10,DersYükü!$A$14:$W$39,13,FALSE),\"\")","v":""},{"$f":"IF(R10>0,VLOOKUP(R10,DersYükü!$A$14:$W$39,13,FALSE),\"\")","v":""},{"$f":"IF(S10>0,VLOOKUP(S10,DersYükü!$A$14:$W$39,13,FALSE),\"\")","v":""},{"$f":"IF(T10>0,VLOOKUP(T10,DersYükü!$A$14:$W$39,13,FALSE),\"\")","v":""},{"$f":"IF(U10>0,VLOOKUP(U10,DersYükü!$A$14:$W$39,13,FALSE),\"\")","v":""},{"$f":"IF(V10>0,VLOOKUP(V10,DersYükü!$A$14:$W$39,13,FALSE),\"\")","v":""},{"$f":"IF(W10>0,VLOOKUP(W10,DersYükü!$A$14:$W$39,13,FALSE),\"\")","v":""},{"$f":"IF(X10>0,VLOOKUP(X10,DersYükü!$A$14:$W$39,13,FALSE),\"\")","v":""},{"$f":"IF(Y10>0,VLOOKUP(Y10,DersYükü!$A$14:$W$39,13,FALSE),\"\")","v":""},{"$f":"IF(Z10>0,VLOOKUP(Z10,DersYükü!$A$14:$W$39,13,FALSE),\"\")","v":""},{"$f":"IF(AA10>0,VLOOKUP(AA10,DersYükü!$A$14:$W$39,13,FALSE),\"\")","v":""},{"$f":"IF(AB10>0,VLOOKUP(AB10,DersYükü!$A$14:$W$39,13,FALSE),\"\")","v":""},{"$f":"IF(AC10>0,VLOOKUP(AC10,DersYükü!$A$14:$W$39,13,FALSE),\"\")","v":""},null,null,null,null,null,null,null,null,null,null,null,null,null,{"$f":"IF(AQ10>0,VLOOKUP(AQ10,DersYükü!$A$14:$W$39,13,FALSE),\"\")","v":""},{"$f":"IF(AR10>0,VLOOKUP(AR10,DersYükü!$A$14:$W$39,13,FALSE),\"\")","v":""},{"$f":"IF(AS10>0,VLOOKUP(AS10,DersYükü!$A$14:$W$39,13,FALSE),\"\")","v":""},{"$f":"IF(AT10>0,VLOOKUP(AT10,DersYükü!$A$14:$W$39,13,FALSE),\"\")","v":""},{"$f":"IF(AU10>0,VLOOKUP(AU10,DersYükü!$A$14:$W$39,13,FALSE),\"\")","v":""},{"$f":"IF(AV10>0,VLOOKUP(AV10,DersYükü!$A$14:$W$39,13,FALSE),\"\")","v":""},{"$f":"IF(AW10>0,VLOOKUP(AW10,DersYükü!$A$14:$W$39,13,FALSE),\"\")","v":""},{"$f":"IF(AX10>0,VLOOKUP(AX10,DersYükü!$A$14:$W$39,13,FALSE),\"\")","v":""},{"$f":"IF(AY10>0,VLOOKUP(AY10,DersYükü!$A$14:$W$39,13,FALSE),\"\")","v":""},{"$f":"IF(AZ10>0,VLOOKUP(AZ10,DersYükü!$A$14:$W$39,13,FALSE),\"\")","v":""},{"$f":"IF(BA10>0,VLOOKUP(BA10,DersYükü!$A$14:$W$39,13,FALSE),\"\")","v":""},{"$f":"IF(BB10>0,VLOOKUP(BB10,DersYükü!$A$14:$W$39,13,FALSE),\"\")","v":""},{"$f":"IF(BC10>0,VLOOKUP(BC10,DersYükü!$A$14:$W$39,13,FALSE),\"\")","v":""},{"$f":"IF(BD10>0,VLOOKUP(BD10,DersYükü!$A$14:$W$39,13,FALSE),\"\")","v":""},{"$f":"IF(BE10>0,VLOOKUP(BE10,DersYükü!$A$14:$W$39,13,FALSE),\"\")","v":""},{"$f":"IF(BF10>0,VLOOKUP(BF10,DersYükü!$A$14:$W$39,13,FALSE),\"\")","v":""},{"$f":"IF(BG10>0,VLOOKUP(BG10,DersYükü!$A$14:$W$39,13,FALSE),\"\")","v":""},{"$f":"IF(BH10>0,VLOOKUP(BH10,DersYükü!$A$14:$W$39,13,FALSE),\"\")","v":""}]
[null,null,null,null,null,null,null,null,"13:15-14:00",null,null,{"$f":"IF(L11=\"\",\"\",L11)","v":0},0,0,0,0,0,0,0,0,0,0,0,0,0,0,0,0,0,null,null,null,null,null,null,null,null,null,null,"13:15-14:00",null,null,{"$f":"IF(AQ11=\"\",\"\",AQ11)","v":0},0,0,0,0,0,0,0,0,0,0,0,0,0,0,0,0,0]
[null,null,null,null,null,null,null,null,null,null,null,{"$f":"IF(L11>0,VLOOKUP(L11,DersYükü!$A$14:$W$39,13,FALSE),\"\")","v":""},{"$f":"IF(M11>0,VLOOKUP(M11,DersYükü!$A$14:$W$39,13,FALSE),\"\")","v":""},{"$f":"IF(N11>0,VLOOKUP(N11,DersYükü!$A$14:$W$39,13,FALSE),\"\")","v":""},{"$f":"IF(O11>0,VLOOKUP(O11,DersYükü!$A$14:$W$39,13,FALSE),\"\")","v":""},{"$f":"IF(P11>0,VLOOKUP(P11,DersYükü!$A$14:$W$39,13,FALSE),\"\")","v":""},{"$f":"IF(Q11>0,VLOOKUP(Q11,DersYükü!$A$14:$W$39,13,FALSE),\"\")","v":""},{"$f":"IF(R11>0,VLOOKUP(R11,DersYükü!$A$14:$W$39,13,FALSE),\"\")","v":""},{"$f":"IF(S11>0,VLOOKUP(S11,DersYükü!$A$14:$W$39,13,FALSE),\"\")","v":""},{"$f":"IF(T11>0,VLOOKUP(T11,DersYükü!$A$14:$W$39,13,FALSE),\"\")","v":""},{"$f":"IF(U11>0,VLOOKUP(U11,DersYükü!$A$14:$W$39,13,FALSE),\"\")","v":""},{"$f":"IF(V11>0,VLOOKUP(V11,DersYükü!$A$14:$W$39,13,FALSE),\"\")","v":""},{"$f":"IF(W11>0,VLOOKUP(W11,DersYükü!$A$14:$W$39,13,FALSE),\"\")","v":""},{"$f":"IF(X11>0,VLOOKUP(X11,DersYükü!$A$14:$W$39,13,FALSE),\"\")","v":""},{"$f":"IF(Y11>0,VLOOKUP(Y11,DersYükü!$A$14:$W$39,13,FALSE),\"\")","v":""},{"$f":"IF(Z11>0,VLOOKUP(Z11,DersYükü!$A$14:$W$39,13,FALSE),\"\")","v":""},{"$f":"IF(AA11>0,VLOOKUP(AA11,DersYükü!$A$14:$W$39,13,FALSE),\"\")","v":""},{"$f":"IF(AB11>0,VLOOKUP(AB11,DersYükü!$A$14:$W$39,13,FALSE),\"\")","v":""},{"$f":"IF(AC11>0,VLOOKUP(AC11,DersYükü!$A$14:$W$39,13,FALSE),\"\")","v":""},null,null,null,null,null,null,null,null,null,null,null,null,null,{"$f":"IF(AQ11>0,VLOOKUP(AQ11,DersYükü!$A$14:$W$39,13,FALSE),\"\")","v":""},{"$f":"IF(AR11>0,VLOOKUP(AR11,DersYükü!$A$14:$W$39,13,FALSE),\"\")","v":""},{"$f":"IF(AS11>0,VLOOKUP(AS11,DersYükü!$A$14:$W$39,13,FALSE),\"\")","v":""},{"$f":"IF(AT11>0,VLOOKUP(AT11,DersYükü!$A$14:$W$39,13,FALSE),\"\")","v":""},{"$f":"IF(AU11>0,VLOOKUP(AU11,DersYükü!$A$14:$W$39,13,FALSE),\"\")","v":""},{"$f":"IF(AV11>0,VLOOKUP(AV11,DersYükü!$A$14:$W$39,13,FALSE),\"\")","v":""},{"$f":"IF(AW11>0,VLOOKUP(AW11,DersYükü!$A$14:$W$39,13,FALSE),\"\")","v":""},{"$f":"IF(AX11>0,VLOOKUP(AX11,DersYükü!$A$14:$W$39,13,FALSE),\"\")","v":""},{"$f":"IF(AY11>0,VLOOKUP(AY11,DersYükü!$A$14:$W$39,13,FALSE),\"\")","v":""},{"$f":"IF(AZ11>0,VLOOKUP(AZ11,DersYükü!$A$14:$W$39,13,FALSE),\"\")","v":""},{"$f":"IF(BA11>0,VLOOKUP(BA11,DersYükü!$A$14:$W$39,13,FALSE),\"\")","v":""},{"$f":"IF(BB11>0,VLOOKUP(BB11,DersYükü!$A$14:$W$39,13,FALSE),\"\")","v":""},{"$f":"IF(BC11>0,VLOOKUP(BC11,DersYükü!$A$14:$W$39,13,FALSE),\"\")","v":""},{"$f":"IF(BD11>0,VLOOKUP(BD11,DersYükü!$A$14:$W$39,13,FALSE),\"\")","v":""},{"$f":"IF(BE11>0,VLOOKUP(BE11,DersYükü!$A$14:$W$39,13,FALSE),\"\")","v":""},{"$f":"IF(BF11>0,VLOOKUP(BF11,DersYükü!$A$14:$W$39,13,FALSE),\"\")","v":""},{"$f":"IF(BG11>0,VLOOKUP(BG11,DersYükü!$A$14:$W$39,13,FALSE),\"\")","v":""},{"$f":"IF(BH11>0,VLOOKUP(BH11,DersYükü!$A$14:$W$39,13,FALSE),\"\")","v":""}]
[null,null,null,null,null,null,null,null,"14:15-15:00",null,null,{"$f":"IF(L12=\"\",\"\",L12)","v":0},0,0,0,0,0,0,0,0,0,0,0,0,0,0,0,0,0,null,null,null,null,null,null,null,null,null,null,"14:15-15:00",null,null,{"$f":"IF(AQ12=\"\",\"\",AQ12)","v":0},0,0,0,0,0,0,0,0,0,0,0,0,0,0,0,0,0]
[null,null,null,null,null,null,null,null,null,null,null,{"$f":"IF(L12>0,VLOOKUP(L12,DersYükü!$A$14:$W$39,13,FALSE),\"\")","v":""},{"$f":"IF(M12>0,VLOOKUP(M12,DersYükü!$A$14:$W$39,13,FALSE),\"\")","v":""},{"$f":"IF(N12>0,VLOOKUP(N12,DersYükü!$A$14:$W$39,13,FALSE),\"\")","v":""},{"$f":"IF(O12>0,VLOOKUP(O12,DersYükü!$A$14:$W$39,13,FALSE),\"\")","v":""},{"$f":"IF(P12>0,VLOOKUP(P12,DersYükü!$A$14:$W$39,13,FALSE),\"\")","v":""},{"$f":"IF(Q12>0,VLOOKUP(Q12,DersYükü!$A$14:$W$39,13,FALSE),\"\")","v":""},{"$f":"IF(R12>0,VLOOKUP(R12,DersYükü!$A$14:$W$39,13,FALSE),\"\")","v":""},{"$f":"IF(S12>0,VLOOKUP(S12,DersYükü!$A$14:$W$39,13,FALSE),\"\")","v":""},{"$f":"IF(T12>0,VLOOKUP(T12,DersYükü!$A$14:$W$39,13,FALSE),\"\")","v":""},{"$f":"IF(U12>0,VLOOKUP(U12,DersYükü!$A$14:$W$39,13,FALSE),\"\")","v":""},{"$f":"IF(V12>0,VLOOKUP(V12,DersYükü!$A$14:$W$39,13,FALSE),\"\")","v":""},{"$f":"IF(W12>0,VLOOKUP(W12,DersYükü!$A$14:$W$39,13,FALSE),\"\")","v":""},{"$f":"IF(X12>0,VLOOKUP(X12,DersYükü!$A$14:$W$39,13,FALSE),\"\")","v":""},{"$f":"IF(Y12>0,VLOOKUP(Y12,DersYükü!$A$14:$W$39,13,FALSE),\"\")","v":""},{"$f":"IF(Z12>0,VLOOKUP(Z12,DersYükü!$A$14:$W$39,13,FALSE),\"\")","v":""},{"$f":"IF(AA12>0,VLOOKUP(AA12,DersYükü!$A$14:$W$39,13,FALSE),\"\")","v":""},{"$f":"IF(AB12>0,VLOOKUP(AB12,DersYükü!$A$14:$W$39,13,FALSE),\"\")","v":""},{"$f":"IF(AC12>0,VLOOKUP(AC12,DersYükü!$A$14:$W$39,13,FALSE),\"\")","v":""},null,null,null,null,null,null,null,null,null,null,null,null,null,{"$f":"IF(AQ12>0,VLOOKUP(AQ12,DersYükü!$A$14:$W$39,13,FALSE),\"\")","v":""},{"$f":"IF(AR12>0,VLOOKUP(AR12,DersYükü!$A$14:$W$39,13,FALSE),\"\")","v":""},{"$f":"IF(AS12>0,VLOOKUP(AS12,DersYükü!$A$14:$W$39,13,FALSE),\"\")","v":""},{"$f":"IF(AT12>0,VLOOKUP(AT12,DersYükü!$A$14:$W$39,13,FALSE),\"\")","v":""},{"$f":"IF(AU12>0,VLOOKUP(AU12,DersYükü!$A$14:$W$39,13,FALSE),\"\")","v":""},{"$f":"IF(AV12>0,VLOOKUP(AV12,DersYükü!$A$14:$W$39,13,FALSE),\"\")","v":""},{"$f":"IF(AW12>0,VLOOKUP(AW12,DersYükü!$A$14:$W$39,13,FALSE),\"\")","v":""},{"$f":"IF(AX12>0,VLOOKUP(AX12,DersYükü!$A$14:$W$39,13,FALSE),\"\")","v":""},{"$f":"IF(AY12>0,VLOOKUP(AY12,DersYükü!$A$14:$W$39,13,FALSE),\"\")","v":""},{"$f":"IF(AZ12>0,VLOOKUP(AZ12,DersYükü!$A$14:$W$39,13,FALSE),\"\")","v":""},{"$f":"IF(BA12>0,VLOOKUP(BA12,DersYükü!$A$14:$W$39,13,FALSE),\"\")","v":""},{"$f":"IF(BB12>0,VLOOKUP(BB12,DersYükü!$A$14:$W$39,13,FALSE),\"\")","v":""},{"$f":"IF(BC12>0,VLOOKUP(BC12,DersYükü!$A$14:$W$39,13,FALSE),\"\")","v":""},{"$f":"IF(BD12>0,VLOOKUP(BD12,DersYükü!$A$14:$W$39,13,FALSE),\"\")","v":""},{"$f":"IF(BE12>0,VLOOKUP(BE12,DersYükü!$A$14:$W$39,13,FALSE),\"\")","v":""},{"$f":"IF(BF12>0,VLOOKUP(BF12,DersYükü!$A$14:$W$39,13,FALSE),\"\")","v":""},{"$f":"IF(BG12>0,VLOOKUP(BG12,DersYükü!$A$14:$W$39,13,FALSE),\"\")","v":""},{"$f":"IF(BH12>0,VLOOKUP(BH12,DersYükü!$A$14:$W$39,13,FALSE),\"\")","v":""}]
[null,null,null,null,null,null,null,null,"15:15-16:00",null,null,{"$f":"IF(L13=\"\",\"\",L13)","v":0},0,0,0,0,0,0,0,0,0,0,0,0,0,0,0,0,0,null,null,null,null,null,null,null,null,null,null,"15:15-16:00",null,null,{"$f":"IF(AQ13=\"\",\"\",AQ13)","v":0},0,0,0,0,0,0,0,0,0,0,0,0,0,0,0,0,0]
[null,null,null,null,null,null,null,null,null,null,null,{"$f":"IF(L13>0,VLOOKUP(L13,DersYükü!$A$14:$W$39,13,FALSE),\"\")","v":""},{"$f":"IF(M13>0,VLOOKUP(M13,DersYükü!$A$14:$W$39,13,FALSE),\"\")","v":""},{"$f":"IF(N13>0,VLOOKUP(N13,DersYükü!$A$14:$W$39,13,FALSE),\"\")","v":""},{"$f":"IF(O13>0,VLOOKUP(O13,DersYükü!$A$14:$W$39,13,FALSE),\"\")","v":""},{"$f":"IF(P13>0,VLOOKUP(P13,DersYükü!$A$14:$W$39,13,FALSE),\"\")","v":""},{"$f":"IF(Q13>0,VLOOKUP(Q13,DersYükü!$A$14:$W$39,13,FALSE),\"\")","v":""},{"$f":"IF(R13>0,VLOOKUP(R13,DersYükü!$A$14:$W$39,13,FALSE),\"\")","v":""},{"$f":"IF(S13>0,VLOOKUP(S13,DersYükü!$A$14:$W$39,13,FALSE),\"\")","v":""},{"$f":"IF(T13>0,VLOOKUP(T13,DersYükü!$A$14:$W$39,13,FALSE),\"\")","v":""},{"$f":"IF(U13>0,VLOOKUP(U13,DersYükü!$A$14:$W$39,13,FALSE),\"\")","v":""},{"$f":"IF(V13>0,VLOOKUP(V13,DersYükü!$A$14:$W$39,13,FALSE),\"\")","v":""},{"$f":"IF(W13>0,VLOOKUP(W13,DersYükü!$A$14:$W$39,13,FALSE),\"\")","v":""},{"$f":"IF(X13>0,VLOOKUP(X13,DersYükü!$A$14:$W$39,13,FALSE),\"\")","v":""},{"$f":"IF(Y13>0,VLOOKUP(Y13,DersYükü!$A$14:$W$39,13,FALSE),\"\")","v":""},{"$f":"IF(Z13>0,VLOOKUP(Z13,DersYükü!$A$14:$W$39,13,FALSE),\"\")","v":""},{"$f":"IF(AA13>0,VLOOKUP(AA13,DersYükü!$A$14:$W$39,13,FALSE),\"\")","v":""},{"$f":"IF(AB13>0,VLOOKUP(AB13,DersYükü!$A$14:$W$39,13,FALSE),\"\")","v":""},{"$f":"IF(AC13>0,VLOOKUP(AC13,DersYükü!$A$14:$W$39,13,FALSE),\"\")","v":""},null,null,null,null,null,null,null,null,null,null,null,null,null,{"$f":"IF(AQ13>0,VLOOKUP(AQ13,DersYükü!$A$14:$W$39,13,FALSE),\"\")","v":""},{"$f":"IF(AR13>0,VLOOKUP(AR13,DersYükü!$A$14:$W$39,13,FALSE),\"\")","v":""},{"$f":"IF(AS13>0,VLOOKUP(AS13,DersYükü!$A$14:$W$39,13,FALSE),\"\")","v":""},{"$f":"IF(AT13>0,VLOOKUP(AT13,DersYükü!$A$14:$W$39,13,FALSE),\"\")","v":""},{"$f":"IF(AU13>0,VLOOKUP(AU13,DersYükü!$A$14:$W$39,13,FALSE),\"\")","v":""},{"$f":"IF(AV13>0,VLOOKUP(AV13,DersYükü!$A$14:$W$39,13,FALSE),\"\")","v":""},{"$f":"IF(AW13>0,VLOOKUP(AW13,DersYükü!$A$14:$W$39,13,FALSE),\"\")","v":""},{"$f":"IF(AX13>0,VLOOKUP(AX13,DersYükü!$A$14:$W$39,13,FALSE),\"\")","v":""},{"$f":"IF(AY13>0,VLOOKUP(AY13,DersYükü!$A$14:$W$39,13,FALSE),\"\")","v":""},{"$f":"IF(AZ13>0,VLOOKUP(AZ13,DersYükü!$A$14:$W$39,13,FALSE),\"\")","v":""},{"$f":"IF(BA13>0,VLOOKUP(BA13,DersYükü!$A$14:$W$39,13,FALSE),\"\")","v":""},{"$f":"IF(BB13>0,VLOOKUP(BB13,DersYükü!$A$14:$W$39,13,FALSE),\"\")","v":""},{"$f":"IF(BC13>0,VLOOKUP(BC13,DersYükü!$A$14:$W$39,13,FALSE),\"\")","v":""},{"$f":"IF(BD13>0,VLOOKUP(BD13,DersYükü!$A$14:$W$39,13,FALSE),\"\")","v":""},{"$f":"IF(BE13>0,VLOOKUP(BE13,DersYükü!$A$14:$W$39,13,FALSE),\"\")","v":""},{"$f":"IF(BF13>0,VLOOKUP(BF13,DersYükü!$A$14:$W$39,13,FALSE),\"\")","v":""},{"$f":"IF(BG13>0,VLOOKUP(BG13,DersYükü!$A$14:$W$39,13,FALSE),\"\")","v":""},{"$f":"IF(BH13>0,VLOOKUP(BH13,DersYükü!$A$14:$W$39,13,FALSE),\"\")","v":""}]
[null,null,null,null,null,null,null,null,"16:15-17:00",null,null,{"$f":"IF(L14=\"\",\"\",L14)","v":0},0,0,0,0,0,0,0,0,0,0,0,0,0,0,0,0,0,null,null,null,null,null,null,null,null,null,null,"16:15-17:00",null,null,{"$f":"IF(AQ14=\"\",\"\",AQ14)","v":0},0,0,0,0,0,0,0,0,0,0,0,0,0,0,0,0,0]
[null,null,null,null,null,null,null,null,null,null,null,{"$f":"IF(L14>0,VLOOKUP(L14,DersYükü!$A$14:$W$39,13,FALSE),\"\")","v":""},{"$f":"IF(M14>0,VLOOKUP(M14,DersYükü!$A$14:$W$39,13,FALSE),\"\")","v":""},{"$f":"IF(N14>0,VLOOKUP(N14,DersYükü!$A$14:$W$39,13,FALSE),\"\")","v":""},{"$f":"IF(O14>0,VLOOKUP(O14,DersYükü!$A$14:$W$39,13,FALSE),\"\")","v":""},{"$f":"IF(P14>0,VLOOKUP(P14,DersYükü!$A$14:$W$39,13,FALSE),\"\")","v":""},{"$f":"IF(Q14>0,VLOOKUP(Q14,DersYükü!$A$14:$W$39,13,FALSE),\"\")","v":""},{"$f":"IF(R14>0,VLOOKUP(R14,DersYükü!$A$14:$W$39,13,FALSE),\"\")","v":""},{"$f":"IF(S14>0,VLOOKUP(S14,DersYükü!$A$14:$W$39,13,FALSE),\"\")","v":""},{"$f":"IF(T14>0,VLOOKUP(T14,DersYükü!$A$14:$W$39,13,FALSE),\"\")","v":""},{"$f":"IF(U14>0,VLOOKUP(U14,DersYükü!$A$14:$W$39,13,FALSE),\"\")","v":""},{"$f":"IF(V14>0,VLOOKUP(V14,DersYükü!$A$14:$W$39,13,FALSE),\"\")","v":""},{"$f":"IF(W14>0,VLOOKUP(W14,DersYükü!$A$14:$W$39,13,FALSE),\"\")","v":""},{"$f":"IF(X14>0,VLOOKUP(X14,DersYükü!$A$14:$W$39,13,FALSE),\"\")","v":""},{"$f":"IF(Y14>0,VLOOKUP(Y14,DersYükü!$A$14:$W$39,13,FALSE),\"\")","v":""},{"$f":"IF(Z14>0,VLOOKUP(Z14,DersYükü!$A$14:$W$39,13,FALSE),\"\")","v":""},{"$f":"IF(AA14>0,VLOOKUP(AA14,DersYükü!$A$14:$W$39,13,FALSE),\"\")","v":""},{"$f":"IF(AB14>0,VLOOKUP(AB14,DersYükü!$A$14:$W$39,13,FALSE),\"\")","v":""},{"$f":"IF(AC14>0,VLOOKUP(AC14,DersYükü!$A$14:$W$39,13,FALSE),\"\")","v":""},null,null,null,null,null,null,null,null,null,null,null,null,null,{"$f":"IF(AQ14>0,VLOOKUP(AQ14,DersYükü!$A$14:$W$39,13,FALSE),\"\")","v":""},{"$f":"IF(AR14>0,VLOOKUP(AR14,DersYükü!$A$14:$W$39,13,FALSE),\"\")","v":""},{"$f":"IF(AS14>0,VLOOKUP(AS14,DersYükü!$A$14:$W$39,13,FALSE),\"\")","v":""},{"$f":"IF(AT14>0,VLOOKUP(AT14,DersYükü!$A$14:$W$39,13,FALSE),\"\")","v":""},{"$f":"IF(AU14>0,VLOOKUP(AU14,DersYükü!$A$14:$W$39,13,FALSE),\"\")","v":""},{"$f":"IF(AV14>0,VLOOKUP(AV14,DersYükü!$A$14:$W$39,13,FALSE),\"\")","v":""},{"$f":"IF(AW14>0,VLOOKUP(AW14,DersYükü!$A$14:$W$39,13,FALSE),\"\")","v":""},{"$f":"IF(AX14>0,VLOOKUP(AX14,DersYükü!$A$14:$W$39,13,FALSE),\"\")","v":""},{"$f":"IF(AY14>0,VLOOKUP(AY14,DersYükü!$A$14:$W$39,13,FALSE),\"\")","v":""},{"$f":"IF(AZ14>0,VLOOKUP(AZ14,DersYükü!$A$14:$W$39,13,FALSE),\"\")","v":""},{"$f":"IF(BA14>0,VLOOKUP(BA14,DersYükü!$A$14:$W$39,13,FALSE),\"\")","v":""},{"$f":"IF(BB14>0,VLOOKUP(BB14,DersYükü!$A$14:$W$39,13,FALSE),\"\")","v":""},{"$f":"IF(BC14>0,VLOOKUP(BC14,DersYükü!$A$14:$W$39,13,FALSE),\"\")","v":""},{"$f":"IF(BD14>0,VLOOKUP(BD14,DersYükü!$A$14:$W$39,13,FALSE),\"\")","v":""},{"$f":"IF(BE14>0,VLOOKUP(BE14,DersYükü!$A$14:$W$39,13,FALSE),\"\")","v":""},{"$f":"IF(BF14>0,VLOOKUP(BF14,DersYükü!$A$14:$W$39,13,FALSE),\"\")","v":""},{"$f":"IF(BG14>0,VLOOKUP(BG14,DersYükü!$A$14:$W$39,13,FALSE),\"\")","v":""},{"$f":"IF(BH14>0,VLOOKUP(BH14,DersYükü!$A$14:$W$39,13,FALSE),\"\")","v":""}]
[null,null,null,null,null,null,null,null,"15:15-16:00",null,null,{"$f":"IF(L15=\"\",\"\",L15)","v":0},{"$f":"IF(M15=\"\",\"\",M15)","v":0},0,0,0,0,0,0,0,0,0,0,0,0,0,0,0,0,null,null,null,null,null,null,null,null,null,null,"15:15-16:00",null,null,{"$f":"IF(AQ15=\"\",\"\",AQ15)","v":0},{"$f":"IF(AR15=\"\",\"\",AR15)","v":0},0,0,0,0,0,0,0,0,0,0,0,0,0,0,0,0]
[null,null,null,null,null,null,null,null,null,null,null,{"$f":"IF(L15>0,VLOOKUP(L15,DersYükü!$A$14:$W$39,13,FALSE),\"\")","v":""},{"$f":"IF(M15>0,VLOOKUP(M15,DersYükü!$A$14:$W$39,13,FALSE),\"\")","v":""},{"$f":"IF(N15>0,VLOOKUP(N15,DersYükü!$A$14:$W$39,13,FALSE),\"\")","v":""},{"$f":"IF(O15>0,VLOOKUP(O15,DersYükü!$A$14:$W$39,13,FALSE),\"\")","v":""},{"$f":"IF(P15>0,VLOOKUP(P15,DersYükü!$A$14:$W$39,13,FALSE),\"\")","v":""},{"$f":"IF(Q15>0,VLOOKUP(Q15,DersYükü!$A$14:$W$39,13,FALSE),\"\")","v":""},{"$f":"IF(R15>0,VLOOKUP(R15,DersYükü!$A$14:$W$39,13,FALSE),\"\")","v":""},{"$f":"IF(S15>0,VLOOKUP(S15,DersYükü!$A$14:$W$39,13,FALSE),\"\")","v":""},{"$f":"IF(T15>0,VLOOKUP(T15,DersYükü!$A$14:$W$39,13,FALSE),\"\")","v":""},{"$f":"IF(U15>0,VLOOKUP(U15,DersYükü!$A$14:$W$39,13,FALSE),\"\")","v":""},{"$f":"IF(V15>0,VLOOKUP(V15,DersYükü!$A$14:$W$39,13,FALSE),\"\")","v":""},{"$f":"IF(W15>0,VLOOKUP(W15,DersYükü!$A$14:$W$39,13,FALSE),\"\")","v":""},{"$f":"IF(X15>0,VLOOKUP(X15,DersYükü!$A$14:$W$39,13,FALSE),\"\")","v":""},{"$f":"IF(Y15>0,VLOOKUP(Y15,DersYükü!$A$14:$W$39,13,FALSE),\"\")","v":""},{"$f":"IF(Z15>0,VLOOKUP(Z15,DersYükü!$A$14:$W$39,13,FALSE),\"\")","v":""},{"$f":"IF(AA15>0,VLOOKUP(AA15,DersYükü!$A$14:$W$39,13,FALSE),\"\")","v":""},{"$f":"IF(AB15>0,VLOOKUP(AB15,DersYükü!$A$14:$W$39,13,FALSE),\"\")","v":""},{"$f":"IF(AC15>0,VLOOKUP(AC15,DersYükü!$A$14:$W$39,13,FALSE),\"\")","v":""},null,null,null,null,null,null,null,null,null,null,null,null,null,{"$f":"IF(AQ15>0,VLOOKUP(AQ15,DersYükü!$A$14:$W$39,13,FALSE),\"\")","v":""},{"$f":"IF(AR15>0,VLOOKUP(AR15,DersYükü!$A$14:$W$39,13,FALSE),\"\")","v":""},{"$f":"IF(AS15>0,VLOOKUP(AS15,DersYükü!$A$14:$W$39,13,FALSE),\"\")","v":""},{"$f":"IF(AT15>0,VLOOKUP(AT15,DersYükü!$A$14:$W$39,13,FALSE),\"\")","v":""},{"$f":"IF(AU15>0,VLOOKUP(AU15,DersYükü!$A$14:$W$39,13,FALSE),\"\")","v":""},{"$f":"IF(AV15>0,VLOOKUP(AV15,DersYükü!$A$14:$W$39,13,FALSE),\"\")","v":""},{"$f":"IF(AW15>0,VLOOKUP(AW15,DersYükü!$A$14:$W$39,13,FALSE),\"\")","v":""},{"$f":"IF(AX15>0,VLOOKUP(AX15,DersYükü!$A$14:$W$39,13,FALSE),\"\")","v":""},{"$f":"IF(AY15>0,VLOOKUP(AY15,DersYükü!$A$14:$W$39,13,FALSE),\"\")","v":""},{"$f":"IF(AZ15>0,VLOOKUP(AZ15,DersYükü!$A$14:$W$39,13,FALSE),\"\")","v":""},{"$f":"IF(BA15>0,VLOOKUP(BA15,DersYükü!$A$14:$W$39,13,FALSE),\"\")","v":""},{"$f":"IF(BB15>0,VLOOKUP(BB15,DersYükü!$A$14:$W$39,13,FALSE),\"\")","v":""},{"$f":"IF(BC15>0,VLOOKUP(BC15,DersYükü!$A$14:$W$39,13,FALSE),\"\")","v":""},{"$f":"IF(BD15>0,VLOOKUP(BD15,DersYükü!$A$14:$W$39,13,FALSE),\"\")","v":""},{"$f":"IF(BE15>0,VLOOKUP(BE15,DersYükü!$A$14:$W$39,13,FALSE),\"\")","v":""},{"$f":"IF(BF15>0,VLOOKUP(BF15,DersYükü!$A$14:$W$39,13,FALSE),\"\")","v":""},{"$f":"IF(BG15>0,VLOOKUP(BG15,DersYükü!$A$14:$W$39,13,FALSE),\"\")","v":""},{"$f":"IF(BH15>0,VLOOKUP(BH15,DersYükü!$A$14:$W$39,13,FALSE),\"\")","v":""}]
[null,null,null,null,null,null,null,null,"16:15-17:00",null,null,{"$f":"IF(L16=\"\",\"\",L16)","v":0},{"$f":"IF(M16=\"\",\"\",M16)","v":0},0,0,0,0,0,0,0,0,0,0,0,0,0,0,0,0,null,null,null,null,null,null,null,null,null,null,"16:15-17:00",null,null,{"$f":"IF(AQ16=\"\",\"\",AQ16)","v":0},{"$f":"IF(AR16=\"\",\"\",AR16)","v":0},0,0,0,0,0,0,0,0,0,0,0,0,0,0,0,0]
[null,null,null,null,null,null,null,null,null,null,null,{"$f":"IF(L16>0,VLOOKUP(L16,DersYükü!$A$14:$W$39,13,FALSE),\"\")","v":""},{"$f":"IF(M16>0,VLOOKUP(M16,DersYükü!$A$14:$W$39,13,FALSE),\"\")","v":""},{"$f":"IF(N16>0,VLOOKUP(N16,DersYükü!$A$14:$W$39,13,FALSE),\"\")","v":""},{"$f":"IF(O16>0,VLOOKUP(O16,DersYükü!$A$14:$W$39,13,FALSE),\"\")","v":""},{"$f":"IF(P16>0,VLOOKUP(P16,DersYükü!$A$14:$W$39,13,FALSE),\"\")","v":""},{"$f":"IF(Q16>0,VLOOKUP(Q16,DersYükü!$A$14:$W$39,13,FALSE),\"\")","v":""},{"$f":"IF(R16>0,VLOOKUP(R16,DersYükü!$A$14:$W$39,13,FALSE),\"\")","v":""},{"$f":"IF(S16>0,VLOOKUP(S16,DersYükü!$A$14:$W$39,13,FALSE),\"\")","v":""},{"$f":"IF(T16>0,VLOOKUP(T16,DersYükü!$A$14:$W$39,13,FALSE),\"\")","v":""},{"$f":"IF(U16>0,VLOOKUP(U16,DersYükü!$A$14:$W$39,13,FALSE),\"\")","v":""},{"$f":"IF(V16>0,VLOOKUP(V16,DersYükü!$A$14:$W$39,13,FALSE),\"\")","v":""},{"$f":"IF(W16>0,VLOOKUP(W16,DersYükü!$A$14:$W$39,13,FALSE),\"\")","v":""},{"$f":"IF(X16>0,VLOOKUP(X16,DersYükü!$A$14:$W$39,13,FALSE),\"\")","v":""},{"$f":"IF(Y16>0,VLOOKUP(Y16,DersYükü!$A$14:$W$39,13,FALSE),\"\")","v":""},{"$f":"IF(Z16>0,VLOOKUP(Z16,DersYükü!$A$14:$W$39,13,FALSE),\"\")","v":""},{"$f":"IF(AA16>0,VLOOKUP(AA16,DersYükü!$A$14:$W$39,13,FALSE),\"\")","v":""},{"$f":"IF(AB16>0,VLOOKUP(AB16,DersYükü!$A$14:$W$39,13,FALSE),\"\")","v":""},{"$f":"IF(AC16>0,VLOOKUP(AC16,DersYükü!$A$14:$W$39,13,FALSE),\"\")","v":""},null,null,null,null,null,null,null,null,null,null,null,null,null,{"$f":"IF(AQ16>0,VLOOKUP(AQ16,DersYükü!$A$14:$W$39,13,FALSE),\"\")","v":""},{"$f":"IF(AR16>0,VLOOKUP(AR16,DersYükü!$A$14:$W$39,13,FALSE),\"\")","v":""},{"$f":"IF(AS16>0,VLOOKUP(AS16,DersYükü!$A$14:$W$39,13,FALSE),\"\")","v":""},{"$f":"IF(AT16>0,VLOOKUP(AT16,DersYükü!$A$14:$W$39,13,FALSE),\"\")","v":""},{"$f":"IF(AU16>0,VLOOKUP(AU16,DersYükü!$A$14:$W$39,13,FALSE),\"\")","v":""},{"$f":"IF(AV16>0,VLOOKUP(AV16,DersYükü!$A$14:$W$39,13,FALSE),\"\")","v":""},{"$f":"IF(AW16>0,VLOOKUP(AW16,DersYükü!$A$14:$W$39,13,FALSE),\"\")","v":""},{"$f":"IF(AX16>0,VLOOKUP(AX16,DersYükü!$A$14:$W$39,13,FALSE),\"\")","v":""},{"$f":"IF(AY16>0,VLOOKUP(AY16,DersYükü!$A$14:$W$39,13,FALSE),\"\")","v":""},{"$f":"IF(AZ16>0,VLOOKUP(AZ16,DersYükü!$A$14:$W$39,13,FALSE),\"\")","v":""},{"$f":"IF(BA16>0,VLOOKUP(BA16,DersYükü!$A$14:$W$39,13,FALSE),\"\")","v":""},{"$f":"IF(BB16>0,VLOOKUP(BB16,DersYükü!$A$14:$W$39,13,FALSE),\"\")","v":""},{"$f":"IF(BC16>0,VLOOKUP(BC16,DersYükü!$A$14:$W$39,13,FALSE),\"\")","v":""},{"$f":"IF(BD16>0,VLOOKUP(BD16,DersYükü!$A$14:$W$39,13,FALSE),\"\")","v":""},{"$f":"IF(BE16>0,VLOOKUP(BE16,DersYükü!$A$14:$W$39,13,FALSE),\"\")","v":""},{"$f":"IF(BF16>0,VLOOKUP(BF16,DersYükü!$A$14:$W$39,13,FALSE),\"\")","v":""},{"$f":"IF(BG16>0,VLOOKUP(BG16,DersYükü!$A$14:$W$39,13,FALSE),\"\")","v":""},{"$f":"IF(BH16>0,VLOOKUP(BH16,DersYükü!$A$14:$W$39,13,FALSE),\"\")","v":""}]
[null,null,null,null,null,null,null,null,"17:15-18:00",null,null,{"$f":"IF(L17=\"\",\"\",L17)","v":0},0,0,0,0,0,0,0,0,0,0,0,0,0,0,0,0,0,null,null,null,null,null,null,null,null,null,null,"17:15-18:00",null,null,{"$f":"IF(AQ17=\"\",\"\",AQ17)","v":0},0,0,0,0,0,0,0,0,0,0,0,0,0,0,0,0,0]
[null,null,null,null,null,null,null,null,null,null,null,{"$f":"IF(L17>0,VLOOKUP(L17,DersYükü!$A$14:$W$39,13,FALSE),\"\")","v":""},{"$f":"IF(M17>0,VLOOKUP(M17,DersYükü!$A$14:$W$39,13,FALSE),\"\")","v":""},{"$f":"IF(N17>0,VLOOKUP(N17,DersYükü!$A$14:$W$39,13,FALSE),\"\")","v":""},{"$f":"IF(O17>0,VLOOKUP(O17,DersYükü!$A$14:$W$39,13,FALSE),\"\")","v":""},{"$f":"IF(P17>0,VLOOKUP(P17,DersYükü!$A$14:$W$39,13,FALSE),\"\")","v":""},{"$f":"IF(Q17>0,VLOOKUP(Q17,DersYükü!$A$14:$W$39,13,FALSE),\"\")","v":""},{"$f":"IF(R17>0,VLOOKUP(R17,DersYükü!$A$14:$W$39,13,FALSE),\"\")","v":""},{"$f":"IF(S17>0,VLOOKUP(S17,DersYükü!$A$14:$W$39,13,FALSE),\"\")","v":""},{"$f":"IF(T17>0,VLOOKUP(T17,DersYükü!$A$14:$W$39,13,FALSE),\"\")","v":""},{"$f":"IF(U17>0,VLOOKUP(U17,DersYükü!$A$14:$W$39,13,FALSE),\"\")","v":""},{"$f":"IF(V17>0,VLOOKUP(V17,DersYükü!$A$14:$W$39,13,FALSE),\"\")","v":""},{"$f":"IF(W17>0,VLOOKUP(W17,DersYükü!$A$14:$W$39,13,FALSE),\"\")","v":""},{"$f":"IF(X17>0,VLOOKUP(X17,DersYükü!$A$14:$W$39,13,FALSE),\"\")","v":""},{"$f":"IF(Y17>0,VLOOKUP(Y17,DersYükü!$A$14:$W$39,13,FALSE),\"\")","v":""},{"$f":"IF(Z17>0,VLOOKUP(Z17,DersYükü!$A$14:$W$39,13,FALSE),\"\")","v":""},{"$f":"IF(AA17>0,VLOOKUP(AA17,DersYükü!$A$14:$W$39,13,FALSE),\"\")","v":""},{"$f":"IF(AB17>0,VLOOKUP(AB17,DersYükü!$A$14:$W$39,13,FALSE),\"\")","v":""},{"$f":"IF(AC17>0,VLOOKUP(AC17,DersYükü!$A$14:$W$39,13,FALSE),\"\")","v":""},null,null,null,null,null,null,null,null,null,null,null,null,null,{"$f":"IF(AQ17>0,VLOOKUP(AQ17,DersYükü!$A$14:$W$39,13,FALSE),\"\")","v":""},{"$f":"IF(AR17>0,VLOOKUP(AR17,DersYükü!$A$14:$W$39,13,FALSE),\"\")","v":""},{"$f":"IF(AS17>0,VLOOKUP(AS17,DersYükü!$A$14:$W$39,13,FALSE),\"\")","v":""},{"$f":"IF(AT17>0,VLOOKUP(AT17,DersYükü!$A$14:$W$39,13,FALSE),\"\")","v":""},{"$f":"IF(AU17>0,VLOOKUP(AU17,DersYükü!$A$14:$W$39,13,FALSE),\"\")","v":""},{"$f":"IF(AV17>0,VLOOKUP(AV17,DersYükü!$A$14:$W$39,13,FALSE),\"\")","v":""},{"$f":"IF(AW17>0,VLOOKUP(AW17,DersYükü!$A$14:$W$39,13,FALSE),\"\")","v":""},{"$f":"IF(AX17>0,VLOOKUP(AX17,DersYükü!$A$14:$W$39,13,FALSE),\"\")","v":""},{"$f":"IF(AY17>0,VLOOKUP(AY17,DersYükü!$A$14:$W$39,13,FALSE),\"\")","v":""},{"$f":"IF(AZ17>0,VLOOKUP(AZ17,DersYükü!$A$14:$W$39,13,FALSE),\"\")","v":""},{"$f":"IF(BA17>0,VLOOKUP(BA17,DersYükü!$A$14:$W$39,13,FALSE),\"\")","v":""},{"$f":"IF(BB17>0,VLOOKUP(BB17,DersYükü!$A$14:$W$39,13,FALSE),\"\")","v":""},{"$f":"IF(BC17>0,VLOOKUP(BC17,DersYükü!$A$14:$W$39,13,FALSE),\"\")","v":""},{"$f":"IF(BD17>0,VLOOKUP(BD17,DersYükü!$A$14:$W$39,13,FALSE),\"\")","v":""},{"$f":"IF(BE17>0,VLOOKUP(BE17,DersYükü!$A$14:$W$39,13,FALSE),\"\")","v":""},{"$f":"IF(BF17>0,VLOOKUP(BF17,DersYükü!$A$14:$W$39,13,FALSE),\"\")","v":""},{"$f":"IF(BG17>0,VLOOKUP(BG17,DersYükü!$A$14:$W$39,13,FALSE),\"\")","v":""},{"$f":"IF(BH17>0,VLOOKUP(BH17,DersYükü!$A$14:$W$39,13,FALSE),\"\")","v":""}]
[null,null,null,null,null,null,null,null,"18:15-19:00",null,null,{"$f":"IF(L18=\"\",\"\",L18)","v":0},0,0,0,0,0,0,0,0,0,0,0,0,0,0,0,0,0,null,null,null,null,null,null,null,null,null,null,"18:15-19:00",null,null,{"$f":"IF(AQ18=\"\",\"\",AQ18)","v":0},0,0,0,0,0,0,0,0,0,0,0,0,0,0,0,0,0]
[null,null,null,null,null,null,null,null,null,null,null,{"$f":"IF(L18>0,VLOOKUP(L18,DersYükü!$A$14:$W$39,13,FALSE),\"\")","v":""},{"$f":"IF(M18>0,VLOOKUP(M18,DersYükü!$A$14:$W$39,13,FALSE),\"\")","v":""},{"$f":"IF(N18>0,VLOOKUP(N18,DersYükü!$A$14:$W$39,13,FALSE),\"\")","v":""},{"$f":"IF(O18>0,VLOOKUP(O18,DersYükü!$A$14:$W$39,13,FALSE),\"\")","v":""},{"$f":"IF(P18>0,VLOOKUP(P18,DersYükü!$A$14:$W$39,13,FALSE),\"\")","v":""},{"$f":"IF(Q18>0,VLOOKUP(Q18,DersYükü!$A$14:$W$39,13,FALSE),\"\")","v":""},{"$f":"IF(R18>0,VLOOKUP(R18,DersYükü!$A$14:$W$39,13,FALSE),\"\")","v":""},{"$f":"IF(S18>0,VLOOKUP(S18,DersYükü!$A$14:$W$39,13,FALSE),\"\")","v":""},{"$f":"IF(T18>0,VLOOKUP(T18,DersYükü!$A$14:$W$39,13,FALSE),\"\")","v":""},{"$f":"IF(U18>0,VLOOKUP(U18,DersYükü!$A$14:$W$39,13,FALSE),\"\")","v":""},{"$f":"IF(V18>0,VLOOKUP(V18,DersYükü!$A$14:$W$39,13,FALSE),\"\")","v":""},{"$f":"IF(W18>0,VLOOKUP(W18,DersYükü!$A$14:$W$39,13,FALSE),\"\")","v":""},{"$f":"IF(X18>0,VLOOKUP(X18,DersYükü!$A$14:$W$39,13,FALSE),\"\")","v":""},{"$f":"IF(Y18>0,VLOOKUP(Y18,DersYükü!$A$14:$W$39,13,FALSE),\"\")","v":""},{"$f":"IF(Z18>0,VLOOKUP(Z18,DersYükü!$A$14:$W$39,13,FALSE),\"\")","v":""},{"$f":"IF(AA18>0,VLOOKUP(AA18,DersYükü!$A$14:$W$39,13,FALSE),\"\")","v":""},{"$f":"IF(AB18>0,VLOOKUP(AB18,DersYükü!$A$14:$W$39,13,FALSE),\"\")","v":""},{"$f":"IF(AC18>0,VLOOKUP(AC18,DersYükü!$A$14:$W$39,13,FALSE),\"\")","v":""},null,null,null,null,null,null,null,null,null,null,null,null,null,{"$f":"IF(AQ18>0,VLOOKUP(AQ18,DersYükü!$A$14:$W$39,13,FALSE),\"\")","v":""},{"$f":"IF(AR18>0,VLOOKUP(AR18,DersYükü!$A$14:$W$39,13,FALSE),\"\")","v":""},{"$f":"IF(AS18>0,VLOOKUP(AS18,DersYükü!$A$14:$W$39,13,FALSE),\"\")","v":""},{"$f":"IF(AT18>0,VLOOKUP(AT18,DersYükü!$A$14:$W$39,13,FALSE),\"\")","v":""},{"$f":"IF(AU18>0,VLOOKUP(AU18,DersYükü!$A$14:$W$39,13,FALSE),\"\")","v":""},{"$f":"IF(AV18>0,VLOOKUP(AV18,DersYükü!$A$14:$W$39,13,FALSE),\"\")","v":""},{"$f":"IF(AW18>0,VLOOKUP(AW18,DersYükü!$A$14:$W$39,13,FALSE),\"\")","v":""},{"$f":"IF(AX18>0,VLOOKUP(AX18,DersYükü!$A$14:$W$39,13,FALSE),\"\")","v":""},{"$f":"IF(AY18>0,VLOOKUP(AY18,DersYükü!$A$14:$W$39,13,FALSE),\"\")","v":""},{"$f":"IF(AZ18>0,VLOOKUP(AZ18,DersYükü!$A$14:$W$39,13,FALSE),\"\")","v":""},{"$f":"IF(BA18>0,VLOOKUP(BA18,DersYükü!$A$14:$W$39,13,FALSE),\"\")","v":""},{"$f":"IF(BB18>0,VLOOKUP(BB18,DersYükü!$A$14:$W$39,13,FALSE),\"\")","v":""},{"$f":"IF(BC18>0,VLOOKUP(BC18,DersYükü!$A$14:$W$39,13,FALSE),\"\")","v":""},{"$f":"IF(BD18>0,VLOOKUP(BD18,DersYükü!$A$14:$W$39,13,FALSE),\"\")","v":""},{"$f":"IF(BE18>0,VLOOKUP(BE18,DersYükü!$A$14:$W$39,13,FALSE),\"\")","v":""},{"$f":"IF(BF18>0,VLOOKUP(BF18,DersYükü!$A$14:$W$39,13,FALSE),\"\")","v":""},{"$f":"IF(BG18>0,VLOOKUP(BG18,DersYükü!$A$14:$W$39,13,FALSE),\"\")","v":""},{"$f":"IF(BH18>0,VLOOKUP(BH18,DersYükü!$A$14:$W$39,13,FALSE),\"\")","v":""}]
[null,null,null,null,null,null,null,null,"19:15-20:00",null,null,{"$f":"IF(L19=\"\",\"\",L19)","v":0},0,0,0,0,0,0,0,0,0,0,0,0,0,0,0,0,0,null,null,null,null,null,null,null,null,null,null,"19:15-20:00",null,null,{"$f":"IF(AQ19=\"\",\"\",AQ19)","v":0},0,0,0,0,0,0,0,0,0,0,0,0,0,0,0,0,0]
[null,null,null,null,null,null,null,null,null,null,null,{"$f":"IF(L19>0,VLOOKUP(L19,DersYükü!$A$14:$W$39,13,FALSE),\"\")","v":""},{"$f":"IF(M19>0,VLOOKUP(M19,DersYükü!$A$14:$W$39,13,FALSE),\"\")","v":""},{"$f":"IF(N19>0,VLOOKUP(N19,DersYükü!$A$14:$W$39,13,FALSE),\"\")","v":""},{"$f":"IF(O19>0,VLOOKUP(O19,DersYükü!$A$14:$W$39,13,FALSE),\"\")","v":""},{"$f":"IF(P19>0,VLOOKUP(P19,DersYükü!$A$14:$W$39,13,FALSE),\"\")","v":""},{"$f":"IF(Q19>0,VLOOKUP(Q19,DersYükü!$A$14:$W$39,13,FALSE),\"\")","v":""},{"$f":"IF(R19>0,VLOOKUP(R19,DersYükü!$A$14:$W$39,13,FALSE),\"\")","v":""},{"$f":"IF(S19>0,VLOOKUP(S19,DersYükü!$A$14:$W$39,13,FALSE),\"\")","v":""},{"$f":"IF(T19>0,VLOOKUP(T19,DersYükü!$A$14:$W$39,13,FALSE),\"\")","v":""},{"$f":"IF(U19>0,VLOOKUP(U19,DersYükü!$A$14:$W$39,13,FALSE),\"\")","v":""},{"$f":"IF(V19>0,VLOOKUP(V19,DersYükü!$A$14:$W$39,13,FALSE),\"\")","v":""},{"$f":"IF(W19>0,VLOOKUP(W19,DersYükü!$A$14:$W$39,13,FALSE),\"\")","v":""},{"$f":"IF(X19>0,VLOOKUP(X19,DersYükü!$A$14:$W$39,13,FALSE),\"\")","v":""},{"$f":"IF(Y19>0,VLOOKUP(Y19,DersYükü!$A$14:$W$39,13,FALSE),\"\")","v":""},{"$f":"IF(Z19>0,VLOOKUP(Z19,DersYükü!$A$14:$W$39,13,FALSE),\"\")","v":""},{"$f":"IF(AA19>0,VLOOKUP(AA19,DersYükü!$A$14:$W$39,13,FALSE),\"\")","v":""},{"$f":"IF(AB19>0,VLOOKUP(AB19,DersYükü!$A$14:$W$39,13,FALSE),\"\")","v":""},{"$f":"IF(AC19>0,VLOOKUP(AC19,DersYükü!$A$14:$W$39,13,FALSE),\"\")","v":""},null,null,null,null,null,null,null,null,null,null,null,null,null,{"$f":"IF(AQ19>0,VLOOKUP(AQ19,DersYükü!$A$14:$W$39,13,FALSE),\"\")","v":""},{"$f":"IF(AR19>0,VLOOKUP(AR19,DersYükü!$A$14:$W$39,13,FALSE),\"\")","v":""},{"$f":"IF(AS19>0,VLOOKUP(AS19,DersYükü!$A$14:$W$39,13,FALSE),\"\")","v":""},{"$f":"IF(AT19>0,VLOOKUP(AT19,DersYükü!$A$14:$W$39,13,FALSE),\"\")","v":""},{"$f":"IF(AU19>0,VLOOKUP(AU19,DersYükü!$A$14:$W$39,13,FALSE),\"\")","v":""},{"$f":"IF(AV19>0,VLOOKUP(AV19,DersYükü!$A$14:$W$39,13,FALSE),\"\")","v":""},{"$f":"IF(AW19>0,VLOOKUP(AW19,DersYükü!$A$14:$W$39,13,FALSE),\"\")","v":""},{"$f":"IF(AX19>0,VLOOKUP(AX19,DersYükü!$A$14:$W$39,13,FALSE),\"\")","v":""},{"$f":"IF(AY19>0,VLOOKUP(AY19,DersYükü!$A$14:$W$39,13,FALSE),\"\")","v":""},{"$f":"IF(AZ19>0,VLOOKUP(AZ19,DersYükü!$A$14:$W$39,13,FALSE),\"\")","v":""},{"$f":"IF(BA19>0,VLOOKUP(BA19,DersYükü!$A$14:$W$39,13,FALSE),\"\")","v":""},{"$f":"IF(BB19>0,VLOOKUP(BB19,DersYükü!$A$14:$W$39,13,FALSE),\"\")","v":""},{"$f":"IF(BC19>0,VLOOKUP(BC19,DersYükü!$A$14:$W$39,13,FALSE),\"\")","v":""},{"$f":"IF(BD19>0,VLOOKUP(BD19,DersYükü!$A$14:$W$39,13,FALSE),\"\")","v":""},{"$f":"IF(BE19>0,VLOOKUP(BE19,DersYükü!$A$14:$W$39,13,FALSE),\"\")","v":""},{"$f":"IF(BF19>0,VLOOKUP(BF19,DersYükü!$A$14:$W$39,13,FALSE),\"\")","v":""},{"$f":"IF(BG19>0,VLOOKUP(BG19,DersYükü!$A$14:$W$39,13,FALSE),\"\")","v":""},{"$f":"IF(BH19>0,VLOOKUP(BH19,DersYükü!$A$14:$W$39,13,FALSE),\"\")","v":""}]
[null,null,null,null,null,null,null,null,"20:15-21:00",null,null,{"$f":"IF(L20=\"\",\"\",L20)","v":0},0,0,0,0,0,0,0,0,0,0,0,0,0,0,0,0,0,null,null,null,null,null,null,null,null,null,null,"20:15-21:00",null,null,{"$f":"IF(AQ20=\"\",\"\",AQ20)","v":0},0,0,0,0,0,0,0,0,0,0,0,0,0,0,0,0,0]
[null,null,null,null,null,null,null,null,null,null,null,{"$f":"IF(L20>0,VLOOKUP(L20,DersYükü!$A$14:$W$39,13,FALSE),\"\")","v":""},{"$f":"IF(M20>0,VLOOKUP(M20,DersYükü!$A$14:$W$39,13,FALSE),\"\")","v":""},{"$f":"IF(N20>0,VLOOKUP(N20,DersYükü!$A$14:$W$39,13,FALSE),\"\")","v":""},{"$f":"IF(O20>0,VLOOKUP(O20,DersYükü!$A$14:$W$39,13,FALSE),\"\")","v":""},{"$f":"IF(P20>0,VLOOKUP(P20,DersYükü!$A$14:$W$39,13,FALSE),\"\")","v":""},{"$f":"IF(Q20>0,VLOOKUP(Q20,DersYükü!$A$14:$W$39,13,FALSE),\"\")","v":""},{"$f":"IF(R20>0,VLOOKUP(R20,DersYükü!$A$14:$W$39,13,FALSE),\"\")","v":""},{"$f":"IF(S20>0,VLOOKUP(S20,DersYükü!$A$14:$W$39,13,FALSE),\"\")","v":""},{"$f":"IF(T20>0,VLOOKUP(T20,DersYükü!$A$14:$W$39,13,FALSE),\"\")","v":""},{"$f":"IF(U20>0,VLOOKUP(U20,DersYükü!$A$14:$W$39,13,FALSE),\"\")","v":""},{"$f":"IF(V20>0,VLOOKUP(V20,DersYükü!$A$14:$W$39,13,FALSE),\"\")","v":""},{"$f":"IF(W20>0,VLOOKUP(W20,DersYükü!$A$14:$W$39,13,FALSE),\"\")","v":""},{"$f":"IF(X20>0,VLOOKUP(X20,DersYükü!$A$14:$W$39,13,FALSE),\"\")","v":""},{"$f":"IF(Y20>0,VLOOKUP(Y20,DersYükü!$A$14:$W$39,13,FALSE),\"\")","v":""},{"$f":"IF(Z20>0,VLOOKUP(Z20,DersYükü!$A$14:$W$39,13,FALSE),\"\")","v":""},{"$f":"IF(AA20>0,VLOOKUP(AA20,DersYükü!$A$14:$W$39,13,FALSE),\"\")","v":""},{"$f":"IF(AB20>0,VLOOKUP(AB20,DersYükü!$A$14:$W$39,13,FALSE),\"\")","v":""},{"$f":"IF(AC20>0,VLOOKUP(AC20,DersYükü!$A$14:$W$39,13,FALSE),\"\")","v":""},null,null,null,null,null,null,null,null,null,null,null,null,null,{"$f":"IF(AQ20>0,VLOOKUP(AQ20,DersYükü!$A$14:$W$39,13,FALSE),\"\")","v":""},{"$f":"IF(AR20>0,VLOOKUP(AR20,DersYükü!$A$14:$W$39,13,FALSE),\"\")","v":""},{"$f":"IF(AS20>0,VLOOKUP(AS20,DersYükü!$A$14:$W$39,13,FALSE),\"\")","v":""},{"$f":"IF(AT20>0,VLOOKUP(AT20,DersYükü!$A$14:$W$39,13,FALSE),\"\")","v":""},{"$f":"IF(AU20>0,VLOOKUP(AU20,DersYükü!$A$14:$W$39,13,FALSE),\"\")","v":""},{"$f":"IF(AV20>0,VLOOKUP(AV20,DersYükü!$A$14:$W$39,13,FALSE),\"\")","v":""},{"$f":"IF(AW20>0,VLOOKUP(AW20,DersYükü!$A$14:$W$39,13,FALSE),\"\")","v":""},{"$f":"IF(AX20>0,VLOOKUP(AX20,DersYükü!$A$14:$W$39,13,FALSE),\"\")","v":""},{"$f":"IF(AY20>0,VLOOKUP(AY20,DersYükü!$A$14:$W$39,13,FALSE),\"\")","v":""},{"$f":"IF(AZ20>0,VLOOKUP(AZ20,DersYükü!$A$14:$W$39,13,FALSE),\"\")","v":""},{"$f":"IF(BA20>0,VLOOKUP(BA20,DersYükü!$A$14:$W$39,13,FALSE),\"\")","v":""},{"$f":"IF(BB20>0,VLOOKUP(BB20,DersYükü!$A$14:$W$39,13,FALSE),\"\")","v":""},{"$f":"IF(BC20>0,VLOOKUP(BC20,DersYükü!$A$14:$W$39,13,FALSE),\"\")","v":""},{"$f":"IF(BD20>0,VLOOKUP(BD20,DersYükü!$A$14:$W$39,13,FALSE),\"\")","v":""},{"$f":"IF(BE20>0,VLOOKUP(BE20,DersYükü!$A$14:$W$39,13,FALSE),\"\")","v":""},{"$f":"IF(BF20>0,VLOOKUP(BF20,DersYükü!$A$14:$W$39,13,FALSE),\"\")","v":""},{"$f":"IF(BG20>0,VLOOKUP(BG20,DersYükü!$A$14:$W$39,13,FALSE),\"\")","v":""},{"$f":"IF(BH20>0,VLOOKUP(BH20,DersYükü!$A$14:$W$39,13,FALSE),\"\")","v":""}]
[null,null,null,null,null,null,null,null,"21:15-22:00",null,null,{"$f":"IF(L21=\"\",\"\",L21)","v":0},0,0,0,0,0,0,0,0,0,0,0,0,0,0,0,0,0,null,null,null,null,null,null,null,null,null,null,"21:15-22:00",null,null,{"$f":"IF(AQ21=\"\",\"\",AQ21)","v":0},0,0,0,0,0,0,0,0,0,0,0,0,0,0,0,0,0]
[null,null,null,null,null,null,null,null,null,null,null,{"$f":"IF(L21>0,VLOOKUP(L21,DersYükü!$A$14:$W$39,13,FALSE),\"\")","v":""},{"$f":"IF(M21>0,VLOOKUP(M21,DersYükü!$A$14:$W$39,13,FALSE),\"\")","v":""},{"$f":"IF(N21>0,VLOOKUP(N21,DersYükü!$A$14:$W$39,13,FALSE),\"\")","v":""},{"$f":"IF(O21>0,VLOOKUP(O21,DersYükü!$A$14:$W$39,13,FALSE),\"\")","v":""},{"$f":"IF(P21>0,VLOOKUP(P21,DersYükü!$A$14:$W$39,13,FALSE),\"\")","v":""},{"$f":"IF(Q21>0,VLOOKUP(Q21,DersYükü!$A$14:$W$39,13,FALSE),\"\")","v":""},{"$f":"IF(R21>0,VLOOKUP(R21,DersYükü!$A$14:$W$39,13,FALSE),\"\")","v":""},{"$f":"IF(S21>0,VLOOKUP(S21,DersYükü!$A$14:$W$39,13,FALSE),\"\")","v":""},{"$f":"IF(T21>0,VLOOKUP(T21,DersYükü!$A$14:$W$39,13,FALSE),\"\")","v":""},{"$f":"IF(U21>0,VLOOKUP(U21,DersYükü!$A$14:$W$39,13,FALSE),\"\")","v":""},{"$f":"IF(V21>0,VLOOKUP(V21,DersYükü!$A$14:$W$39,13,FALSE),\"\")","v":""},{"$f":"IF(W21>0,VLOOKUP(W21,DersYükü!$A$14:$W$39,13,FALSE),\"\")","v":""},{"$f":"IF(X21>0,VLOOKUP(X21,DersYükü!$A$14:$W$39,13,FALSE),\"\")","v":""},{"$f":"IF(Y21>0,VLOOKUP(Y21,DersYükü!$A$14:$W$39,13,FALSE),\"\")","v":""},{"$f":"IF(Z21>0,VLOOKUP(Z21,DersYükü!$A$14:$W$39,13,FALSE),\"\")","v":""},{"$f":"IF(AA21>0,VLOOKUP(AA21,DersYükü!$A$14:$W$39,13,FALSE),\"\")","v":""},{"$f":"IF(AB21>0,VLOOKUP(AB21,DersYükü!$A$14:$W$39,13,FALSE),\"\")","v":""},{"$f":"IF(AC21>0,VLOOKUP(AC21,DersYükü!$A$14:$W$39,13,FALSE),\"\")","v":""},null,null,null,null,null,null,null,null,null,null,null,null,null,{"$f":"IF(AQ21>0,VLOOKUP(AQ21,DersYükü!$A$14:$W$39,13,FALSE),\"\")","v":""},{"$f":"IF(AR21>0,VLOOKUP(AR21,DersYükü!$A$14:$W$39,13,FALSE),\"\")","v":""},{"$f":"IF(AS21>0,VLOOKUP(AS21,DersYükü!$A$14:$W$39,13,FALSE),\"\")","v":""},{"$f":"IF(AT21>0,VLOOKUP(AT21,DersYükü!$A$14:$W$39,13,FALSE),\"\")","v":""},{"$f":"IF(AU21>0,VLOOKUP(AU21,DersYükü!$A$14:$W$39,13,FALSE),\"\")","v":""},{"$f":"IF(AV21>0,VLOOKUP(AV21,DersYükü!$A$14:$W$39,13,FALSE),\"\")","v":""},{"$f":"IF(AW21>0,VLOOKUP(AW21,DersYükü!$A$14:$W$39,13,FALSE),\"\")","v":""},{"$f":"IF(AX21>0,VLOOKUP(AX21,DersYükü!$A$14:$W$39,13,FALSE),\"\")","v":""},{"$f":"IF(AY21>0,VLOOKUP(AY21,DersYükü!$A$14:$W$39,13,FALSE),\"\")","v":""},{"$f":"IF(AZ21>0,VLOOKUP(AZ21,DersYükü!$A$14:$W$39,13,FALSE),\"\")","v":""},{"$f":"IF(BA21>0,VLOOKUP(BA21,DersYükü!$A$14:$W$39,13,FALSE),\"\")","v":""},{"$f":"IF(BB21>0,VLOOKUP(BB21,DersYükü!$A$14:$W$39,13,FALSE),\"\")","v":""},{"$f":"IF(BC21>0,VLOOKUP(BC21,DersYükü!$A$14:$W$39,13,FALSE),\"\")","v":""},{"$f":"IF(BD21>0,VLOOKUP(BD21,DersYükü!$A$14:$W$39,13,FALSE),\"\")","v":""},{"$f":"IF(BE21>0,VLOOKUP(BE21,DersYükü!$A$14:$W$39,13,FALSE),\"\")","v":""},{"$f":"IF(BF21>0,VLOOKUP(BF21,DersYükü!$A$14:$W$39,13,FALSE),\"\")","v":""},{"$f":"IF(BG21>0,VLOOKUP(BG21,DersYükü!$A$14:$W$39,13,FALSE),\"\")","v":""},{"$f":"IF(BH21>0,VLOOKUP(BH21,DersYükü!$A$14:$W$39,13,FALSE),\"\")","v":""}]
[null,null,null,null,null,null,null,null,"22:15-23:00",null,null,{"$f":"IF(L22=\"\",\"\",L22)","v":0},0,0,0,0,0,0,0,0,0,0,0,0,0,0,0,0,0,null,null,null,null,null,null,null,null,null,null,"22:15-23:00",null,null,{"$f":"IF(AQ22=\"\",\"\",AQ22)","v":0},0,0,0,0,0,0,0,0,0,0,0,0,0,0,0,0,0]
[null,null,null,null,null,null,null,null,null,null,null,{"$f":"IF(L22>0,VLOOKUP(L22,DersYükü!$A$14:$W$39,13,FALSE),\"\")","v":""},{"$f":"IF(M22>0,VLOOKUP(M22,DersYükü!$A$14:$W$39,13,FALSE),\"\")","v":""},{"$f":"IF(N22>0,VLOOKUP(N22,DersYükü!$A$14:$W$39,13,FALSE),\"\")","v":""},{"$f":"IF(O22>0,VLOOKUP(O22,DersYükü!$A$14:$W$39,13,FALSE),\"\")","v":""},{"$f":"IF(P22>0,VLOOKUP(P22,DersYükü!$A$14:$W$39,13,FALSE),\"\")","v":""},{"$f":"IF(Q22>0,VLOOKUP(Q22,DersYükü!$A$14:$W$39,13,FALSE),\"\")","v":""},{"$f":"IF(R22>0,VLOOKUP(R22,DersYükü!$A$14:$W$39,13,FALSE),\"\")","v":""},{"$f":"IF(S22>0,VLOOKUP(S22,DersYükü!$A$14:$W$39,13,FALSE),\"\")","v":""},{"$f":"IF(T22>0,VLOOKUP(T22,DersYükü!$A$14:$W$39,13,FALSE),\"\")","v":""},{"$f":"IF(U22>0,VLOOKUP(U22,DersYükü!$A$14:$W$39,13,FALSE),\"\")","v":""},{"$f":"IF(V22>0,VLOOKUP(V22,DersYükü!$A$14:$W$39,13,FALSE),\"\")","v":""},{"$f":"IF(W22>0,VLOOKUP(W22,DersYükü!$A$14:$W$39,13,FALSE),\"\")","v":""},{"$f":"IF(X22>0,VLOOKUP(X22,DersYükü!$A$14:$W$39,13,FALSE),\"\")","v":""},{"$f":"IF(Y22>0,VLOOKUP(Y22,DersYükü!$A$14:$W$39,13,FALSE),\"\")","v":""},{"$f":"IF(Z22>0,VLOOKUP(Z22,DersYükü!$A$14:$W$39,13,FALSE),\"\")","v":""},{"$f":"IF(AA22>0,VLOOKUP(AA22,DersYükü!$A$14:$W$39,13,FALSE),\"\")","v":""},{"$f":"IF(AB22>0,VLOOKUP(AB22,DersYükü!$A$14:$W$39,13,FALSE),\"\")","v":""},{"$f":"IF(AC22>0,VLOOKUP(AC22,DersYükü!$A$14:$W$39,13,FALSE),\"\")","v":""},null,null,null,null,null,null,null,null,null,null,null,null,null,{"$f":"IF(AQ22>0,VLOOKUP(AQ22,DersYükü!$A$14:$W$39,13,FALSE),\"\")","v":""},{"$f":"IF(AR22>0,VLOOKUP(AR22,DersYükü!$A$14:$W$39,13,FALSE),\"\")","v":""},{"$f":"IF(AS22>0,VLOOKUP(AS22,DersYükü!$A$14:$W$39,13,FALSE),\"\")","v":""},{"$f":"IF(AT22>0,VLOOKUP(AT22,DersYükü!$A$14:$W$39,13,FALSE),\"\")","v":""},{"$f":"IF(AU22>0,VLOOKUP(AU22,DersYükü!$A$14:$W$39,13,FALSE),\"\")","v":""},{"$f":"IF(AV22>0,VLOOKUP(AV22,DersYükü!$A$14:$W$39,13,FALSE),\"\")","v":""},{"$f":"IF(AW22>0,VLOOKUP(AW22,DersYükü!$A$14:$W$39,13,FALSE),\"\")","v":""},{"$f":"IF(AX22>0,VLOOKUP(AX22,DersYükü!$A$14:$W$39,13,FALSE),\"\")","v":""},{"$f":"IF(AY22>0,VLOOKUP(AY22,DersYükü!$A$14:$W$39,13,FALSE),\"\")","v":""},{"$f":"IF(AZ22>0,VLOOKUP(AZ22,DersYükü!$A$14:$W$39,13,FALSE),\"\")","v":""},{"$f":"IF(BA22>0,VLOOKUP(BA22,DersYükü!$A$14:$W$39,13,FALSE),\"\")","v":""},{"$f":"IF(BB22>0,VLOOKUP(BB22,DersYükü!$A$14:$W$39,13,FALSE),\"\")","v":""},{"$f":"IF(BC22>0,VLOOKUP(BC22,DersYükü!$A$14:$W$39,13,FALSE),\"\")","v":""},{"$f":"IF(BD22>0,VLOOKUP(BD22,DersYükü!$A$14:$W$39,13,FALSE),\"\")","v":""},{"$f":"IF(BE22>0,VLOOKUP(BE22,DersYükü!$A$14:$W$39,13,FALSE),\"\")","v":""},{"$f":"IF(BF22>0,VLOOKUP(BF22,DersYükü!$A$14:$W$39,13,FALSE),\"\")","v":""},{"$f":"IF(BG22>0,VLOOKUP(BG22,DersYükü!$A$14:$W$39,13,FALSE),\"\")","v":""},{"$f":"IF(BH22>0,VLOOKUP(BH22,DersYükü!$A$14:$W$39,13,FALSE),\"\")","v":""}]
[]
[]
[null,null,null,null,null,null,null,null,"toplam",null,null,"TEO","DF","TEO","DF","TEO","DF","TEO","DF","TEO","DF","TEO","DF","TEO","DF","TEO","DF","TEO","DF",null,null,null,null,null,null,null,null,null,null,"toplam",null,null,"TEO","DF","TEO","DF","TEO","DF","TEO","DF","TEO","DF","TEO","DF","TEO","DF","TEO","DF","TEO","DF"]
[null,null,null,null,null,null,null,null,"TEO","DF",null,"PAZARTESİ",null,"SALI",null,"ÇARŞAMBA",null,"PERŞEMBE",null,"CUMA",null,"CUMARTESİ",null,"C. TESİ (İ.Ö)",null,"PAZAR",null,"PAZAR (İ.Ö)",null,null,null,null,null,null,null,null,null,null,null,"TEO","DF",null,"PAZARTESİ",null,"SALI",null,"ÇARŞAMBA",null,"PERŞEMBE",null,"CUMA",null,"CUMARTESİ",null,"C. TESİ (İ.Ö)",null,"PAZAR",null,"PAZAR (İ.Ö)"]
[null,null,null,null,null,null,{"$f":"IF(Ekders!$F$41=\"\",\"\",Ekders!$F$41)","v":"Mühendislik Fakültesi"},null,{"$f":"SUM(L193+N193+P193+R193+T193+V193+AB193)","v":0},{"$f":"SUM(M193+O193+Q193+S193+U193+W193+AA193)","v":0},{"$f":"SUM(L193:W193)+SUM(Z193:AA193)","v":0},{"$f":"IF($G193=\"\",0,IF(COUNTIF(L$155:L$172,$G193)=0,0,COUNTIF(L$155:L$172,$G193)))","v":0},{"$f":"IF($G193=\"\",0,IF(COUNTIF(M$155:M$172,$G193)=0,0,COUNTIF(M$155:M$172,$G193)))","v":0},{"$f":"IF($G193=\"\",0,IF(COUNTIF(N$155:N$172,$G193)=0,0,COUNTIF(N$155:N$172,$G193)))","v":0},{"$f":"IF($G193=\"\",0,IF(COUNTIF(O$155:O$172,$G193)=0,0,COUNTIF(O$155:O$172,$G193)))","v":0},0,0,0,0,0,0,{"$f":"IF($G193=\"\",0,IF(COUNTIF(V$155:V$188,$G193)=0,0,COUNTIF(V$155:V$188,$G193)))","v":0},0,null,null,{"$f":"IF($G193=\"\",0,IF(COUNTIF(Z$155:Z$188,$G193)=0,0,COUNTIF(Z$155:Z$188,$G193)))","v":0},0,null,null,null,null,null,null,null,null,null,null,{"$f":"IF(Ekders!$F$41=\"\",\"\",Ekders!$F$41)","v":"Mühendislik Fakültesi"},null,{"$f":"SUM(AQ193+AS193+AU193+AW193+AY193+BA193+BG193)","v":0},{"$f":"SUM(AR193+AT193+AV193+AX193+AZ193+BB193+BF193)","v":0},{"$f":"SUM(AQ193:BB193)+SUM(BE193:BF193)","v":0},{"$f":"IF($G193=\"\",0,IF(COUNTIF(AQ$155:AQ$172,$G193)=0,0,COUNTIF(AQ$155:AQ$172,$G193)))","v":0},{"$f":"IF($G193=\"\",0,IF(COUNTIF(AR$155:AR$172,$G193)=0,0,COUNTIF(AR$155:AR$172,$G193)))","v":0},0,0,0,0,0,0,0,0,{"$f":"IF($G193=\"\",0,IF(COUNTIF(BA$155:BA$188,$G193)=0,0,COUNTIF(BA$155:BA$188,$G193)))","v":0},0,null,null,{"$f":"IF($G193=\"\",0,IF(COUNTIF(BE$155:BE$188,$G193)=0,0,COUNTIF(BE$155:BE$188,$G193)))","v":0},0]
[null,null,null,null,null,null,{"$f":"IF(Ekders!$F$42=\"\",\"\",Ekders!$F$42)","v":""},null,{"$f":"SUM(L194+N194+P194+R194+T194+V194+Z194)","v":0},{"$f":"SUM(M194+O194+Q194+S194+U194+W194+AA194)","v":0},{"$f":"SUM(L194:W194)+SUM(Z194:AA194)","v":0},{"$f":"IF($G194=\"\",0,IF(COUNTIF(L$155:L$172,$G194)=0,0,COUNTIF(L$155:L$172,$G194)))","v":0},0,0,0,0,0,0,0,0,0,0,0,null,null,0,0,null,null,null,null,null,null,null,null,null,null,{"$f":"IF(Ekders!$F$42=\"\",\"\",Ekders!$F$42)","v":""},null,{"$f":"SUM(AQ194+AS194+AU194+AW194+AY194+BA194+BE194)","v":0},{"$f":"SUM(AR194+AT194+AV194+AX194+AZ194+BB194+BF194)","v":0},{"$f":"SUM(AQ194:BB194)+SUM(BE194:BF194)","v":0},{"$f":"IF($G194=\"\",0,IF(COUNTIF(AQ$155:AQ$172,$G194)=0,0,COUNTIF(AQ$155:AQ$172,$G194)))","v":0},0,0,0,0,0,0,0,0,0,0,0,null,null,0,0]
[null,null,null,null,null,null,{"$f":"IF(Ekders!$F$43=\"\",\"\",Ekders!$F$43)","v":""},null,{"$f":"SUM(L195+N195+P195+R195+T195+V195+Z195)","v":0},{"$f":"SUM(M195+O195+Q195+S195+U195+W195+AA195)","v":0},{"$f":"SUM(L195:W195)+SUM(Z195:AA195)","v":0},{"$f":"IF($G195=\"\",0,IF(COUNTIF(L$155:L$172,$G195)=0,0,COUNTIF(L$155:L$172,$G195)))","v":0},0,0,0,0,0,0,0,0,0,0,0,null,null,0,0,null,null,null,null,null,null,null,null,null,null,{"$f":"IF(Ekders!$F$43=\"\",\"\",Ekders!$F$43)","v":""},null,{"$f":"SUM(AQ195+AS195+AU195+AW195+AY195+BA195+BE195)","v":0},{"$f":"SUM(AR195+AT195+AV195+AX195+AZ195+BB195+BF195)","v":0},{"$f":"SUM(AQ195:BB195)+SUM(BE195:BF195)","v":0},{"$f":"IF($G195=\"\",0,IF(COUNTIF(AQ$155:AQ$172,$G195)=0,0,COUNTIF(AQ$155:AQ$172,$G195)))","v":0},0,0,0,0,0,0,0,0,0,0,0,null,null,0,0]
[null,null,null,null,null,null,{"$f":"IF(Ekders!$F$44=\"\",\"\",Ekders!$F$44)","v":""},null,{"$f":"SUM(L196+N196+P196+R196+T196+V196+Z196)","v":0},{"$f":"SUM(M196+O196+Q196+S196+U196+W196+AA196)","v":0},{"$f":"SUM(L196:W196)+SUM(Z196:AA196)","v":0},{"$f":"IF($G196=\"\",0,IF(COUNTIF(L$155:L$172,$G196)=0,0,COUNTIF(L$155:L$172,$G196)))","v":0},0,0,0,0,0,0,0,0,0,0,0,null,null,0,0,null,null,null,null,null,null,null,null,null,null,{"$f":"IF(Ekders!$F$44=\"\",\"\",Ekders!$F$44)","v":""},null,{"$f":"SUM(AQ196+AS196+AU196+AW196+AY196+BA196+BE196)","v":0},{"$f":"SUM(AR196+AT196+AV196+AX196+AZ196+BB196+BF196)","v":0},{"$f":"SUM(AQ196:BB196)+SUM(BE196:BF196)","v":0},{"$f":"IF($G196=\"\",0,IF(COUNTIF(AQ$155:AQ$172,$G196)=0,0,COUNTIF(AQ$155:AQ$172,$G196)))","v":0},0,0,0,0,0,0,0,0,0,0,0,null,null,0,0]
[null,null,null,null,null,null,{"$f":"IF(Ekders!$F$45=\"\",\"\",Ekders!$F$45)","v":""},null,{"$f":"SUM(L197+N197+P197+R197+T197+V197+Z197)","v":0},{"$f":"SUM(M197+O197+Q197+S197+U197+W197+AA197)","v":0},{"$f":"SUM(L197:W197)+SUM(Z197:AA197)","v":0},{"$f":"IF($G197=\"\",0,IF(COUNTIF(L$155:L$172,$G197)=0,0,COUNTIF(L$155:L$172,$G197)))","v":0},0,0,0,0,0,0,0,0,0,0,0,null,null,0,0,null,null,null,null,null,null,null,null,null,null,{"$f":"IF(Ekders!$F$45=\"\",\"\",Ekders!$F$45)","v":""},null,{"$f":"SUM(AQ197+AS197+AU197+AW197+AY197+BA197+BE197)","v":0},{"$f":"SUM(AR197+AT197+AV197+AX197+AZ197+BB197+BF197)","v":0},{"$f":"SUM(AQ197:BB197)+SUM(BE197:BF197)","v":0},{"$f":"IF($G197=\"\",0,IF(COUNTIF(AQ$155:AQ$172,$G197)=0,0,COUNTIF(AQ$155:AQ$172,$G197)))","v":0},0,0,0,0,0,0,0,0,0,0,0,null,null,0,0]
[null,null,null,null,null,null,null,null,null,null,{"$f":"SUM(K193:K197)","v":0}]
[]
[]
[null,null,null,null,null,null,{"$f":"IF(Ekders!$F$71=\"\",\"\",Ekders!$F$71)","v":""},null,{"$f":"SUM(L201+N201+P201+R201+T201+X201+AB201)","v":0},0,{"$f":"SUM(L201:U201)+SUM(X201:Y201)+SUM(AB201:AC201)","v":0},{"$f":"IF($G201=\"\",0,IF(COUNTIF(L$173:L$188,$G201)=0,0,COUNTIF(L$173:L$188,$G201)))","v":0},0,0,0,0,0,0,0,0,0,null,null,{"$f":"IF($G201=\"\",0,IF(COUNTIF(X$155:X$188,$G201)=0,0,COUNTIF(X$155:X$188,$G201)))","v":0},0,null,null,{"$f":"IF($G201=\"\",0,IF(COUNTIF(AB$155:AB$188,$G201)=0,0,COUNTIF(AB$155:AB$188,$G201)))","v":0},0,null,null,null,null,null,null,null,null,{"$f":"IF(Ekders!$F$71=\"\",\"\",Ekders!$F$71)","v":""},null,{"$f":"SUM(AQ201+AS201+AU201+AW201+AY201+BC201+BG201)","v":0},0,{"$f":"SUM(AQ201:AZ201)+SUM(BC201:BD201)+SUM(BG201:BH201)","v":0},{"$f":"IF($G201=\"\",0,IF(COUNTIF(AQ$173:AQ$188,$G201)=0,0,COUNTIF(AQ$173:AQ$188,$G201)))","v":0},0,0,0,0,0,0,0,0,0,null,null,{"$f":"IF($G201=\"\",0,IF(COUNTIF(BC$155:BC$188,$G201)=0,0,COUNTIF(BC$155:BC$188,$G201)))","v":0},0,null,null,{"$f":"IF($G201=\"\",0,IF(COUNTIF(BG$155:BG$188,$G201)=0,0,COUNTIF(BG$155:BG$188,$G201)))","v":0},0]
[null,null,null,null,null,null,{"$f":"IF(Ekders!$F$72=\"\",\"\",Ekders!$F$72)","v":""},null,0,0,{"$f":"SUM(L202:U202)+SUM(X202:Y202)+SUM(AB202:AC202)","v":0},0,0,0,0,0,0,0,0,0,0,null,null,0,0,null,null,0,0,null,null,null,null,null,null,null,null,{"$f":"IF(Ekders!$F$72=\"\",\"\",Ekders!$F$72)","v":""},null,0,0,{"$f":"SUM(AQ202:AZ202)+SUM(BC202:BD202)+SUM(BG202:BH202)","v":0},0,0,0,0,0,0,0,0,0,0,null,null,0,0,null,null,0,0]
[null,null,null,null,null,null,{"$f":"IF(Ekders!$F$73=\"\",\"\",Ekders!$F$73)","v":""},null,0,0,{"$f":"SUM(L203:U203)+SUM(X203:Y203)+SUM(AB203:AC203)","v":0},0,0,0,0,0,0,0,0,0,0,null,null,0,0,null,null,0,0,null,null,null,null,null,null,null,null,{"$f":"IF(Ekders!$F$73=\"\",\"\",Ekders!$F$73)","v":""},null,0,0,{"$f":"SUM(AQ203:AZ203)+SUM(BC203:BD203)+SUM(BG203:BH203)","v":0},0,0,0,0,0,0,0,0,0,0,null,null,0,0,null,null,0,0]
[null,null,null,null,null,null,{"$f":"IF(Ekders!$F$74=\"\",\"\",Ekders!$F$74)","v":""},null,0,0,{"$f":"SUM(L204:U204)+SUM(X204:Y204)+SUM(AB204:AC204)","v":0},0,0,0,0,0,0,0,0,0,0,null,null,0,0,null,null,0,0,null,null,null,null,null,null,null,null,{"$f":"IF(Ekders!$F$74=\"\",\"\",Ekders!$F$74)","v":""},null,0,0,{"$f":"SUM(AQ204:AZ204)+SUM(BC204:BD204)+SUM(BG204:BH204)","v":0},0,0,0,0,0,0,0,0,0,0,null,null,0,0,null,null,0,0]
[]
[]
[]
[null,null,null,null,null,"3.hafta",null,null,null,null,null,"TEO","DF","TEO","DF","TEO","DF","TEO","DF","TEO","DF","TEO","DF","TEO","DF","TEO","DF","TEO","DF",null,null,null,null,null,null,null,"4.hafta",null,null,null,null,null,"TEO","DF","TEO","DF","TEO","DF","TEO","DF","TEO","DF","TEO","DF","TEO","DF","TEO","DF","TEO","DF"]
[null,null,null,null,null,null,null,null,null,null,"SAAT","PAZARTESİ",null,"SALI",null,"ÇARŞAMBA",null,"PERŞEMBE",null,"CUMA",null,"CUMARTESİ",null,"C. TESİ (İ.Ö)",null,"PAZAR",null,"PAZAR (İ.Ö)",null,null,null,null,null,null,null,null,null,null,null,null,null,"SAAT","PAZARTESİ",null,"SALI",null,"ÇARŞAMBA",null,"PERŞEMBE",null,"CUMA",null,"CUMARTESİ",null,"C. TESİ (İ.Ö)",null,"PAZAR",null,"PAZAR (İ.Ö)"]
[null,null,null,null,null,null,null,null,"08:15-09:00",null,null,{"$f":"IF(L60=\"\",\"\",L60)","v":0},0,0,0,0,0,0,0,0,0,0,0,0,0,0,0,0,0,null,null,null,null,null,null,null,null,null,null,"08:15-09:00",null,null,{"$f":"IF(AQ60=\"\",\"\",AQ60)","v":0},0,0,0,0,0,0,0,0,0,0,0,0,0,0,0,0,0]
[null,null,null,null,null,null,null,null,null,null,null,{"$f":"IF(L60>0,VLOOKUP(L60,DersYükü!$A$14:$W$39,13,FALSE),\"\")","v":""},{"$f":"IF(M60>0,VLOOKUP(M60,DersYükü!$A$14:$W$39,13,FALSE),\"\")","v":""},{"$f":"IF(N60>0,VLOOKUP(N60,DersYükü!$A$14:$W$39,13,FALSE),\"\")","v":""},{"$f":"IF(O60>0,VLOOKUP(O60,DersYükü!$A$14:$W$39,13,FALSE),\"\")","v":""},{"$f":"IF(P60>0,VLOOKUP(P60,DersYükü!$A$14:$W$39,13,FALSE),\"\")","v":""},{"$f":"IF(Q60>0,VLOOKUP(Q60,DersYükü!$A$14:$W$39,13,FALSE),\"\")","v":""},{"$f":"IF(R60>0,VLOOKUP(R60,DersYükü!$A$14:$W$39,13,FALSE),\"\")","v":""},{"$f":"IF(S60>0,VLOOKUP(S60,DersYükü!$A$14:$W$39,13,FALSE),\"\")","v":""},{"$f":"IF(T60>0,VLOOKUP(T60,DersYükü!$A$14:$W$39,13,FALSE),\"\")","v":""},{"$f":"IF(U60>0,VLOOKUP(U60,DersYükü!$A$14:$W$39,13,FALSE),\"\")","v":""},{"$f":"IF(V60>0,VLOOKUP(V60,DersYükü!$A$14:$W$39,13,FALSE),\"\")","v":""},{"$f":"IF(W60>0,VLOOKUP(W60,DersYükü!$A$14:$W$39,13,FALSE),\"\")","v":""},{"$f":"IF(X60>0,VLOOKUP(X60,DersYükü!$A$14:$W$39,13,FALSE),\"\")","v":""},{"$f":"IF(Y60>0,VLOOKUP(Y60,DersYükü!$A$14:$W$39,13,FALSE),\"\")","v":""},{"$f":"IF(Z60>0,VLOOKUP(Z60,DersYükü!$A$14:$W$39,13,FALSE),\"\")","v":""},{"$f":"IF(AA60>0,VLOOKUP(AA60,DersYükü!$A$14:$W$39,13,FALSE),\"\")","v":""},{"$f":"IF(AB60>0,VLOOKUP(AB60,DersYükü!$A$14:$W$39,13,FALSE),\"\")","v":""},{"$f":"IF(AC60>0,VLOOKUP(AC60,DersYükü!$A$14:$W$39,13,FALSE),\"\")","v":""},null,null,null,null,null,null,null,null,null,null,null,null,null,{"$f":"IF(AQ60>0,VLOOKUP(AQ60,DersYükü!$A$14:$W$39,13,FALSE),\"\")","v":""},{"$f":"IF(AR60>0,VLOOKUP(AR60,DersYükü!$A$14:$W$39,13,FALSE),\"\")","v":""},{"$f":"IF(AS60>0,VLOOKUP(AS60,DersYükü!$A$14:$W$39,13,FALSE),\"\")","v":""},{"$f":"IF(AT60>0,VLOOKUP(AT60,DersYükü!$A$14:$W$39,13,FALSE),\"\")","v":""},{"$f":"IF(AU60>0,VLOOKUP(AU60,DersYükü!$A$14:$W$39,13,FALSE),\"\")","v":""},{"$f":"IF(AV60>0,VLOOKUP(AV60,DersYükü!$A$14:$W$39,13,FALSE),\"\")","v":""},{"$f":"IF(AW60>0,VLOOKUP(AW60,DersYükü!$A$14:$W$39,13,FALSE),\"\")","v":""},{"$f":"IF(AX60>0,VLOOKUP(AX60,DersYükü!$A$14:$W$39,13,FALSE),\"\")","v":""},{"$f":"IF(AY60>0,VLOOKUP(AY60,DersYükü!$A$14:$W$39,13,FALSE),\"\")","v":""},{"$f":"IF(AZ60>0,VLOOKUP(AZ60,DersYükü!$A$14:$W$39,13,FALSE),\"\")","v":""},{"$f":"IF(BA60>0,VLOOKUP(BA60,DersYükü!$A$14:$W$39,13,FALSE),\"\")","v":""},{"$f":"IF(BB60>0,VLOOKUP(BB60,DersYükü!$A$14:$W$39,13,FALSE),\"\")","v":""},{"$f":"IF(BC60>0,VLOOKUP(BC60,DersYükü!$A$14:$W$39,13,FALSE),\"\")","v":""},{"$f":"IF(BD60>0,VLOOKUP(BD60,DersYükü!$A$14:$W$39,13,FALSE),\"\")","v":""},{"$f":"IF(BE60>0,VLOOKUP(BE60,DersYükü!$A$14:$W$39,13,FALSE),\"\")","v":""},{"$f":"IF(BF60>0,VLOOKUP(BF60,DersYükü!$A$14:$W$39,13,FALSE),\"\")","v":""},{"$f":"IF(BG60>0,VLOOKUP(BG60,DersYükü!$A$14:$W$39,13,FALSE),\"\")","v":""},{"$f":"IF(BH60>0,VLOOKUP(BH60,DersYükü!$A$14:$W$39,13,FALSE),\"\")","v":""}]
[null,null,null,null,null,null,null,null,"09:15-10:00",null,null,{"$f":"IF(L61=\"\",\"\",L61)","v":0},0,0,0,0,0,0,0,0,0,0,0,0,0,0,0,0,0,null,null,null,null,null,null,null,null,null,null,"09:15-10:00",null,null,{"$f":"IF(AQ61=\"\",\"\",AQ61)","v":0},0,0,0,0,0,0,0,0,0,0,0,0,0,0,0,0,0]
[null,null,null,null,null,null,null,null,null,null,null,{"$f":"IF(L61>0,VLOOKUP(L61,DersYükü!$A$14:$W$39,13,FALSE),\"\")","v":""},{"$f":"IF(M61>0,VLOOKUP(M61,DersYükü!$A$14:$W$39,13,FALSE),\"\")","v":""},{"$f":"IF(N61>0,VLOOKUP(N61,DersYükü!$A$14:$W$39,13,FALSE),\"\")","v":""},{"$f":"IF(O61>0,VLOOKUP(O61,DersYükü!$A$14:$W$39,13,FALSE),\"\")","v":""},{"$f":"IF(P61>0,VLOOKUP(P61,DersYükü!$A$14:$W$39,13,FALSE),\"\")","v":""},{"$f":"IF(Q61>0,VLOOKUP(Q61,DersYükü!$A$14:$W$39,13,FALSE),\"\")","v":""},{"$f":"IF(R61>0,VLOOKUP(R61,DersYükü!$A$14:$W$39,13,FALSE),\"\")","v":""},{"$f":"IF(S61>0,VLOOKUP(S61,DersYükü!$A$14:$W$39,13,FALSE),\"\")","v":""},{"$f":"IF(T61>0,VLOOKUP(T61,DersYükü!$A$14:$W$39,13,FALSE),\"\")","v":""},{"$f":"IF(U61>0,VLOOKUP(U61,DersYükü!$A$14:$W$39,13,FALSE),\"\")","v":""},{"$f":"IF(V61>0,VLOOKUP(V61,DersYükü!$A$14:$W$39,13,FALSE),\"\")","v":""},{"$f":"IF(W61>0,VLOOKUP(W61,DersYükü!$A$14:$W$39,13,FALSE),\"\")","v":""},{"$f":"IF(X61>0,VLOOKUP(X61,DersYükü!$A$14:$W$39,13,FALSE),\"\")","v":""},{"$f":"IF(Y61>0,VLOOKUP(Y61,DersYükü!$A$14:$W$39,13,FALSE),\"\")","v":""},{"$f":"IF(Z61>0,VLOOKUP(Z61,DersYükü!$A$14:$W$39,13,FALSE),\"\")","v":""},{"$f":"IF(AA61>0,VLOOKUP(AA61,DersYükü!$A$14:$W$39,13,FALSE),\"\")","v":""},{"$f":"IF(AB61>0,VLOOKUP(AB61,DersYükü!$A$14:$W$39,13,FALSE),\"\")","v":""},{"$f":"IF(AC61>0,VLOOKUP(AC61,DersYükü!$A$14:$W$39,13,FALSE),\"\")","v":""},null,null,null,null,null,null,null,null,null,null,null,null,null,{"$f":"IF(AQ61>0,VLOOKUP(AQ61,DersYükü!$A$14:$W$39,13,FALSE),\"\")","v":""},{"$f":"IF(AR61>0,VLOOKUP(AR61,DersYükü!$A$14:$W$39,13,FALSE),\"\")","v":""},{"$f":"IF(AS61>0,VLOOKUP(AS61,DersYükü!$A$14:$W$39,13,FALSE),\"\")","v":""},{"$f":"IF(AT61>0,VLOOKUP(AT61,DersYükü!$A$14:$W$39,13,FALSE),\"\")","v":""},{"$f":"IF(AU61>0,VLOOKUP(AU61,DersYükü!$A$14:$W$39,13,FALSE),\"\")","v":""},{"$f":"IF(AV61>0,VLOOKUP(AV61,DersYükü!$A$14:$W$39,13,FALSE),\"\")","v":""},{"$f":"IF(AW61>0,VLOOKUP(AW61,DersYükü!$A$14:$W$39,13,FALSE),\"\")","v":""},{"$f":"IF(AX61>0,VLOOKUP(AX61,DersYükü!$A$14:$W$39,13,FALSE),\"\")","v":""},{"$f":"IF(AY61>0,VLOOKUP(AY61,DersYükü!$A$14:$W$39,13,FALSE),\"\")","v":""},{"$f":"IF(AZ61>0,VLOOKUP(AZ61,DersYükü!$A$14:$W$39,13,FALSE),\"\")","v":""},{"$f":"IF(BA61>0,VLOOKUP(BA61,DersYükü!$A$14:$W$39,13,FALSE),\"\")","v":""},{"$f":"IF(BB61>0,VLOOKUP(BB61,DersYükü!$A$14:$W$39,13,FALSE),\"\")","v":""},{"$f":"IF(BC61>0,VLOOKUP(BC61,DersYükü!$A$14:$W$39,13,FALSE),\"\")","v":""},{"$f":"IF(BD61>0,VLOOKUP(BD61,DersYükü!$A$14:$W$39,13,FALSE),\"\")","v":""},{"$f":"IF(BE61>0,VLOOKUP(BE61,DersYükü!$A$14:$W$39,13,FALSE),\"\")","v":""},{"$f":"IF(BF61>0,VLOOKUP(BF61,DersYükü!$A$14:$W$39,13,FALSE),\"\")","v":""},{"$f":"IF(BG61>0,VLOOKUP(BG61,DersYükü!$A$14:$W$39,13,FALSE),\"\")","v":""},{"$f":"IF(BH61>0,VLOOKUP(BH61,DersYükü!$A$14:$W$39,13,FALSE),\"\")","v":""}]
[null,null,null,null,null,null,null,null,"10:15-11:00",null,null,{"$f":"IF(L62=\"\",\"\",L62)","v":0},0,0,0,0,0,0,0,0,0,0,0,0,0,0,0,0,0,null,null,null,null,null,null,null,null,null,null,"10:15-11:00",null,null,{"$f":"IF(AQ62=\"\",\"\",AQ62)","v":0},0,0,0,0,0,0,0,0,0,0,0,0,0,0,0,0,0]
[null,null,null,null,null,null,null,null,null,null,null,{"$f":"IF(L62>0,VLOOKUP(L62,DersYükü!$A$14:$W$39,13,FALSE),\"\")","v":""},{"$f":"IF(M62>0,VLOOKUP(M62,DersYükü!$A$14:$W$39,13,FALSE),\"\")","v":""},{"$f":"IF(N62>0,VLOOKUP(N62,DersYükü!$A$14:$W$39,13,FALSE),\"\")","v":""},{"$f":"IF(O62>0,VLOOKUP(O62,DersYükü!$A$14:$W$39,13,FALSE),\"\")","v":""},{"$f":"IF(P62>0,VLOOKUP(P62,DersYükü!$A$14:$W$39,13,FALSE),\"\")","v":""},{"$f":"IF(Q62>0,VLOOKUP(Q62,DersYükü!$A$14:$W$39,13,FALSE),\"\")","v":""},{"$f":"IF(R62>0,VLOOKUP(R62,DersYükü!$A$14:$W$39,13,FALSE),\"\")","v":""},{"$f":"IF(S62>0,VLOOKUP(S62,DersYükü!$A$14:$W$39,13,FALSE),\"\")","v":""},{"$f":"IF(T62>0,VLOOKUP(T62,DersYükü!$A$14:$W$39,13,FALSE),\"\")","v":""},{"$f":"IF(U62>0,VLOOKUP(U62,DersYükü!$A$14:$W$39,13,FALSE),\"\")","v":""},{"$f":"IF(V62>0,VLOOKUP(V62,DersYükü!$A$14:$W$39,13,FALSE),\"\")","v":""},{"$f":"IF(W62>0,VLOOKUP(W62,DersYükü!$A$14:$W$39,13,FALSE),\"\")","v":""},{"$f":"IF(X62>0,VLOOKUP(X62,DersYükü!$A$14:$W$39,13,FALSE),\"\")","v":""},{"$f":"IF(Y62>0,VLOOKUP(Y62,DersYükü!$A$14:$W$39,13,FALSE),\"\")","v":""},{"$f":"IF(Z62>0,VLOOKUP(Z62,DersYükü!$A$14:$W$39,13,FALSE),\"\")","v":""},{"$f":"IF(AA62>0,VLOOKUP(AA62,DersYükü!$A$14:$W$39,13,FALSE),\"\")","v":""},{"$f":"IF(AB62>0,VLOOKUP(AB62,DersYükü!$A$14:$W$39,13,FALSE),\"\")","v":""},{"$f":"IF(AC62>0,VLOOKUP(AC62,DersYükü!$A$14:$W$39,13,FALSE),\"\")","v":""},null,null,null,null,null,null,null,null,null,null,null,null,null,{"$f":"IF(AQ62>0,VLOOKUP(AQ62,DersYükü!$A$14:$W$39,13,FALSE),\"\")","v":""},{"$f":"IF(AR62>0,VLOOKUP(AR62,DersYükü!$A$14:$W$39,13,FALSE),\"\")","v":""},{"$f":"IF(AS62>0,VLOOKUP(AS62,DersYükü!$A$14:$W$39,13,FALSE),\"\")","v":""},{"$f":"IF(AT62>0,VLOOKUP(AT62,DersYükü!$A$14:$W$39,13,FALSE),\"\")","v":""},{"$f":"IF(AU62>0,VLOOKUP(AU62,DersYükü!$A$14:$W$39,13,FALSE),\"\")","v":""},{"$f":"IF(AV62>0,VLOOKUP(AV62,DersYükü!$A$14:$W$39,13,FALSE),\"\")","v":""},{"$f":"IF(AW62>0,VLOOKUP(AW62,DersYükü!$A$14:$W$39,13,FALSE),\"\")","v":""},{"$f":"IF(AX62>0,VLOOKUP(AX62,DersYükü!$A$14:$W$39,13,FALSE),\"\")","v":""},{"$f":"IF(AY62>0,VLOOKUP(AY62,DersYükü!$A$14:$W$39,13,FALSE),\"\")","v":""},{"$f":"IF(AZ62>0,VLOOKUP(AZ62,DersYükü!$A$14:$W$39,13,FALSE),\"\")","v":""},{"$f":"IF(BA62>0,VLOOKUP(BA62,DersYükü!$A$14:$W$39,13,FALSE),\"\")","v":""},{"$f":"IF(BB62>0,VLOOKUP(BB62,DersYükü!$A$14:$W$39,13,FALSE),\"\")","v":""},{"$f":"IF(BC62>0,VLOOKUP(BC62,DersYükü!$A$14:$W$39,13,FALSE),\"\")","v":""},{"$f":"IF(BD62>0,VLOOKUP(BD62,DersYükü!$A$14:$W$39,13,FALSE),\"\")","v":""},{"$f":"IF(BE62>0,VLOOKUP(BE62,DersYükü!$A$14:$W$39,13,FALSE),\"\")","v":""},{"$f":"IF(BF62>0,VLOOKUP(BF62,DersYükü!$A$14:$W$39,13,FALSE),\"\")","v":""},{"$f":"IF(BG62>0,VLOOKUP(BG62,DersYükü!$A$14:$W$39,13,FALSE),\"\")","v":""},{"$f":"IF(BH62>0,VLOOKUP(BH62,DersYükü!$A$14:$W$39,13,FALSE),\"\")","v":""}]
[null,null,null,null,null,null,null,null,"11:15-12:00",null,null,{"$f":"IF(L63=\"\",\"\",L63)","v":0},0,0,0,0,0,0,0,0,0,0,0,0,0,0,0,0,0,null,null,null,null,null,null,null,null,null,null,"11:15-12:00",null,null,{"$f":"IF(AQ63=\"\",\"\",AQ63)","v":0},0,0,0,0,0,0,0,0,0,0,0,0,0,0,0,0,0]
[null,null,null,null,null,null,null,null,null,null,null,{"$f":"IF(L63>0,VLOOKUP(L63,DersYükü!$A$14:$W$39,13,FALSE),\"\")","v":""},{"$f":"IF(M63>0,VLOOKUP(M63,DersYükü!$A$14:$W$39,13,FALSE),\"\")","v":""},{"$f":"IF(N63>0,VLOOKUP(N63,DersYükü!$A$14:$W$39,13,FALSE),\"\")","v":""},{"$f":"IF(O63>0,VLOOKUP(O63,DersYükü!$A$14:$W$39,13,FALSE),\"\")","v":""},{"$f":"IF(P63>0,VLOOKUP(P63,DersYükü!$A$14:$W$39,13,FALSE),\"\")","v":""},{"$f":"IF(Q63>0,VLOOKUP(Q63,DersYükü!$A$14:$W$39,13,FALSE),\"\")","v":""},{"$f":"IF(R63>0,VLOOKUP(R63,DersYükü!$A$14:$W$39,13,FALSE),\"\")","v":""},{"$f":"IF(S63>0,VLOOKUP(S63,DersYükü!$A$14:$W$39,13,FALSE),\"\")","v":""},{"$f":"IF(T63>0,VLOOKUP(T63,DersYükü!$A$14:$W$39,13,FALSE),\"\")","v":""},{"$f":"IF(U63>0,VLOOKUP(U63,DersYükü!$A$14:$W$39,13,FALSE),\"\")","v":""},{"$f":"IF(V63>0,VLOOKUP(V63,DersYükü!$A$14:$W$39,13,FALSE),\"\")","v":""},{"$f":"IF(W63>0,VLOOKUP(W63,DersYükü!$A$14:$W$39,13,FALSE),\"\")","v":""},{"$f":"IF(X63>0,VLOOKUP(X63,DersYükü!$A$14:$W$39,13,FALSE),\"\")","v":""},{"$f":"IF(Y63>0,VLOOKUP(Y63,DersYükü!$A$14:$W$39,13,FALSE),\"\")","v":""},{"$f":"IF(Z63>0,VLOOKUP(Z63,DersYükü!$A$14:$W$39,13,FALSE),\"\")","v":""},{"$f":"IF(AA63>0,VLOOKUP(AA63,DersYükü!$A$14:$W$39,13,FALSE),\"\")","v":""},{"$f":"IF(AB63>0,VLOOKUP(AB63,DersYükü!$A$14:$W$39,13,FALSE),\"\")","v":""},{"$f":"IF(AC63>0,VLOOKUP(AC63,DersYükü!$A$14:$W$39,13,FALSE),\"\")","v":""},null,null,null,null,null,null,null,null,null,null,null,null,null,{"$f":"IF(AQ63>0,VLOOKUP(AQ63,DersYükü!$A$14:$W$39,13,FALSE),\"\")","v":""},{"$f":"IF(AR63>0,VLOOKUP(AR63,DersYükü!$A$14:$W$39,13,FALSE),\"\")","v":""},{"$f":"IF(AS63>0,VLOOKUP(AS63,DersYükü!$A$14:$W$39,13,FALSE),\"\")","v":""},{"$f":"IF(AT63>0,VLOOKUP(AT63,DersYükü!$A$14:$W$39,13,FALSE),\"\")","v":""},{"$f":"IF(AU63>0,VLOOKUP(AU63,DersYükü!$A$14:$W$39,13,FALSE),\"\")","v":""},{"$f":"IF(AV63>0,VLOOKUP(AV63,DersYükü!$A$14:$W$39,13,FALSE),\"\")","v":""},{"$f":"IF(AW63>0,VLOOKUP(AW63,DersYükü!$A$14:$W$39,13,FALSE),\"\")","v":""},{"$f":"IF(AX63>0,VLOOKUP(AX63,DersYükü!$A$14:$W$39,13,FALSE),\"\")","v":""},{"$f":"IF(AY63>0,VLOOKUP(AY63,DersYükü!$A$14:$W$39,13,FALSE),\"\")","v":""},{"$f":"IF(AZ63>0,VLOOKUP(AZ63,DersYükü!$A$14:$W$39,13,FALSE),\"\")","v":""},{"$f":"IF(BA63>0,VLOOKUP(BA63,DersYükü!$A$14:$W$39,13,FALSE),\"\")","v":""},{"$f":"IF(BB63>0,VLOOKUP(BB63,DersYükü!$A$14:$W$39,13,FALSE),\"\")","v":""},{"$f":"IF(BC63>0,VLOOKUP(BC63,DersYükü!$A$14:$W$39,13,FALSE),\"\")","v":""},{"$f":"IF(BD63>0,VLOOKUP(BD63,DersYükü!$A$14:$W$39,13,FALSE),\"\")","v":""},{"$f":"IF(BE63>0,VLOOKUP(BE63,DersYükü!$A$14:$W$39,13,FALSE),\"\")","v":""},{"$f":"IF(BF63>0,VLOOKUP(BF63,DersYükü!$A$14:$W$39,13,FALSE),\"\")","v":""},{"$f":"IF(BG63>0,VLOOKUP(BG63,DersYükü!$A$14:$W$39,13,FALSE),\"\")","v":""},{"$f":"IF(BH63>0,VLOOKUP(BH63,DersYükü!$A$14:$W$39,13,FALSE),\"\")","v":""}]
[null,null,null,null,null,null,null,null,"12:00-13:15",null,null,{"$f":"IF(L64=\"\",\"\",L64)","v":0},0,0,0,0,0,0,0,0,0,0,0,0,0,0,0,0,0,null,null,null,null,null,null,null,null,null,null,"12:00-13:15",null,null,{"$f":"IF(AQ64=\"\",\"\",AQ64)","v":0},0,0,0,0,0,0,0,0,0,0,0,0,0,0,0,0,0]
[null,null,null,null,null,null,null,null,null,null,null,{"$f":"IF(L64>0,VLOOKUP(L64,DersYükü!$A$14:$W$39,13,FALSE),\"\")","v":""},{"$f":"IF(M64>0,VLOOKUP(M64,DersYükü!$A$14:$W$39,13,FALSE),\"\")","v":""},{"$f":"IF(N64>0,VLOOKUP(N64,DersYükü!$A$14:$W$39,13,FALSE),\"\")","v":""},{"$f":"IF(O64>0,VLOOKUP(O64,DersYükü!$A$14:$W$39,13,FALSE),\"\")","v":""},{"$f":"IF(P64>0,VLOOKUP(P64,DersYükü!$A$14:$W$39,13,FALSE),\"\")","v":""},{"$f":"IF(Q64>0,VLOOKUP(Q64,DersYükü!$A$14:$W$39,13,FALSE),\"\")","v":""},{"$f":"IF(R64>0,VLOOKUP(R64,DersYükü!$A$14:$W$39,13,FALSE),\"\")","v":""},{"$f":"IF(S64>0,VLOOKUP(S64,DersYükü!$A$14:$W$39,13,FALSE),\"\")","v":""},{"$f":"IF(T64>0,VLOOKUP(T64,DersYükü!$A$14:$W$39,13,FALSE),\"\")","v":""},{"$f":"IF(U64>0,VLOOKUP(U64,DersYükü!$A$14:$W$39,13,FALSE),\"\")","v":""},{"$f":"IF(V64>0,VLOOKUP(V64,DersYükü!$A$14:$W$39,13,FALSE),\"\")","v":""},{"$f":"IF(W64>0,VLOOKUP(W64,DersYükü!$A$14:$W$39,13,FALSE),\"\")","v":""},{"$f":"IF(X64>0,VLOOKUP(X64,DersYükü!$A$14:$W$39,13,FALSE),\"\")","v":""},{"$f":"IF(Y64>0,VLOOKUP(Y64,DersYükü!$A$14:$W$39,13,FALSE),\"\")","v":""},{"$f":"IF(Z64>0,VLOOKUP(Z64,DersYükü!$A$14:$W$39,13,FALSE),\"\")","v":""},{"$f":"IF(AA64>0,VLOOKUP(AA64,DersYükü!$A$14:$W$39,13,FALSE),\"\")","v":""},{"$f":"IF(AB64>0,VLOOKUP(AB64,DersYükü!$A$14:$W$39,13,FALSE),\"\")","v":""},{"$f":"IF(AC64>0,VLOOKUP(AC64,DersYükü!$A$14:$W$39,13,FALSE),\"\")","v":""},null,null,null,null,null,null,null,null,null,null,null,null,null,{"$f":"IF(AQ64>0,VLOOKUP(AQ64,DersYükü!$A$14:$W$39,13,FALSE),\"\")","v":""},{"$f":"IF(AR64>0,VLOOKUP(AR64,DersYükü!$A$14:$W$39,13,FALSE),\"\")","v":""},{"$f":"IF(AS64>0,VLOOKUP(AS64,DersYükü!$A$14:$W$39,13,FALSE),\"\")","v":""},{"$f":"IF(AT64>0,VLOOKUP(AT64,DersYükü!$A$14:$W$39,13,FALSE),\"\")","v":""},{"$f":"IF(AU64>0,VLOOKUP(AU64,DersYükü!$A$14:$W$39,13,FALSE),\"\")","v":""},{"$f":"IF(AV64>0,VLOOKUP(AV64,DersYükü!$A$14:$W$39,13,FALSE),\"\")","v":""},{"$f":"IF(AW64>0,VLOOKUP(AW64,DersYükü!$A$14:$W$39,13,FALSE),\"\")","v":""},{"$f":"IF(AX64>0,VLOOKUP(AX64,DersYükü!$A$14:$W$39,13,FALSE),\"\")","v":""},{"$f":"IF(AY64>0,VLOOKUP(AY64,DersYükü!$A$14:$W$39,13,FALSE),\"\")","v":""},{"$f":"IF(AZ64>0,VLOOKUP(AZ64,DersYükü!$A$14:$W$39,13,FALSE),\"\")","v":""},{"$f":"IF(BA64>0,VLOOKUP(BA64,DersYükü!$A$14:$W$39,13,FALSE),\"\")","v":""},{"$f":"IF(BB64>0,VLOOKUP(BB64,DersYükü!$A$14:$W$39,13,FALSE),\"\")","v":""},{"$f":"IF(BC64>0,VLOOKUP(BC64,DersYükü!$A$14:$W$39,13,FALSE),\"\")","v":""},{"$f":"IF(BD64>0,VLOOKUP(BD64,DersYükü!$A$14:$W$39,13,FALSE),\"\")","v":""},{"$f":"IF(BE64>0,VLOOKUP(BE64,DersYükü!$A$14:$W$39,13,FALSE),\"\")","v":""},{"$f":"IF(BF64>0,VLOOKUP(BF64,DersYükü!$A$14:$W$39,13,FALSE),\"\")","v":""},{"$f":"IF(BG64>0,VLOOKUP(BG64,DersYükü!$A$14:$W$39,13,FALSE),\"\")","v":""},{"$f":"IF(BH64>0,VLOOKUP(BH64,DersYükü!$A$14:$W$39,13,FALSE),\"\")","v":""}]
[null,null,null,null,null,null,null,null,"13:15-14:00",null,null,{"$f":"IF(L65=\"\",\"\",L65)","v":0},0,0,0,0,0,0,0,0,0,0,0,0,0,0,0,0,0,null,null,null,null,null,null,null,null,null,null,"13:15-14:00",null,null,{"$f":"IF(AQ65=\"\",\"\",AQ65)","v":0},0,0,0,0,0,0,0,0,0,0,0,0,0,0,0,0,0]
[null,null,null,null,null,null,null,null,null,null,null,{"$f":"IF(L65>0,VLOOKUP(L65,DersYükü!$A$14:$W$39,13,FALSE),\"\")","v":""},{"$f":"IF(M65>0,VLOOKUP(M65,DersYükü!$A$14:$W$39,13,FALSE),\"\")","v":""},{"$f":"IF(N65>0,VLOOKUP(N65,DersYükü!$A$14:$W$39,13,FALSE),\"\")","v":""},{"$f":"IF(O65>0,VLOOKUP(O65,DersYükü!$A$14:$W$39,13,FALSE),\"\")","v":""},{"$f":"IF(P65>0,VLOOKUP(P65,DersYükü!$A$14:$W$39,13,FALSE),\"\")","v":""},{"$f":"IF(Q65>0,VLOOKUP(Q65,DersYükü!$A$14:$W$39,13,FALSE),\"\")","v":""},{"$f":"IF(R65>0,VLOOKUP(R65,DersYükü!$A$14:$W$39,13,FALSE),\"\")","v":""},{"$f":"IF(S65>0,VLOOKUP(S65,DersYükü!$A$14:$W$39,13,FALSE),\"\")","v":""},{"$f":"IF(T65>0,VLOOKUP(T65,DersYükü!$A$14:$W$39,13,FALSE),\"\")","v":""},{"$f":"IF(U65>0,VLOOKUP(U65,DersYükü!$A$14:$W$39,13,FALSE),\"\")","v":""},{"$f":"IF(V65>0,VLOOKUP(V65,DersYükü!$A$14:$W$39,13,FALSE),\"\")","v":""},{"$f":"IF(W65>0,VLOOKUP(W65,DersYükü!$A$14:$W$39,13,FALSE),\"\")","v":""},{"$f":"IF(X65>0,VLOOKUP(X65,DersYükü!$A$14:$W$39,13,FALSE),\"\")","v":""},{"$f":"IF(Y65>0,VLOOKUP(Y65,DersYükü!$A$14:$W$39,13,FALSE),\"\")","v":""},{"$f":"IF(Z65>0,VLOOKUP(Z65,DersYükü!$A$14:$W$39,13,FALSE),\"\")","v":""},{"$f":"IF(AA65>0,VLOOKUP(AA65,DersYükü!$A$14:$W$39,13,FALSE),\"\")","v":""},{"$f":"IF(AB65>0,VLOOKUP(AB65,DersYükü!$A$14:$W$39,13,FALSE),\"\")","v":""},{"$f":"IF(AC65>0,VLOOKUP(AC65,DersYükü!$A$14:$W$39,13,FALSE),\"\")","v":""},null,null,null,null,null,null,null,null,null,null,null,null,null,{"$f":"IF(AQ65>0,VLOOKUP(AQ65,DersYükü!$A$14:$W$39,13,FALSE),\"\")","v":""},{"$f":"IF(AR65>0,VLOOKUP(AR65,DersYükü!$A$14:$W$39,13,FALSE),\"\")","v":""},{"$f":"IF(AS65>0,VLOOKUP(AS65,DersYükü!$A$14:$W$39,13,FALSE),\"\")","v":""},{"$f":"IF(AT65>0,VLOOKUP(AT65,DersYükü!$A$14:$W$39,13,FALSE),\"\")","v":""},{"$f":"IF(AU65>0,VLOOKUP(AU65,DersYükü!$A$14:$W$39,13,FALSE),\"\")","v":""},{"$f":"IF(AV65>0,VLOOKUP(AV65,DersYükü!$A$14:$W$39,13,FALSE),\"\")","v":""},{"$f":"IF(AW65>0,VLOOKUP(AW65,DersYükü!$A$14:$W$39,13,FALSE),\"\")","v":""},{"$f":"IF(AX65>0,VLOOKUP(AX65,DersYükü!$A$14:$W$39,13,FALSE),\"\")","v":""},{"$f":"IF(AY65>0,VLOOKUP(AY65,DersYükü!$A$14:$W$39,13,FALSE),\"\")","v":""},{"$f":"IF(AZ65>0,VLOOKUP(AZ65,DersYükü!$A$14:$W$39,13,FALSE),\"\")","v":""},{"$f":"IF(BA65>0,VLOOKUP(BA65,DersYükü!$A$14:$W$39,13,FALSE),\"\")","v":""},{"$f":"IF(BB65>0,VLOOKUP(BB65,DersYükü!$A$14:$W$39,13,FALSE),\"\")","v":""},{"$f":"IF(BC65>0,VLOOKUP(BC65,DersYükü!$A$14:$W$39,13,FALSE),\"\")","v":""},{"$f":"IF(BD65>0,VLOOKUP(BD65,DersYükü!$A$14:$W$39,13,FALSE),\"\")","v":""},{"$f":"IF(BE65>0,VLOOKUP(BE65,DersYükü!$A$14:$W$39,13,FALSE),\"\")","v":""},{"$f":"IF(BF65>0,VLOOKUP(BF65,DersYükü!$A$14:$W$39,13,FALSE),\"\")","v":""},{"$f":"IF(BG65>0,VLOOKUP(BG65,DersYükü!$A$14:$W$39,13,FALSE),\"\")","v":""},{"$f":"IF(BH65>0,VLOOKUP(BH65,DersYükü!$A$14:$W$39,13,FALSE),\"\")","v":""}]
[null,null,null,null,null,null,null,null,"14:15-15:00",null,null,{"$f":"IF(L66=\"\",\"\",L66)","v":0},0,0,0,0,0,0,0,0,0,0,0,0,0,0,0,0,0,null,null,null,null,null,null,null,null,null,null,"14:15-15:00",null,null,{"$f":"IF(AQ66=\"\",\"\",AQ66)","v":0},0,0,0,0,0,0,0,0,0,0,0,0,0,0,0,0,0]
[null,null,null,null,null,null,null,null,null,null,null,{"$f":"IF(L66>0,VLOOKUP(L66,DersYükü!$A$14:$W$39,13,FALSE),\"\")","v":""},{"$f":"IF(M66>0,VLOOKUP(M66,DersYükü!$A$14:$W$39,13,FALSE),\"\")","v":""},{"$f":"IF(N66>0,VLOOKUP(N66,DersYükü!$A$14:$W$39,13,FALSE),\"\")","v":""},{"$f":"IF(O66>0,VLOOKUP(O66,DersYükü!$A$14:$W$39,13,FALSE),\"\")","v":""},{"$f":"IF(P66>0,VLOOKUP(P66,DersYükü!$A$14:$W$39,13,FALSE),\"\")","v":""},{"$f":"IF(Q66>0,VLOOKUP(Q66,DersYükü!$A$14:$W$39,13,FALSE),\"\")","v":""},{"$f":"IF(R66>0,VLOOKUP(R66,DersYükü!$A$14:$W$39,13,FALSE),\"\")","v":""},{"$f":"IF(S66>0,VLOOKUP(S66,DersYükü!$A$14:$W$39,13,FALSE),\"\")","v":""},{"$f":"IF(T66>0,VLOOKUP(T66,DersYükü!$A$14:$W$39,13,FALSE),\"\")","v":""},{"$f":"IF(U66>0,VLOOKUP(U66,DersYükü!$A$14:$W$39,13,FALSE),\"\")","v":""},{"$f":"IF(V66>0,VLOOKUP(V66,DersYükü!$A$14:$W$39,13,FALSE),\"\")","v":""},{"$f":"IF(W66>0,VLOOKUP(W66,DersYükü!$A$14:$W$39,13,FALSE),\"\")","v":""},{"$f":"IF(X66>0,VLOOKUP(X66,DersYükü!$A$14:$W$39,13,FALSE),\"\")","v":""},{"$f":"IF(Y66>0,VLOOKUP(Y66,DersYükü!$A$14:$W$39,13,FALSE),\"\")","v":""},{"$f":"IF(Z66>0,VLOOKUP(Z66,DersYükü!$A$14:$W$39,13,FALSE),\"\")","v":""},{"$f":"IF(AA66>0,VLOOKUP(AA66,DersYükü!$A$14:$W$39,13,FALSE),\"\")","v":""},{"$f":"IF(AB66>0,VLOOKUP(AB66,DersYükü!$A$14:$W$39,13,FALSE),\"\")","v":""},{"$f":"IF(AC66>0,VLOOKUP(AC66,DersYükü!$A$14:$W$39,13,FALSE),\"\")","v":""},null,null,null,null,null,null,null,null,null,null,null,null,null,{"$f":"IF(AQ66>0,VLOOKUP(AQ66,DersYükü!$A$14:$W$39,13,FALSE),\"\")","v":""},{"$f":"IF(AR66>0,VLOOKUP(AR66,DersYükü!$A$14:$W$39,13,FALSE),\"\")","v":""},{"$f":"IF(AS66>0,VLOOKUP(AS66,DersYükü!$A$14:$W$39,13,FALSE),\"\")","v":""},{"$f":"IF(AT66>0,VLOOKUP(AT66,DersYükü!$A$14:$W$39,13,FALSE),\"\")","v":""},{"$f":"IF(AU66>0,VLOOKUP(AU66,DersYükü!$A$14:$W$39,13,FALSE),\"\")","v":""},{"$f":"IF(AV66>0,VLOOKUP(AV66,DersYükü!$A$14:$W$39,13,FALSE),\"\")","v":""},{"$f":"IF(AW66>0,VLOOKUP(AW66,DersYükü!$A$14:$W$39,13,FALSE),\"\")","v":""},{"$f":"IF(AX66>0,VLOOKUP(AX66,DersYükü!$A$14:$W$39,13,FALSE),\"\")","v":""},{"$f":"IF(AY66>0,VLOOKUP(AY66,DersYükü!$A$14:$W$39,13,FALSE),\"\")","v":""},{"$f":"IF(AZ66>0,VLOOKUP(AZ66,DersYükü!$A$14:$W$39,13,FALSE),\"\")","v":""},{"$f":"IF(BA66>0,VLOOKUP(BA66,DersYükü!$A$14:$W$39,13,FALSE),\"\")","v":""},{"$f":"IF(BB66>0,VLOOKUP(BB66,DersYükü!$A$14:$W$39,13,FALSE),\"\")","v":""},{"$f":"IF(BC66>0,VLOOKUP(BC66,DersYükü!$A$14:$W$39,13,FALSE),\"\")","v":""},{"$f":"IF(BD66>0,VLOOKUP(BD66,DersYükü!$A$14:$W$39,13,FALSE),\"\")","v":""},{"$f":"IF(BE66>0,VLOOKUP(BE66,DersYükü!$A$14:$W$39,13,FALSE),\"\")","v":""},{"$f":"IF(BF66>0,VLOOKUP(BF66,DersYükü!$A$14:$W$39,13,FALSE),\"\")","v":""},{"$f":"IF(BG66>0,VLOOKUP(BG66,DersYükü!$A$14:$W$39,13,FALSE),\"\")","v":""},{"$f":"IF(BH66>0,VLOOKUP(BH66,DersYükü!$A$14:$W$39,13,FALSE),\"\")","v":""}]
[null,null,null,null,null,null,null,null,"15:15-16:00",null,null,{"$f":"IF(L67=\"\",\"\",L67)","v":0},0,0,0,0,0,0,0,0,0,0,0,0,0,0,0,0,0,null,null,null,null,null,null,null,null,null,null,"15:15-16:00",null,null,{"$f":"IF(AQ67=\"\",\"\",AQ67)","v":0},0,0,0,0,0,0,0,0,0,0,0,0,0,0,0,0,0]
[null,null,null,null,null,null,null,null,null,null,null,{"$f":"IF(L67>0,VLOOKUP(L67,DersYükü!$A$14:$W$39,13,FALSE),\"\")","v":""},{"$f":"IF(M67>0,VLOOKUP(M67,DersYükü!$A$14:$W$39,13,FALSE),\"\")","v":""},{"$f":"IF(N67>0,VLOOKUP(N67,DersYükü!$A$14:$W$39,13,FALSE),\"\")","v":""},{"$f":"IF(O67>0,VLOOKUP(O67,DersYükü!$A$14:$W$39,13,FALSE),\"\")","v":""},{"$f":"IF(P67>0,VLOOKUP(P67,DersYükü!$A$14:$W$39,13,FALSE),\"\")","v":""},{"$f":"IF(Q67>0,VLOOKUP(Q67,DersYükü!$A$14:$W$39,13,FALSE),\"\")","v":""},{"$f":"IF(R67>0,VLOOKUP(R67,DersYükü!$A$14:$W$39,13,FALSE),\"\")","v":""},{"$f":"IF(S67>0,VLOOKUP(S67,DersYükü!$A$14:$W$39,13,FALSE),\"\")","v":""},{"$f":"IF(T67>0,VLOOKUP(T67,DersYükü!$A$14:$W$39,13,FALSE),\"\")","v":""},{"$f":"IF(U67>0,VLOOKUP(U67,DersYükü!$A$14:$W$39,13,FALSE),\"\")","v":""},{"$f":"IF(V67>0,VLOOKUP(V67,DersYükü!$A$14:$W$39,13,FALSE),\"\")","v":""},{"$f":"IF(W67>0,VLOOKUP(W67,DersYükü!$A$14:$W$39,13,FALSE),\"\")","v":""},{"$f":"IF(X67>0,VLOOKUP(X67,DersYükü!$A$14:$W$39,13,FALSE),\"\")","v":""},{"$f":"IF(Y67>0,VLOOKUP(Y67,DersYükü!$A$14:$W$39,13,FALSE),\"\")","v":""},{"$f":"IF(Z67>0,VLOOKUP(Z67,DersYükü!$A$14:$W$39,13,FALSE),\"\")","v":""},{"$f":"IF(AA67>0,VLOOKUP(AA67,DersYükü!$A$14:$W$39,13,FALSE),\"\")","v":""},{"$f":"IF(AB67>0,VLOOKUP(AB67,DersYükü!$A$14:$W$39,13,FALSE),\"\")","v":""},{"$f":"IF(AC67>0,VLOOKUP(AC67,DersYükü!$A$14:$W$39,13,FALSE),\"\")","v":""},null,null,null,null,null,null,null,null,null,null,null,null,null,{"$f":"IF(AQ67>0,VLOOKUP(AQ67,DersYükü!$A$14:$W$39,13,FALSE),\"\")","v":""},{"$f":"IF(AR67>0,VLOOKUP(AR67,DersYükü!$A$14:$W$39,13,FALSE),\"\")","v":""},{"$f":"IF(AS67>0,VLOOKUP(AS67,DersYükü!$A$14:$W$39,13,FALSE),\"\")","v":""},{"$f":"IF(AT67>0,VLOOKUP(AT67,DersYükü!$A$14:$W$39,13,FALSE),\"\")","v":""},{"$f":"IF(AU67>0,VLOOKUP(AU67,DersYükü!$A$14:$W$39,13,FALSE),\"\")","v":""},{"$f":"IF(AV67>0,VLOOKUP(AV67,DersYükü!$A$14:$W$39,13,FALSE),\"\")","v":""},{"$f":"IF(AW67>0,VLOOKUP(AW67,DersYükü!$A$14:$W$39,13,FALSE),\"\")","v":""},{"$f":"IF(AX67>0,VLOOKUP(AX67,DersYükü!$A$14:$W$39,13,FALSE),\"\")","v":""},{"$f":"IF(AY67>0,VLOOKUP(AY67,DersYükü!$A$14:$W$39,13,FALSE),\"\")","v":""},{"$f":"IF(AZ67>0,VLOOKUP(AZ67,DersYükü!$A$14:$W$39,13,FALSE),\"\")","v":""},{"$f":"IF(BA67>0,VLOOKUP(BA67,DersYükü!$A$14:$W$39,13,FALSE),\"\")","v":""},{"$f":"IF(BB67>0,VLOOKUP(BB67,DersYükü!$A$14:$W$39,13,FALSE),\"\")","v":""},{"$f":"IF(BC67>0,VLOOKUP(BC67,DersYükü!$A$14:$W$39,13,FALSE),\"\")","v":""},{"$f":"IF(BD67>0,VLOOKUP(BD67,DersYükü!$A$14:$W$39,13,FALSE),\"\")","v":""},{"$f":"IF(BE67>0,VLOOKUP(BE67,DersYükü!$A$14:$W$39,13,FALSE),\"\")","v":""},{"$f":"IF(BF67>0,VLOOKUP(BF67,DersYükü!$A$14:$W$39,13,FALSE),\"\")","v":""},{"$f":"IF(BG67>0,VLOOKUP(BG67,DersYükü!$A$14:$W$39,13,FALSE),\"\")","v":""},{"$f":"IF(BH67>0,VLOOKUP(BH67,DersYükü!$A$14:$W$39,13,FALSE),\"\")","v":""}]
[null,null,null,null,null,null,null,null,"16:15-17:00",null,null,{"$f":"IF(L68=\"\",\"\",L68)","v":0},0,0,0,0,0,0,0,0,0,0,0,0,0,0,0,0,0,null,null,null,null,null,null,null,null,null,null,"16:15-17:00",null,null,{"$f":"IF(AQ68=\"\",\"\",AQ68)","v":0},0,0,0,0,0,0,0,0,0,0,0,0,0,0,0,0,0]
[null,null,null,null,null,null,null,null,null,null,null,{"$f":"IF(L68>0,VLOOKUP(L68,DersYükü!$A$14:$W$39,13,FALSE),\"\")","v":""},{"$f":"IF(M68>0,VLOOKUP(M68,DersYükü!$A$14:$W$39,13,FALSE),\"\")","v":""},{"$f":"IF(N68>0,VLOOKUP(N68,DersYükü!$A$14:$W$39,13,FALSE),\"\")","v":""},{"$f":"IF(O68>0,VLOOKUP(O68,DersYükü!$A$14:$W$39,13,FALSE),\"\")","v":""},{"$f":"IF(P68>0,VLOOKUP(P68,DersYükü!$A$14:$W$39,13,FALSE),\"\")","v":""},{"$f":"IF(Q68>0,VLOOKUP(Q68,DersYükü!$A$14:$W$39,13,FALSE),\"\")","v":""},{"$f":"IF(R68>0,VLOOKUP(R68,DersYükü!$A$14:$W$39,13,FALSE),\"\")","v":""},{"$f":"IF(S68>0,VLOOKUP(S68,DersYükü!$A$14:$W$39,13,FALSE),\"\")","v":""},{"$f":"IF(T68>0,VLOOKUP(T68,DersYükü!$A$14:$W$39,13,FALSE),\"\")","v":""},{"$f":"IF(U68>0,VLOOKUP(U68,DersYükü!$A$14:$W$39,13,FALSE),\"\")","v":""},{"$f":"IF(V68>0,VLOOKUP(V68,DersYükü!$A$14:$W$39,13,FALSE),\"\")","v":""},{"$f":"IF(W68>0,VLOOKUP(W68,DersYükü!$A$14:$W$39,13,FALSE),\"\")","v":""},{"$f":"IF(X68>0,VLOOKUP(X68,DersYükü!$A$14:$W$39,13,FALSE),\"\")","v":""},{"$f":"IF(Y68>0,VLOOKUP(Y68,DersYükü!$A$14:$W$39,13,FALSE),\"\")","v":""},{"$f":"IF(Z68>0,VLOOKUP(Z68,DersYükü!$A$14:$W$39,13,FALSE),\"\")","v":""},{"$f":"IF(AA68>0,VLOOKUP(AA68,DersYükü!$A$14:$W$39,13,FALSE),\"\")","v":""},{"$f":"IF(AB68>0,VLOOKUP(AB68,DersYükü!$A$14:$W$39,13,FALSE),\"\")","v":""},{"$f":"IF(AC68>0,VLOOKUP(AC68,DersYükü!$A$14:$W$39,13,FALSE),\"\")","v":""},null,null,null,null,null,null,null,null,null,null,null,null,null,{"$f":"IF(AQ68>0,VLOOKUP(AQ68,DersYükü!$A$14:$W$39,13,FALSE),\"\")","v":""},{"$f":"IF(AR68>0,VLOOKUP(AR68,DersYükü!$A$14:$W$39,13,FALSE),\"\")","v":""},{"$f":"IF(AS68>0,VLOOKUP(AS68,DersYükü!$A$14:$W$39,13,FALSE),\"\")","v":""},{"$f":"IF(AT68>0,VLOOKUP(AT68,DersYükü!$A$14:$W$39,13,FALSE),\"\")","v":""},{"$f":"IF(AU68>0,VLOOKUP(AU68,DersYükü!$A$14:$W$39,13,FALSE),\"\")","v":""},{"$f":"IF(AV68>0,VLOOKUP(AV68,DersYükü!$A$14:$W$39,13,FALSE),\"\")","v":""},{"$f":"IF(AW68>0,VLOOKUP(AW68,DersYükü!$A$14:$W$39,13,FALSE),\"\")","v":""},{"$f":"IF(AX68>0,VLOOKUP(AX68,DersYükü!$A$14:$W$39,13,FALSE),\"\")","v":""},{"$f":"IF(AY68>0,VLOOKUP(AY68,DersYükü!$A$14:$W$39,13,FALSE),\"\")","v":""},{"$f":"IF(AZ68>0,VLOOKUP(AZ68,DersYükü!$A$14:$W$39,13,FALSE),\"\")","v":""},{"$f":"IF(BA68>0,VLOOKUP(BA68,DersYükü!$A$14:$W$39,13,FALSE),\"\")","v":""},{"$f":"IF(BB68>0,VLOOKUP(BB68,DersYükü!$A$14:$W$39,13,FALSE),\"\")","v":""},{"$f":"IF(BC68>0,VLOOKUP(BC68,DersYükü!$A$14:$W$39,13,FALSE),\"\")","v":""},{"$f":"IF(BD68>0,VLOOKUP(BD68,DersYükü!$A$14:$W$39,13,FALSE),\"\")","v":""},{"$f":"IF(BE68>0,VLOOKUP(BE68,DersYükü!$A$14:$W$39,13,FALSE),\"\")","v":""},{"$f":"IF(BF68>0,VLOOKUP(BF68,DersYükü!$A$14:$W$39,13,FALSE),\"\")","v":""},{"$f":"IF(BG68>0,VLOOKUP(BG68,DersYükü!$A$14:$W$39,13,FALSE),\"\")","v":""},{"$f":"IF(BH68>0,VLOOKUP(BH68,DersYükü!$A$14:$W$39,13,FALSE),\"\")","v":""}]
[null,null,null,null,null,null,null,null,"15:15-16:00",null,null,{"$f":"IF(L69=\"\",\"\",L69)","v":0},{"$f":"IF(M69=\"\",\"\",M69)","v":0},0,0,0,0,0,0,0,0,0,0,0,0,0,0,0,0,null,null,null,null,null,null,null,null,null,null,"15:15-16:00",null,null,{"$f":"IF(AQ69=\"\",\"\",AQ69)","v":0},{"$f":"IF(AR69=\"\",\"\",AR69)","v":0},0,0,0,0,0,0,0,0,0,0,0,0,0,0,0,0]
[null,null,null,null,null,null,null,null,null,null,null,{"$f":"IF(L69>0,VLOOKUP(L69,DersYükü!$A$14:$W$39,13,FALSE),\"\")","v":""},{"$f":"IF(M69>0,VLOOKUP(M69,DersYükü!$A$14:$W$39,13,FALSE),\"\")","v":""},{"$f":"IF(N69>0,VLOOKUP(N69,DersYükü!$A$14:$W$39,13,FALSE),\"\")","v":""},{"$f":"IF(O69>0,VLOOKUP(O69,DersYükü!$A$14:$W$39,13,FALSE),\"\")","v":""},{"$f":"IF(P69>0,VLOOKUP(P69,DersYükü!$A$14:$W$39,13,FALSE),\"\")","v":""},{"$f":"IF(Q69>0,VLOOKUP(Q69,DersYükü!$A$14:$W$39,13,FALSE),\"\")","v":""},{"$f":"IF(R69>0,VLOOKUP(R69,DersYükü!$A$14:$W$39,13,FALSE),\"\")","v":""},{"$f":"IF(S69>0,VLOOKUP(S69,DersYükü!$A$14:$W$39,13,FALSE),\"\")","v":""},{"$f":"IF(T69>0,VLOOKUP(T69,DersYükü!$A$14:$W$39,13,FALSE),\"\")","v":""},{"$f":"IF(U69>0,VLOOKUP(U69,DersYükü!$A$14:$W$39,13,FALSE),\"\")","v":""},{"$f":"IF(V69>0,VLOOKUP(V69,DersYükü!$A$14:$W$39,13,FALSE),\"\")","v":""},{"$f":"IF(W69>0,VLOOKUP(W69,DersYükü!$A$14:$W$39,13,FALSE),\"\")","v":""},{"$f":"IF(X69>0,VLOOKUP(X69,DersYükü!$A$14:$W$39,13,FALSE),\"\")","v":""},{"$f":"IF(Y69>0,VLOOKUP(Y69,DersYükü!$A$14:$W$39,13,FALSE),\"\")","v":""},{"$f":"IF(Z69>0,VLOOKUP(Z69,DersYükü!$A$14:$W$39,13,FALSE),\"\")","v":""},{"$f":"IF(AA69>0,VLOOKUP(AA69,DersYükü!$A$14:$W$39,13,FALSE),\"\")","v":""},{"$f":"IF(AB69>0,VLOOKUP(AB69,DersYükü!$A$14:$W$39,13,FALSE),\"\")","v":""},{"$f":"IF(AC69>0,VLOOKUP(AC69,DersYükü!$A$14:$W$39,13,FALSE),\"\")","v":""},null,null,null,null,null,null,null,null,null,null,null,null,null,{"$f":"IF(AQ69>0,VLOOKUP(AQ69,DersYükü!$A$14:$W$39,13,FALSE),\"\")","v":""},{"$f":"IF(AR69>0,VLOOKUP(AR69,DersYükü!$A$14:$W$39,13,FALSE),\"\")","v":""},{"$f":"IF(AS69>0,VLOOKUP(AS69,DersYükü!$A$14:$W$39,13,FALSE),\"\")","v":""},{"$f":"IF(AT69>0,VLOOKUP(AT69,DersYükü!$A$14:$W$39,13,FALSE),\"\")","v":""},{"$f":"IF(AU69>0,VLOOKUP(AU69,DersYükü!$A$14:$W$39,13,FALSE),\"\")","v":""},{"$f":"IF(AV69>0,VLOOKUP(AV69,DersYükü!$A$14:$W$39,13,FALSE),\"\")","v":""},{"$f":"IF(AW69>0,VLOOKUP(AW69,DersYükü!$A$14:$W$39,13,FALSE),\"\")","v":""},{"$f":"IF(AX69>0,VLOOKUP(AX69,DersYükü!$A$14:$W$39,13,FALSE),\"\")","v":""},{"$f":"IF(AY69>0,VLOOKUP(AY69,DersYükü!$A$14:$W$39,13,FALSE),\"\")","v":""},{"$f":"IF(AZ69>0,VLOOKUP(AZ69,DersYükü!$A$14:$W$39,13,FALSE),\"\")","v":""},{"$f":"IF(BA69>0,VLOOKUP(BA69,DersYükü!$A$14:$W$39,13,FALSE),\"\")","v":""},{"$f":"IF(BB69>0,VLOOKUP(BB69,DersYükü!$A$14:$W$39,13,FALSE),\"\")","v":""},{"$f":"IF(BC69>0,VLOOKUP(BC69,DersYükü!$A$14:$W$39,13,FALSE),\"\")","v":""},{"$f":"IF(BD69>0,VLOOKUP(BD69,DersYükü!$A$14:$W$39,13,FALSE),\"\")","v":""},{"$f":"IF(BE69>0,VLOOKUP(BE69,DersYükü!$A$14:$W$39,13,FALSE),\"\")","v":""},{"$f":"IF(BF69>0,VLOOKUP(BF69,DersYükü!$A$14:$W$39,13,FALSE),\"\")","v":""},{"$f":"IF(BG69>0,VLOOKUP(BG69,DersYükü!$A$14:$W$39,13,FALSE),\"\")","v":""},{"$f":"IF(BH69>0,VLOOKUP(BH69,DersYükü!$A$14:$W$39,13,FALSE),\"\")","v":""}]
[null,null,null,null,null,null,null,null,"16:15-17:00",null,null,{"$f":"IF(L70=\"\",\"\",L70)","v":0},{"$f":"IF(M70=\"\",\"\",M70)","v":0},0,0,0,0,0,0,0,0,0,0,0,0,0,0,0,0,null,null,null,null,null,null,null,null,null,null,"16:15-17:00",null,null,{"$f":"IF(AQ70=\"\",\"\",AQ70)","v":0},{"$f":"IF(AR70=\"\",\"\",AR70)","v":0},0,0,0,0,0,0,0,0,0,0,0,0,0,0,0,0]
[null,null,null,null,null,null,null,null,null,null,null,{"$f":"IF(L70>0,VLOOKUP(L70,DersYükü!$A$14:$W$39,13,FALSE),\"\")","v":""},{"$f":"IF(M70>0,VLOOKUP(M70,DersYükü!$A$14:$W$39,13,FALSE),\"\")","v":""},{"$f":"IF(N70>0,VLOOKUP(N70,DersYükü!$A$14:$W$39,13,FALSE),\"\")","v":""},{"$f":"IF(O70>0,VLOOKUP(O70,DersYükü!$A$14:$W$39,13,FALSE),\"\")","v":""},{"$f":"IF(P70>0,VLOOKUP(P70,DersYükü!$A$14:$W$39,13,FALSE),\"\")","v":""},{"$f":"IF(Q70>0,VLOOKUP(Q70,DersYükü!$A$14:$W$39,13,FALSE),\"\")","v":""},{"$f":"IF(R70>0,VLOOKUP(R70,DersYükü!$A$14:$W$39,13,FALSE),\"\")","v":""},{"$f":"IF(S70>0,VLOOKUP(S70,DersYükü!$A$14:$W$39,13,FALSE),\"\")","v":""},{"$f":"IF(T70>0,VLOOKUP(T70,DersYükü!$A$14:$W$39,13,FALSE),\"\")","v":""},{"$f":"IF(U70>0,VLOOKUP(U70,DersYükü!$A$14:$W$39,13,FALSE),\"\")","v":""},{"$f":"IF(V70>0,VLOOKUP(V70,DersYükü!$A$14:$W$39,13,FALSE),\"\")","v":""},{"$f":"IF(W70>0,VLOOKUP(W70,DersYükü!$A$14:$W$39,13,FALSE),\"\")","v":""},{"$f":"IF(X70>0,VLOOKUP(X70,DersYükü!$A$14:$W$39,13,FALSE),\"\")","v":""},{"$f":"IF(Y70>0,VLOOKUP(Y70,DersYükü!$A$14:$W$39,13,FALSE),\"\")","v":""},{"$f":"IF(Z70>0,VLOOKUP(Z70,DersYükü!$A$14:$W$39,13,FALSE),\"\")","v":""},{"$f":"IF(AA70>0,VLOOKUP(AA70,DersYükü!$A$14:$W$39,13,FALSE),\"\")","v":""},{"$f":"IF(AB70>0,VLOOKUP(AB70,DersYükü!$A$14:$W$39,13,FALSE),\"\")","v":""},{"$f":"IF(AC70>0,VLOOKUP(AC70,DersYükü!$A$14:$W$39,13,FALSE),\"\")","v":""},null,null,null,null,null,null,null,null,null,null,null,null,null,{"$f":"IF(AQ70>0,VLOOKUP(AQ70,DersYükü!$A$14:$W$39,13,FALSE),\"\")","v":""},{"$f":"IF(AR70>0,VLOOKUP(AR70,DersYükü!$A$14:$W$39,13,FALSE),\"\")","v":""},{"$f":"IF(AS70>0,VLOOKUP(AS70,DersYükü!$A$14:$W$39,13,FALSE),\"\")","v":""},{"$f":"IF(AT70>0,VLOOKUP(AT70,DersYükü!$A$14:$W$39,13,FALSE),\"\")","v":""},{"$f":"IF(AU70>0,VLOOKUP(AU70,DersYükü!$A$14:$W$39,13,FALSE),\"\")","v":""},{"$f":"IF(AV70>0,VLOOKUP(AV70,DersYükü!$A$14:$W$39,13,FALSE),\"\")","v":""},{"$f":"IF(AW70>0,VLOOKUP(AW70,DersYükü!$A$14:$W$39,13,FALSE),\"\")","v":""},{"$f":"IF(AX70>0,VLOOKUP(AX70,DersYükü!$A$14:$W$39,13,FALSE),\"\")","v":""},{"$f":"IF(AY70>0,VLOOKUP(AY70,DersYükü!$A$14:$W$39,13,FALSE),\"\")","v":""},{"$f":"IF(AZ70>0,VLOOKUP(AZ70,DersYükü!$A$14:$W$39,13,FALSE),\"\")","v":""},{"$f":"IF(BA70>0,VLOOKUP(BA70,DersYükü!$A$14:$W$39,13,FALSE),\"\")","v":""},{"$f":"IF(BB70>0,VLOOKUP(BB70,DersYükü!$A$14:$W$39,13,FALSE),\"\")","v":""},{"$f":"IF(BC70>0,VLOOKUP(BC70,DersYükü!$A$14:$W$39,13,FALSE),\"\")","v":""},{"$f":"IF(BD70>0,VLOOKUP(BD70,DersYükü!$A$14:$W$39,13,FALSE),\"\")","v":""},{"$f":"IF(BE70>0,VLOOKUP(BE70,DersYükü!$A$14:$W$39,13,FALSE),\"\")","v":""},{"$f":"IF(BF70>0,VLOOKUP(BF70,DersYükü!$A$14:$W$39,13,FALSE),\"\")","v":""},{"$f":"IF(BG70>0,VLOOKUP(BG70,DersYükü!$A$14:$W$39,13,FALSE),\"\")","v":""},{"$f":"IF(BH70>0,VLOOKUP(BH70,DersYükü!$A$14:$W$39,13,FALSE),\"\")","v":""}]
[null,null,null,null,null,null,null,null,"17:15-18:00",null,null,{"$f":"IF(L71=\"\",\"\",L71)","v":0},0,0,0,0,0,0,0,0,0,0,0,0,0,0,0,0,0,null,null,null,null,null,null,null,null,null,null,"17:15-18:00",null,null,{"$f":"IF(AQ71=\"\",\"\",AQ71)","v":0},0,0,0,0,0,0,0,0,0,0,0,0,0,0,0,0,0]
[null,null,null,null,null,null,null,null,null,null,null,{"$f":"IF(L71>0,VLOOKUP(L71,DersYükü!$A$14:$W$39,13,FALSE),\"\")","v":""},{"$f":"IF(M71>0,VLOOKUP(M71,DersYükü!$A$14:$W$39,13,FALSE),\"\")","v":""},{"$f":"IF(N71>0,VLOOKUP(N71,DersYükü!$A$14:$W$39,13,FALSE),\"\")","v":""},{"$f":"IF(O71>0,VLOOKUP(O71,DersYükü!$A$14:$W$39,13,FALSE),\"\")","v":""},{"$f":"IF(P71>0,VLOOKUP(P71,DersYükü!$A$14:$W$39,13,FALSE),\"\")","v":""},{"$f":"IF(Q71>0,VLOOKUP(Q71,DersYükü!$A$14:$W$39,13,FALSE),\"\")","v":""},{"$f":"IF(R71>0,VLOOKUP(R71,DersYükü!$A$14:$W$39,13,FALSE),\"\")","v":""},{"$f":"IF(S71>0,VLOOKUP(S71,DersYükü!$A$14:$W$39,13,FALSE),\"\")","v":""},{"$f":"IF(T71>0,VLOOKUP(T71,DersYükü!$A$14:$W$39,13,FALSE),\"\")","v":""},{"$f":"IF(U71>0,VLOOKUP(U71,DersYükü!$A$14:$W$39,13,FALSE),\"\")","v":""},{"$f":"IF(V71>0,VLOOKUP(V71,DersYükü!$A$14:$W$39,13,FALSE),\"\")","v":""},{"$f":"IF(W71>0,VLOOKUP(W71,DersYükü!$A$14:$W$39,13,FALSE),\"\")","v":""},{"$f":"IF(X71>0,VLOOKUP(X71,DersYükü!$A$14:$W$39,13,FALSE),\"\")","v":""},{"$f":"IF(Y71>0,VLOOKUP(Y71,DersYükü!$A$14:$W$39,13,FALSE),\"\")","v":""},{"$f":"IF(Z71>0,VLOOKUP(Z71,DersYükü!$A$14:$W$39,13,FALSE),\"\")","v":""},{"$f":"IF(AA71>0,VLOOKUP(AA71,DersYükü!$A$14:$W$39,13,FALSE),\"\")","v":""},{"$f":"IF(AB71>0,VLOOKUP(AB71,DersYükü!$A$14:$W$39,13,FALSE),\"\")","v":""},{"$f":"IF(AC71>0,VLOOKUP(AC71,DersYükü!$A$14:$W$39,13,FALSE),\"\")","v":""},null,null,null,null,null,null,null,null,null,null,null,null,null,{"$f":"IF(AQ71>0,VLOOKUP(AQ71,DersYükü!$A$14:$W$39,13,FALSE),\"\")","v":""},{"$f":"IF(AR71>0,VLOOKUP(AR71,DersYükü!$A$14:$W$39,13,FALSE),\"\")","v":""},{"$f":"IF(AS71>0,VLOOKUP(AS71,DersYükü!$A$14:$W$39,13,FALSE),\"\")","v":""},{"$f":"IF(AT71>0,VLOOKUP(AT71,DersYükü!$A$14:$W$39,13,FALSE),\"\")","v":""},{"$f":"IF(AU71>0,VLOOKUP(AU71,DersYükü!$A$14:$W$39,13,FALSE),\"\")","v":""},{"$f":"IF(AV71>0,VLOOKUP(AV71,DersYükü!$A$14:$W$39,13,FALSE),\"\")","v":""},{"$f":"IF(AW71>0,VLOOKUP(AW71,DersYükü!$A$14:$W$39,13,FALSE),\"\")","v":""},{"$f":"IF(AX71>0,VLOOKUP(AX71,DersYükü!$A$14:$W$39,13,FALSE),\"\")","v":""},{"$f":"IF(AY71>0,VLOOKUP(AY71,DersYükü!$A$14:$W$39,13,FALSE),\"\")","v":""},{"$f":"IF(AZ71>0,VLOOKUP(AZ71,DersYükü!$A$14:$W$39,13,FALSE),\"\")","v":""},{"$f":"IF(BA71>0,VLOOKUP(BA71,DersYükü!$A$14:$W$39,13,FALSE),\"\")","v":""},{"$f":"IF(BB71>0,VLOOKUP(BB71,DersYükü!$A$14:$W$39,13,FALSE),\"\")","v":""},{"$f":"IF(BC71>0,VLOOKUP(BC71,DersYükü!$A$14:$W$39,13,FALSE),\"\")","v":""},{"$f":"IF(BD71>0,VLOOKUP(BD71,DersYükü!$A$14:$W$39,13,FALSE),\"\")","v":""},{"$f":"IF(BE71>0,VLOOKUP(BE71,DersYükü!$A$14:$W$39,13,FALSE),\"\")","v":""},{"$f":"IF(BF71>0,VLOOKUP(BF71,DersYükü!$A$14:$W$39,13,FALSE),\"\")","v":""},{"$f":"IF(BG71>0,VLOOKUP(BG71,DersYükü!$A$14:$W$39,13,FALSE),\"\")","v":""},{"$f":"IF(BH71>0,VLOOKUP(BH71,DersYükü!$A$14:$W$39,13,FALSE),\"\")","v":""}]
[null,null,null,null,null,null,null,null,"18:15-19:00",null,null,{"$f":"IF(L72=\"\",\"\",L72)","v":0},0,0,0,0,0,0,0,0,0,0,0,0,0,0,0,0,0,null,null,null,null,null,null,null,null,null,null,"18:15-19:00",null,null,{"$f":"IF(AQ72=\"\",\"\",AQ72)","v":0},0,0,0,0,0,0,0,0,0,0,0,0,0,0,0,0,0]
[null,null,null,null,null,null,null,null,null,null,null,{"$f":"IF(L72>0,VLOOKUP(L72,DersYükü!$A$14:$W$39,13,FALSE),\"\")","v":""},{"$f":"IF(M72>0,VLOOKUP(M72,DersYükü!$A$14:$W$39,13,FALSE),\"\")","v":""},{"$f":"IF(N72>0,VLOOKUP(N72,DersYükü!$A$14:$W$39,13,FALSE),\"\")","v":""},{"$f":"IF(O72>0,VLOOKUP(O72,DersYükü!$A$14:$W$39,13,FALSE),\"\")","v":""},{"$f":"IF(P72>0,VLOOKUP(P72,DersYükü!$A$14:$W$39,13,FALSE),\"\")","v":""},{"$f":"IF(Q72>0,VLOOKUP(Q72,DersYükü!$A$14:$W$39,13,FALSE),\"\")","v":""},{"$f":"IF(R72>0,VLOOKUP(R72,DersYükü!$A$14:$W$39,13,FALSE),\"\")","v":""},{"$f":"IF(S72>0,VLOOKUP(S72,DersYükü!$A$14:$W$39,13,FALSE),\"\")","v":""},{"$f":"IF(T72>0,VLOOKUP(T72,DersYükü!$A$14:$W$39,13,FALSE),\"\")","v":""},{"$f":"IF(U72>0,VLOOKUP(U72,DersYükü!$A$14:$W$39,13,FALSE),\"\")","v":""},{"$f":"IF(V72>0,VLOOKUP(V72,DersYükü!$A$14:$W$39,13,FALSE),\"\")","v":""},{"$f":"IF(W72>0,VLOOKUP(W72,DersYükü!$A$14:$W$39,13,FALSE),\"\")","v":""},{"$f":"IF(X72>0,VLOOKUP(X72,DersYükü!$A$14:$W$39,13,FALSE),\"\")","v":""},{"$f":"IF(Y72>0,VLOOKUP(Y72,DersYükü!$A$14:$W$39,13,FALSE),\"\")","v":""},{"$f":"IF(Z72>0,VLOOKUP(Z72,DersYükü!$A$14:$W$39,13,FALSE),\"\")","v":""},{"$f":"IF(AA72>0,VLOOKUP(AA72,DersYükü!$A$14:$W$39,13,FALSE),\"\")","v":""},{"$f":"IF(AB72>0,VLOOKUP(AB72,DersYükü!$A$14:$W$39,13,FALSE),\"\")","v":""},{"$f":"IF(AC72>0,VLOOKUP(AC72,DersYükü!$A$14:$W$39,13,FALSE),\"\")","v":""},null,null,null,null,null,null,null,null,null,null,null,null,null,{"$f":"IF(AQ72>0,VLOOKUP(AQ72,DersYükü!$A$14:$W$39,13,FALSE),\"\")","v":""},{"$f":"IF(AR72>0,VLOOKUP(AR72,DersYükü!$A$14:$W$39,13,FALSE),\"\")","v":""},{"$f":"IF(AS72>0,VLOOKUP(AS72,DersYükü!$A$14:$W$39,13,FALSE),\"\")","v":""},{"$f":"IF(AT72>0,VLOOKUP(AT72,DersYükü!$A$14:$W$39,13,FALSE),\"\")","v":""},{"$f":"IF(AU72>0,VLOOKUP(AU72,DersYükü!$A$14:$W$39,13,FALSE),\"\")","v":""},{"$f":"IF(AV72>0,VLOOKUP(AV72,DersYükü!$A$14:$W$39,13,FALSE),\"\")","v":""},{"$f":"IF(AW72>0,VLOOKUP(AW72,DersYükü!$A$14:$W$39,13,FALSE),\"\")","v":""},{"$f":"IF(AX72>0,VLOOKUP(AX72,DersYükü!$A$14:$W$39,13,FALSE),\"\")","v":""},{"$f":"IF(AY72>0,VLOOKUP(AY72,DersYükü!$A$14:$W$39,13,FALSE),\"\")","v":""},{"$f":"IF(AZ72>0,VLOOKUP(AZ72,DersYükü!$A$14:$W$39,13,FALSE),\"\")","v":""},{"$f":"IF(BA72>0,VLOOKUP(BA72,DersYükü!$A$14:$W$39,13,FALSE),\"\")","v":""},{"$f":"IF(BB72>0,VLOOKUP(BB72,DersYükü!$A$14:$W$39,13,FALSE),\"\")","v":""},{"$f":"IF(BC72>0,VLOOKUP(BC72,DersYükü!$A$14:$W$39,13,FALSE),\"\")","v":""},{"$f":"IF(BD72>0,VLOOKUP(BD72,DersYükü!$A$14:$W$39,13,FALSE),\"\")","v":""},{"$f":"IF(BE72>0,VLOOKUP(BE72,DersYükü!$A$14:$W$39,13,FALSE),\"\")","v":""},{"$f":"IF(BF72>0,VLOOKUP(BF72,DersYükü!$A$14:$W$39,13,FALSE),\"\")","v":""},{"$f":"IF(BG72>0,VLOOKUP(BG72,DersYükü!$A$14:$W$39,13,FALSE),\"\")","v":""},{"$f":"IF(BH72>0,VLOOKUP(BH72,DersYükü!$A$14:$W$39,13,FALSE),\"\")","v":""}]
[null,null,null,null,null,null,null,null,"19:15-20:00",null,null,{"$f":"IF(L73=\"\",\"\",L73)","v":0},0,0,0,0,0,0,0,0,0,0,0,0,0,0,0,0,0,null,null,null,null,null,null,null,null,null,null,"19:15-20:00",null,null,{"$f":"IF(AQ73=\"\",\"\",AQ73)","v":0},0,0,0,0,0,0,0,0,0,0,0,0,0,0,0,0,0]
[null,null,null,null,null,null,null,null,null,null,null,{"$f":"IF(L73>0,VLOOKUP(L73,DersYükü!$A$14:$W$39,13,FALSE),\"\")","v":""},{"$f":"IF(M73>0,VLOOKUP(M73,DersYükü!$A$14:$W$39,13,FALSE),\"\")","v":""},{"$f":"IF(N73>0,VLOOKUP(N73,DersYükü!$A$14:$W$39,13,FALSE),\"\")","v":""},{"$f":"IF(O73>0,VLOOKUP(O73,DersYükü!$A$14:$W$39,13,FALSE),\"\")","v":""},{"$f":"IF(P73>0,VLOOKUP(P73,DersYükü!$A$14:$W$39,13,FALSE),\"\")","v":""},{"$f":"IF(Q73>0,VLOOKUP(Q73,DersYükü!$A$14:$W$39,13,FALSE),\"\")","v":""},{"$f":"IF(R73>0,VLOOKUP(R73,DersYükü!$A$14:$W$39,13,FALSE),\"\")","v":""},{"$f":"IF(S73>0,VLOOKUP(S73,DersYükü!$A$14:$W$39,13,FALSE),\"\")","v":""},{"$f":"IF(T73>0,VLOOKUP(T73,DersYükü!$A$14:$W$39,13,FALSE),\"\")","v":""},{"$f":"IF(U73>0,VLOOKUP(U73,DersYükü!$A$14:$W$39,13,FALSE),\"\")","v":""},{"$f":"IF(V73>0,VLOOKUP(V73,DersYükü!$A$14:$W$39,13,FALSE),\"\")","v":""},{"$f":"IF(W73>0,VLOOKUP(W73,DersYükü!$A$14:$W$39,13,FALSE),\"\")","v":""},{"$f":"IF(X73>0,VLOOKUP(X73,DersYükü!$A$14:$W$39,13,FALSE),\"\")","v":""},{"$f":"IF(Y73>0,VLOOKUP(Y73,DersYükü!$A$14:$W$39,13,FALSE),\"\")","v":""},{"$f":"IF(Z73>0,VLOOKUP(Z73,DersYükü!$A$14:$W$39,13,FALSE),\"\")","v":""},{"$f":"IF(AA73>0,VLOOKUP(AA73,DersYükü!$A$14:$W$39,13,FALSE),\"\")","v":""},{"$f":"IF(AB73>0,VLOOKUP(AB73,DersYükü!$A$14:$W$39,13,FALSE),\"\")","v":""},{"$f":"IF(AC73>0,VLOOKUP(AC73,DersYükü!$A$14:$W$39,13,FALSE),\"\")","v":""},null,null,null,null,null,null,null,null,null,null,null,null,null,{"$f":"IF(AQ73>0,VLOOKUP(AQ73,DersYükü!$A$14:$W$39,13,FALSE),\"\")","v":""},{"$f":"IF(AR73>0,VLOOKUP(AR73,DersYükü!$A$14:$W$39,13,FALSE),\"\")","v":""},{"$f":"IF(AS73>0,VLOOKUP(AS73,DersYükü!$A$14:$W$39,13,FALSE),\"\")","v":""},{"$f":"IF(AT73>0,VLOOKUP(AT73,DersYükü!$A$14:$W$39,13,FALSE),\"\")","v":""},{"$f":"IF(AU73>0,VLOOKUP(AU73,DersYükü!$A$14:$W$39,13,FALSE),\"\")","v":""},{"$f":"IF(AV73>0,VLOOKUP(AV73,DersYükü!$A$14:$W$39,13,FALSE),\"\")","v":""},{"$f":"IF(AW73>0,VLOOKUP(AW73,DersYükü!$A$14:$W$39,13,FALSE),\"\")","v":""},{"$f":"IF(AX73>0,VLOOKUP(AX73,DersYükü!$A$14:$W$39,13,FALSE),\"\")","v":""},{"$f":"IF(AY73>0,VLOOKUP(AY73,DersYükü!$A$14:$W$39,13,FALSE),\"\")","v":""},{"$f":"IF(AZ73>0,VLOOKUP(AZ73,DersYükü!$A$14:$W$39,13,FALSE),\"\")","v":""},{"$f":"IF(BA73>0,VLOOKUP(BA73,DersYükü!$A$14:$W$39,13,FALSE),\"\")","v":""},{"$f":"IF(BB73>0,VLOOKUP(BB73,DersYükü!$A$14:$W$39,13,FALSE),\"\")","v":""},{"$f":"IF(BC73>0,VLOOKUP(BC73,DersYükü!$A$14:$W$39,13,FALSE),\"\")","v":""},{"$f":"IF(BD73>0,VLOOKUP(BD73,DersYükü!$A$14:$W$39,13,FALSE),\"\")","v":""},{"$f":"IF(BE73>0,VLOOKUP(BE73,DersYükü!$A$14:$W$39,13,FALSE),\"\")","v":""},{"$f":"IF(BF73>0,VLOOKUP(BF73,DersYükü!$A$14:$W$39,13,FALSE),\"\")","v":""},{"$f":"IF(BG73>0,VLOOKUP(BG73,DersYükü!$A$14:$W$39,13,FALSE),\"\")","v":""},{"$f":"IF(BH73>0,VLOOKUP(BH73,DersYükü!$A$14:$W$39,13,FALSE),\"\")","v":""}]
[null,null,null,null,null,null,null,null,"20:15-21:00",null,null,{"$f":"IF(L74=\"\",\"\",L74)","v":0},0,0,0,0,0,0,0,0,0,0,0,0,0,0,0,0,0,null,null,null,null,null,null,null,null,null,null,"20:15-21:00",null,null,{"$f":"IF(AQ74=\"\",\"\",AQ74)","v":0},0,0,0,0,0,0,0,0,0,0,0,0,0,0,0,0,0]
[null,null,null,null,null,null,null,null,null,null,null,{"$f":"IF(L74>0,VLOOKUP(L74,DersYükü!$A$14:$W$39,13,FALSE),\"\")","v":""},{"$f":"IF(M74>0,VLOOKUP(M74,DersYükü!$A$14:$W$39,13,FALSE),\"\")","v":""},{"$f":"IF(N74>0,VLOOKUP(N74,DersYükü!$A$14:$W$39,13,FALSE),\"\")","v":""},{"$f":"IF(O74>0,VLOOKUP(O74,DersYükü!$A$14:$W$39,13,FALSE),\"\")","v":""},{"$f":"IF(P74>0,VLOOKUP(P74,DersYükü!$A$14:$W$39,13,FALSE),\"\")","v":""},{"$f":"IF(Q74>0,VLOOKUP(Q74,DersYükü!$A$14:$W$39,13,FALSE),\"\")","v":""},{"$f":"IF(R74>0,VLOOKUP(R74,DersYükü!$A$14:$W$39,13,FALSE),\"\")","v":""},{"$f":"IF(S74>0,VLOOKUP(S74,DersYükü!$A$14:$W$39,13,FALSE),\"\")","v":""},{"$f":"IF(T74>0,VLOOKUP(T74,DersYükü!$A$14:$W$39,13,FALSE),\"\")","v":""},{"$f":"IF(U74>0,VLOOKUP(U74,DersYükü!$A$14:$W$39,13,FALSE),\"\")","v":""},{"$f":"IF(V74>0,VLOOKUP(V74,DersYükü!$A$14:$W$39,13,FALSE),\"\")","v":""},{"$f":"IF(W74>0,VLOOKUP(W74,DersYükü!$A$14:$W$39,13,FALSE),\"\")","v":""},{"$f":"IF(X74>0,VLOOKUP(X74,DersYükü!$A$14:$W$39,13,FALSE),\"\")","v":""},{"$f":"IF(Y74>0,VLOOKUP(Y74,DersYükü!$A$14:$W$39,13,FALSE),\"\")","v":""},{"$f":"IF(Z74>0,VLOOKUP(Z74,DersYükü!$A$14:$W$39,13,FALSE),\"\")","v":""},{"$f":"IF(AA74>0,VLOOKUP(AA74,DersYükü!$A$14:$W$39,13,FALSE),\"\")","v":""},{"$f":"IF(AB74>0,VLOOKUP(AB74,DersYükü!$A$14:$W$39,13,FALSE),\"\")","v":""},{"$f":"IF(AC74>0,VLOOKUP(AC74,DersYükü!$A$14:$W$39,13,FALSE),\"\")","v":""},null,null,null,null,null,null,null,null,null,null,null,null,null,{"$f":"IF(AQ74>0,VLOOKUP(AQ74,DersYükü!$A$14:$W$39,13,FALSE),\"\")","v":""},{"$f":"IF(AR74>0,VLOOKUP(AR74,DersYükü!$A$14:$W$39,13,FALSE),\"\")","v":""},{"$f":"IF(AS74>0,VLOOKUP(AS74,DersYükü!$A$14:$W$39,13,FALSE),\"\")","v":""},{"$f":"IF(AT74>0,VLOOKUP(AT74,DersYükü!$A$14:$W$39,13,FALSE),\"\")","v":""},{"$f":"IF(AU74>0,VLOOKUP(AU74,DersYükü!$A$14:$W$39,13,FALSE),\"\")","v":""},{"$f":"IF(AV74>0,VLOOKUP(AV74,DersYükü!$A$14:$W$39,13,FALSE),\"\")","v":""},{"$f":"IF(AW74>0,VLOOKUP(AW74,DersYükü!$A$14:$W$39,13,FALSE),\"\")","v":""},{"$f":"IF(AX74>0,VLOOKUP(AX74,DersYükü!$A$14:$W$39,13,FALSE),\"\")","v":""},{"$f":"IF(AY74>0,VLOOKUP(AY74,DersYükü!$A$14:$W$39,13,FALSE),\"\")","v":""},{"$f":"IF(AZ74>0,VLOOKUP(AZ74,DersYükü!$A$14:$W$39,13,FALSE),\"\")","v":""},{"$f":"IF(BA74>0,VLOOKUP(BA74,DersYükü!$A$14:$W$39,13,FALSE),\"\")","v":""},{"$f":"IF(BB74>0,VLOOKUP(BB74,DersYükü!$A$14:$W$39,13,FALSE),\"\")","v":""},{"$f":"IF(BC74>0,VLOOKUP(BC74,DersYükü!$A$14:$W$39,13,FALSE),\"\")","v":""},{"$f":"IF(BD74>0,VLOOKUP(BD74,DersYükü!$A$14:$W$39,13,FALSE),\"\")","v":""},{"$f":"IF(BE74>0,VLOOKUP(BE74,DersYükü!$A$14:$W$39,13,FALSE),\"\")","v":""},{"$f":"IF(BF74>0,VLOOKUP(BF74,DersYükü!$A$14:$W$39,13,FALSE),\"\")","v":""},{"$f":"IF(BG74>0,VLOOKUP(BG74,DersYükü!$A$14:$W$39,13,FALSE),\"\")","v":""},{"$f":"IF(BH74>0,VLOOKUP(BH74,DersYükü!$A$14:$W$39,13,FALSE),\"\")","v":""}]
[null,null,null,null,null,null,null,null,"21:15-22:00",null,null,{"$f":"IF(L75=\"\",\"\",L75)","v":0},0,0,0,0,0,0,0,0,0,0,0,0,0,0,0,0,0,null,null,null,null,null,null,null,null,null,null,"21:15-22:00",null,null,{"$f":"IF(AQ75=\"\",\"\",AQ75)","v":0},0,0,0,0,0,0,0,0,0,0,0,0,0,0,0,0,0]
[null,null,null,null,null,null,null,null,null,null,null,{"$f":"IF(L75>0,VLOOKUP(L75,DersYükü!$A$14:$W$39,13,FALSE),\"\")","v":""},{"$f":"IF(M75>0,VLOOKUP(M75,DersYükü!$A$14:$W$39,13,FALSE),\"\")","v":""},{"$f":"IF(N75>0,VLOOKUP(N75,DersYükü!$A$14:$W$39,13,FALSE),\"\")","v":""},{"$f":"IF(O75>0,VLOOKUP(O75,DersYükü!$A$14:$W$39,13,FALSE),\"\")","v":""},{"$f":"IF(P75>0,VLOOKUP(P75,DersYükü!$A$14:$W$39,13,FALSE),\"\")","v":""},{"$f":"IF(Q75>0,VLOOKUP(Q75,DersYükü!$A$14:$W$39,13,FALSE),\"\")","v":""},{"$f":"IF(R75>0,VLOOKUP(R75,DersYükü!$A$14:$W$39,13,FALSE),\"\")","v":""},{"$f":"IF(S75>0,VLOOKUP(S75,DersYükü!$A$14:$W$39,13,FALSE),\"\")","v":""},{"$f":"IF(T75>0,VLOOKUP(T75,DersYükü!$A$14:$W$39,13,FALSE),\"\")","v":""},{"$f":"IF(U75>0,VLOOKUP(U75,DersYükü!$A$14:$W$39,13,FALSE),\"\")","v":""},{"$f":"IF(V75>0,VLOOKUP(V75,DersYükü!$A$14:$W$39,13,FALSE),\"\")","v":""},{"$f":"IF(W75>0,VLOOKUP(W75,DersYükü!$A$14:$W$39,13,FALSE),\"\")","v":""},{"$f":"IF(X75>0,VLOOKUP(X75,DersYükü!$A$14:$W$39,13,FALSE),\"\")","v":""},{"$f":"IF(Y75>0,VLOOKUP(Y75,DersYükü!$A$14:$W$39,13,FALSE),\"\")","v":""},{"$f":"IF(Z75>0,VLOOKUP(Z75,DersYükü!$A$14:$W$39,13,FALSE),\"\")","v":""},{"$f":"IF(AA75>0,VLOOKUP(AA75,DersYükü!$A$14:$W$39,13,FALSE),\"\")","v":""},{"$f":"IF(AB75>0,VLOOKUP(AB75,DersYükü!$A$14:$W$39,13,FALSE),\"\")","v":""},{"$f":"IF(AC75>0,VLOOKUP(AC75,DersYükü!$A$14:$W$39,13,FALSE),\"\")","v":""},null,null,null,null,null,null,null,null,null,null,null,null,null,{"$f":"IF(AQ75>0,VLOOKUP(AQ75,DersYükü!$A$14:$W$39,13,FALSE),\"\")","v":""},{"$f":"IF(AR75>0,VLOOKUP(AR75,DersYükü!$A$14:$W$39,13,FALSE),\"\")","v":""},{"$f":"IF(AS75>0,VLOOKUP(AS75,DersYükü!$A$14:$W$39,13,FALSE),\"\")","v":""},{"$f":"IF(AT75>0,VLOOKUP(AT75,DersYükü!$A$14:$W$39,13,FALSE),\"\")","v":""},{"$f":"IF(AU75>0,VLOOKUP(AU75,DersYükü!$A$14:$W$39,13,FALSE),\"\")","v":""},{"$f":"IF(AV75>0,VLOOKUP(AV75,DersYükü!$A$14:$W$39,13,FALSE),\"\")","v":""},{"$f":"IF(AW75>0,VLOOKUP(AW75,DersYükü!$A$14:$W$39,13,FALSE),\"\")","v":""},{"$f":"IF(AX75>0,VLOOKUP(AX75,DersYükü!$A$14:$W$39,13,FALSE),\"\")","v":""},{"$f":"IF(AY75>0,VLOOKUP(AY75,DersYükü!$A$14:$W$39,13,FALSE),\"\")","v":""},{"$f":"IF(AZ75>0,VLOOKUP(AZ75,DersYükü!$A$14:$W$39,13,FALSE),\"\")","v":""},{"$f":"IF(BA75>0,VLOOKUP(BA75,DersYükü!$A$14:$W$39,13,FALSE),\"\")","v":""},{"$f":"IF(BB75>0,VLOOKUP(BB75,DersYükü!$A$14:$W$39,13,FALSE),\"\")","v":""},{"$f":"IF(BC75>0,VLOOKUP(BC75,DersYükü!$A$14:$W$39,13,FALSE),\"\")","v":""},{"$f":"IF(BD75>0,VLOOKUP(BD75,DersYükü!$A$14:$W$39,13,FALSE),\"\")","v":""},{"$f":"IF(BE75>0,VLOOKUP(BE75,DersYükü!$A$14:$W$39,13,FALSE),\"\")","v":""},{"$f":"IF(BF75>0,VLOOKUP(BF75,DersYükü!$A$14:$W$39,13,FALSE),\"\")","v":""},{"$f":"IF(BG75>0,VLOOKUP(BG75,DersYükü!$A$14:$W$39,13,FALSE),\"\")","v":""},{"$f":"IF(BH75>0,VLOOKUP(BH75,DersYükü!$A$14:$W$39,13,FALSE),\"\")","v":""}]
[null,null,null,null,null,null,null,null,"22:15-23:00",null,null,{"$f":"IF(L76=\"\",\"\",L76)","v":0},0,0,0,0,0,0,0,0,0,0,0,0,0,0,0,0,0,null,null,null,null,null,null,null,null,null,null,"22:15-23:00",null,null,{"$f":"IF(AQ76=\"\",\"\",AQ76)","v":0},0,0,0,0,0,0,0,0,0,0,0,0,0,0,0,0,0]
[null,null,null,null,null,null,null,null,null,null,null,{"$f":"IF(L76>0,VLOOKUP(L76,DersYükü!$A$14:$W$39,13,FALSE),\"\")","v":""},{"$f":"IF(M76>0,VLOOKUP(M76,DersYükü!$A$14:$W$39,13,FALSE),\"\")","v":""},{"$f":"IF(N76>0,VLOOKUP(N76,DersYükü!$A$14:$W$39,13,FALSE),\"\")","v":""},{"$f":"IF(O76>0,VLOOKUP(O76,DersYükü!$A$14:$W$39,13,FALSE),\"\")","v":""},{"$f":"IF(P76>0,VLOOKUP(P76,DersYükü!$A$14:$W$39,13,FALSE),\"\")","v":""},{"$f":"IF(Q76>0,VLOOKUP(Q76,DersYükü!$A$14:$W$39,13,FALSE),\"\")","v":""},{"$f":"IF(R76>0,VLOOKUP(R76,DersYükü!$A$14:$W$39,13,FALSE),\"\")","v":""},{"$f":"IF(S76>0,VLOOKUP(S76,DersYükü!$A$14:$W$39,13,FALSE),\"\")","v":""},{"$f":"IF(T76>0,VLOOKUP(T76,DersYükü!$A$14:$W$39,13,FALSE),\"\")","v":""},{"$f":"IF(U76>0,VLOOKUP(U76,DersYükü!$A$14:$W$39,13,FALSE),\"\")","v":""},{"$f":"IF(V76>0,VLOOKUP(V76,DersYükü!$A$14:$W$39,13,FALSE),\"\")","v":""},{"$f":"IF(W76>0,VLOOKUP(W76,DersYükü!$A$14:$W$39,13,FALSE),\"\")","v":""},{"$f":"IF(X76>0,VLOOKUP(X76,DersYükü!$A$14:$W$39,13,FALSE),\"\")","v":""},{"$f":"IF(Y76>0,VLOOKUP(Y76,DersYükü!$A$14:$W$39,13,FALSE),\"\")","v":""},{"$f":"IF(Z76>0,VLOOKUP(Z76,DersYükü!$A$14:$W$39,13,FALSE),\"\")","v":""},{"$f":"IF(AA76>0,VLOOKUP(AA76,DersYükü!$A$14:$W$39,13,FALSE),\"\")","v":""},{"$f":"IF(AB76>0,VLOOKUP(AB76,DersYükü!$A$14:$W$39,13,FALSE),\"\")","v":""},{"$f":"IF(AC76>0,VLOOKUP(AC76,DersYükü!$A$14:$W$39,13,FALSE),\"\")","v":""},null,null,null,null,null,null,null,null,null,null,null,null,null,{"$f":"IF(AQ76>0,VLOOKUP(AQ76,DersYükü!$A$14:$W$39,13,FALSE),\"\")","v":""},{"$f":"IF(AR76>0,VLOOKUP(AR76,DersYükü!$A$14:$W$39,13,FALSE),\"\")","v":""},{"$f":"IF(AS76>0,VLOOKUP(AS76,DersYükü!$A$14:$W$39,13,FALSE),\"\")","v":""},{"$f":"IF(AT76>0,VLOOKUP(AT76,DersYükü!$A$14:$W$39,13,FALSE),\"\")","v":""},{"$f":"IF(AU76>0,VLOOKUP(AU76,DersYükü!$A$14:$W$39,13,FALSE),\"\")","v":""},{"$f":"IF(AV76>0,VLOOKUP(AV76,DersYükü!$A$14:$W$39,13,FALSE),\"\")","v":""},{"$f":"IF(AW76>0,VLOOKUP(AW76,DersYükü!$A$14:$W$39,13,FALSE),\"\")","v":""},{"$f":"IF(AX76>0,VLOOKUP(AX76,DersYükü!$A$14:$W$39,13,FALSE),\"\")","v":""},{"$f":"IF(AY76>0,VLOOKUP(AY76,DersYükü!$A$14:$W$39,13,FALSE),\"\")","v":""},{"$f":"IF(AZ76>0,VLOOKUP(AZ76,DersYükü!$A$14:$W$39,13,FALSE),\"\")","v":""},{"$f":"IF(BA76>0,VLOOKUP(BA76,DersYükü!$A$14:$W$39,13,FALSE),\"\")","v":""},{"$f":"IF(BB76>0,VLOOKUP(BB76,DersYükü!$A$14:$W$39,13,FALSE),\"\")","v":""},{"$f":"IF(BC76>0,VLOOKUP(BC76,DersYükü!$A$14:$W$39,13,FALSE),\"\")","v":""},{"$f":"IF(BD76>0,VLOOKUP(BD76,DersYükü!$A$14:$W$39,13,FALSE),\"\")","v":""},{"$f":"IF(BE76>0,VLOOKUP(BE76,DersYükü!$A$14:$W$39,13,FALSE),\"\")","v":""},{"$f":"IF(BF76>0,VLOOKUP(BF76,DersYükü!$A$14:$W$39,13,FALSE),\"\")","v":""},{"$f":"IF(BG76>0,VLOOKUP(BG76,DersYükü!$A$14:$W$39,13,FALSE),\"\")","v":""},{"$f":"IF(BH76>0,VLOOKUP(BH76,DersYükü!$A$14:$W$39,13,FALSE),\"\")","v":""}]
[]
[]
[null,null,null,null,null,null,null,null,"toplam",null,null,"TEO","DF","TEO","DF","TEO","DF","TEO","DF","TEO","DF","TEO","DF","TEO","DF","TEO","DF","TEO","DF",null,null,null,null,null,null,null,null,null,null,"toplam",null,null,"TEO","DF","TEO","DF","TEO","DF","TEO","DF","TEO","DF","TEO","DF","TEO","DF","TEO","DF","TEO","DF"]
[null,null,null,null,null,null,null,null,"TEO","DF",null,"PAZARTESİ",null,"SALI",null,"ÇARŞAMBA",null,"PERŞEMBE",null,"CUMA",null,"CUMARTESİ",null,"C. TESİ (İ.Ö)",null,"PAZAR",null,"PAZAR (İ.Ö)",null,null,null,null,null,null,null,null,null,null,null,"TEO","DF",null,"PAZARTESİ",null,"SALI",null,"ÇARŞAMBA",null,"PERŞEMBE",null,"CUMA",null,"CUMARTESİ",null,"C. TESİ (İ.Ö)",null,"PAZAR",null,"PAZAR (İ.Ö)"]
[null,null,null,null,null,null,{"$f":"IF(Ekders!$F$41=\"\",\"\",Ekders!$F$41)","v":"Mühendislik Fakültesi"},null,{"$f":"SUM(L248+N248+P248+R248+T248+V248+AB248)","v":0},{"$f":"SUM(M248+O248+Q248+S248+U248+W248+AA248)","v":0},{"$f":"SUM(L248:W248)+SUM(Z248:AA248)","v":0},{"$f":"IF($G248=\"\",0,IF(COUNTIF(L$210:L$227,$G248)=0,0,COUNTIF(L$210:L$227,$G248)))","v":0},{"$f":"IF($G248=\"\",0,IF(COUNTIF(M$210:M$227,$G248)=0,0,COUNTIF(M$210:M$227,$G248)))","v":0},0,0,0,0,0,0,0,0,{"$f":"IF($G248=\"\",0,IF(COUNTIF(V$210:V$243,$G248)=0,0,COUNTIF(V$210:V$243,$G248)))","v":0},0,null,null,{"$f":"IF($G248=\"\",0,IF(COUNTIF(Z$210:Z$243,$G248)=0,0,COUNTIF(Z$210:Z$243,$G248)))","v":0},0,null,null,null,null,null,null,null,null,null,null,{"$f":"IF(Ekders!$F$41=\"\",\"\",Ekders!$F$41)","v":"Mühendislik Fakültesi"},null,{"$f":"SUM(AQ248+AS248+AU248+AW248+AY248+BA248+BG248)","v":0},{"$f":"SUM(AR248+AT248+AV248+AX248+AZ248+BB248+BF248)","v":0},{"$f":"SUM(AQ248:BB248)+SUM(BE248:BF248)","v":0},{"$f":"IF($G248=\"\",0,IF(COUNTIF(AQ$210:AQ$227,$G248)=0,0,COUNTIF(AQ$210:AQ$227,$G248)))","v":0},{"$f":"IF($G248=\"\",0,IF(COUNTIF(AR$210:AR$227,$G248)=0,0,COUNTIF(AR$210:AR$227,$G248)))","v":0},0,0,0,0,0,0,0,0,{"$f":"IF($G248=\"\",0,IF(COUNTIF(BA$210:BA$243,$G248)=0,0,COUNTIF(BA$210:BA$243,$G248)))","v":0},0,null,null,{"$f":"IF($G248=\"\",0,IF(COUNTIF(BE$210:BE$243,$G248)=0,0,COUNTIF(BE$210:BE$243,$G248)))","v":0},0]
[null,null,null,null,null,null,{"$f":"IF(Ekders!$F$42=\"\",\"\",Ekders!$F$42)","v":""},null,{"$f":"SUM(L249+N249+P249+R249+T249+V249+Z249)","v":0},{"$f":"SUM(M249+O249+Q249+S249+U249+W249+AA249)","v":0},{"$f":"SUM(L249:W249)+SUM(Z249:AA249)","v":0},{"$f":"IF($G249=\"\",0,IF(COUNTIF(L$210:L$227,$G249)=0,0,COUNTIF(L$210:L$227,$G249)))","v":0},0,0,0,0,0,0,0,0,0,0,0,null,null,0,0,null,null,null,null,null,null,null,null,null,null,{"$f":"IF(Ekders!$F$42=\"\",\"\",Ekders!$F$42)","v":""},null,{"$f":"SUM(AQ249+AS249+AU249+AW249+AY249+BA249+BE249)","v":0},{"$f":"SUM(AR249+AT249+AV249+AX249+AZ249+BB249+BF249)","v":0},{"$f":"SUM(AQ249:BB249)+SUM(BE249:BF249)","v":0},{"$f":"IF($G249=\"\",0,IF(COUNTIF(AQ$210:AQ$227,$G249)=0,0,COUNTIF(AQ$210:AQ$227,$G249)))","v":0},0,0,0,0,0,0,0,0,0,0,0,null,null,0,0]
[null,null,null,null,null,null,{"$f":"IF(Ekders!$F$43=\"\",\"\",Ekders!$F$43)","v":""},null,{"$f":"SUM(L250+N250+P250+R250+T250+V250+Z250)","v":0},{"$f":"SUM(M250+O250+Q250+S250+U250+W250+AA250)","v":0},{"$f":"SUM(L250:W250)+SUM(Z250:AA250)","v":0},{"$f":"IF($G250=\"\",0,IF(COUNTIF(L$210:L$227,$G250)=0,0,COUNTIF(L$210:L$227,$G250)))","v":0},0,0,0,0,0,0,0,0,0,0,0,null,null,0,0,null,null,null,null,null,null,null,null,null,null,{"$f":"IF(Ekders!$F$43=\"\",\"\",Ekders!$F$43)","v":""},null,{"$f":"SUM(AQ250+AS250+AU250+AW250+AY250+BA250+BE250)","v":0},{"$f":"SUM(AR250+AT250+AV250+AX250+AZ250+BB250+BF250)","v":0},{"$f":"SUM(AQ250:BB250)+SUM(BE250:BF250)","v":0},{"$f":"IF($G250=\"\",0,IF(COUNTIF(AQ$210:AQ$227,$G250)=0,0,COUNTIF(AQ$210:AQ$227,$G250)))","v":0},0,0,0,0,0,0,0,0,0,0,0,null,null,0,0]
[null,null,null,null,null,null,{"$f":"IF(Ekders!$F$44=\"\",\"\",Ekders!$F$44)","v":""},null,{"$f":"SUM(L251+N251+P251+R251+T251+V251+Z251)","v":0},{"$f":"SUM(M251+O251+Q251+S251+U251+W251+AA251)","v":0},{"$f":"SUM(L251:W251)+SUM(Z251:AA251)","v":0},{"$f":"IF($G251=\"\",0,IF(COUNTIF(L$210:L$227,$G251)=0,0,COUNTIF(L$210:L$227,$G251)))","v":0},0,0,0,0,0,0,0,0,0,0,0,null,null,0,0,null,null,null,null,null,null,null,null,null,null,{"$f":"IF(Ekders!$F$44=\"\",\"\",Ekders!$F$44)","v":""},null,{"$f":"SUM(AQ251+AS251+AU251+AW251+AY251+BA251+BE251)","v":0},{"$f":"SUM(AR251+AT251+AV251+AX251+AZ251+BB251+BF251)","v":0},{"$f":"SUM(AQ251:BB251)+SUM(BE251:BF251)","v":0},{"$f":"IF($G251=\"\",0,IF(COUNTIF(AQ$210:AQ$227,$G251)=0,0,COUNTIF(AQ$210:AQ$227,$G251)))","v":0},0,0,0,0,0,0,0,0,0,0,0,null,null,0,0]
[null,null,null,null,null,null,{"$f":"IF(Ekders!$F$45=\"\",\"\",Ekders!$F$45)","v":""},null,{"$f":"SUM(L252+N252+P252+R252+T252+V252+Z252)","v":0},{"$f":"SUM(M252+O252+Q252+S252+U252+W252+AA252)","v":0},{"$f":"SUM(L252:W252)+SUM(Z252:AA252)","v":0},{"$f":"IF($G252=\"\",0,IF(COUNTIF(L$210:L$227,$G252)=0,0,COUNTIF(L$210:L$227,$G252)))","v":0},0,0,0,0,0,0,0,0,0,0,0,null,null,0,0,null,null,null,null,null,null,null,null,null,null,{"$f":"IF(Ekders!$F$45=\"\",\"\",Ekders!$F$45)","v":""},null,{"$f":"SUM(AQ252+AS252+AU252+AW252+AY252+BA252+BE252)","v":0},{"$f":"SUM(AR252+AT252+AV252+AX252+AZ252+BB252+BF252)","v":0},{"$f":"SUM(AQ252:BB252)+SUM(BE252:BF252)","v":0},{"$f":"IF($G252=\"\",0,IF(COUNTIF(AQ$210:AQ$227,$G252)=0,0,COUNTIF(AQ$210:AQ$227,$G252)))","v":0},0,0,0,0,0,0,0,0,0,0,0,null,null,0,0]
[null,null,null,null,null,null,null,null,null,null,{"$f":"SUM(K248:K252)","v":0},null,null,null,null,null,null,null,null,null,null,null,null,null,null,null,null,null,null,null,null,null,null,null,null,null,null,null,null,null,null,{"$f":"SUM(AP248:AP252)","v":0}]
[]
[]
[null,null,null,null,null,null,{"$f":"IF(Ekders!$F$71=\"\",\"\",Ekders!$F$71)","v":""},null,{"$f":"SUM(L256+N256+P256+R256+T256+X256+AB256)","v":0},0,{"$f":"SUM(L256:U256)+SUM(X256:Y256)+SUM(AB256:AC256)","v":0},{"$f":"IF($G256=\"\",0,IF(COUNTIF(L$228:L$243,$G256)=0,0,COUNTIF(L$228:L$243,$G256)))","v":0},0,0,0,0,0,0,0,0,0,null,null,{"$f":"IF($G256=\"\",0,IF(COUNTIF(X$210:X$243,$G256)=0,0,COUNTIF(X$210:X$243,$G256)))","v":0},0,null,null,{"$f":"IF($G256=\"\",0,IF(COUNTIF(AB$210:AB$243,$G256)=0,0,COUNTIF(AB$210:AB$243,$G256)))","v":0},0,null,null,null,null,null,null,null,null,{"$f":"IF(Ekders!$F$71=\"\",\"\",Ekders!$F$71)","v":""},null,{"$f":"SUM(AQ256+AS256+AU256+AW256+AY256+BC256+BG256)","v":0},0,{"$f":"SUM(AQ256:AZ256)+SUM(BC256:BD256)+SUM(BG256:BH256)","v":0},{"$f":"IF($G256=\"\",0,IF(COUNTIF(AQ$228:AQ$243,$G256)=0,0,COUNTIF(AQ$228:AQ$243,$G256)))","v":0},0,0,0,0,0,0,0,0,0,null,null,{"$f":"IF($G256=\"\",0,IF(COUNTIF(BC$210:BC$243,$G256)=0,0,COUNTIF(BC$210:BC$243,$G256)))","v":0},0,null,null,{"$f":"IF($G256=\"\",0,IF(COUNTIF(BG$210:BG$243,$G256)=0,0,COUNTIF(BG$210:BG$243,$G256)))","v":0},0]
[null,null,null,null,null,null,{"$f":"IF(Ekders!$F$72=\"\",\"\",Ekders!$F$72)","v":""},null,0,0,{"$f":"SUM(L257:U257)+SUM(X257:Y257)+SUM(AB257:AC257)","v":0},0,0,0,0,0,0,0,0,0,0,null,null,0,0,null,null,0,0,null,null,null,null,null,null,null,null,{"$f":"IF(Ekders!$F$72=\"\",\"\",Ekders!$F$72)","v":""},null,0,0,{"$f":"SUM(AQ257:AZ257)+SUM(BC257:BD257)+SUM(BG257:BH257)","v":0},0,0,0,0,0,0,0,0,0,0,null,null,0,0,null,null,0,0]
[null,null,null,null,null,null,{"$f":"IF(Ekders!$F$73=\"\",\"\",Ekders!$F$73)","v":""},null,0,0,{"$f":"SUM(L258:U258)+SUM(X258:Y258)+SUM(AB258:AC258)","v":0},0,0,0,0,0,0,0,0,0,0,null,null,0,0,null,null,0,0,null,null,null,null,null,null,null,null,{"$f":"IF(Ekders!$F$73=\"\",\"\",Ekders!$F$73)","v":""},null,0,0,{"$f":"SUM(AQ258:AZ258)+SUM(BC258:BD258)+SUM(BG258:BH258)","v":0},0,0,0,0,0,0,0,0,0,0,null,null,0,0,null,null,0,0]
[null,null,null,null,null,null,{"$f":"IF(Ekders!$F$74=\"\",\"\",Ekders!$F$74)","v":""},null,0,0,{"$f":"SUM(L259:U259)+SUM(X259:Y259)+SUM(AB259:AC259)","v":0},0,0,0,0,0,0,0,0,0,0,null,null,0,0,null,null,0,0,null,null,null,null,null,null,null,null,{"$f":"IF(Ekders!$F$74=\"\",\"\",Ekders!$F$74)","v":""},null,0,0,{"$f":"SUM(AQ259:AZ259)+SUM(BC259:BD259)+SUM(BG259:BH259)","v":0},0,0,0,0,0,0,0,0,0,0,null,null,0,0,null,null,0,0]
[]
[]
[]
[null,null,null,null,null,"5.hafta",null,null,null,null,null,"TEO","DF","TEO","DF","TEO","DF","TEO","DF","TEO","DF","TEO","DF","TEO","DF","TEO","DF","TEO","DF"]
[null,null,null,null,null,null,null,null,null,null,"SAAT","PAZARTESİ",null,"SALI",null,"ÇARŞAMBA",null,"PERŞEMBE",null,"CUMA",null,"CUMARTESİ",null,"C. TESİ (İ.Ö)",null,"PAZAR",null,"PAZAR (İ.Ö)"]
[null,null,null,null,null,null,null,null,"08:15-09:00",null,null,{"$f":"IF(L114=\"\",\"\",L114)","v":0},0,0,0,0,0,0,0,0,0,0,0,0,0,0,0,0,0]
[null,null,null,null,null,null,null,null,null,null,null,{"$f":"IF(L114>0,VLOOKUP(L114,DersYükü!$A$14:$W$39,13,FALSE),\"\")","v":""},{"$f":"IF(M114>0,VLOOKUP(M114,DersYükü!$A$14:$W$39,13,FALSE),\"\")","v":""},{"$f":"IF(N114>0,VLOOKUP(N114,DersYükü!$A$14:$W$39,13,FALSE),\"\")","v":""},{"$f":"IF(O114>0,VLOOKUP(O114,DersYükü!$A$14:$W$39,13,FALSE),\"\")","v":""},{"$f":"IF(P114>0,VLOOKUP(P114,DersYükü!$A$14:$W$39,13,FALSE),\"\")","v":""},{"$f":"IF(Q114>0,VLOOKUP(Q114,DersYükü!$A$14:$W$39,13,FALSE),\"\")","v":""},{"$f":"IF(R114>0,VLOOKUP(R114,DersYükü!$A$14:$W$39,13,FALSE),\"\")","v":""},{"$f":"IF(S114>0,VLOOKUP(S114,DersYükü!$A$14:$W$39,13,FALSE),\"\")","v":""},{"$f":"IF(T114>0,VLOOKUP(T114,DersYükü!$A$14:$W$39,13,FALSE),\"\")","v":""},{"$f":"IF(U114>0,VLOOKUP(U114,DersYükü!$A$14:$W$39,13,FALSE),\"\")","v":""},{"$f":"IF(V114>0,VLOOKUP(V114,DersYükü!$A$14:$W$39,13,FALSE),\"\")","v":""},{"$f":"IF(W114>0,VLOOKUP(W114,DersYükü!$A$14:$W$39,13,FALSE),\"\")","v":""},{"$f":"IF(X114>0,VLOOKUP(X114,DersYükü!$A$14:$W$39,13,FALSE),\"\")","v":""},{"$f":"IF(Y114>0,VLOOKUP(Y114,DersYükü!$A$14:$W$39,13,FALSE),\"\")","v":""},{"$f":"IF(Z114>0,VLOOKUP(Z114,DersYükü!$A$14:$W$39,13,FALSE),\"\")","v":""},{"$f":"IF(AA114>0,VLOOKUP(AA114,DersYükü!$A$14:$W$39,13,FALSE),\"\")","v":""},{"$f":"IF(AB114>0,VLOOKUP(AB114,DersYükü!$A$14:$W$39,13,FALSE),\"\")","v":""},{"$f":"IF(AC114>0,VLOOKUP(AC114,DersYükü!$A$14:$W$39,13,FALSE),\"\")","v":""}]
[null,null,null,null,null,null,null,null,"09:15-10:00",null,null,{"$f":"IF(L115=\"\",\"\",L115)","v":0},0,0,0,0,0,0,0,0,0,0,0,0,0,0,0,0,0]
[null,null,null,null,null,null,null,null,null,null,null,{"$f":"IF(L115>0,VLOOKUP(L115,DersYükü!$A$14:$W$39,13,FALSE),\"\")","v":""},{"$f":"IF(M115>0,VLOOKUP(M115,DersYükü!$A$14:$W$39,13,FALSE),\"\")","v":""},{"$f":"IF(N115>0,VLOOKUP(N115,DersYükü!$A$14:$W$39,13,FALSE),\"\")","v":""},{"$f":"IF(O115>0,VLOOKUP(O115,DersYükü!$A$14:$W$39,13,FALSE),\"\")","v":""},{"$f":"IF(P115>0,VLOOKUP(P115,DersYükü!$A$14:$W$39,13,FALSE),\"\")","v":""},{"$f":"IF(Q115>0,VLOOKUP(Q115,DersYükü!$A$14:$W$39,13,FALSE),\"\")","v":""},{"$f":"IF(R115>0,VLOOKUP(R115,DersYükü!$A$14:$W$39,13,FALSE),\"\")","v":""},{"$f":"IF(S115>0,VLOOKUP(S115,DersYükü!$A$14:$W$39,13,FALSE),\"\")","v":""},{"$f":"IF(T115>0,VLOOKUP(T115,DersYükü!$A$14:$W$39,13,FALSE),\"\")","v":""},{"$f":"IF(U115>0,VLOOKUP(U115,DersYükü!$A$14:$W$39,13,FALSE),\"\")","v":""},{"$f":"IF(V115>0,VLOOKUP(V115,DersYükü!$A$14:$W$39,13,FALSE),\"\")","v":""},{"$f":"IF(W115>0,VLOOKUP(W115,DersYükü!$A$14:$W$39,13,FALSE),\"\")","v":""},{"$f":"IF(X115>0,VLOOKUP(X115,DersYükü!$A$14:$W$39,13,FALSE),\"\")","v":""},{"$f":"IF(Y115>0,VLOOKUP(Y115,DersYükü!$A$14:$W$39,13,FALSE),\"\")","v":""},{"$f":"IF(Z115>0,VLOOKUP(Z115,DersYükü!$A$14:$W$39,13,FALSE),\"\")","v":""},{"$f":"IF(AA115>0,VLOOKUP(AA115,DersYükü!$A$14:$W$39,13,FALSE),\"\")","v":""},{"$f":"IF(AB115>0,VLOOKUP(AB115,DersYükü!$A$14:$W$39,13,FALSE),\"\")","v":""},{"$f":"IF(AC115>0,VLOOKUP(AC115,DersYükü!$A$14:$W$39,13,FALSE),\"\")","v":""}]
[null,null,null,null,null,null,null,null,"10:15-11:00",null,null,{"$f":"IF(L116=\"\",\"\",L116)","v":0},0,0,0,0,0,0,0,0,0,0,0,0,0,0,0,0,0]
[null,null,null,null,null,null,null,null,null,null,null,{"$f":"IF(L116>0,VLOOKUP(L116,DersYükü!$A$14:$W$39,13,FALSE),\"\")","v":""},{"$f":"IF(M116>0,VLOOKUP(M116,DersYükü!$A$14:$W$39,13,FALSE),\"\")","v":""},{"$f":"IF(N116>0,VLOOKUP(N116,DersYükü!$A$14:$W$39,13,FALSE),\"\")","v":""},{"$f":"IF(O116>0,VLOOKUP(O116,DersYükü!$A$14:$W$39,13,FALSE),\"\")","v":""},{"$f":"IF(P116>0,VLOOKUP(P116,DersYükü!$A$14:$W$39,13,FALSE),\"\")","v":""},{"$f":"IF(Q116>0,VLOOKUP(Q116,DersYükü!$A$14:$W$39,13,FALSE),\"\")","v":""},{"$f":"IF(R116>0,VLOOKUP(R116,DersYükü!$A$14:$W$39,13,FALSE),\"\")","v":""},{"$f":"IF(S116>0,VLOOKUP(S116,DersYükü!$A$14:$W$39,13,FALSE),\"\")","v":""},{"$f":"IF(T116>0,VLOOKUP(T116,DersYükü!$A$14:$W$39,13,FALSE),\"\")","v":""},{"$f":"IF(U116>0,VLOOKUP(U116,DersYükü!$A$14:$W$39,13,FALSE),\"\")","v":""},{"$f":"IF(V116>0,VLOOKUP(V116,DersYükü!$A$14:$W$39,13,FALSE),\"\")","v":""},{"$f":"IF(W116>0,VLOOKUP(W116,DersYükü!$A$14:$W$39,13,FALSE),\"\")","v":""},{"$f":"IF(X116>0,VLOOKUP(X116,DersYükü!$A$14:$W$39,13,FALSE),\"\")","v":""},{"$f":"IF(Y116>0,VLOOKUP(Y116,DersYükü!$A$14:$W$39,13,FALSE),\"\")","v":""},{"$f":"IF(Z116>0,VLOOKUP(Z116,DersYükü!$A$14:$W$39,13,FALSE),\"\")","v":""},{"$f":"IF(AA116>0,VLOOKUP(AA116,DersYükü!$A$14:$W$39,13,FALSE),\"\")","v":""},{"$f":"IF(AB116>0,VLOOKUP(AB116,DersYükü!$A$14:$W$39,13,FALSE),\"\")","v":""},{"$f":"IF(AC116>0,VLOOKUP(AC116,DersYükü!$A$14:$W$39,13,FALSE),\"\")","v":""}]
[null,null,null,null,null,null,null,null,"11:15-12:00",null,null,{"$f":"IF(L117=\"\",\"\",L117)","v":0},0,0,0,0,0,0,0,0,0,0,0,0,0,0,0,0,0]
[null,null,null,null,null,null,null,null,null,null,null,{"$f":"IF(L117>0,VLOOKUP(L117,DersYükü!$A$14:$W$39,13,FALSE),\"\")","v":""},{"$f":"IF(M117>0,VLOOKUP(M117,DersYükü!$A$14:$W$39,13,FALSE),\"\")","v":""},{"$f":"IF(N117>0,VLOOKUP(N117,DersYükü!$A$14:$W$39,13,FALSE),\"\")","v":""},{"$f":"IF(O117>0,VLOOKUP(O117,DersYükü!$A$14:$W$39,13,FALSE),\"\")","v":""},{"$f":"IF(P117>0,VLOOKUP(P117,DersYükü!$A$14:$W$39,13,FALSE),\"\")","v":""},{"$f":"IF(Q117>0,VLOOKUP(Q117,DersYükü!$A$14:$W$39,13,FALSE),\"\")","v":""},{"$f":"IF(R117>0,VLOOKUP(R117,DersYükü!$A$14:$W$39,13,FALSE),\"\")","v":""},{"$f":"IF(S117>0,VLOOKUP(S117,DersYükü!$A$14:$W$39,13,FALSE),\"\")","v":""},{"$f":"IF(T117>0,VLOOKUP(T117,DersYükü!$A$14:$W$39,13,FALSE),\"\")","v":""},{"$f":"IF(U117>0,VLOOKUP(U117,DersYükü!$A$14:$W$39,13,FALSE),\"\")","v":""},{"$f":"IF(V117>0,VLOOKUP(V117,DersYükü!$A$14:$W$39,13,FALSE),\"\")","v":""},{"$f":"IF(W117>0,VLOOKUP(W117,DersYükü!$A$14:$W$39,13,FALSE),\"\")","v":""},{"$f":"IF(X117>0,VLOOKUP(X117,DersYükü!$A$14:$W$39,13,FALSE),\"\")","v":""},{"$f":"IF(Y117>0,VLOOKUP(Y117,DersYükü!$A$14:$W$39,13,FALSE),\"\")","v":""},{"$f":"IF(Z117>0,VLOOKUP(Z117,DersYükü!$A$14:$W$39,13,FALSE),\"\")","v":""},{"$f":"IF(AA117>0,VLOOKUP(AA117,DersYükü!$A$14:$W$39,13,FALSE),\"\")","v":""},{"$f":"IF(AB117>0,VLOOKUP(AB117,DersYükü!$A$14:$W$39,13,FALSE),\"\")","v":""},{"$f":"IF(AC117>0,VLOOKUP(AC117,DersYükü!$A$14:$W$39,13,FALSE),\"\")","v":""}]
[null,null,null,null,null,null,null,null,"12:00-13:15",null,null,{"$f":"IF(L118=\"\",\"\",L118)","v":0},0,0,0,0,0,0,0,0,0,0,0,0,0,0,0,0,0]
[null,null,null,null,null,null,null,null,null,null,null,{"$f":"IF(L118>0,VLOOKUP(L118,DersYükü!$A$14:$W$39,13,FALSE),\"\")","v":""},{"$f":"IF(M118>0,VLOOKUP(M118,DersYükü!$A$14:$W$39,13,FALSE),\"\")","v":""},{"$f":"IF(N118>0,VLOOKUP(N118,DersYükü!$A$14:$W$39,13,FALSE),\"\")","v":""},{"$f":"IF(O118>0,VLOOKUP(O118,DersYükü!$A$14:$W$39,13,FALSE),\"\")","v":""},{"$f":"IF(P118>0,VLOOKUP(P118,DersYükü!$A$14:$W$39,13,FALSE),\"\")","v":""},{"$f":"IF(Q118>0,VLOOKUP(Q118,DersYükü!$A$14:$W$39,13,FALSE),\"\")","v":""},{"$f":"IF(R118>0,VLOOKUP(R118,DersYükü!$A$14:$W$39,13,FALSE),\"\")","v":""},{"$f":"IF(S118>0,VLOOKUP(S118,DersYükü!$A$14:$W$39,13,FALSE),\"\")","v":""},{"$f":"IF(T118>0,VLOOKUP(T118,DersYükü!$A$14:$W$39,13,FALSE),\"\")","v":""},{"$f":"IF(U118>0,VLOOKUP(U118,DersYükü!$A$14:$W$39,13,FALSE),\"\")","v":""},{"$f":"IF(V118>0,VLOOKUP(V118,DersYükü!$A$14:$W$39,13,FALSE),\"\")","v":""},{"$f":"IF(W118>0,VLOOKUP(W118,DersYükü!$A$14:$W$39,13,FALSE),\"\")","v":""},{"$f":"IF(X118>0,VLOOKUP(X118,DersYükü!$A$14:$W$39,13,FALSE),\"\")","v":""},{"$f":"IF(Y118>0,VLOOKUP(Y118,DersYükü!$A$14:$W$39,13,FALSE),\"\")","v":""},{"$f":"IF(Z118>0,VLOOKUP(Z118,DersYükü!$A$14:$W$39,13,FALSE),\"\")","v":""},{"$f":"IF(AA118>0,VLOOKUP(AA118,DersYükü!$A$14:$W$39,13,FALSE),\"\")","v":""},{"$f":"IF(AB118>0,VLOOKUP(AB118,DersYükü!$A$14:$W$39,13,FALSE),\"\")","v":""},{"$f":"IF(AC118>0,VLOOKUP(AC118,DersYükü!$A$14:$W$39,13,FALSE),\"\")","v":""}]
[null,null,null,null,null,null,null,null,"13:15-14:00",null,null,{"$f":"IF(L119=\"\",\"\",L119)","v":0},0,0,0,0,0,0,0,0,0,0,0,0,0,0,0,0,0]
[null,null,null,null,null,null,null,null,null,null,null,{"$f":"IF(L119>0,VLOOKUP(L119,DersYükü!$A$14:$W$39,13,FALSE),\"\")","v":""},{"$f":"IF(M119>0,VLOOKUP(M119,DersYükü!$A$14:$W$39,13,FALSE),\"\")","v":""},{"$f":"IF(N119>0,VLOOKUP(N119,DersYükü!$A$14:$W$39,13,FALSE),\"\")","v":""},{"$f":"IF(O119>0,VLOOKUP(O119,DersYükü!$A$14:$W$39,13,FALSE),\"\")","v":""},{"$f":"IF(P119>0,VLOOKUP(P119,DersYükü!$A$14:$W$39,13,FALSE),\"\")","v":""},{"$f":"IF(Q119>0,VLOOKUP(Q119,DersYükü!$A$14:$W$39,13,FALSE),\"\")","v":""},{"$f":"IF(R119>0,VLOOKUP(R119,DersYükü!$A$14:$W$39,13,FALSE),\"\")","v":""},{"$f":"IF(S119>0,VLOOKUP(S119,DersYükü!$A$14:$W$39,13,FALSE),\"\")","v":""},{"$f":"IF(T119>0,VLOOKUP(T119,DersYükü!$A$14:$W$39,13,FALSE),\"\")","v":""},{"$f":"IF(U119>0,VLOOKUP(U119,DersYükü!$A$14:$W$39,13,FALSE),\"\")","v":""},{"$f":"IF(V119>0,VLOOKUP(V119,DersYükü!$A$14:$W$39,13,FALSE),\"\")","v":""},{"$f":"IF(W119>0,VLOOKUP(W119,DersYükü!$A$14:$W$39,13,FALSE),\"\")","v":""},{"$f":"IF(X119>0,VLOOKUP(X119,DersYükü!$A$14:$W$39,13,FALSE),\"\")","v":""},{"$f":"IF(Y119>0,VLOOKUP(Y119,DersYükü!$A$14:$W$39,13,FALSE),\"\")","v":""},{"$f":"IF(Z119>0,VLOOKUP(Z119,DersYükü!$A$14:$W$39,13,FALSE),\"\")","v":""},{"$f":"IF(AA119>0,VLOOKUP(AA119,DersYükü!$A$14:$W$39,13,FALSE),\"\")","v":""},{"$f":"IF(AB119>0,VLOOKUP(AB119,DersYükü!$A$14:$W$39,13,FALSE),\"\")","v":""},{"$f":"IF(AC119>0,VLOOKUP(AC119,DersYükü!$A$14:$W$39,13,FALSE),\"\")","v":""}]
[null,null,null,null,null,null,null,null,"14:15-15:00",null,null,{"$f":"IF(L120=\"\",\"\",L120)","v":0},0,0,0,0,0,0,0,0,0,0,0,0,0,0,0,0,0]
[null,null,null,null,null,null,null,null,null,null,null,{"$f":"IF(L120>0,VLOOKUP(L120,DersYükü!$A$14:$W$39,13,FALSE),\"\")","v":""},{"$f":"IF(M120>0,VLOOKUP(M120,DersYükü!$A$14:$W$39,13,FALSE),\"\")","v":""},{"$f":"IF(N120>0,VLOOKUP(N120,DersYükü!$A$14:$W$39,13,FALSE),\"\")","v":""},{"$f":"IF(O120>0,VLOOKUP(O120,DersYükü!$A$14:$W$39,13,FALSE),\"\")","v":""},{"$f":"IF(P120>0,VLOOKUP(P120,DersYükü!$A$14:$W$39,13,FALSE),\"\")","v":""},{"$f":"IF(Q120>0,VLOOKUP(Q120,DersYükü!$A$14:$W$39,13,FALSE),\"\")","v":""},{"$f":"IF(R120>0,VLOOKUP(R120,DersYükü!$A$14:$W$39,13,FALSE),\"\")","v":""},{"$f":"IF(S120>0,VLOOKUP(S120,DersYükü!$A$14:$W$39,13,FALSE),\"\")","v":""},{"$f":"IF(T120>0,VLOOKUP(T120,DersYükü!$A$14:$W$39,13,FALSE),\"\")","v":""},{"$f":"IF(U120>0,VLOOKUP(U120,DersYükü!$A$14:$W$39,13,FALSE),\"\")","v":""},{"$f":"IF(V120>0,VLOOKUP(V120,DersYükü!$A$14:$W$39,13,FALSE),\"\")","v":""},{"$f":"IF(W120>0,VLOOKUP(W120,DersYükü!$A$14:$W$39,13,FALSE),\"\")","v":""},{"$f":"IF(X120>0,VLOOKUP(X120,DersYükü!$A$14:$W$39,13,FALSE),\"\")","v":""},{"$f":"IF(Y120>0,VLOOKUP(Y120,DersYükü!$A$14:$W$39,13,FALSE),\"\")","v":""},{"$f":"IF(Z120>0,VLOOKUP(Z120,DersYükü!$A$14:$W$39,13,FALSE),\"\")","v":""},{"$f":"IF(AA120>0,VLOOKUP(AA120,DersYükü!$A$14:$W$39,13,FALSE),\"\")","v":""},{"$f":"IF(AB120>0,VLOOKUP(AB120,DersYükü!$A$14:$W$39,13,FALSE),\"\")","v":""},{"$f":"IF(AC120>0,VLOOKUP(AC120,DersYükü!$A$14:$W$39,13,FALSE),\"\")","v":""}]
[null,null,null,null,null,null,null,null,"15:15-16:00",null,null,{"$f":"IF(L121=\"\",\"\",L121)","v":0},0,0,0,0,0,0,0,0,0,0,0,0,0,0,0,0,0]
[null,null,null,null,null,null,null,null,null,null,null,{"$f":"IF(L121>0,VLOOKUP(L121,DersYükü!$A$14:$W$39,13,FALSE),\"\")","v":""},{"$f":"IF(M121>0,VLOOKUP(M121,DersYükü!$A$14:$W$39,13,FALSE),\"\")","v":""},{"$f":"IF(N121>0,VLOOKUP(N121,DersYükü!$A$14:$W$39,13,FALSE),\"\")","v":""},{"$f":"IF(O121>0,VLOOKUP(O121,DersYükü!$A$14:$W$39,13,FALSE),\"\")","v":""},{"$f":"IF(P121>0,VLOOKUP(P121,DersYükü!$A$14:$W$39,13,FALSE),\"\")","v":""},{"$f":"IF(Q121>0,VLOOKUP(Q121,DersYükü!$A$14:$W$39,13,FALSE),\"\")","v":""},{"$f":"IF(R121>0,VLOOKUP(R121,DersYükü!$A$14:$W$39,13,FALSE),\"\")","v":""},{"$f":"IF(S121>0,VLOOKUP(S121,DersYükü!$A$14:$W$39,13,FALSE),\"\")","v":""},{"$f":"IF(T121>0,VLOOKUP(T121,DersYükü!$A$14:$W$39,13,FALSE),\"\")","v":""},{"$f":"IF(U121>0,VLOOKUP(U121,DersYükü!$A$14:$W$39,13,FALSE),\"\")","v":""},{"$f":"IF(V121>0,VLOOKUP(V121,DersYükü!$A$14:$W$39,13,FALSE),\"\")","v":""},{"$f":"IF(W121>0,VLOOKUP(W121,DersYükü!$A$14:$W$39,13,FALSE),\"\")","v":""},{"$f":"IF(X121>0,VLOOKUP(X121,DersYükü!$A$14:$W$39,13,FALSE),\"\")","v":""},{"$f":"IF(Y121>0,VLOOKUP(Y121,DersYükü!$A$14:$W$39,13,FALSE),\"\")","v":""},{"$f":"IF(Z121>0,VLOOKUP(Z121,DersYükü!$A$14:$W$39,13,FALSE),\"\")","v":""},{"$f":"IF(AA121>0,VLOOKUP(AA121,DersYükü!$A$14:$W$39,13,FALSE),\"\")","v":""},{"$f":"IF(AB121>0,VLOOKUP(AB121,DersYükü!$A$14:$W$39,13,FALSE),\"\")","v":""},{"$f":"IF(AC121>0,VLOOKUP(AC121,DersYükü!$A$14:$W$39,13,FALSE),\"\")","v":""}]
[null,null,null,null,null,null,null,null,"16:15-17:00",null,null,{"$f":"IF(L122=\"\",\"\",L122)","v":0},0,0,0,0,0,0,0,0,0,0,0,0,0,0,0,0,0]
[null,null,null,null,null,null,null,null,null,null,null,{"$f":"IF(L122>0,VLOOKUP(L122,DersYükü!$A$14:$W$39,13,FALSE),\"\")","v":""},{"$f":"IF(M122>0,VLOOKUP(M122,DersYükü!$A$14:$W$39,13,FALSE),\"\")","v":""},{"$f":"IF(N122>0,VLOOKUP(N122,DersYükü!$A$14:$W$39,13,FALSE),\"\")","v":""},{"$f":"IF(O122>0,VLOOKUP(O122,DersYükü!$A$14:$W$39,13,FALSE),\"\")","v":""},{"$f":"IF(P122>0,VLOOKUP(P122,DersYükü!$A$14:$W$39,13,FALSE),\"\")","v":""},{"$f":"IF(Q122>0,VLOOKUP(Q122,DersYükü!$A$14:$W$39,13,FALSE),\"\")","v":""},{"$f":"IF(R122>0,VLOOKUP(R122,DersYükü!$A$14:$W$39,13,FALSE),\"\")","v":""},{"$f":"IF(S122>0,VLOOKUP(S122,DersYükü!$A$14:$W$39,13,FALSE),\"\")","v":""},{"$f":"IF(T122>0,VLOOKUP(T122,DersYükü!$A$14:$W$39,13,FALSE),\"\")","v":""},{"$f":"IF(U122>0,VLOOKUP(U122,DersYükü!$A$14:$W$39,13,FALSE),\"\")","v":""},{"$f":"IF(V122>0,VLOOKUP(V122,DersYükü!$A$14:$W$39,13,FALSE),\"\")","v":""},{"$f":"IF(W122>0,VLOOKUP(W122,DersYükü!$A$14:$W$39,13,FALSE),\"\")","v":""},{"$f":"IF(X122>0,VLOOKUP(X122,DersYükü!$A$14:$W$39,13,FALSE),\"\")","v":""},{"$f":"IF(Y122>0,VLOOKUP(Y122,DersYükü!$A$14:$W$39,13,FALSE),\"\")","v":""},{"$f":"IF(Z122>0,VLOOKUP(Z122,DersYükü!$A$14:$W$39,13,FALSE),\"\")","v":""},{"$f":"IF(AA122>0,VLOOKUP(AA122,DersYükü!$A$14:$W$39,13,FALSE),\"\")","v":""},{"$f":"IF(AB122>0,VLOOKUP(AB122,DersYükü!$A$14:$W$39,13,FALSE),\"\")","v":""},{"$f":"IF(AC122>0,VLOOKUP(AC122,DersYükü!$A$14:$W$39,13,FALSE),\"\")","v":""}]
[null,null,null,null,null,null,null,null,"15:15-16:00",null,null,{"$f":"IF(L123=\"\",\"\",L123)","v":0},{"$f":"IF(M123=\"\",\"\",M123)","v":0},0,0,0,0,0,0,0,0,0,0,0,0,0,0,0,0]
[null,null,null,null,null,null,null,null,null,null,null,{"$f":"IF(L123>0,VLOOKUP(L123,DersYükü!$A$14:$W$39,13,FALSE),\"\")","v":""},{"$f":"IF(M123>0,VLOOKUP(M123,DersYükü!$A$14:$W$39,13,FALSE),\"\")","v":""},{"$f":"IF(N123>0,VLOOKUP(N123,DersYükü!$A$14:$W$39,13,FALSE),\"\")","v":""},{"$f":"IF(O123>0,VLOOKUP(O123,DersYükü!$A$14:$W$39,13,FALSE),\"\")","v":""},{"$f":"IF(P123>0,VLOOKUP(P123,DersYükü!$A$14:$W$39,13,FALSE),\"\")","v":""},{"$f":"IF(Q123>0,VLOOKUP(Q123,DersYükü!$A$14:$W$39,13,FALSE),\"\")","v":""},{"$f":"IF(R123>0,VLOOKUP(R123,DersYükü!$A$14:$W$39,13,FALSE),\"\")","v":""},{"$f":"IF(S123>0,VLOOKUP(S123,DersYükü!$A$14:$W$39,13,FALSE),\"\")","v":""},{"$f":"IF(T123>0,VLOOKUP(T123,DersYükü!$A$14:$W$39,13,FALSE),\"\")","v":""},{"$f":"IF(U123>0,VLOOKUP(U123,DersYükü!$A$14:$W$39,13,FALSE),\"\")","v":""},{"$f":"IF(V123>0,VLOOKUP(V123,DersYükü!$A$14:$W$39,13,FALSE),\"\")","v":""},{"$f":"IF(W123>0,VLOOKUP(W123,DersYükü!$A$14:$W$39,13,FALSE),\"\")","v":""},{"$f":"IF(X123>0,VLOOKUP(X123,DersYükü!$A$14:$W$39,13,FALSE),\"\")","v":""},{"$f":"IF(Y123>0,VLOOKUP(Y123,DersYükü!$A$14:$W$39,13,FALSE),\"\")","v":""},{"$f":"IF(Z123>0,VLOOKUP(Z123,DersYükü!$A$14:$W$39,13,FALSE),\"\")","v":""},{"$f":"IF(AA123>0,VLOOKUP(AA123,DersYükü!$A$14:$W$39,13,FALSE),\"\")","v":""},{"$f":"IF(AB123>0,VLOOKUP(AB123,DersYükü!$A$14:$W$39,13,FALSE),\"\")","v":""},{"$f":"IF(AC123>0,VLOOKUP(AC123,DersYükü!$A$14:$W$39,13,FALSE),\"\")","v":""}]
[null,null,null,null,null,null,null,null,"16:15-17:00",null,null,{"$f":"IF(L124=\"\",\"\",L124)","v":0},{"$f":"IF(M124=\"\",\"\",M124)","v":0},0,0,0,0,0,0,0,0,0,0,0,0,0,0,0,0]
[null,null,null,null,null,null,null,null,null,null,null,{"$f":"IF(L124>0,VLOOKUP(L124,DersYükü!$A$14:$W$39,13,FALSE),\"\")","v":""},{"$f":"IF(M124>0,VLOOKUP(M124,DersYükü!$A$14:$W$39,13,FALSE),\"\")","v":""},{"$f":"IF(N124>0,VLOOKUP(N124,DersYükü!$A$14:$W$39,13,FALSE),\"\")","v":""},{"$f":"IF(O124>0,VLOOKUP(O124,DersYükü!$A$14:$W$39,13,FALSE),\"\")","v":""},{"$f":"IF(P124>0,VLOOKUP(P124,DersYükü!$A$14:$W$39,13,FALSE),\"\")","v":""},{"$f":"IF(Q124>0,VLOOKUP(Q124,DersYükü!$A$14:$W$39,13,FALSE),\"\")","v":""},{"$f":"IF(R124>0,VLOOKUP(R124,DersYükü!$A$14:$W$39,13,FALSE),\"\")","v":""},{"$f":"IF(S124>0,VLOOKUP(S124,DersYükü!$A$14:$W$39,13,FALSE),\"\")","v":""},{"$f":"IF(T124>0,VLOOKUP(T124,DersYükü!$A$14:$W$39,13,FALSE),\"\")","v":""},{"$f":"IF(U124>0,VLOOKUP(U124,DersYükü!$A$14:$W$39,13,FALSE),\"\")","v":""},{"$f":"IF(V124>0,VLOOKUP(V124,DersYükü!$A$14:$W$39,13,FALSE),\"\")","v":""},{"$f":"IF(W124>0,VLOOKUP(W124,DersYükü!$A$14:$W$39,13,FALSE),\"\")","v":""},{"$f":"IF(X124>0,VLOOKUP(X124,DersYükü!$A$14:$W$39,13,FALSE),\"\")","v":""},{"$f":"IF(Y124>0,VLOOKUP(Y124,DersYükü!$A$14:$W$39,13,FALSE),\"\")","v":""},{"$f":"IF(Z124>0,VLOOKUP(Z124,DersYükü!$A$14:$W$39,13,FALSE),\"\")","v":""},{"$f":"IF(AA124>0,VLOOKUP(AA124,DersYükü!$A$14:$W$39,13,FALSE),\"\")","v":""},{"$f":"IF(AB124>0,VLOOKUP(AB124,DersYükü!$A$14:$W$39,13,FALSE),\"\")","v":""},{"$f":"IF(AC124>0,VLOOKUP(AC124,DersYükü!$A$14:$W$39,13,FALSE),\"\")","v":""}]
[null,null,null,null,null,null,null,null,"17:15-18:00",null,null,{"$f":"IF(L125=\"\",\"\",L125)","v":0},0,0,0,0,0,0,0,0,0,0,0,0,0,0,0,0,0]
[null,null,null,null,null,null,null,null,null,null,null,{"$f":"IF(L125>0,VLOOKUP(L125,DersYükü!$A$14:$W$39,13,FALSE),\"\")","v":""},{"$f":"IF(M125>0,VLOOKUP(M125,DersYükü!$A$14:$W$39,13,FALSE),\"\")","v":""},{"$f":"IF(N125>0,VLOOKUP(N125,DersYükü!$A$14:$W$39,13,FALSE),\"\")","v":""},{"$f":"IF(O125>0,VLOOKUP(O125,DersYükü!$A$14:$W$39,13,FALSE),\"\")","v":""},{"$f":"IF(P125>0,VLOOKUP(P125,DersYükü!$A$14:$W$39,13,FALSE),\"\")","v":""},{"$f":"IF(Q125>0,VLOOKUP(Q125,DersYükü!$A$14:$W$39,13,FALSE),\"\")","v":""},{"$f":"IF(R125>0,VLOOKUP(R125,DersYükü!$A$14:$W$39,13,FALSE),\"\")","v":""},{"$f":"IF(S125>0,VLOOKUP(S125,DersYükü!$A$14:$W$39,13,FALSE),\"\")","v":""},{"$f":"IF(T125>0,VLOOKUP(T125,DersYükü!$A$14:$W$39,13,FALSE),\"\")","v":""},{"$f":"IF(U125>0,VLOOKUP(U125,DersYükü!$A$14:$W$39,13,FALSE),\"\")","v":""},{"$f":"IF(V125>0,VLOOKUP(V125,DersYükü!$A$14:$W$39,13,FALSE),\"\")","v":""},{"$f":"IF(W125>0,VLOOKUP(W125,DersYükü!$A$14:$W$39,13,FALSE),\"\")","v":""},{"$f":"IF(X125>0,VLOOKUP(X125,DersYükü!$A$14:$W$39,13,FALSE),\"\")","v":""},{"$f":"IF(Y125>0,VLOOKUP(Y125,DersYükü!$A$14:$W$39,13,FALSE),\"\")","v":""},{"$f":"IF(Z125>0,VLOOKUP(Z125,DersYükü!$A$14:$W$39,13,FALSE),\"\")","v":""},{"$f":"IF(AA125>0,VLOOKUP(AA125,DersYükü!$A$14:$W$39,13,FALSE),\"\")","v":""},{"$f":"IF(AB125>0,VLOOKUP(AB125,DersYükü!$A$14:$W$39,13,FALSE),\"\")","v":""},{"$f":"IF(AC125>0,VLOOKUP(AC125,DersYükü!$A$14:$W$39,13,FALSE),\"\")","v":""}]
[null,null,null,null,null,null,null,null,"18:15-19:00",null,null,{"$f":"IF(L126=\"\",\"\",L126)","v":0},0,0,0,0,0,0,0,0,0,0,0,0,0,0,0,0,0]
[null,null,null,null,null,null,null,null,null,null,null,{"$f":"IF(L126>0,VLOOKUP(L126,DersYükü!$A$14:$W$39,13,FALSE),\"\")","v":""},{"$f":"IF(M126>0,VLOOKUP(M126,DersYükü!$A$14:$W$39,13,FALSE),\"\")","v":""},{"$f":"IF(N126>0,VLOOKUP(N126,DersYükü!$A$14:$W$39,13,FALSE),\"\")","v":""},{"$f":"IF(O126>0,VLOOKUP(O126,DersYükü!$A$14:$W$39,13,FALSE),\"\")","v":""},{"$f":"IF(P126>0,VLOOKUP(P126,DersYükü!$A$14:$W$39,13,FALSE),\"\")","v":""},{"$f":"IF(Q126>0,VLOOKUP(Q126,DersYükü!$A$14:$W$39,13,FALSE),\"\")","v":""},{"$f":"IF(R126>0,VLOOKUP(R126,DersYükü!$A$14:$W$39,13,FALSE),\"\")","v":""},{"$f":"IF(S126>0,VLOOKUP(S126,DersYükü!$A$14:$W$39,13,FALSE),\"\")","v":""},{"$f":"IF(T126>0,VLOOKUP(T126,DersYükü!$A$14:$W$39,13,FALSE),\"\")","v":""},{"$f":"IF(U126>0,VLOOKUP(U126,DersYükü!$A$14:$W$39,13,FALSE),\"\")","v":""},{"$f":"IF(V126>0,VLOOKUP(V126,DersYükü!$A$14:$W$39,13,FALSE),\"\")","v":""},{"$f":"IF(W126>0,VLOOKUP(W126,DersYükü!$A$14:$W$39,13,FALSE),\"\")","v":""},{"$f":"IF(X126>0,VLOOKUP(X126,DersYükü!$A$14:$W$39,13,FALSE),\"\")","v":""},{"$f":"IF(Y126>0,VLOOKUP(Y126,DersYükü!$A$14:$W$39,13,FALSE),\"\")","v":""},{"$f":"IF(Z126>0,VLOOKUP(Z126,DersYükü!$A$14:$W$39,13,FALSE),\"\")","v":""},{"$f":"IF(AA126>0,VLOOKUP(AA126,DersYükü!$A$14:$W$39,13,FALSE),\"\")","v":""},{"$f":"IF(AB126>0,VLOOKUP(AB126,DersYükü!$A$14:$W$39,13,FALSE),\"\")","v":""},{"$f":"IF(AC126>0,VLOOKUP(AC126,DersYükü!$A$14:$W$39,13,FALSE),\"\")","v":""}]
[null,null,null,null,null,null,null,null,"19:15-20:00",null,null,{"$f":"IF(L127=\"\",\"\",L127)","v":0},0,0,0,0,0,0,0,0,0,0,0,0,0,0,0,0,0]
[null,null,null,null,null,null,null,null,null,null,null,{"$f":"IF(L127>0,VLOOKUP(L127,DersYükü!$A$14:$W$39,13,FALSE),\"\")","v":""},{"$f":"IF(M127>0,VLOOKUP(M127,DersYükü!$A$14:$W$39,13,FALSE),\"\")","v":""},{"$f":"IF(N127>0,VLOOKUP(N127,DersYükü!$A$14:$W$39,13,FALSE),\"\")","v":""},{"$f":"IF(O127>0,VLOOKUP(O127,DersYükü!$A$14:$W$39,13,FALSE),\"\")","v":""},{"$f":"IF(P127>0,VLOOKUP(P127,DersYükü!$A$14:$W$39,13,FALSE),\"\")","v":""},{"$f":"IF(Q127>0,VLOOKUP(Q127,DersYükü!$A$14:$W$39,13,FALSE),\"\")","v":""},{"$f":"IF(R127>0,VLOOKUP(R127,DersYükü!$A$14:$W$39,13,FALSE),\"\")","v":""},{"$f":"IF(S127>0,VLOOKUP(S127,DersYükü!$A$14:$W$39,13,FALSE),\"\")","v":""},{"$f":"IF(T127>0,VLOOKUP(T127,DersYükü!$A$14:$W$39,13,FALSE),\"\")","v":""},{"$f":"IF(U127>0,VLOOKUP(U127,DersYükü!$A$14:$W$39,13,FALSE),\"\")","v":""},{"$f":"IF(V127>0,VLOOKUP(V127,DersYükü!$A$14:$W$39,13,FALSE),\"\")","v":""},{"$f":"IF(W127>0,VLOOKUP(W127,DersYükü!$A$14:$W$39,13,FALSE),\"\")","v":""},{"$f":"IF(X127>0,VLOOKUP(X127,DersYükü!$A$14:$W$39,13,FALSE),\"\")","v":""},{"$f":"IF(Y127>0,VLOOKUP(Y127,DersYükü!$A$14:$W$39,13,FALSE),\"\")","v":""},{"$f":"IF(Z127>0,VLOOKUP(Z127,DersYükü!$A$14:$W$39,13,FALSE),\"\")","v":""},{"$f":"IF(AA127>0,VLOOKUP(AA127,DersYükü!$A$14:$W$39,13,FALSE),\"\")","v":""},{"$f":"IF(AB127>0,VLOOKUP(AB127,DersYükü!$A$14:$W$39,13,FALSE),\"\")","v":""},{"$f":"IF(AC127>0,VLOOKUP(AC127,DersYükü!$A$14:$W$39,13,FALSE),\"\")","v":""}]
[null,null,null,null,null,null,null,null,"20:15-21:00",null,null,{"$f":"IF(L128=\"\",\"\",L128)","v":0},0,0,0,0,0,0,0,0,0,0,0,0,0,0,0,0,0]
[null,null,null,null,null,null,null,null,null,null,null,{"$f":"IF(L128>0,VLOOKUP(L128,DersYükü!$A$14:$W$39,13,FALSE),\"\")","v":""},{"$f":"IF(M128>0,VLOOKUP(M128,DersYükü!$A$14:$W$39,13,FALSE),\"\")","v":""},{"$f":"IF(N128>0,VLOOKUP(N128,DersYükü!$A$14:$W$39,13,FALSE),\"\")","v":""},{"$f":"IF(O128>0,VLOOKUP(O128,DersYükü!$A$14:$W$39,13,FALSE),\"\")","v":""},{"$f":"IF(P128>0,VLOOKUP(P128,DersYükü!$A$14:$W$39,13,FALSE),\"\")","v":""},{"$f":"IF(Q128>0,VLOOKUP(Q128,DersYükü!$A$14:$W$39,13,FALSE),\"\")","v":""},{"$f":"IF(R128>0,VLOOKUP(R128,DersYükü!$A$14:$W$39,13,FALSE),\"\")","v":""},{"$f":"IF(S128>0,VLOOKUP(S128,DersYükü!$A$14:$W$39,13,FALSE),\"\")","v":""},{"$f":"IF(T128>0,VLOOKUP(T128,DersYükü!$A$14:$W$39,13,FALSE),\"\")","v":""},{"$f":"IF(U128>0,VLOOKUP(U128,DersYükü!$A$14:$W$39,13,FALSE),\"\")","v":""},{"$f":"IF(V128>0,VLOOKUP(V128,DersYükü!$A$14:$W$39,13,FALSE),\"\")","v":""},{"$f":"IF(W128>0,VLOOKUP(W128,DersYükü!$A$14:$W$39,13,FALSE),\"\")","v":""},{"$f":"IF(X128>0,VLOOKUP(X128,DersYükü!$A$14:$W$39,13,FALSE),\"\")","v":""},{"$f":"IF(Y128>0,VLOOKUP(Y128,DersYükü!$A$14:$W$39,13,FALSE),\"\")","v":""},{"$f":"IF(Z128>0,VLOOKUP(Z128,DersYükü!$A$14:$W$39,13,FALSE),\"\")","v":""},{"$f":"IF(AA128>0,VLOOKUP(AA128,DersYükü!$A$14:$W$39,13,FALSE),\"\")","v":""},{"$f":"IF(AB128>0,VLOOKUP(AB128,DersYükü!$A$14:$W$39,13,FALSE),\"\")","v":""},{"$f":"IF(AC128>0,VLOOKUP(AC128,DersYükü!$A$14:$W$39,13,FALSE),\"\")","v":""}]
[null,null,null,null,null,null,null,null,"21:15-22:00",null,null,{"$f":"IF(L129=\"\",\"\",L129)","v":0},0,0,0,0,0,0,0,0,0,0,0,0,0,0,0,0,0]
[null,null,null,null,null,null,null,null,null,null,null,{"$f":"IF(L129>0,VLOOKUP(L129,DersYükü!$A$14:$W$39,13,FALSE),\"\")","v":""},{"$f":"IF(M129>0,VLOOKUP(M129,DersYükü!$A$14:$W$39,13,FALSE),\"\")","v":""},{"$f":"IF(N129>0,VLOOKUP(N129,DersYükü!$A$14:$W$39,13,FALSE),\"\")","v":""},{"$f":"IF(O129>0,VLOOKUP(O129,DersYükü!$A$14:$W$39,13,FALSE),\"\")","v":""},{"$f":"IF(P129>0,VLOOKUP(P129,DersYükü!$A$14:$W$39,13,FALSE),\"\")","v":""},{"$f":"IF(Q129>0,VLOOKUP(Q129,DersYükü!$A$14:$W$39,13,FALSE),\"\")","v":""},{"$f":"IF(R129>0,VLOOKUP(R129,DersYükü!$A$14:$W$39,13,FALSE),\"\")","v":""},{"$f":"IF(S129>0,VLOOKUP(S129,DersYükü!$A$14:$W$39,13,FALSE),\"\")","v":""},{"$f":"IF(T129>0,VLOOKUP(T129,DersYükü!$A$14:$W$39,13,FALSE),\"\")","v":""},{"$f":"IF(U129>0,VLOOKUP(U129,DersYükü!$A$14:$W$39,13,FALSE),\"\")","v":""},{"$f":"IF(V129>0,VLOOKUP(V129,DersYükü!$A$14:$W$39,13,FALSE),\"\")","v":""},{"$f":"IF(W129>0,VLOOKUP(W129,DersYükü!$A$14:$W$39,13,FALSE),\"\")","v":""},{"$f":"IF(X129>0,VLOOKUP(X129,DersYükü!$A$14:$W$39,13,FALSE),\"\")","v":""},{"$f":"IF(Y129>0,VLOOKUP(Y129,DersYükü!$A$14:$W$39,13,FALSE),\"\")","v":""},{"$f":"IF(Z129>0,VLOOKUP(Z129,DersYükü!$A$14:$W$39,13,FALSE),\"\")","v":""},{"$f":"IF(AA129>0,VLOOKUP(AA129,DersYükü!$A$14:$W$39,13,FALSE),\"\")","v":""},{"$f":"IF(AB129>0,VLOOKUP(AB129,DersYükü!$A$14:$W$39,13,FALSE),\"\")","v":""},{"$f":"IF(AC129>0,VLOOKUP(AC129,DersYükü!$A$14:$W$39,13,FALSE),\"\")","v":""}]
[null,null,null,null,null,null,null,null,"22:15-23:00",null,null,{"$f":"IF(L130=\"\",\"\",L130)","v":0},0,0,0,0,0,0,0,0,0,0,0,0,0,0,0,0,0]
[null,null,null,null,null,null,null,null,null,null,null,{"$f":"IF(L130>0,VLOOKUP(L130,DersYükü!$A$14:$W$39,13,FALSE),\"\")","v":""},{"$f":"IF(M130>0,VLOOKUP(M130,DersYükü!$A$14:$W$39,13,FALSE),\"\")","v":""},{"$f":"IF(N130>0,VLOOKUP(N130,DersYükü!$A$14:$W$39,13,FALSE),\"\")","v":""},{"$f":"IF(O130>0,VLOOKUP(O130,DersYükü!$A$14:$W$39,13,FALSE),\"\")","v":""},{"$f":"IF(P130>0,VLOOKUP(P130,DersYükü!$A$14:$W$39,13,FALSE),\"\")","v":""},{"$f":"IF(Q130>0,VLOOKUP(Q130,DersYükü!$A$14:$W$39,13,FALSE),\"\")","v":""},{"$f":"IF(R130>0,VLOOKUP(R130,DersYükü!$A$14:$W$39,13,FALSE),\"\")","v":""},{"$f":"IF(S130>0,VLOOKUP(S130,DersYükü!$A$14:$W$39,13,FALSE),\"\")","v":""},{"$f":"IF(T130>0,VLOOKUP(T130,DersYükü!$A$14:$W$39,13,FALSE),\"\")","v":""},{"$f":"IF(U130>0,VLOOKUP(U130,DersYükü!$A$14:$W$39,13,FALSE),\"\")","v":""},{"$f":"IF(V130>0,VLOOKUP(V130,DersYükü!$A$14:$W$39,13,FALSE),\"\")","v":""},{"$f":"IF(W130>0,VLOOKUP(W130,DersYükü!$A$14:$W$39,13,FALSE),\"\")","v":""},{"$f":"IF(X130>0,VLOOKUP(X130,DersYükü!$A$14:$W$39,13,FALSE),\"\")","v":""},{"$f":"IF(Y130>0,VLOOKUP(Y130,DersYükü!$A$14:$W$39,13,FALSE),\"\")","v":""},{"$f":"IF(Z130>0,VLOOKUP(Z130,DersYükü!$A$14:$W$39,13,FALSE),\"\")","v":""},{"$f":"IF(AA130>0,VLOOKUP(AA130,DersYükü!$A$14:$W$39,13,FALSE),\"\")","v":""},{"$f":"IF(AB130>0,VLOOKUP(AB130,DersYükü!$A$14:$W$39,13,FALSE),\"\")","v":""},{"$f":"IF(AC130>0,VLOOKUP(AC130,DersYükü!$A$14:$W$39,13,FALSE),\"\")","v":""}]
[]
[]
[null,null,null,null,null,null,null,null,"toplam",null,null,"TEO","DF","TEO","DF","TEO","DF","TEO","DF","TEO","DF","TEO","DF","TEO","DF","TEO","DF","TEO","DF"]
[null,null,null,null,null,null,null,null,"TEO","DF",null,"PAZARTESİ",null,"SALI",null,"ÇARŞAMBA",null,"PERŞEMBE",null,"CUMA",null,"CUMARTESİ",null,"C. TESİ (İ.Ö)",null,"PAZAR",null,"PAZAR (İ.Ö)"]
[null,null,null,null,null,null,{"$f":"IF(Ekders!$F$41=\"\",\"\",Ekders!$F$41)","v":"Mühendislik Fakültesi"},null,{"$f":"SUM(L303+N303+P303+R303+T303+V303+AB303)","v":0},{"$f":"SUM(M303+O303+Q303+S303+U303+W303+AA303)","v":0},{"$f":"SUM(L303:W303)+SUM(Z303:AA303)","v":0},{"$f":"IF($G303=\"\",0,IF(COUNTIF(L$265:L$282,$G303)=0,0,COUNTIF(L$265:L$282,$G303)))","v":0},{"$f":"IF($G303=\"\",0,IF(COUNTIF(M$265:M$282,$G303)=0,0,COUNTIF(M$265:M$282,$G303)))","v":0},0,0,0,0,0,0,0,0,{"$f":"IF($G303=\"\",0,IF(COUNTIF(V$265:V$298,$G303)=0,0,COUNTIF(V$265:V$298,$G303)))","v":0},0,null,null,{"$f":"IF($G303=\"\",0,IF(COUNTIF(Z$265:Z$298,$G303)=0,0,COUNTIF(Z$265:Z$298,$G303)))","v":0},0]
[null,null,null,null,null,null,{"$f":"IF(Ekders!$F$42=\"\",\"\",Ekders!$F$42)","v":""},null,{"$f":"SUM(L304+N304+P304+R304+T304+V304+Z304)","v":0},{"$f":"SUM(M304+O304+Q304+S304+U304+W304+AA304)","v":0},{"$f":"SUM(L304:W304)+SUM(Z304:AA304)","v":0},{"$f":"IF($G304=\"\",0,IF(COUNTIF(L$265:L$282,$G304)=0,0,COUNTIF(L$265:L$282,$G304)))","v":0},0,0,0,0,0,0,0,0,0,0,0,null,null,0,0]
[null,null,null,null,null,null,{"$f":"IF(Ekders!$F$43=\"\",\"\",Ekders!$F$43)","v":""},null,{"$f":"SUM(L305+N305+P305+R305+T305+V305+Z305)","v":0},{"$f":"SUM(M305+O305+Q305+S305+U305+W305+AA305)","v":0},{"$f":"SUM(L305:W305)+SUM(Z305:AA305)","v":0},{"$f":"IF($G305=\"\",0,IF(COUNTIF(L$265:L$282,$G305)=0,0,COUNTIF(L$265:L$282,$G305)))","v":0},0,0,0,0,0,0,0,0,0,0,0,null,null,0,0]
[null,null,null,null,null,null,{"$f":"IF(Ekders!$F$44=\"\",\"\",Ekders!$F$44)","v":""},null,{"$f":"SUM(L306+N306+P306+R306+T306+V306+Z306)","v":0},{"$f":"SUM(M306+O306+Q306+S306+U306+W306+AA306)","v":0},{"$f":"SUM(L306:W306)+SUM(Z306:AA306)","v":0},{"$f":"IF($G306=\"\",0,IF(COUNTIF(L$265:L$282,$G306)=0,0,COUNTIF(L$265:L$282,$G306)))","v":0},0,0,0,0,0,0,0,0,0,0,0,null,null,0,0]
[null,null,null,null,null,null,{"$f":"IF(Ekders!$F$45=\"\",\"\",Ekders!$F$45)","v":""},null,{"$f":"SUM(L307+N307+P307+R307+T307+V307+Z307)","v":0},{"$f":"SUM(M307+O307+Q307+S307+U307+W307+AA307)","v":0},{"$f":"SUM(L307:W307)+SUM(Z307:AA307)","v":0},{"$f":"IF($G307=\"\",0,IF(COUNTIF(L$265:L$282,$G307)=0,0,COUNTIF(L$265:L$282,$G307)))","v":0},0,0,0,0,0,0,0,0,0,0,0,null,null,0,0]
[null,null,null,null,null,null,null,null,null,null,{"$f":"SUM(K303:K307)","v":0}]
[]
[]
[null,null,null,null,null,null,{"$f":"IF(Ekders!$F$71=\"\",\"\",Ekders!$F$71)","v":""},null,{"$f":"SUM(L311+N311+P311+R311+T311+X311+AB311)","v":0},0,{"$f":"SUM(L311:U311)+SUM(X311:Y311)+SUM(AB311:AC311)","v":0},{"$f":"IF($G311=\"\",0,IF(COUNTIF(L$283:L$298,$G311)=0,0,COUNTIF(L$283:L$298,$G311)))","v":0},{"$f":"IF($G311=\"\",0,IF(COUNTIF(M$283:M$298,$G311)=0,0,COUNTIF(M$283:M$298,$G311)))","v":0},0,0,0,0,0,0,0,0,null,null,{"$f":"IF($G311=\"\",0,IF(COUNTIF(X$265:X$298,$G311)=0,0,COUNTIF(X$265:X$298,$G311)))","v":0},{"$f":"IF($G311=\"\",0,IF(COUNTIF(Y$265:Y$298,$G311)=0,0,COUNTIF(Y$265:Y$298,$G311)))","v":0},null,null,{"$f":"IF($G311=\"\",0,IF(COUNTIF(AB$265:AB$298,$G311)=0,0,COUNTIF(AB$265:AB$298,$G311)))","v":0},0]
[null,null,null,null,null,null,{"$f":"IF(Ekders!$F$72=\"\",\"\",Ekders!$F$72)","v":""},null,0,0,{"$f":"SUM(L312:U312)+SUM(X312:Y312)+SUM(AB312:AC312)","v":0},{"$f":"IF($G312=\"\",0,IF(COUNTIF(L$283:L$298,$G312)=0,0,COUNTIF(L$283:L$298,$G312)))","v":0},0,0,0,0,0,0,0,0,0,null,null,0,0,null,null,0,0]
[null,null,null,null,null,null,{"$f":"IF(Ekders!$F$73=\"\",\"\",Ekders!$F$73)","v":""},null,0,0,{"$f":"SUM(L313:U313)+SUM(X313:Y313)+SUM(AB313:AC313)","v":0},{"$f":"IF($G313=\"\",0,IF(COUNTIF(L$283:L$298,$G313)=0,0,COUNTIF(L$283:L$298,$G313)))","v":0},0,0,0,0,0,0,0,0,0,null,null,0,0,null,null,0,0]
[null,null,null,null,null,null,{"$f":"IF(Ekders!$F$74=\"\",\"\",Ekders!$F$74)","v":""},null,0,0,{"$f":"SUM(L314:U314)+SUM(X314:Y314)+SUM(AB314:AC314)","v":0},{"$f":"IF($G314=\"\",0,IF(COUNTIF(L$283:L$298,$G314)=0,0,COUNTIF(L$283:L$298,$G314)))","v":0},0,0,0,0,0,0,0,0,0,null,null,0,0,null,null,0,{"$f":"IF($G314=\"\",0,IF(COUNTIF(AC$265:AC$298,$G314)=0,0,COUNTIF(AC$265:AC$298,$G314)))","v":0}]

{"sheet":"Tatiller","index":6,"n_rows":103,"n_cols":79,"rows_kept":103,"cut":false,"hidden":false,"merged":[[28,72,28,73],[28,74,28,75],[273,2,273,24],[274,0,274,24],[99,1,99,4],[100,0,100,4],[101,0,101,4],[102,0,102,4],[102,23,102,24],[271,0,271,24],[90,1,90,4],[91,1,91,4],[92,0,99,0],[92,1,92,4],[93,1,93,4],[94,1,94,4],[95,1,95,4],[96,1,96,4],[97,1,97,4],[98,1,98,4],[83,0,91,0],[83,1,83,4],[84,1,84,4],[85,1,85,4],[86,1,86,4],[87,1,87,4],[88,1,88,4],[89,1,89,4],[81,7,81,8],[79,0,82,4],[79,5,79,22],[80,5,80,6],[80,7,80,8],[80,9,80,10],[80,11,80,12],[80,13,80,14],[80,15,80,18],[80,19,80,22],[81,5,81,6],[81,19,81,20],[81,21,81,22],[81,9,81,10],[81,11,81,12],[81,13,81,14],[81,15,81,16],[81,17,81,18],[75,0,75,4],[75,28,75,32],[76,0,76,4],[76,23,76,24],[76,28,76,32],[76,51,76,52],[72,1,72,4],[72,29,72,32],[73,1,73,4],[73,29,73,32],[74,0,74,4],[74,28,74,32],[71,1,71,4],[71,29,71,32],[65,1,65,4],[65,29,65,32],[66,0,73,0],[66,1,66,4],[66,28,73,28],[66,29,66,32],[67,1,67,4],[67,29,67,32],[68,1,68,4],[68,29,68,32],[59,1,59,4],[59,29,59,32],[60,1,60,4],[60,29,60,32],[61,1,61,4],[61,29,61,32],[69,1,69,4],[69,29,69,32],[70,1,70,4],[70,29,70,32],[55,43,55,44],[55,45,55,46],[55,47,55,48],[55,49,55,50],[57,0,65,0],[57,1,57,4],[57,28,65,28],[57,29,57,32],[58,1,58,4],[58,29,58,32],[55,21,55,22],[55,33,55,34],[55,35,55,36],[55,37,55,38],[55,39,55,40],[55,41,55,42],[53,0,56,4],[53,5,53,22],[62,1,62,4],[62,29,62,32],[63,1,63,4],[63,29,63,32],[64,1,64,4],[64,29,64,32],[54,43,54,46],[54,47,54,50],[55,5,55,6],[55,7,55,8],[55,9,55,10],[55,11,55,12],[55,13,55,14],[55,15,55,16],[55,17,55,18],[55,19,55,20],[54,19,54,22],[54,33,54,34],[54,35,54,36],[54,37,54,38],[54,39,54,40],[54,41,54,42],[53,28,56,32],[53,33,53,50],[54,5,54,6],[54,7,54,8],[54,9,54,10],[54,11,54,12],[54,13,54,14],[54,15,54,18],[50,0,50,4],[50,23,50,24],[50,28,50,32],[50,51,50,52],[46,1,46,4],[46,29,46,32],[47,1,47,4],[47,29,47,32],[48,0,48,4],[48,28,48,32],[40,0,47,0],[40,1,40,4],[40,28,47,28],[40,29,40,32],[41,1,41,4],[41,29,41,32],[42,1,42,4],[42,29,42,32],[49,0,49,4],[49,28,49,32],[35,29,35,32],[43,1,43,4],[43,29,43,32],[44,1,44,4],[44,29,44,32],[45,1,45,4],[45,29,45,32],[39,1,39,4],[39,29,39,32],[29,49,29,50],[31,0,39,0],[31,1,31,4],[31,28,39,28],[31,29,31,32],[32,1,32,4],[29,19,29,20],[29,21,29,22],[29,33,29,34],[29,35,29,36],[29,37,29,38],[29,39,29,40],[36,1,36,4],[36,29,36,32],[37,1,37,4],[37,29,37,32],[38,1,38,4],[38,29,38,32],[32,29,32,32],[33,1,33,4],[33,29,33,32],[34,1,34,4],[34,29,34,32],[35,1,35,4],[29,9,29,10],[29,11,29,12],[29,13,29,14],[29,15,29,16],[29,17,29,18],[29,41,29,42],[29,43,29,44],[29,45,29,46],[29,47,29,48],[22,16,22,20],[23,16,23,20],[24,16,24,20],[24,39,24,40],[27,0,30,4],[27,5,27,22],[27,28,30,32],[27,33,27,50],[28,37,28,38],[28,39,28,40],[28,5,28,6],[28,7,28,8],[28,9,28,10],[28,11,28,12],[28,13,28,14],[28,15,28,18],[28,19,28,22],[28,33,28,34],[28,35,28,36],[28,41,28,42],[28,43,28,46],[28,47,28,50],[29,5,29,6],[29,7,29,8],[14,16,21,16],[14,17,14,20],[15,17,15,20],[16,17,16,20],[17,17,17,20],[18,17,18,20],[19,17,19,20],[20,17,20,20],[21,17,21,20],[5,16,13,16],[5,17,5,20],[6,17,6,20],[7,17,7,20],[8,17,8,20],[9,17,9,20],[10,17,10,20],[11,17,11,20],[12,17,12,20],[13,17,13,20],[0,16,4,20],[0,21,0,38],[1,21,2,22],[1,23,2,24],[1,25,2,26],[1,27,2,28],[1,29,2,30],[1,31,1,34],[1,35,1,38],[2,31,2,32],[2,33,2,34],[2,35,2,36],[2,37,2,38],[3,21,3,22],[3,23,3,24],[3,25,3,26],[3,27,3,28],[3,29,3,30],[3,31,3,34],[3,35,3,38]]}
[null,null,null,null,null,null,null,null,null,null,null,null,null,null,null,null,null,null,null,null,null,"HAFTALIK DERS PROGRAMI",null,null,null,null,null,null,null,null,null,null,null,null,null,null,null,null,null,null,null,null,null,null,null,null,null,null,null,null,null,null,null,null,{"$f":"IF('farklı dp'!BC1=0,\"0\",'farklı dp'!BC1)","v":"0"},{"$f":"IF('farklı dp'!B1=0,\"\",'farklı dp'!B1)","v":"RESMİ TATİLLER"},null,null,null,null,{"$f":"DersYükü!S1","v":0}]
[null,null,null,null,null,null,null,null,null,null,null,null,null,null,null,null,null,null,null,null,null," P.TESİ",null," SALI",null," ÇARŞ.",null," PERŞ.",null," CUMA",null," C.TESİ",null,null,null," PAZAR"]
[null,null,null,null,null,null,null,null,null,null,null,null,null,null,null,null,null,null,null,null,null,null,null,null,null,null,null,null,null,null,null,"Ö.Ö",null,"İ.Ö",null,"Ö.Ö",null,"İ.Ö",null,null,null,null,null,null,null,null,null,null,null,null,null,null,null,null,null,null,null,null,null,null,null,null,null,null,null,null,null,null,null,null,null,null,null,null,null,null,null,null,{"$f":"DersYükü!M1","v":"00:00:00"}]
[null,null,null,null,null,null,null,null,null,null,null,null,null,null,null,null,null,null,null,null,null,"P.TESİ",null,"SALI",null,"ÇAR.",null,"PER.",null,"CUMA",null,"CUMARTESİ",null,null,null,"PAZAR",null,null,null,null,null,null,null,null,null,null,null,null,null,null,null,null,{"$f":"VALUE(DersYükü!S1-DersYükü!M1)","v":0},null,{"$f":"IFERROR(VALUE(BN40),\"\")","v":""},"YILBAŞI",0,null,null,null,null,null,null,null,null,null,null,null,{"$f":"IF(BC4=\"\",\"\",BD4)","v":""},null,null,null,null,null,null,null,null,null,{"$f":"IF(CA3=\"\",\"\",IF(VALUE(CA3)+1>VALUE(DersYükü!$S$1),\"\",CA3+1))","v":""}]
[null,null,null,null,null,null,null,null,null,null,null,null,null,null,null,null,null,null,null,null,null,"T","D","T","D","T","D","T","D","T","D","T","D","T","D","T","D","T","D",null,null,null,null,null,null,null,null,null,null,null,null,null,{"$f":"DersYükü!M1+BA4/2","v":0},null,{"$f":"IFERROR(VLOOKUP(BN5,$CA$3:$CB$38,1,FALSE),\"\")","v":""},"ULUSAL EGEMENLİK VE Ç. BAYRAMI",0,null,null,null,null,23,"Nisan",{"$f":"$BA$5","v":"00:00:00"},null,{"$f":"VALUE(CONCATENATE(TEXT(BJ5,\"g\"),\" \",TEXT(BK5,\"aa\"),\" \",TEXT(BL5,\"yyyy\")))","v":"1900-04-23"},null,null,{"$f":"IF(BC4=\"\",\"\",BD4)","v":""},null,null,null,null,null,null,null,null,null,{"$f":"IF(CA4=\"\",\"\",IF(VALUE(CA4)+1>VALUE(DersYükü!$S$1),\"\",CA4+1))","v":""}]
[null,null,null,null,null,null,null,null,null,null,null,null,null,null,null,null,"ÖRGÜN ÖĞRETİM","08.00-09.00",null,null,null,{"$f":"IF(DersYükü!F47=0,\"\",DersYükü!F47)","v":""},{"$f":"IF(DersYükü!G47=0,\"\",DersYükü!G47)","v":""},{"$f":"IF(DersYükü!H47=0,\"\",DersYükü!H47)","v":""},{"$f":"IF(DersYükü!I47=0,\"\",DersYükü!I47)","v":""},{"$f":"IF(DersYükü!J47=0,\"\",DersYükü!J47)","v":""},{"$f":"IF(DersYükü!K47=0,\"\",DersYükü!K47)","v":""},{"$f":"IF(DersYükü!L47=0,\"\",DersYükü!L47)","v":""},{"$f":"IF(DersYükü!M47=0,\"\",DersYükü!M47)","v":""},{"$f":"IF(DersYükü!N47=0,\"\",DersYükü!N47)","v":""},{"$f":"IF(DersYükü!O47=0,\"\",DersYükü!O47)","v":""},{"$f":"IF(DersYükü!P47=0,\"\",DersYükü!P47)","v":""},{"$f":"IF(DersYükü!Q47=0,\"\",DersYükü!Q47)","v":""},{"$f":"IF(DersYükü!R47=0,\"\",DersYükü!R47)","v":""},{"$f":"IF(DersYükü!S47=0,\"\",DersYükü!S47)","v":""},{"$f":"IF(DersYükü!T47=0,\"\",DersYükü!T47)","v":""},{"$f":"IF(DersYükü!U47=0,\"\",DersYükü!U47)","v":""},{"$f":"IF(DersYükü!V47=0,\"\",DersYükü!V47)","v":""},{"$f":"IF(DersYükü!W47=0,\"\",DersYükü!W47)","v":""},null,null,null,null,null,null,null,null,null,null,null,null,null,{"$f":"BA5","v":"00:00:00"},null,"","EMEK VE DAYANIŞMA GÜNÜ",0,null,null,null,null,1,"Mayıs","00:00:00",null,"1900-05-01",null,null,null,null,null,null,null,null,null,null,null,null,{"$f":"IF(CA5=\"\",\"\",IF(VALUE(CA5)+1>VALUE(DersYükü!$S$1),\"\",CA5+1))","v":""}]
[null,null,null,null,null,null,null,null,null,null,null,null,null,null,null,null,null,"09.00-10.00",null,null,null,{"$f":"IF(DersYükü!F48=0,\"\",DersYükü!F48)","v":""},{"$f":"IF(DersYükü!G48=0,\"\",DersYükü!G48)","v":""},{"$f":"IF(DersYükü!H48=0,\"\",DersYükü!H48)","v":""},{"$f":"IF(DersYükü!I48=0,\"\",DersYükü!I48)","v":""},{"$f":"IF(DersYükü!J48=0,\"\",DersYükü!J48)","v":""},{"$f":"IF(DersYükü!K48=0,\"\",DersYükü!K48)","v":""},{"$f":"IF(DersYükü!L48=0,\"\",DersYükü!L48)","v":""},{"$f":"IF(DersYükü!M48=0,\"\",DersYükü!M48)","v":""},{"$f":"IF(DersYükü!N48=0,\"\",DersYükü!N48)","v":""},{"$f":"IF(DersYükü!O48=0,\"\",DersYükü!O48)","v":""},{"$f":"IF(DersYükü!P48=0,\"\",DersYükü!P48)","v":""},{"$f":"IF(DersYükü!Q48=0,\"\",DersYükü!Q48)","v":""},{"$f":"IF(DersYükü!R48=0,\"\",DersYükü!R48)","v":""},{"$f":"IF(DersYükü!S48=0,\"\",DersYükü!S48)","v":""},{"$f":"IF(DersYükü!T48=0,\"\",DersYükü!T48)","v":""},{"$f":"IF(DersYükü!U48=0,\"\",DersYükü!U48)","v":""},{"$f":"IF(DersYükü!V48=0,\"\",DersYükü!V48)","v":""},{"$f":"IF(DersYükü!W48=0,\"\",DersYükü!W48)","v":""},null,null,null,null,null,null,null,null,null,null,null,null,null,{"$f":"VALUE(BA6)","v":0},null,{"$f":"IFERROR(VLOOKUP(BN7,$CA$3:$CB$38,1,FALSE),\"\")","v":""},"ATATÜRK'Ü ANMA GENÇLİK VE SPOR BAYRAMI",0,null,null,null,null,19,"Mayıs","00:00:00",null,"1900-05-19",null,null,null,null,null,null,null,null,null,null,null,null,{"$f":"IF(CA6=\"\",\"\",IF(VALUE(CA6)+1>VALUE(DersYükü!$S$1),\"\",CA6+1))","v":""}]
[null,null,null,null,null,null,null,null,null,null,null,null,null,null,null,null,null,"10.00-11.00",null,null,null,{"$f":"IF(DersYükü!F49=0,\"\",DersYükü!F49)","v":""},{"$f":"IF(DersYükü!G49=0,\"\",DersYükü!G49)","v":""},{"$f":"IF(DersYükü!H49=0,\"\",DersYükü!H49)","v":""},{"$f":"IF(DersYükü!I49=0,\"\",DersYükü!I49)","v":""},{"$f":"IF(DersYükü!J49=0,\"\",DersYükü!J49)","v":""},{"$f":"IF(DersYükü!K49=0,\"\",DersYükü!K49)","v":""},{"$f":"IF(DersYükü!L49=0,\"\",DersYükü!L49)","v":""},{"$f":"IF(DersYükü!M49=0,\"\",DersYükü!M49)","v":""},{"$f":"IF(DersYükü!N49=0,\"\",DersYükü!N49)","v":""},{"$f":"IF(DersYükü!O49=0,\"\",DersYükü!O49)","v":""},{"$f":"IF(DersYükü!P49=0,\"\",DersYükü!P49)","v":""},{"$f":"IF(DersYükü!Q49=0,\"\",DersYükü!Q49)","v":""},{"$f":"IF(DersYükü!R49=0,\"\",DersYükü!R49)","v":""},{"$f":"IF(DersYükü!S49=0,\"\",DersYükü!S49)","v":""},{"$f":"IF(DersYükü!T49=0,\"\",DersYükü!T49)","v":""},{"$f":"IF(DersYükü!U49=0,\"\",DersYükü!U49)","v":""},{"$f":"IF(DersYükü!V49=0,\"\",DersYükü!V49)","v":""},{"$f":"IF(DersYükü!W49=0,\"\",DersYükü!W49)","v":""},null,null,null,null,null,null,null,null,null,null,null,null,null,null,null,{"$f":"IFERROR(VLOOKUP(BN8,$CA$3:$CB$38,1,FALSE),\"\")","v":""},"ZAFER BAYRAMI",0,null,null,null,null,30,"Ağustos","00:00:00",null,"1900-08-30",null,null,null,null,null,null,null,null,null,null,null,null,{"$f":"IF(CA7=\"\",\"\",IF(VALUE(CA7)+1>VALUE(DersYükü!$S$1),\"\",CA7+1))","v":""}]
[null,null,null,null,null,null,null,null,null,null,null,null,null,null,null,null,null,"11.00-12.00",null,null,null,{"$f":"IF(DersYükü!F50=0,\"\",DersYükü!F50)","v":""},{"$f":"IF(DersYükü!G50=0,\"\",DersYükü!G50)","v":""},{"$f":"IF(DersYükü!H50=0,\"\",DersYükü!H50)","v":""},{"$f":"IF(DersYükü!I50=0,\"\",DersYükü!I50)","v":""},{"$f":"IF(DersYükü!J50=0,\"\",DersYükü!J50)","v":""},{"$f":"IF(DersYükü!K50=0,\"\",DersYükü!K50)","v":""},{"$f":"IF(DersYükü!L50=0,\"\",DersYükü!L50)","v":""},{"$f":"IF(DersYükü!M50=0,\"\",DersYükü!M50)","v":""},{"$f":"IF(DersYükü!N50=0,\"\",DersYükü!N50)","v":""},{"$f":"IF(DersYükü!O50=0,\"\",DersYükü!O50)","v":""},{"$f":"IF(DersYükü!P50=0,\"\",DersYükü!P50)","v":""},{"$f":"IF(DersYükü!Q50=0,\"\",DersYükü!Q50)","v":""},{"$f":"IF(DersYükü!R50=0,\"\",DersYükü!R50)","v":""},{"$f":"IF(DersYükü!S50=0,\"\",DersYükü!S50)","v":""},{"$f":"IF(DersYükü!T50=0,\"\",DersYükü!T50)","v":""},{"$f":"IF(DersYükü!U50=0,\"\",DersYükü!U50)","v":""},{"$f":"IF(DersYükü!V50=0,\"\",DersYükü!V50)","v":""},{"$f":"IF(DersYükü!W50=0,\"\",DersYükü!W50)","v":""},null,null,null,null,null,null,null,null,null,null,null,null,null,null,null,{"$f":"IFERROR(VLOOKUP(BN9,$CA$3:$CB$38,1,FALSE),\"\")","v":""},"CUMHURİYET BAYRAMI",0,null,null,null,null,29,"Ekim","00:00:00",null,"1900-10-29",null,null,null,null,null,null,null,null,null,null,null,null,{"$f":"IF(CA8=\"\",\"\",IF(VALUE(CA8)+1>VALUE(DersYükü!$S$1),\"\",CA8+1))","v":""}]
[null,null,null,null,null,null,null,null,null,null,null,null,null,null,null,null,null,"12.00-13.00",null,null,null,{"$f":"IF(DersYükü!F51=0,\"\",DersYükü!F51)","v":""},{"$f":"IF(DersYükü!G51=0,\"\",DersYükü!G51)","v":""},{"$f":"IF(DersYükü!H51=0,\"\",DersYükü!H51)","v":""},{"$f":"IF(DersYükü!I51=0,\"\",DersYükü!I51)","v":""},{"$f":"IF(DersYükü!J51=0,\"\",DersYükü!J51)","v":""},{"$f":"IF(DersYükü!K51=0,\"\",DersYükü!K51)","v":""},{"$f":"IF(DersYükü!L51=0,\"\",DersYükü!L51)","v":""},{"$f":"IF(DersYükü!M51=0,\"\",DersYükü!M51)","v":""},{"$f":"IF(DersYükü!N51=0,\"\",DersYükü!N51)","v":""},{"$f":"IF(DersYükü!O51=0,\"\",DersYükü!O51)","v":""},{"$f":"IF(DersYükü!P51=0,\"\",DersYükü!P51)","v":""},{"$f":"IF(DersYükü!Q51=0,\"\",DersYükü!Q51)","v":""},{"$f":"IF(DersYükü!R51=0,\"\",DersYükü!R51)","v":""},{"$f":"IF(DersYükü!S51=0,\"\",DersYükü!S51)","v":""},{"$f":"IF(DersYükü!T51=0,\"\",DersYükü!T51)","v":""},{"$f":"IF(DersYükü!U51=0,\"\",DersYükü!U51)","v":""},{"$f":"IF(DersYükü!V51=0,\"\",DersYükü!V51)","v":""},{"$f":"IF(DersYükü!W51=0,\"\",DersYükü!W51)","v":""},null,null,null,null,null,null,null,null,null,null,null,null,null,null,null,{"$f":"IFERROR(VALUE(BN10),\"\")","v":""},"RAMAZAN BAYRAMI 1. GÜNÜ",0,null,null,null,null,null,"RAMAZAN BAYRAMI 1. GÜNÜ",null,null,{"$f":"CONCATENATE(BK11,BK12,BK13,BK14,BK15,BK16,BK17,BK18,BK19,BK20,BK21)","v":""},null,null,null,null,null,null,null,null,null,null,null,null,{"$f":"IF(CA9=\"\",\"\",IF(VALUE(CA9)+1>VALUE(DersYükü!$S$1),\"\",CA9+1))","v":""}]
[null,null,null,null,null,null,null,null,null,null,null,null,null,null,null,null,null,"13.00-14.00",null,null,null,{"$f":"IF(DersYükü!F52=0,\"\",DersYükü!F52)","v":""},{"$f":"IF(DersYükü!G52=0,\"\",DersYükü!G52)","v":""},{"$f":"IF(DersYükü!H52=0,\"\",DersYükü!H52)","v":""},{"$f":"IF(DersYükü!I52=0,\"\",DersYükü!I52)","v":""},{"$f":"IF(DersYükü!J52=0,\"\",DersYükü!J52)","v":""},{"$f":"IF(DersYükü!K52=0,\"\",DersYükü!K52)","v":""},{"$f":"IF(DersYükü!L52=0,\"\",DersYükü!L52)","v":""},{"$f":"IF(DersYükü!M52=0,\"\",DersYükü!M52)","v":""},{"$f":"IF(DersYükü!N52=0,\"\",DersYükü!N52)","v":""},{"$f":"IF(DersYükü!O52=0,\"\",DersYükü!O52)","v":""},{"$f":"IF(DersYükü!P52=0,\"\",DersYükü!P52)","v":""},{"$f":"IF(DersYükü!Q52=0,\"\",DersYükü!Q52)","v":""},{"$f":"IF(DersYükü!R52=0,\"\",DersYükü!R52)","v":""},{"$f":"IF(DersYükü!S52=0,\"\",DersYükü!S52)","v":""},{"$f":"IF(DersYükü!T52=0,\"\",DersYükü!T52)","v":""},{"$f":"IF(DersYükü!U52=0,\"\",DersYükü!U52)","v":""},{"$f":"IF(DersYükü!V52=0,\"\",DersYükü!V52)","v":""},{"$f":"IF(DersYükü!W52=0,\"\",DersYükü!W52)","v":""},null,null,null,null,null,null,null,null,null,null,null,null,null,null,null,{"$f":"IF('farklı dp'!B13=0,\"\",'farklı dp'!B13)","v":""},"RAMAZAN BAYRAMI 2. GÜNÜ",0,null,{"$f":"IFERROR(VLOOKUP(BL4,$BM$11:$BN$18,2,FALSE),\"\")","v":""},null,null,null,{"$f":"IFERROR(VLOOKUP(BN11,$CA$3:$CB$38,1,FALSE),\"\")","v":""},null,null,"2015-07-17",null,null,null,null,null,null,null,null,null,null,null,null,{"$f":"IF(CA10=\"\",\"\",IF(VALUE(CA10)+1>VALUE(DersYükü!$S$1),\"\",CA10+1))","v":""}]
[null,null,null,null,null,null,null,null,null,null,null,null,null,null,null,null,null,"14.00-15.00",null,null,null,{"$f":"IF(DersYükü!F53=0,\"\",DersYükü!F53)","v":""},{"$f":"IF(DersYükü!G53=0,\"\",DersYükü!G53)","v":""},{"$f":"IF(DersYükü!H53=0,\"\",DersYükü!H53)","v":""},{"$f":"IF(DersYükü!I53=0,\"\",DersYükü!I53)","v":""},{"$f":"IF(DersYükü!J53=0,\"\",DersYükü!J53)","v":""},{"$f":"IF(DersYükü!K53=0,\"\",DersYükü!K53)","v":""},{"$f":"IF(DersYükü!L53=0,\"\",DersYükü!L53)","v":""},{"$f":"IF(DersYükü!M53=0,\"\",DersYükü!M53)","v":""},{"$f":"IF(DersYükü!N53=0,\"\",DersYükü!N53)","v":""},{"$f":"IF(DersYükü!O53=0,\"\",DersYükü!O53)","v":""},{"$f":"IF(DersYükü!P53=0,\"\",DersYükü!P53)","v":""},{"$f":"IF(DersYükü!Q53=0,\"\",DersYükü!Q53)","v":""},{"$f":"IF(DersYükü!R53=0,\"\",DersYükü!R53)","v":""},{"$f":"IF(DersYükü!S53=0,\"\",DersYükü!S53)","v":""},{"$f":"IF(DersYükü!T53=0,\"\",DersYükü!T53)","v":""},{"$f":"IF(DersYükü!U53=0,\"\",DersYükü!U53)","v":""},{"$f":"IF(DersYükü!V53=0,\"\",DersYükü!V53)","v":""},{"$f":"IF(DersYükü!W53=0,\"\",DersYükü!W53)","v":""},null,null,null,null,null,null,null,null,null,null,null,null,null,null,null,{"$f":"IF('farklı dp'!B14=0,\"\",'farklı dp'!B14)","v":""},"RAMAZAN BAYRAMI 3. GÜNÜ",0,null,null,null,null,null,{"$f":"IFERROR(VLOOKUP(BN12,$CA$3:$CB$38,1,FALSE),\"\")","v":""},null,null,"2016-07-05",null,null,null,null,null,null,null,null,null,null,null,null,{"$f":"IF(CA11=\"\",\"\",IF(VALUE(CA11)+1>VALUE(DersYükü!$S$1),\"\",CA11+1))","v":""}]
[null,null,null,null,null,null,null,null,null,null,null,null,null,null,null,null,null,"15.00-16.00",null,null,null,{"$f":"IF(DersYükü!F54=0,\"\",DersYükü!F54)","v":""},{"$f":"IF(DersYükü!G54=0,\"\",DersYükü!G54)","v":""},{"$f":"IF(DersYükü!H54=0,\"\",DersYükü!H54)","v":""},{"$f":"IF(DersYükü!I54=0,\"\",DersYükü!I54)","v":""},{"$f":"IF(DersYükü!J54=0,\"\",DersYükü!J54)","v":""},{"$f":"IF(DersYükü!K54=0,\"\",DersYükü!K54)","v":""},{"$f":"IF(DersYükü!L54=0,\"\",DersYükü!L54)","v":""},{"$f":"IF(DersYükü!M54=0,\"\",DersYükü!M54)","v":""},{"$f":"IF(DersYükü!N54=0,\"\",DersYükü!N54)","v":""},{"$f":"IF(DersYükü!O54=0,\"\",DersYükü!O54)","v":""},{"$f":"IF(DersYükü!P54=0,\"\",DersYükü!P54)","v":""},{"$f":"IF(DersYükü!Q54=0,\"\",DersYükü!Q54)","v":""},{"$f":"IF(DersYükü!R54=0,\"\",DersYükü!R54)","v":""},{"$f":"IF(DersYükü!S54=0,\"\",DersYükü!S54)","v":""},{"$f":"IF(DersYükü!T54=0,\"\",DersYükü!T54)","v":""},{"$f":"IF(DersYükü!U54=0,\"\",DersYükü!U54)","v":""},{"$f":"IF(DersYükü!V54=0,\"\",DersYükü!V54)","v":""},{"$f":"IF(DersYükü!W54=0,\"\",DersYükü!W54)","v":""},null,null,null,null,null,null,null,null,null,null,null,null,null,null,null,{"$f":"IFERROR(VALUE(BN28),\"\")","v":""},"KURBAN BAYRAMI 1. GÜNÜ",0,null,null,null,null,null,"",null,null,"2017-06-25",null,null,null,null,null,null,null,null,null,null,null,null,{"$f":"IF(CA12=\"\",\"\",IF(VALUE(CA12)+1>VALUE(DersYükü!$S$1),\"\",CA12+1))","v":""}]
[null,null,null,null,null,null,null,null,null,null,null,null,null,null,null,null,null,"16.00-17.00",null,null,null,{"$f":"IF(DersYükü!F55=0,\"\",DersYükü!F55)","v":""},{"$f":"IF(DersYükü!G55=0,\"\",DersYükü!G55)","v":""},{"$f":"IF(DersYükü!H55=0,\"\",DersYükü!H55)","v":""},{"$f":"IF(DersYükü!I55=0,\"\",DersYükü!I55)","v":""},{"$f":"IF(DersYükü!J55=0,\"\",DersYükü!J55)","v":""},{"$f":"IF(DersYükü!K55=0,\"\",DersYükü!K55)","v":""},{"$f":"IF(DersYükü!L55=0,\"\",DersYükü!L55)","v":""},{"$f":"IF(DersYükü!M55=0,\"\",DersYükü!M55)","v":""},{"$f":"IF(DersYükü!N55=0,\"\",DersYükü!N55)","v":""},{"$f":"IF(DersYükü!O55=0,\"\",DersYükü!O55)","v":""},{"$f":"IF(DersYükü!P55=0,\"\",DersYükü!P55)","v":""},{"$f":"IF(DersYükü!Q55=0,\"\",DersYükü!Q55)","v":""},{"$f":"IF(DersYükü!R55=0,\"\",DersYükü!R55)","v":""},{"$f":"IF(DersYükü!S55=0,\"\",DersYükü!S55)","v":""},{"$f":"IF(DersYükü!T55=0,\"\",DersYükü!T55)","v":""},{"$f":"IF(DersYükü!U55=0,\"\",DersYükü!U55)","v":""},{"$f":"IF(DersYükü!V55=0,\"\",DersYükü!V55)","v":""},{"$f":"IF(DersYükü!W55=0,\"\",DersYükü!W55)","v":""},null,null,null,null,null,null,null,null,null,null,null,null,null,null,null,{"$f":"IF('farklı dp'!B17=0,\"\",'farklı dp'!B17)","v":""},"KURBAN BAYRAMI 2. GÜNÜ",0,null,null,null,null,null,"",null,null,"2018-06-15",null,null,null,null,null,null,null,null,null,null,null,null,{"$f":"IF(CA13=\"\",\"\",IF(VALUE(CA13)+1>VALUE(DersYükü!$S$1),\"\",CA13+1))","v":""}]
[null,null,null,null,null,null,null,null,null,null,null,null,null,null,null,null,"İKİNCİ ÖĞRT.","16.00-17.00",null,null,null,{"$f":"IF(DersYükü!F56=0,\"\",DersYükü!F56)","v":""},{"$f":"IF(DersYükü!G56=0,\"\",DersYükü!G56)","v":""},{"$f":"IF(DersYükü!H56=0,\"\",DersYükü!H56)","v":""},{"$f":"IF(DersYükü!I56=0,\"\",DersYükü!I56)","v":""},{"$f":"IF(DersYükü!J56=0,\"\",DersYükü!J56)","v":""},{"$f":"IF(DersYükü!K56=0,\"\",DersYükü!K56)","v":""},{"$f":"IF(DersYükü!L56=0,\"\",DersYükü!L56)","v":""},{"$f":"IF(DersYükü!M56=0,\"\",DersYükü!M56)","v":""},{"$f":"IF(DersYükü!N56=0,\"\",DersYükü!N56)","v":""},{"$f":"IF(DersYükü!O56=0,\"\",DersYükü!O56)","v":""},{"$f":"IF(DersYükü!P56=0,\"\",DersYükü!P56)","v":""},{"$f":"IF(DersYükü!Q56=0,\"\",DersYükü!Q56)","v":""},{"$f":"IF(DersYükü!R56=0,\"\",DersYükü!R56)","v":""},{"$f":"IF(DersYükü!S56=0,\"\",DersYükü!S56)","v":""},{"$f":"IF(DersYükü!T56=0,\"\",DersYükü!T56)","v":""},{"$f":"IF(DersYükü!U56=0,\"\",DersYükü!U56)","v":""},{"$f":"IF(DersYükü!V56=0,\"\",DersYükü!V56)","v":""},{"$f":"IF(DersYükü!W56=0,\"\",DersYükü!W56)","v":""},null,null,null,null,null,null,null,null,null,null,null,null,null,null,null,{"$f":"IF('farklı dp'!B18=0,\"\",'farklı dp'!B18)","v":""},"KURBAN BAYRAMI 3. GÜNÜ",0,null,null,null,null,null,"",null,null,"2019-06-05",null,null,null,null,null,null,null,null,null,null,null,null,{"$f":"IF(CA14=\"\",\"\",IF(VALUE(CA14)+1>VALUE(DersYükü!$S$1),\"\",CA14+1))","v":""}]
[null,null,null,null,null,null,null,null,null,null,null,null,null,null,null,null,null,"17.00-18.00",null,null,null,{"$f":"IF(DersYükü!F57=0,\"\",DersYükü!F57)","v":""},{"$f":"IF(DersYükü!G57=0,\"\",DersYükü!G57)","v":""},{"$f":"IF(DersYükü!H57=0,\"\",DersYükü!H57)","v":""},{"$f":"IF(DersYükü!I57=0,\"\",DersYükü!I57)","v":""},{"$f":"IF(DersYükü!J57=0,\"\",DersYükü!J57)","v":""},{"$f":"IF(DersYükü!K57=0,\"\",DersYükü!K57)","v":""},{"$f":"IF(DersYükü!L57=0,\"\",DersYükü!L57)","v":""},{"$f":"IF(DersYükü!M57=0,\"\",DersYükü!M57)","v":""},{"$f":"IF(DersYükü!N57=0,\"\",DersYükü!N57)","v":""},{"$f":"IF(DersYükü!O57=0,\"\",DersYükü!O57)","v":""},{"$f":"IF(DersYükü!P57=0,\"\",DersYükü!P57)","v":""},{"$f":"IF(DersYükü!Q57=0,\"\",DersYükü!Q57)","v":""},{"$f":"IF(DersYükü!R57=0,\"\",DersYükü!R57)","v":""},{"$f":"IF(DersYükü!S57=0,\"\",DersYükü!S57)","v":""},{"$f":"IF(DersYükü!T57=0,\"\",DersYükü!T57)","v":""},{"$f":"IF(DersYükü!U57=0,\"\",DersYükü!U57)","v":""},{"$f":"IF(DersYükü!V57=0,\"\",DersYükü!V57)","v":""},{"$f":"IF(DersYükü!W57=0,\"\",DersYükü!W57)","v":""},null,null,null,null,null,null,null,null,null,null,null,null,null,null,null,{"$f":"IF('farklı dp'!B19=0,\"\",'farklı dp'!B19)","v":""},"KURBAN BAYRAMI 4. GÜNÜ",0,null,null,null,null,null,"",null,null,"2020-05-24",null,null,null,null,null,null,null,null,null,null,null,null,{"$f":"IF(CA15=\"\",\"\",IF(VALUE(CA15)+1>VALUE(DersYükü!$S$1),\"\",CA15+1))","v":""}]
[null,null,null,null,null,null,null,null,null,null,null,null,null,null,null,null,null,"18.00-19.00",null,null,null,{"$f":"IF(DersYükü!F58=0,\"\",DersYükü!F58)","v":""},{"$f":"IF(DersYükü!G58=0,\"\",DersYükü!G58)","v":""},{"$f":"IF(DersYükü!H58=0,\"\",DersYükü!H58)","v":""},{"$f":"IF(DersYükü!I58=0,\"\",DersYükü!I58)","v":""},{"$f":"IF(DersYükü!J58=0,\"\",DersYükü!J58)","v":""},{"$f":"IF(DersYükü!K58=0,\"\",DersYükü!K58)","v":""},{"$f":"IF(DersYükü!L58=0,\"\",DersYükü!L58)","v":""},{"$f":"IF(DersYükü!M58=0,\"\",DersYükü!M58)","v":""},{"$f":"IF(DersYükü!N58=0,\"\",DersYükü!N58)","v":""},{"$f":"IF(DersYükü!O58=0,\"\",DersYükü!O58)","v":""},{"$f":"IF(DersYükü!P58=0,\"\",DersYükü!P58)","v":""},{"$f":"IF(DersYükü!Q58=0,\"\",DersYükü!Q58)","v":""},{"$f":"IF(DersYükü!R58=0,\"\",DersYükü!R58)","v":""},{"$f":"IF(DersYükü!S58=0,\"\",DersYükü!S58)","v":""},{"$f":"IF(DersYükü!T58=0,\"\",DersYükü!T58)","v":""},{"$f":"IF(DersYükü!U58=0,\"\",DersYükü!U58)","v":""},{"$f":"IF(DersYükü!V58=0,\"\",DersYükü!V58)","v":""},{"$f":"IF(DersYükü!W58=0,\"\",DersYükü!W58)","v":""},null,null,null,null,null,null,null,null,null,null,null,null,null,null,null,null,null,null,null,null,null,null,null,"",null,null,"2021-05-13",null,null,null,null,null,null,null,null,null,null,null,null,{"$f":"IF(CA16=\"\",\"\",IF(VALUE(CA16)+1>VALUE(DersYükü!$S$1),\"\",CA16+1))","v":""}]
[null,null,null,null,null,null,null,null,null,null,null,null,null,null,null,null,null,"19.00-20.00",null,null,null,{"$f":"IF(DersYükü!F59=0,\"\",DersYükü!F59)","v":""},{"$f":"IF(DersYükü!G59=0,\"\",DersYükü!G59)","v":""},{"$f":"IF(DersYükü!H59=0,\"\",DersYükü!H59)","v":""},{"$f":"IF(DersYükü!I59=0,\"\",DersYükü!I59)","v":""},{"$f":"IF(DersYükü!J59=0,\"\",DersYükü!J59)","v":""},{"$f":"IF(DersYükü!K59=0,\"\",DersYükü!K59)","v":""},{"$f":"IF(DersYükü!L59=0,\"\",DersYükü!L59)","v":""},{"$f":"IF(DersYükü!M59=0,\"\",DersYükü!M59)","v":""},{"$f":"IF(DersYükü!N59=0,\"\",DersYükü!N59)","v":""},{"$f":"IF(DersYükü!O59=0,\"\",DersYükü!O59)","v":""},{"$f":"IF(DersYükü!P59=0,\"\",DersYükü!P59)","v":""},{"$f":"IF(DersYükü!Q59=0,\"\",DersYükü!Q59)","v":""},{"$f":"IF(DersYükü!R59=0,\"\",DersYükü!R59)","v":""},{"$f":"IF(DersYükü!S59=0,\"\",DersYükü!S59)","v":""},{"$f":"IF(DersYükü!T59=0,\"\",DersYükü!T59)","v":""},{"$f":"IF(DersYükü!U59=0,\"\",DersYükü!U59)","v":""},{"$f":"IF(DersYükü!V59=0,\"\",DersYükü!V59)","v":""},{"$f":"IF(DersYükü!W59=0,\"\",DersYükü!W59)","v":""},null,null,null,null,null,null,null,null,null,null,null,null,null,{"$f":"IF(B17=\"\",\"\",IF(VLOOKUP(DersYükü!M16,#REF!,2,FALSE)=\"\",\"\",VLOOKUP(DersYükü!M16,#REF!,2,FALSE)))","v":""},null,null,null,null,null,null,null,null,null,"",null,null,"2022-05-02",null,null,null,null,null,null,null,null,null,null,null,null,{"$f":"IF(CA17=\"\",\"\",IF(VALUE(CA17)+1>VALUE(DersYükü!$S$1),\"\",CA17+1))","v":""}]
[null,null,null,null,null,null,null,null,null,null,null,null,null,null,null,null,null,"20.00-21.00",null,null,null,{"$f":"IF(DersYükü!F60=0,\"\",DersYükü!F60)","v":""},{"$f":"IF(DersYükü!G60=0,\"\",DersYükü!G60)","v":""},{"$f":"IF(DersYükü!H60=0,\"\",DersYükü!H60)","v":""},{"$f":"IF(DersYükü!I60=0,\"\",DersYükü!I60)","v":""},{"$f":"IF(DersYükü!J60=0,\"\",DersYükü!J60)","v":""},{"$f":"IF(DersYükü!K60=0,\"\",DersYükü!K60)","v":""},{"$f":"IF(DersYükü!L60=0,\"\",DersYükü!L60)","v":""},{"$f":"IF(DersYükü!M60=0,\"\",DersYükü!M60)","v":""},{"$f":"IF(DersYükü!N60=0,\"\",DersYükü!N60)","v":""},{"$f":"IF(DersYükü!O60=0,\"\",DersYükü!O60)","v":""},{"$f":"IF(DersYükü!P60=0,\"\",DersYükü!P60)","v":""},{"$f":"IF(DersYükü!Q60=0,\"\",DersYükü!Q60)","v":""},{"$f":"IF(DersYükü!R60=0,\"\",DersYükü!R60)","v":""},{"$f":"IF(DersYükü!S60=0,\"\",DersYükü!S60)","v":""},{"$f":"IF(DersYükü!T60=0,\"\",DersYükü!T60)","v":""},{"$f":"IF(DersYükü!U60=0,\"\",DersYükü!U60)","v":""},{"$f":"IF(DersYükü!V60=0,\"\",DersYükü!V60)","v":""},{"$f":"IF(DersYükü!W60=0,\"\",DersYükü!W60)","v":""},null,null,null,null,null,null,null,null,null,null,null,null,null,null,null,null,null,null,null,null,null,null,null,"",null,null,"2023-04-22",null,null,null,null,null,null,null,null,null,null,null,null,{"$f":"IF(CA18=\"\",\"\",IF(VALUE(CA18)+1>VALUE(DersYükü!$S$1),\"\",CA18+1))","v":""}]
[null,null,null,null,null,null,null,null,null,null,null,null,null,null,null,null,null,"21.00-22.00",null,null,null,{"$f":"IF(DersYükü!F61=0,\"\",DersYükü!F61)","v":""},{"$f":"IF(DersYükü!G61=0,\"\",DersYükü!G61)","v":""},{"$f":"IF(DersYükü!H61=0,\"\",DersYükü!H61)","v":""},{"$f":"IF(DersYükü!I61=0,\"\",DersYükü!I61)","v":""},{"$f":"IF(DersYükü!J61=0,\"\",DersYükü!J61)","v":""},{"$f":"IF(DersYükü!K61=0,\"\",DersYükü!K61)","v":""},{"$f":"IF(DersYükü!L61=0,\"\",DersYükü!L61)","v":""},{"$f":"IF(DersYükü!M61=0,\"\",DersYükü!M61)","v":""},{"$f":"IF(DersYükü!N61=0,\"\",DersYükü!N61)","v":""},{"$f":"IF(DersYükü!O61=0,\"\",DersYükü!O61)","v":""},{"$f":"IF(DersYükü!P61=0,\"\",DersYükü!P61)","v":""},{"$f":"IF(DersYükü!Q61=0,\"\",DersYükü!Q61)","v":""},{"$f":"IF(DersYükü!R61=0,\"\",DersYükü!R61)","v":""},{"$f":"IF(DersYükü!S61=0,\"\",DersYükü!S61)","v":""},{"$f":"IF(DersYükü!T61=0,\"\",DersYükü!T61)","v":""},{"$f":"IF(DersYükü!U61=0,\"\",DersYükü!U61)","v":""},{"$f":"IF(DersYükü!V61=0,\"\",DersYükü!V61)","v":""},{"$f":"IF(DersYükü!W61=0,\"\",DersYükü!W61)","v":""},null,null,null,null,null,null,null,null,null,null,null,null,null,null,null,null,null,null,null,{"$f":"IF(BK29>0,\"\",IF(VLOOKUP(BN29,CA3:CB37,1,FALSE)=\"\",\"\",VLOOKUP(BN29,CA3:CB37,1,FALSE)))","v":""},null,null,null,"",null,null,"2024-04-12",null,null,null,null,null,null,null,null,null,null,null,null,{"$f":"IF(CA19=\"\",\"\",IF(VALUE(CA19)+1>VALUE(DersYükü!$S$1),\"\",CA19+1))","v":""}]
[null,null,null,null,null,null,null,null,null,null,null,null,null,null,null,null,null,null,null,null,null,{"$f":"IF(DersYükü!F62=0,\"\",DersYükü!F62)","v":""},{"$f":"IF(DersYükü!G62=0,\"\",DersYükü!G62)","v":""},{"$f":"IF(DersYükü!H62=0,\"\",DersYükü!H62)","v":""},{"$f":"IF(DersYükü!I62=0,\"\",DersYükü!I62)","v":""},{"$f":"IF(DersYükü!J62=0,\"\",DersYükü!J62)","v":""},{"$f":"IF(DersYükü!K62=0,\"\",DersYükü!K62)","v":""},{"$f":"IF(DersYükü!L62=0,\"\",DersYükü!L62)","v":""},{"$f":"IF(DersYükü!M62=0,\"\",DersYükü!M62)","v":""},{"$f":"IF(DersYükü!N62=0,\"\",DersYükü!N62)","v":""},{"$f":"IF(DersYükü!O62=0,\"\",DersYükü!O62)","v":""},{"$f":"IF(DersYükü!P62=0,\"\",DersYükü!P62)","v":""},{"$f":"IF(DersYükü!Q62=0,\"\",DersYükü!Q62)","v":""},{"$f":"IF(DersYükü!R62=0,\"\",DersYükü!R62)","v":""},{"$f":"IF(DersYükü!S62=0,\"\",DersYükü!S62)","v":""},{"$f":"IF(DersYükü!T62=0,\"\",DersYükü!T62)","v":""},{"$f":"IF(DersYükü!U62=0,\"\",DersYükü!U62)","v":""},{"$f":"IF(DersYükü!V62=0,\"\",DersYükü!V62)","v":""},{"$f":"IF(DersYükü!W62=0,\"\",DersYükü!W62)","v":""},null,null,null,null,null,null,null,null,null,null,null,null,null,null,null,null,null,null,null,{"$f":"IF(BK30=\"\",\"\",VLOOKUP(BN30,$CA$3:$CB$37,1,FALSE))","v":""},{"$f":"T(BK30)","v":""},null,null,"",null,null,"2025-04-02",null,null,null,null,null,null,null,null,null,null,null,null,{"$f":"IF(CA20=\"\",\"\",IF(VALUE(CA20)+1>VALUE(DersYükü!$S$1),\"\",CA20+1))","v":""}]
[null,null,null,null,null,null,null,null,null,null,null,null,null,null,null,null,null,null,null,null,null,{"$f":"IF(DersYükü!F63=0,\"\",DersYükü!F63)","v":""},{"$f":"IF(DersYükü!G63=0,\"\",DersYükü!G63)","v":""},{"$f":"IF(DersYükü!H63=0,\"\",DersYükü!H63)","v":""},{"$f":"IF(DersYükü!I63=0,\"\",DersYükü!I63)","v":""},{"$f":"IF(DersYükü!J63=0,\"\",DersYükü!J63)","v":""},{"$f":"IF(DersYükü!K63=0,\"\",DersYükü!K63)","v":""},{"$f":"IF(DersYükü!L63=0,\"\",DersYükü!L63)","v":""},{"$f":"IF(DersYükü!M63=0,\"\",DersYükü!M63)","v":""},{"$f":"IF(DersYükü!N63=0,\"\",DersYükü!N63)","v":""},{"$f":"IF(DersYükü!O63=0,\"\",DersYükü!O63)","v":""},{"$f":"IF(DersYükü!P63=0,\"\",DersYükü!P63)","v":""},{"$f":"IF(DersYükü!Q63=0,\"\",DersYükü!Q63)","v":""},{"$f":"IF(DersYükü!R63=0,\"\",DersYükü!R63)","v":""},{"$f":"IF(DersYükü!S63=0,\"\",DersYükü!S63)","v":""},{"$f":"IF(DersYükü!T63=0,\"\",DersYükü!T63)","v":""},{"$f":"IF(DersYükü!U63=0,\"\",DersYükü!U63)","v":""},{"$f":"IF(DersYükü!V63=0,\"\",DersYükü!V63)","v":""},{"$f":"IF(DersYükü!W63=0,\"\",DersYükü!W63)","v":""},null,null,null,null,null,null,null,null,null,null,null,null,null,null,null,null,null,null,null,{"$f":"IF(BK31=\"\",\"\",VLOOKUP(BN31,$CA$3:$CB$37,1,FALSE))","v":""},"",null,null,null,null,null,null,null,null,null,null,null,null,null,null,null,null,null,null,{"$f":"IF(CA21=\"\",\"\",IF(VALUE(CA21)+1>VALUE(DersYükü!$S$1),\"\",CA21+1))","v":""}]
[null,null,null,null,null,null,null,null,null,null,null,null,null,null,null,null,"TOPLAM (Ö.Ö)",null,null,null,null,{"$f":"COUNTIF(V6:V22,\"<P\")","v":17},17,17,17,17,17,17,17,17,17,17,17,null,null,{"$f":"COUNTIF(AJ6:AJ22,\"<P\")","v":17},{"$f":"COUNTIF(AK6:AK22,\"<P\")","v":17},null,null,{"$f":"V23+X23+Z23+AB23+AD23+AF23+AJ23","v":119},{"$f":"W23+Y23+AA23+AC23+AE23+AG23+AK23","v":119},null,null,null,null,null,null,null,null,null,null,null,null,null,null,null,null,null,null,"",null,null,null,null,null,null,null,null,null,null,null,null,null,null,null,null,null,null,{"$f":"IF(CA22=\"\",\"\",IF(VALUE(CA22)+1>VALUE(DersYükü!$S$1),\"\",CA22+1))","v":""}]
[null,null,null,null,null,null,null,null,null,null,null,null,null,null,null,null,"TOPLAM (İ.Ö)",null,null,null,null,{"$f":"COUNTIF(V6:V22,\">O\")","v":0},0,0,0,0,0,0,0,0,0,null,null,{"$f":"COUNTIF(AH6:AH22,\">O\")","v":0},{"$f":"COUNTIF(AI6:AI22,\">O\")","v":0},null,null,{"$f":"COUNTIF(AL6:AL22,\">O\")","v":0},{"$f":"COUNTIF(AM6:AM22,\">O\")","v":0},{"$f":"V24+X24+Z24+AB24+AD24+AH24+AL24","v":0},{"$f":"W24+Y24+AA24+AC24+AE24+AI24+AM24","v":0},null,null,null,null,null,null,null,null,null,null,null,null,null,null,null,null,null,{"$f":"IF(BK33=\"\",\"\",VLOOKUP(BN33,$CA$3:$CB$37,1,FALSE))","v":""},"",null,null,null,null,null,null,null,null,null,null,null,null,null,null,null,null,null,null,{"$f":"IF(CA23=\"\",\"\",IF(VALUE(CA23)+1>VALUE(DersYükü!$S$1),\"\",CA23+1))","v":""}]
[null,null,null,null,null,null,null,null,null,null,null,null,null,null,null,null,"GENEL TOPLAM",null,null,null,null,{"$f":"V23+V24","v":17},{"$f":"W23+W24","v":17},17,17,17,17,17,17,17,17,17,17,0,0,17,17,0,0,{"$f":"SUM(V25:AM25)","v":238},null,null,null,null,null,null,null,null,null,null,null,null,null,null,null,null,null,null,{"$f":"IF(BK34=\"\",\"\",VLOOKUP(BN34,$CA$3:$CB$37,1,FALSE))","v":""},"",null,null,null,null,null,null,null,null,null,null,null,null,null,null,null,null,null,null,{"$f":"IF(CA24=\"\",\"\",IF(VALUE(CA24)+1>VALUE(DersYükü!$S$1),\"\",CA24+1))","v":""}]
[null,null,null,null,null,null,null,null,null,null,null,null,null,null,null,null,null,null,null,null,null,null,null,null,null,null,null,null,null,null,null,null,null,null,null,null,null,null,null,null,null,null,null,null,null,null,null,null,null,null,null,null,null,null,null,null,null,null,{"$f":"IF(BK35=\"\",\"\",VLOOKUP(BN35,$CA$3:$CB$37,1,FALSE))","v":""},"",null,null,null,null,null,null,null,null,null,null,null,null,null,null,null,null,null,null,{"$f":"IF(CA25=\"\",\"\",IF(VALUE(CA25)+1>VALUE(DersYükü!$S$1),\"\",CA25+1))","v":""}]
[null,null,null,null,null,{"$f":"IFERROR(VLOOKUP(F29,$BC$4:$BE$45,3,FALSE),\"\")","v":""},{"$f":"IFERROR(VLOOKUP(F29,$BC$4:$BE$51,3,FALSE),\"\")","v":""},{"$f":"IFERROR(VLOOKUP(H29,$BC$4:$BE$45,3,FALSE),\"\")","v":0},{"$f":"IFERROR(VLOOKUP(H29,$BC$4:$BE$51,3,FALSE),\"\")","v":0},{"$f":"IFERROR(VLOOKUP(J29,$BC$4:$BE$45,3,FALSE),\"\")","v":0},{"$f":"IFERROR(VLOOKUP(J29,$BC$4:$BE$51,3,FALSE),\"\")","v":0},{"$f":"IFERROR(VLOOKUP(L29,$BC$4:$BE$45,3,FALSE),\"\")","v":0},{"$f":"IFERROR(VLOOKUP(L29,$BC$4:$BE$51,3,FALSE),\"\")","v":0},{"$f":"IFERROR(VLOOKUP(N29,$BC$4:$BE$45,3,FALSE),\"\")","v":0},{"$f":"IFERROR(VLOOKUP(N29,$BC$4:$BE$51,3,FALSE),\"\")","v":0},{"$f":"IFERROR(VLOOKUP(P29,$BC$4:$BE$45,3,FALSE),\"\")","v":0},{"$f":"IFERROR(VLOOKUP(P29,$BC$4:$BE$51,3,FALSE),\"\")","v":0},{"$f":"IFERROR(VLOOKUP(P29,$BC$4:$BE$45,3,FALSE),\"\")","v":0},{"$f":"IFERROR(VLOOKUP(P29,$BC$4:$BE$51,3,FALSE),\"\")","v":0},{"$f":"IFERROR(VLOOKUP(T29,$BC$4:$BE$45,3,FALSE),\"\")","v":0},{"$f":"IFERROR(VLOOKUP(T29,$BC$4:$BE$51,3,FALSE),\"\")","v":0},{"$f":"IFERROR(VLOOKUP(T29,$BC$4:$BE$45,3,FALSE),\"\")","v":0},{"$f":"IFERROR(VLOOKUP(T29,$BC$4:$BE$51,3,FALSE),\"\")","v":0},null,null,null,null,null,null,null,null,null,null,{"$f":"IFERROR(VLOOKUP(AH29,$BC$4:$BE$45,3,FALSE),\"\")","v":0},{"$f":"IFERROR(VLOOKUP(AH29,$BC$4:$BE$51,3,FALSE),\"\")","v":0},{"$f":"IFERROR(VLOOKUP(AJ29,$BC$4:$BE$45,3,FALSE),\"\")","v":0},{"$f":"IFERROR(VLOOKUP(AJ29,$BC$4:$BE$51,3,FALSE),\"\")","v":0},{"$f":"IFERROR(VLOOKUP(AL29,$BC$4:$BE$45,3,FALSE),\"\")","v":0},{"$f":"IFERROR(VLOOKUP(AL29,$BC$4:$BE$51,3,FALSE),\"\")","v":0},{"$f":"IFERROR(VLOOKUP(AN29,$BC$4:$BE$45,3,FALSE),\"\")","v":0},{"$f":"IFERROR(VLOOKUP(AN29,$BC$4:$BE$51,3,FALSE),\"\")","v":0},{"$f":"IFERROR(VLOOKUP(AP29,$BC$4:$BE$45,3,FALSE),\"\")","v":0},{"$f":"IFERROR(VLOOKUP(AP29,$BC$4:$BE$51,3,FALSE),\"\")","v":0},{"$f":"IFERROR(VLOOKUP(AR29,$BC$4:$BE$45,3,FALSE),\"\")","v":0},{"$f":"IFERROR(VLOOKUP(AR29,$BC$4:$BE$51,3,FALSE),\"\")","v":0},{"$f":"IFERROR(VLOOKUP(AR29,$BC$4:$BE$45,3,FALSE),\"\")","v":0},{"$f":"IFERROR(VLOOKUP(AR29,$BC$4:$BE$51,3,FALSE),\"\")","v":0},{"$f":"IFERROR(VLOOKUP(AV29,$BC$4:$BE$45,3,FALSE),\"\")","v":0},{"$f":"IFERROR(VLOOKUP(AV29,$BC$4:$BE$51,3,FALSE),\"\")","v":0},{"$f":"IFERROR(VLOOKUP(AV29,$BC$4:$BE$45,3,FALSE),\"\")","v":0},{"$f":"IFERROR(VLOOKUP(AV29,$BC$4:$BE$51,3,FALSE),\"\")","v":0},null,null,null,null,null,null,null,{"$f":"IF(BK36=\"\",\"\",VLOOKUP(BN36,$CA$3:$CB$37,1,FALSE))","v":""},"",null,null,null,null,null,null,null,null,null,null,null,null,null,null,null,null,null,null,{"$f":"IF(CA26=\"\",\"\",IF(VALUE(CA26)+1>VALUE(DersYükü!$S$1),\"\",CA26+1))","v":""}]
["1. HAFTA",null,null,null,null,"TEORİK VE DİĞER DERSLER İÇİN TELAFİ/TATİL PROGRAMI",null,null,null,null,null,null,null,null,null,null,null,null,null,null,null,null,null,null,null,null,null,null,"2. HAFTA",null,null,null,null,"TEORİK VE DİĞER DERSLER İÇİN TELAFİ/TATİL PROGRAMI",null,null,null,null,null,null,null,null,null,null,null,null,null,null,null,null,null,null,null,null,null,"YILLIK İZİN /AKADEMİK GÖREVLENDİRİLME/ RAPOR",0,null,null,null,null,null,"KURBAN BAYRAMI 1. GÜNÜ",null,null,{"$f":"CONCATENATE(BK29,BK30,BK31,BK32,BK33,BK34,BK35,BK36,BK37,BK38,BK39)","v":""},null,null,null,null,null,null,null,null,null,null,null,null,{"$f":"IF(CA27=\"\",\"\",IF(VALUE(CA27)+1>VALUE(DersYükü!$S$1),\"\",CA27+1))","v":""}]
[null,null,null,null,null,{"$f":"Ekders!M90","v":"00:00:00"},null,{"$f":"IFERROR(IF(F29+1>$BI$1,\"\",F29+1),\"\")","v":""},null,{"$f":"IFERROR(IF(H29+1>$BI$1,\"\",H29+1),\"\")","v":""},null,{"$f":"IFERROR(IF(J29+1>$BI$1,\"\",J29+1),\"\")","v":""},null,{"$f":"IFERROR(IF(L29+1>$BI$1,\"\",L29+1),\"\")","v":""},null,{"$f":"IFERROR(IF(N29+1>$BI$1,\"\",N29+1),\"\")","v":""},null,null,null,{"$f":"IFERROR(IF(P29+1>$BI$1,\"\",P29+1),\"\")","v":""},null,null,null,null,null,null,null,null,null,null,null,null,null,{"$f":"IFERROR(IF(T29+1>$BI$1,\"\",T29+1),\"\")","v":""},null,{"$f":"IFERROR(IF(AH29+1>$BI$1,\"\",AH29+1),\"\")","v":""},null,{"$f":"IFERROR(IF(AJ29+1>$BI$1,\"\",AJ29+1),\"\")","v":""},null,{"$f":"IFERROR(IF(AL29+1>$BI$1,\"\",AL29+1),\"\")","v":""},null,{"$f":"IFERROR(IF(AN29+1>$BI$1,\"\",AN29+1),\"\")","v":""},null,{"$f":"IFERROR(IF(AP29+1>$BI$1,\"\",AP29+1),\"\")","v":""},null,null,null,{"$f":"IFERROR(IF(AR29+1>$BI$1,\"\",AR29+1),\"\")","v":""},null,null,null,null,null,null,{"$f":"IF('farklı dp'!AP4=0,\"\",'farklı dp'!AP4)","v":""},0,0,null,null,null,null,null,{"$f":"IFERROR(VLOOKUP(BN29,$CA$3:$CB$38,1,FALSE),\"\")","v":""},null,null,"2015-09-24",null,null,null,null,null,null,null,null,null,null,null,null,{"$f":"IF(CA28=\"\",\"\",IF(VALUE(CA28)+1>VALUE(DersYükü!$S$1),\"\",CA28+1))","v":""}]
[null,null,null,null,null,{"$f":"Ekders!M90","v":"00:00:00"},null,{"$f":"IFERROR(IF(F29+1>$BI$1,\"\",F29+1),\"\")","v":""},null,{"$f":"IFERROR(IF(H29+1>$BI$1,\"\",H29+1),\"\")","v":""},null,{"$f":"IFERROR(IF(J29+1>$BI$1,\"\",J29+1),\"\")","v":""},null,{"$f":"IFERROR(IF(L29+1>$BI$1,\"\",L29+1),\"\")","v":""},null,"Ö.Ö",null,"İ.Ö",null,"Ö.Ö",null,"İ.Ö",null,null,null,null,null,null,null,null,null,null,null,{"$f":"IFERROR(IF(T29+1>$BI$1,\"\",T29+1),\"\")","v":""},null,{"$f":"IFERROR(IF(AH29+1>$BI$1,\"\",AH29+1),\"\")","v":""},null,{"$f":"IFERROR(IF(AJ29+1>$BI$1,\"\",AJ29+1),\"\")","v":""},null,{"$f":"IFERROR(IF(AL29+1>$BI$1,\"\",AL29+1),\"\")","v":""},null,{"$f":"IFERROR(IF(AN29+1>$BI$1,\"\",AN29+1),\"\")","v":""},null,"Ö.Ö",null,"İ.Ö",null,"Ö.Ö",null,"İ.Ö",null,null,null,null,{"$f":"IF('farklı dp'!AP5=0,\"\",'farklı dp'!AP5)","v":""},0,0,null,null,null,null,null,{"$f":"IFERROR(VLOOKUP(BN30,$CA$3:$CB$38,1,FALSE),\"\")","v":""},null,null,"2016-09-12",null,null,null,null,null,null,null,null,null,null,null,null,{"$f":"IF(CA29=\"\",\"\",IF(VALUE(CA29)+1>VALUE(DersYükü!$S$1),\"\",CA29+1))","v":""}]
[null,null,null,null,null,"T","D","T","D","T","D","T","D","T","D","T","D","T","D","T","D","T","D",null,null,null,null,null,null,null,null,null,null,"T","D","T","D","T","D","T","D","T","D","T","D","T","D","T","D","T","D",null,null,null,{"$f":"IF('farklı dp'!AP6=0,\"\",'farklı dp'!AP6)","v":""},0,0,null,null,null,null,null,"",null,null,"2017-09-01",null,null,null,null,null,null,null,null,null,null,null,null,{"$f":"IF(CA30=\"\",\"\",IF(VALUE(CA30)+1>VALUE(DersYükü!$S$1),\"\",CA30+1))","v":""}]
["ÖRGÜN ÖĞRETİM","08.00-09.00",null,null,null,{"$f":"IF($F$27=\"\",IF('farklı dp'!F32=\"\",\"\",'farklı dp'!F32),$F$27)","v":""},{"$f":"IF($F$27=\"\",IF('farklı dp'!G32=\"\",\"\",'farklı dp'!G32),$F$27)","v":""},{"$f":"IF($H$27=\"\",IF('farklı dp'!H32=\"\",\"\",'farklı dp'!H32),$H$27)","v":0},{"$f":"IF($H$27=\"\",IF('farklı dp'!I32=\"\",\"\",'farklı dp'!I32),$H$27)","v":0},{"$f":"IF($J$27=\"\",IF('farklı dp'!J32=\"\",\"\",'farklı dp'!J32),$J$27)","v":0},{"$f":"IF($J$27=\"\",IF('farklı dp'!K32=\"\",\"\",'farklı dp'!K32),$J$27)","v":0},{"$f":"IF($L$27=\"\",IF('farklı dp'!L32=\"\",\"\",'farklı dp'!L32),$L$27)","v":0},{"$f":"IF($L$27=\"\",IF('farklı dp'!M32=\"\",\"\",'farklı dp'!M32),$L$27)","v":0},{"$f":"IF($N$27=\"\",IF('farklı dp'!N32=\"\",\"\",'farklı dp'!N32),$N$27)","v":0},{"$f":"IF($N$27=\"\",IF('farklı dp'!O32=\"\",\"\",'farklı dp'!O32),$N$27)","v":0},{"$f":"IF($P$27=\"\",IF('farklı dp'!P32=\"\",\"\",'farklı dp'!P32),$P$27)","v":0},{"$f":"IF($P$27=\"\",IF('farklı dp'!Q32=\"\",\"\",'farklı dp'!Q32),$P$27)","v":0},{"$f":"IF($R$27=\"\",IF('farklı dp'!R32=\"\",\"\",'farklı dp'!R32),$R$27)","v":0},{"$f":"IF($R$27=\"\",IF('farklı dp'!S32=\"\",\"\",'farklı dp'!S32),$R$27)","v":0},{"$f":"IF($T$27=\"\",IF('farklı dp'!T32=\"\",\"\",'farklı dp'!T32),$T$27)","v":0},{"$f":"IF($T$27=\"\",IF('farklı dp'!U32=\"\",\"\",'farklı dp'!U32),$T$27)","v":0},{"$f":"IF($V$27=\"\",IF('farklı dp'!V32=\"\",\"\",'farklı dp'!V32),$V$27)","v":0},{"$f":"IF($V$27=\"\",IF('farklı dp'!W32=\"\",\"\",'farklı dp'!W32),$V$27)","v":0},null,null,null,null,null,"ÖRGÜN ÖĞRETİM","08.00-09.00",null,null,null,{"$f":"IF($AH$27=\"\",IF('farklı dp'!AH32=\"\",\"\",'farklı dp'!AH32),$AH$27)","v":0},{"$f":"IF($AH$27=\"\",IF('farklı dp'!AI32=\"\",\"\",'farklı dp'!AI32),$AH$27)","v":0},{"$f":"IF($AJ$27=\"\",IF('farklı dp'!AJ32=\"\",\"\",'farklı dp'!AJ32),$AJ$27)","v":0},{"$f":"IF($AJ$27=\"\",IF('farklı dp'!AK32=\"\",\"\",'farklı dp'!AK32),$AJ$27)","v":0},{"$f":"IF($AL$27=\"\",IF('farklı dp'!AL32=\"\",\"\",'farklı dp'!AL32),$AL$27)","v":0},{"$f":"IF($AL$27=\"\",IF('farklı dp'!AM32=\"\",\"\",'farklı dp'!AM32),$AL$27)","v":0},{"$f":"IF($AN$27=\"\",IF('farklı dp'!AN32=\"\",\"\",'farklı dp'!AN32),$AN$27)","v":0},{"$f":"IF($AN$27=\"\",IF('farklı dp'!AO32=\"\",\"\",'farklı dp'!AO32),$AN$27)","v":0},{"$f":"IF($AP$27=\"\",IF('farklı dp'!AP32=\"\",\"\",'farklı dp'!AP32),$AP$27)","v":0},{"$f":"IF($AP$27=\"\",IF('farklı dp'!AQ32=\"\",\"\",'farklı dp'!AQ32),$AP$27)","v":0},{"$f":"IF($AR$27=\"\",IF('farklı dp'!AR32=\"\",\"\",'farklı dp'!AR32),$AR$27)","v":0},{"$f":"IF($AR$27=\"\",IF('farklı dp'!AS32=\"\",\"\",'farklı dp'!AS32),$AR$27)","v":0},{"$f":"IF($AT$27=\"\",IF('farklı dp'!AT32=\"\",\"\",'farklı dp'!AT32),$AT$27)","v":0},{"$f":"IF($AT$27=\"\",IF('farklı dp'!AU32=\"\",\"\",'farklı dp'!AU32),$AT$27)","v":0},{"$f":"IF($AV$27=\"\",IF('farklı dp'!AV32=\"\",\"\",'farklı dp'!AV32),$AV$27)","v":0},{"$f":"IF($AV$27=\"\",IF('farklı dp'!AW32=\"\",\"\",'farklı dp'!AW32),$AV$27)","v":0},{"$f":"IF($AX$27=\"\",IF('farklı dp'!AX32=\"\",\"\",'farklı dp'!AX32),$AX$27)","v":0},{"$f":"IF($AX$27=\"\",IF('farklı dp'!AY32=\"\",\"\",'farklı dp'!AY32),$AX$27)","v":0},null,null,null,{"$f":"IF('farklı dp'!AP7=0,\"\",'farklı dp'!AP7)","v":""},0,0,null,null,null,null,null,"",null,null,"2018-08-21",null,null,null,null,null,null,null,null,null,null,null,null,{"$f":"IF(CA31=\"\",\"\",IF(VALUE(CA31)+1>VALUE(DersYükü!$S$1),\"\",CA31+1))","v":""}]
[null,"09.00-10.00",null,null,null,{"$f":"IF($F$27=\"\",IF('farklı dp'!F33=\"\",\"\",'farklı dp'!F33),$F$27)","v":""},{"$f":"IF($F$27=\"\",IF('farklı dp'!G33=\"\",\"\",'farklı dp'!G33),$F$27)","v":""},{"$f":"IF($H$27=\"\",IF('farklı dp'!H33=\"\",\"\",'farklı dp'!H33),$H$27)","v":0},{"$f":"IF($H$27=\"\",IF('farklı dp'!I33=\"\",\"\",'farklı dp'!I33),$H$27)","v":0},{"$f":"IF($J$27=\"\",IF('farklı dp'!J33=\"\",\"\",'farklı dp'!J33),$J$27)","v":0},{"$f":"IF($J$27=\"\",IF('farklı dp'!K33=\"\",\"\",'farklı dp'!K33),$J$27)","v":0},{"$f":"IF($L$27=\"\",IF('farklı dp'!L33=\"\",\"\",'farklı dp'!L33),$L$27)","v":0},{"$f":"IF($L$27=\"\",IF('farklı dp'!M33=\"\",\"\",'farklı dp'!M33),$L$27)","v":0},{"$f":"IF($N$27=\"\",IF('farklı dp'!N33=\"\",\"\",'farklı dp'!N33),$N$27)","v":0},{"$f":"IF($N$27=\"\",IF('farklı dp'!O33=\"\",\"\",'farklı dp'!O33),$N$27)","v":0},{"$f":"IF($P$27=\"\",IF('farklı dp'!P33=\"\",\"\",'farklı dp'!P33),$P$27)","v":0},{"$f":"IF($P$27=\"\",IF('farklı dp'!Q33=\"\",\"\",'farklı dp'!Q33),$P$27)","v":0},{"$f":"IF($R$27=\"\",IF('farklı dp'!R33=\"\",\"\",'farklı dp'!R33),$R$27)","v":0},{"$f":"IF($R$27=\"\",IF('farklı dp'!S33=\"\",\"\",'farklı dp'!S33),$R$27)","v":0},{"$f":"IF($T$27=\"\",IF('farklı dp'!T33=\"\",\"\",'farklı dp'!T33),$T$27)","v":0},{"$f":"IF($T$27=\"\",IF('farklı dp'!U33=\"\",\"\",'farklı dp'!U33),$T$27)","v":0},{"$f":"IF($V$27=\"\",IF('farklı dp'!V33=\"\",\"\",'farklı dp'!V33),$V$27)","v":0},{"$f":"IF($V$27=\"\",IF('farklı dp'!W33=\"\",\"\",'farklı dp'!W33),$V$27)","v":0},null,null,null,null,null,null,"09.00-10.00",null,null,null,{"$f":"IF($AH$27=\"\",IF('farklı dp'!AH33=\"\",\"\",'farklı dp'!AH33),$AH$27)","v":0},{"$f":"IF($AH$27=\"\",IF('farklı dp'!AI33=\"\",\"\",'farklı dp'!AI33),$AH$27)","v":0},{"$f":"IF($AJ$27=\"\",IF('farklı dp'!AJ33=\"\",\"\",'farklı dp'!AJ33),$AJ$27)","v":0},{"$f":"IF($AJ$27=\"\",IF('farklı dp'!AK33=\"\",\"\",'farklı dp'!AK33),$AJ$27)","v":0},{"$f":"IF($AL$27=\"\",IF('farklı dp'!AL33=\"\",\"\",'farklı dp'!AL33),$AL$27)","v":0},{"$f":"IF($AL$27=\"\",IF('farklı dp'!AM33=\"\",\"\",'farklı dp'!AM33),$AL$27)","v":0},{"$f":"IF($AN$27=\"\",IF('farklı dp'!AN33=\"\",\"\",'farklı dp'!AN33),$AN$27)","v":0},{"$f":"IF($AN$27=\"\",IF('farklı dp'!AO33=\"\",\"\",'farklı dp'!AO33),$AN$27)","v":0},{"$f":"IF($AP$27=\"\",IF('farklı dp'!AP33=\"\",\"\",'farklı dp'!AP33),$AP$27)","v":0},{"$f":"IF($AP$27=\"\",IF('farklı dp'!AQ33=\"\",\"\",'farklı dp'!AQ33),$AP$27)","v":0},{"$f":"IF($AR$27=\"\",IF('farklı dp'!AR33=\"\",\"\",'farklı dp'!AR33),$AR$27)","v":0},{"$f":"IF($AR$27=\"\",IF('farklı dp'!AS33=\"\",\"\",'farklı dp'!AS33),$AR$27)","v":0},{"$f":"IF($AT$27=\"\",IF('farklı dp'!AT33=\"\",\"\",'farklı dp'!AT33),$AT$27)","v":0},{"$f":"IF($AT$27=\"\",IF('farklı dp'!AU33=\"\",\"\",'farklı dp'!AU33),$AT$27)","v":0},{"$f":"IF($AV$27=\"\",IF('farklı dp'!AV33=\"\",\"\",'farklı dp'!AV33),$AV$27)","v":0},{"$f":"IF($AV$27=\"\",IF('farklı dp'!AW33=\"\",\"\",'farklı dp'!AW33),$AV$27)","v":0},{"$f":"IF($AX$27=\"\",IF('farklı dp'!AX33=\"\",\"\",'farklı dp'!AX33),$AX$27)","v":0},{"$f":"IF($AX$27=\"\",IF('farklı dp'!AY33=\"\",\"\",'farklı dp'!AY33),$AX$27)","v":0},null,null,null,{"$f":"IF('farklı dp'!AP8=0,\"\",'farklı dp'!AP8)","v":""},0,0,null,null,null,null,null,"",null,null,"2019-08-11",null,null,null,null,null,null,null,null,null,null,null,null,{"$f":"IF(CA32=\"\",\"\",IF(VALUE(CA32)+1>VALUE(DersYükü!$S$1),\"\",CA32+1))","v":""}]
[null,"10.00-11.00",null,null,null,{"$f":"IF($F$27=\"\",IF('farklı dp'!F34=\"\",\"\",'farklı dp'!F34),$F$27)","v":""},{"$f":"IF($F$27=\"\",IF('farklı dp'!G34=\"\",\"\",'farklı dp'!G34),$F$27)","v":""},{"$f":"IF($H$27=\"\",IF('farklı dp'!H34=\"\",\"\",'farklı dp'!H34),$H$27)","v":0},{"$f":"IF($H$27=\"\",IF('farklı dp'!I34=\"\",\"\",'farklı dp'!I34),$H$27)","v":0},{"$f":"IF($J$27=\"\",IF('farklı dp'!J34=\"\",\"\",'farklı dp'!J34),$J$27)","v":0},{"$f":"IF($J$27=\"\",IF('farklı dp'!K34=\"\",\"\",'farklı dp'!K34),$J$27)","v":0},{"$f":"IF($L$27=\"\",IF('farklı dp'!L34=\"\",\"\",'farklı dp'!L34),$L$27)","v":0},{"$f":"IF($L$27=\"\",IF('farklı dp'!M34=\"\",\"\",'farklı dp'!M34),$L$27)","v":0},{"$f":"IF($N$27=\"\",IF('farklı dp'!N34=\"\",\"\",'farklı dp'!N34),$N$27)","v":0},{"$f":"IF($N$27=\"\",IF('farklı dp'!O34=\"\",\"\",'farklı dp'!O34),$N$27)","v":0},{"$f":"IF($P$27=\"\",IF('farklı dp'!P34=\"\",\"\",'farklı dp'!P34),$P$27)","v":0},{"$f":"IF($P$27=\"\",IF('farklı dp'!Q34=\"\",\"\",'farklı dp'!Q34),$P$27)","v":0},{"$f":"IF($R$27=\"\",IF('farklı dp'!R34=\"\",\"\",'farklı dp'!R34),$R$27)","v":0},{"$f":"IF($R$27=\"\",IF('farklı dp'!S34=\"\",\"\",'farklı dp'!S34),$R$27)","v":0},{"$f":"IF($T$27=\"\",IF('farklı dp'!T34=\"\",\"\",'farklı dp'!T34),$T$27)","v":0},{"$f":"IF($T$27=\"\",IF('farklı dp'!U34=\"\",\"\",'farklı dp'!U34),$T$27)","v":0},{"$f":"IF($V$27=\"\",IF('farklı dp'!V34=\"\",\"\",'farklı dp'!V34),$V$27)","v":0},{"$f":"IF($V$27=\"\",IF('farklı dp'!W34=\"\",\"\",'farklı dp'!W34),$V$27)","v":0},null,null,null,null,null,null,"10.00-11.00",null,null,null,{"$f":"IF($AH$27=\"\",IF('farklı dp'!AH34=\"\",\"\",'farklı dp'!AH34),$AH$27)","v":0},{"$f":"IF($AH$27=\"\",IF('farklı dp'!AI34=\"\",\"\",'farklı dp'!AI34),$AH$27)","v":0},{"$f":"IF($AJ$27=\"\",IF('farklı dp'!AJ34=\"\",\"\",'farklı dp'!AJ34),$AJ$27)","v":0},{"$f":"IF($AJ$27=\"\",IF('farklı dp'!AK34=\"\",\"\",'farklı dp'!AK34),$AJ$27)","v":0},{"$f":"IF($AL$27=\"\",IF('farklı dp'!AL34=\"\",\"\",'farklı dp'!AL34),$AL$27)","v":0},{"$f":"IF($AL$27=\"\",IF('farklı dp'!AM34=\"\",\"\",'farklı dp'!AM34),$AL$27)","v":0},{"$f":"IF($AN$27=\"\",IF('farklı dp'!AN34=\"\",\"\",'farklı dp'!AN34),$AN$27)","v":0},{"$f":"IF($AN$27=\"\",IF('farklı dp'!AO34=\"\",\"\",'farklı dp'!AO34),$AN$27)","v":0},{"$f":"IF($AP$27=\"\",IF('farklı dp'!AP34=\"\",\"\",'farklı dp'!AP34),$AP$27)","v":0},{"$f":"IF($AP$27=\"\",IF('farklı dp'!AQ34=\"\",\"\",'farklı dp'!AQ34),$AP$27)","v":0},{"$f":"IF($AR$27=\"\",IF('farklı dp'!AR34=\"\",\"\",'farklı dp'!AR34),$AR$27)","v":0},{"$f":"IF($AR$27=\"\",IF('farklı dp'!AS34=\"\",\"\",'farklı dp'!AS34),$AR$27)","v":0},{"$f":"IF($AT$27=\"\",IF('farklı dp'!AT34=\"\",\"\",'farklı dp'!AT34),$AT$27)","v":0},{"$f":"IF($AT$27=\"\",IF('farklı dp'!AU34=\"\",\"\",'farklı dp'!AU34),$AT$27)","v":0},{"$f":"IF($AV$27=\"\",IF('farklı dp'!AV34=\"\",\"\",'farklı dp'!AV34),$AV$27)","v":0},{"$f":"IF($AV$27=\"\",IF('farklı dp'!AW34=\"\",\"\",'farklı dp'!AW34),$AV$27)","v":0},{"$f":"IF($AX$27=\"\",IF('farklı dp'!AX34=\"\",\"\",'farklı dp'!AX34),$AX$27)","v":0},{"$f":"IF($AX$27=\"\",IF('farklı dp'!AY34=\"\",\"\",'farklı dp'!AY34),$AX$27)","v":0},null,null,null,{"$f":"IF('farklı dp'!AP9=0,\"\",'farklı dp'!AP9)","v":""},0,0,null,null,null,null,null,"",null,null,"2020-07-31",null,null,null,null,null,null,null,null,null,null,null,null,{"$f":"IF(CA33=\"\",\"\",IF(VALUE(CA33)+1>VALUE(DersYükü!$S$1),\"\",CA33+1))","v":""}]
[null,"11.00-12.00",null,null,null,{"$f":"IF($F$27=\"\",IF('farklı dp'!F35=\"\",\"\",'farklı dp'!F35),$F$27)","v":""},{"$f":"IF($F$27=\"\",IF('farklı dp'!G35=\"\",\"\",'farklı dp'!G35),$F$27)","v":""},{"$f":"IF($H$27=\"\",IF('farklı dp'!H35=\"\",\"\",'farklı dp'!H35),$H$27)","v":0},{"$f":"IF($H$27=\"\",IF('farklı dp'!I35=\"\",\"\",'farklı dp'!I35),$H$27)","v":0},{"$f":"IF($J$27=\"\",IF('farklı dp'!J35=\"\",\"\",'farklı dp'!J35),$J$27)","v":0},{"$f":"IF($J$27=\"\",IF('farklı dp'!K35=\"\",\"\",'farklı dp'!K35),$J$27)","v":0},{"$f":"IF($L$27=\"\",IF('farklı dp'!L35=\"\",\"\",'farklı dp'!L35),$L$27)","v":0},{"$f":"IF($L$27=\"\",IF('farklı dp'!M35=\"\",\"\",'farklı dp'!M35),$L$27)","v":0},{"$f":"IF($N$27=\"\",IF('farklı dp'!N35=\"\",\"\",'farklı dp'!N35),$N$27)","v":0},{"$f":"IF($N$27=\"\",IF('farklı dp'!O35=\"\",\"\",'farklı dp'!O35),$N$27)","v":0},{"$f":"IF($P$27=\"\",IF('farklı dp'!P35=\"\",\"\",'farklı dp'!P35),$P$27)","v":0},{"$f":"IF($P$27=\"\",IF('farklı dp'!Q35=\"\",\"\",'farklı dp'!Q35),$P$27)","v":0},{"$f":"IF($R$27=\"\",IF('farklı dp'!R35=\"\",\"\",'farklı dp'!R35),$R$27)","v":0},{"$f":"IF($R$27=\"\",IF('farklı dp'!S35=\"\",\"\",'farklı dp'!S35),$R$27)","v":0},{"$f":"IF($T$27=\"\",IF('farklı dp'!T35=\"\",\"\",'farklı dp'!T35),$T$27)","v":0},{"$f":"IF($T$27=\"\",IF('farklı dp'!U35=\"\",\"\",'farklı dp'!U35),$T$27)","v":0},{"$f":"IF($V$27=\"\",IF('farklı dp'!V35=\"\",\"\",'farklı dp'!V35),$V$27)","v":0},{"$f":"IF($V$27=\"\",IF('farklı dp'!W35=\"\",\"\",'farklı dp'!W35),$V$27)","v":0},null,null,null,null,null,null,"11.00-12.00",null,null,null,{"$f":"IF($AH$27=\"\",IF('farklı dp'!AH35=\"\",\"\",'farklı dp'!AH35),$AH$27)","v":0},{"$f":"IF($AH$27=\"\",IF('farklı dp'!AI35=\"\",\"\",'farklı dp'!AI35),$AH$27)","v":0},{"$f":"IF($AJ$27=\"\",IF('farklı dp'!AJ35=\"\",\"\",'farklı dp'!AJ35),$AJ$27)","v":0},{"$f":"IF($AJ$27=\"\",IF('farklı dp'!AK35=\"\",\"\",'farklı dp'!AK35),$AJ$27)","v":0},{"$f":"IF($AL$27=\"\",IF('farklı dp'!AL35=\"\",\"\",'farklı dp'!AL35),$AL$27)","v":0},{"$f":"IF($AL$27=\"\",IF('farklı dp'!AM35=\"\",\"\",'farklı dp'!AM35),$AL$27)","v":0},{"$f":"IF($AN$27=\"\",IF('farklı dp'!AN35=\"\",\"\",'farklı dp'!AN35),$AN$27)","v":0},{"$f":"IF($AN$27=\"\",IF('farklı dp'!AO35=\"\",\"\",'farklı dp'!AO35),$AN$27)","v":0},{"$f":"IF($AP$27=\"\",IF('farklı dp'!AP35=\"\",\"\",'farklı dp'!AP35),$AP$27)","v":0},{"$f":"IF($AP$27=\"\",IF('farklı dp'!AQ35=\"\",\"\",'farklı dp'!AQ35),$AP$27)","v":0},{"$f":"IF($AR$27=\"\",IF('farklı dp'!AR35=\"\",\"\",'farklı dp'!AR35),$AR$27)","v":0},{"$f":"IF($AR$27=\"\",IF('farklı dp'!AS35=\"\",\"\",'farklı dp'!AS35),$AR$27)","v":0},{"$f":"IF($AT$27=\"\",IF('farklı dp'!AT35=\"\",\"\",'farklı dp'!AT35),$AT$27)","v":0},{"$f":"IF($AT$27=\"\",IF('farklı dp'!AU35=\"\",\"\",'farklı dp'!AU35),$AT$27)","v":0},{"$f":"IF($AV$27=\"\",IF('farklı dp'!AV35=\"\",\"\",'farklı dp'!AV35),$AV$27)","v":0},{"$f":"IF($AV$27=\"\",IF('farklı dp'!AW35=\"\",\"\",'farklı dp'!AW35),$AV$27)","v":0},{"$f":"IF($AX$27=\"\",IF('farklı dp'!AX35=\"\",\"\",'farklı dp'!AX35),$AX$27)","v":0},{"$f":"IF($AX$27=\"\",IF('farklı dp'!AY35=\"\",\"\",'farklı dp'!AY35),$AX$27)","v":0},null,null,null,{"$f":"IF('farklı dp'!AP10=0,\"\",'farklı dp'!AP10)","v":""},0,0,null,null,null,null,null,"",null,null,"2021-07-20",null,null,null,null,null,null,null,null,null,null,null,null,{"$f":"IF(CA34=\"\",\"\",IF(VALUE(CA34)+1>VALUE(DersYükü!$S$1),\"\",CA34+1))","v":""}]
[null,"12.00-13.00",null,null,null,{"$f":"IF($F$27=\"\",IF('farklı dp'!F36=\"\",\"\",'farklı dp'!F36),$F$27)","v":""},{"$f":"IF($F$27=\"\",IF('farklı dp'!G36=\"\",\"\",'farklı dp'!G36),$F$27)","v":""},{"$f":"IF($H$27=\"\",IF('farklı dp'!H36=\"\",\"\",'farklı dp'!H36),$H$27)","v":0},{"$f":"IF($H$27=\"\",IF('farklı dp'!I36=\"\",\"\",'farklı dp'!I36),$H$27)","v":0},{"$f":"IF($J$27=\"\",IF('farklı dp'!J36=\"\",\"\",'farklı dp'!J36),$J$27)","v":0},{"$f":"IF($J$27=\"\",IF('farklı dp'!K36=\"\",\"\",'farklı dp'!K36),$J$27)","v":0},{"$f":"IF($L$27=\"\",IF('farklı dp'!L36=\"\",\"\",'farklı dp'!L36),$L$27)","v":0},{"$f":"IF($L$27=\"\",IF('farklı dp'!M36=\"\",\"\",'farklı dp'!M36),$L$27)","v":0},{"$f":"IF($N$27=\"\",IF('farklı dp'!N36=\"\",\"\",'farklı dp'!N36),$N$27)","v":0},{"$f":"IF($N$27=\"\",IF('farklı dp'!O36=\"\",\"\",'farklı dp'!O36),$N$27)","v":0},{"$f":"IF($P$27=\"\",IF('farklı dp'!P36=\"\",\"\",'farklı dp'!P36),$P$27)","v":0},{"$f":"IF($P$27=\"\",IF('farklı dp'!Q36=\"\",\"\",'farklı dp'!Q36),$P$27)","v":0},{"$f":"IF($R$27=\"\",IF('farklı dp'!R36=\"\",\"\",'farklı dp'!R36),$R$27)","v":0},{"$f":"IF($R$27=\"\",IF('farklı dp'!S36=\"\",\"\",'farklı dp'!S36),$R$27)","v":0},{"$f":"IF($T$27=\"\",IF('farklı dp'!T36=\"\",\"\",'farklı dp'!T36),$T$27)","v":0},{"$f":"IF($T$27=\"\",IF('farklı dp'!U36=\"\",\"\",'farklı dp'!U36),$T$27)","v":0},{"$f":"IF($V$27=\"\",IF('farklı dp'!V36=\"\",\"\",'farklı dp'!V36),$V$27)","v":0},{"$f":"IF($V$27=\"\",IF('farklı dp'!W36=\"\",\"\",'farklı dp'!W36),$V$27)","v":0},null,null,null,null,null,null,"12.00-13.00",null,null,null,{"$f":"IF($AH$27=\"\",IF('farklı dp'!AH36=\"\",\"\",'farklı dp'!AH36),$AH$27)","v":0},{"$f":"IF($AH$27=\"\",IF('farklı dp'!AI36=\"\",\"\",'farklı dp'!AI36),$AH$27)","v":0},{"$f":"IF($AJ$27=\"\",IF('farklı dp'!AJ36=\"\",\"\",'farklı dp'!AJ36),$AJ$27)","v":0},{"$f":"IF($AJ$27=\"\",IF('farklı dp'!AK36=\"\",\"\",'farklı dp'!AK36),$AJ$27)","v":0},{"$f":"IF($AL$27=\"\",IF('farklı dp'!AL36=\"\",\"\",'farklı dp'!AL36),$AL$27)","v":0},{"$f":"IF($AL$27=\"\",IF('farklı dp'!AM36=\"\",\"\",'farklı dp'!AM36),$AL$27)","v":0},{"$f":"IF($AN$27=\"\",IF('farklı dp'!AN36=\"\",\"\",'farklı dp'!AN36),$AN$27)","v":0},{"$f":"IF($AN$27=\"\",IF('farklı dp'!AO36=\"\",\"\",'farklı dp'!AO36),$AN$27)","v":0},{"$f":"IF($AP$27=\"\",IF('farklı dp'!AP36=\"\",\"\",'farklı dp'!AP36),$AP$27)","v":0},{"$f":"IF($AP$27=\"\",IF('farklı dp'!AQ36=\"\",\"\",'farklı dp'!AQ36),$AP$27)","v":0},{"$f":"IF($AR$27=\"\",IF('farklı dp'!AR36=\"\",\"\",'farklı dp'!AR36),$AR$27)","v":0},{"$f":"IF($AR$27=\"\",IF('farklı dp'!AS36=\"\",\"\",'farklı dp'!AS36),$AR$27)","v":0},{"$f":"IF($AT$27=\"\",IF('farklı dp'!AT36=\"\",\"\",'farklı dp'!AT36),$AT$27)","v":0},{"$f":"IF($AT$27=\"\",IF('farklı dp'!AU36=\"\",\"\",'farklı dp'!AU36),$AT$27)","v":0},{"$f":"IF($AV$27=\"\",IF('farklı dp'!AV36=\"\",\"\",'farklı dp'!AV36),$AV$27)","v":0},{"$f":"IF($AV$27=\"\",IF('farklı dp'!AW36=\"\",\"\",'farklı dp'!AW36),$AV$27)","v":0},{"$f":"IF($AX$27=\"\",IF('farklı dp'!AX36=\"\",\"\",'farklı dp'!AX36),$AX$27)","v":0},{"$f":"IF($AX$27=\"\",IF('farklı dp'!AY36=\"\",\"\",'farklı dp'!AY36),$AX$27)","v":0},null,null,null,{"$f":"IF('farklı dp'!AP11=0,\"\",'farklı dp'!AP11)","v":""},0,0,null,null,null,null,null,"",null,null,"2022-07-09",null,null,null,null,null,null,null,null,null,null,null,null,{"$f":"IF(CA35=\"\",\"\",IF(VALUE(CA35)+1>VALUE(DersYükü!$S$1),\"\",CA35+1))","v":""}]
[null,"13.00-14.00",null,null,null,{"$f":"IF($G$27=\"\",IF('farklı dp'!F37=\"\",\"\",'farklı dp'!F37),$G$27)","v":""},{"$f":"IF($G$27=\"\",IF('farklı dp'!G37=\"\",\"\",'farklı dp'!G37),$G$27)","v":""},{"$f":"IF($I$27=\"\",IF('farklı dp'!H37=\"\",\"\",'farklı dp'!H37),$I$27)","v":0},{"$f":"IF($I$27=\"\",IF('farklı dp'!I37=\"\",\"\",'farklı dp'!I37),$I$27)","v":0},{"$f":"IF($K$27=\"\",IF('farklı dp'!J37=\"\",\"\",'farklı dp'!J37),$K$27)","v":0},{"$f":"IF($K$27=\"\",IF('farklı dp'!K37=\"\",\"\",'farklı dp'!K37),$K$27)","v":0},{"$f":"IF($M$27=\"\",IF('farklı dp'!L37=\"\",\"\",'farklı dp'!L37),$M$27)","v":0},{"$f":"IF($M$27=\"\",IF('farklı dp'!M37=\"\",\"\",'farklı dp'!M37),$M$27)","v":0},{"$f":"IF($O$27=\"\",IF('farklı dp'!N37=\"\",\"\",'farklı dp'!N37),$O$27)","v":0},{"$f":"IF($O$27=\"\",IF('farklı dp'!O37=\"\",\"\",'farklı dp'!O37),$O$27)","v":0},{"$f":"IF($Q$27=\"\",IF('farklı dp'!P37=\"\",\"\",'farklı dp'!P37),$Q$27)","v":0},{"$f":"IF($Q$27=\"\",IF('farklı dp'!Q37=\"\",\"\",'farklı dp'!Q37),$Q$27)","v":0},{"$f":"IF($S$27=\"\",IF('farklı dp'!R37=\"\",\"\",'farklı dp'!R37),$S$27)","v":0},{"$f":"IF($S$27=\"\",IF('farklı dp'!S37=\"\",\"\",'farklı dp'!S37),$S$27)","v":0},{"$f":"IF($U$27=\"\",IF('farklı dp'!T37=\"\",\"\",'farklı dp'!T37),$U$27)","v":0},{"$f":"IF($U$27=\"\",IF('farklı dp'!U37=\"\",\"\",'farklı dp'!U37),$U$27)","v":0},{"$f":"IF($W$27=\"\",IF('farklı dp'!V37=\"\",\"\",'farklı dp'!V37),$W$27)","v":0},{"$f":"IF($W$27=\"\",IF('farklı dp'!W37=\"\",\"\",'farklı dp'!W37),$W$27)","v":0},null,null,null,null,null,null,"13.00-14.00",null,null,null,{"$f":"IF($AI$27=\"\",IF('farklı dp'!AH37=\"\",\"\",'farklı dp'!AH37),$AI$27)","v":0},{"$f":"IF($AI$27=\"\",IF('farklı dp'!AI37=\"\",\"\",'farklı dp'!AI37),$AI$27)","v":0},{"$f":"IF($AK$27=\"\",IF('farklı dp'!AJ37=\"\",\"\",'farklı dp'!AJ37),$AK$27)","v":0},{"$f":"IF($AK$27=\"\",IF('farklı dp'!AK37=\"\",\"\",'farklı dp'!AK37),$AK$27)","v":0},{"$f":"IF($AM$27=\"\",IF('farklı dp'!AL37=\"\",\"\",'farklı dp'!AL37),$AM$27)","v":0},{"$f":"IF($AM$27=\"\",IF('farklı dp'!AM37=\"\",\"\",'farklı dp'!AM37),$AM$27)","v":0},{"$f":"IF($AO$27=\"\",IF('farklı dp'!AN37=\"\",\"\",'farklı dp'!AN37),$AO$27)","v":0},{"$f":"IF($AO$27=\"\",IF('farklı dp'!AO37=\"\",\"\",'farklı dp'!AO37),$AO$27)","v":0},{"$f":"IF($AQ$27=\"\",IF('farklı dp'!AP37=\"\",\"\",'farklı dp'!AP37),$AQ$27)","v":0},{"$f":"IF($AQ$27=\"\",IF('farklı dp'!AQ37=\"\",\"\",'farklı dp'!AQ37),$AQ$27)","v":0},{"$f":"IF($AS$27=\"\",IF('farklı dp'!AR37=\"\",\"\",'farklı dp'!AR37),$AS$27)","v":0},{"$f":"IF($AS$27=\"\",IF('farklı dp'!AS37=\"\",\"\",'farklı dp'!AS37),$AS$27)","v":0},{"$f":"IF($AU$27=\"\",IF('farklı dp'!AT37=\"\",\"\",'farklı dp'!AT37),$AU$27)","v":0},{"$f":"IF($AU$27=\"\",IF('farklı dp'!AU37=\"\",\"\",'farklı dp'!AU37),$AU$27)","v":0},{"$f":"IF($AW$27=\"\",IF('farklı dp'!AV37=\"\",\"\",'farklı dp'!AV37),$AW$27)","v":0},{"$f":"IF($AW$27=\"\",IF('farklı dp'!AW37=\"\",\"\",'farklı dp'!AW37),$AW$27)","v":0},{"$f":"IF($AY$27=\"\",IF('farklı dp'!AX37=\"\",\"\",'farklı dp'!AX37),$AY$27)","v":0},{"$f":"IF($AY$27=\"\",IF('farklı dp'!AY37=\"\",\"\",'farklı dp'!AY37),$AY$27)","v":0},null,null,null,{"$f":"IF('farklı dp'!AP12=0,\"\",'farklı dp'!AP12)","v":""},0,0,null,null,null,null,null,"",null,null,"31.6.2023",null,null,null,null,null,null,null,null,null,null,null,null,{"$f":"IF(CA36=\"\",\"\",IF(VALUE(CA36)+1>VALUE(DersYükü!$S$1),\"\",CA36+1))","v":""}]
[null,"14.00-15.00",null,null,null,{"$f":"IF($G$27=\"\",IF('farklı dp'!F38=\"\",\"\",'farklı dp'!F38),$G$27)","v":""},{"$f":"IF($G$27=\"\",IF('farklı dp'!G38=\"\",\"\",'farklı dp'!G38),$G$27)","v":""},{"$f":"IF($I$27=\"\",IF('farklı dp'!H38=\"\",\"\",'farklı dp'!H38),$I$27)","v":0},{"$f":"IF($I$27=\"\",IF('farklı dp'!I38=\"\",\"\",'farklı dp'!I38),$I$27)","v":0},{"$f":"IF($K$27=\"\",IF('farklı dp'!J38=\"\",\"\",'farklı dp'!J38),$K$27)","v":0},{"$f":"IF($K$27=\"\",IF('farklı dp'!K38=\"\",\"\",'farklı dp'!K38),$K$27)","v":0},{"$f":"IF($M$27=\"\",IF('farklı dp'!L38=\"\",\"\",'farklı dp'!L38),$M$27)","v":0},{"$f":"IF($M$27=\"\",IF('farklı dp'!M38=\"\",\"\",'farklı dp'!M38),$M$27)","v":0},{"$f":"IF($O$27=\"\",IF('farklı dp'!N38=\"\",\"\",'farklı dp'!N38),$O$27)","v":0},{"$f":"IF($O$27=\"\",IF('farklı dp'!O38=\"\",\"\",'farklı dp'!O38),$O$27)","v":0},{"$f":"IF($Q$27=\"\",IF('farklı dp'!P38=\"\",\"\",'farklı dp'!P38),$Q$27)","v":0},{"$f":"IF($Q$27=\"\",IF('farklı dp'!Q38=\"\",\"\",'farklı dp'!Q38),$Q$27)","v":0},{"$f":"IF($S$27=\"\",IF('farklı dp'!R38=\"\",\"\",'farklı dp'!R38),$S$27)","v":0},{"$f":"IF($S$27=\"\",IF('farklı dp'!S38=\"\",\"\",'farklı dp'!S38),$S$27)","v":0},{"$f":"IF($U$27=\"\",IF('farklı dp'!T38=\"\",\"\",'farklı dp'!T38),$U$27)","v":0},{"$f":"IF($U$27=\"\",IF('farklı dp'!U38=\"\",\"\",'farklı dp'!U38),$U$27)","v":0},{"$f":"IF($W$27=\"\",IF('farklı dp'!V38=\"\",\"\",'farklı dp'!V38),$W$27)","v":0},{"$f":"IF($W$27=\"\",IF('farklı dp'!W38=\"\",\"\",'farklı dp'!W38),$W$27)","v":0},null,null,null,null,null,null,"14.00-15.00",null,null,null,{"$f":"IF($AI$27=\"\",IF('farklı dp'!AH38=\"\",\"\",'farklı dp'!AH38),$AI$27)","v":0},{"$f":"IF($AI$27=\"\",IF('farklı dp'!AI38=\"\",\"\",'farklı dp'!AI38),$AI$27)","v":0},{"$f":"IF($AK$27=\"\",IF('farklı dp'!AJ38=\"\",\"\",'farklı dp'!AJ38),$AK$27)","v":0},{"$f":"IF($AK$27=\"\",IF('farklı dp'!AK38=\"\",\"\",'farklı dp'!AK38),$AK$27)","v":0},{"$f":"IF($AM$27=\"\",IF('farklı dp'!AL38=\"\",\"\",'farklı dp'!AL38),$AM$27)","v":0},{"$f":"IF($AM$27=\"\",IF('farklı dp'!AM38=\"\",\"\",'farklı dp'!AM38),$AM$27)","v":0},{"$f":"IF($AO$27=\"\",IF('farklı dp'!AN38=\"\",\"\",'farklı dp'!AN38),$AO$27)","v":0},{"$f":"IF($AO$27=\"\",IF('farklı dp'!AO38=\"\",\"\",'farklı dp'!AO38),$AO$27)","v":0},{"$f":"IF($AQ$27=\"\",IF('farklı dp'!AP38=\"\",\"\",'farklı dp'!AP38),$AQ$27)","v":0},{"$f":"IF($AQ$27=\"\",IF('farklı dp'!AQ38=\"\",\"\",'farklı dp'!AQ38),$AQ$27)","v":0},{"$f":"IF($AS$27=\"\",IF('farklı dp'!AR38=\"\",\"\",'farklı dp'!AR38),$AS$27)","v":0},{"$f":"IF($AS$27=\"\",IF('farklı dp'!AS38=\"\",\"\",'farklı dp'!AS38),$AS$27)","v":0},{"$f":"IF($AU$27=\"\",IF('farklı dp'!AT38=\"\",\"\",'farklı dp'!AT38),$AU$27)","v":0},{"$f":"IF($AU$27=\"\",IF('farklı dp'!AU38=\"\",\"\",'farklı dp'!AU38),$AU$27)","v":0},{"$f":"IF($AW$27=\"\",IF('farklı dp'!AV38=\"\",\"\",'farklı dp'!AV38),$AW$27)","v":0},{"$f":"IF($AW$27=\"\",IF('farklı dp'!AW38=\"\",\"\",'farklı dp'!AW38),$AW$27)","v":0},{"$f":"IF($AY$27=\"\",IF('farklı dp'!AX38=\"\",\"\",'farklı dp'!AX38),$AY$27)","v":0},{"$f":"IF($AY$27=\"\",IF('farklı dp'!AY38=\"\",\"\",'farklı dp'!AY38),$AY$27)","v":0},null,null,null,{"$f":"IF('farklı dp'!AP13=0,\"\",'farklı dp'!AP13)","v":""},0,0,null,null,null,null,null,"",null,null,"2024-05-25",null,null,null,null,null,null,null,null,null,null,null,null,{"$f":"IF(CA37=\"\",\"\",IF(VALUE(CA37)+1>VALUE(DersYükü!$S$1),\"\",CA37+1))","v":""}]
[null,"15.00-16.00",null,null,null,{"$f":"IF($G$27=\"\",IF('farklı dp'!F39=\"\",\"\",'farklı dp'!F39),$G$27)","v":""},{"$f":"IF($G$27=\"\",IF('farklı dp'!G39=\"\",\"\",'farklı dp'!G39),$G$27)","v":""},{"$f":"IF($I$27=\"\",IF('farklı dp'!H39=\"\",\"\",'farklı dp'!H39),$I$27)","v":0},{"$f":"IF($I$27=\"\",IF('farklı dp'!I39=\"\",\"\",'farklı dp'!I39),$I$27)","v":0},{"$f":"IF($K$27=\"\",IF('farklı dp'!J39=\"\",\"\",'farklı dp'!J39),$K$27)","v":0},{"$f":"IF($K$27=\"\",IF('farklı dp'!K39=\"\",\"\",'farklı dp'!K39),$K$27)","v":0},{"$f":"IF($M$27=\"\",IF('farklı dp'!L39=\"\",\"\",'farklı dp'!L39),$M$27)","v":0},{"$f":"IF($M$27=\"\",IF('farklı dp'!M39=\"\",\"\",'farklı dp'!M39),$M$27)","v":0},{"$f":"IF($O$27=\"\",IF('farklı dp'!N39=\"\",\"\",'farklı dp'!N39),$O$27)","v":0},{"$f":"IF($O$27=\"\",IF('farklı dp'!O39=\"\",\"\",'farklı dp'!O39),$O$27)","v":0},{"$f":"IF($Q$27=\"\",IF('farklı dp'!P39=\"\",\"\",'farklı dp'!P39),$Q$27)","v":0},{"$f":"IF($Q$27=\"\",IF('farklı dp'!Q39=\"\",\"\",'farklı dp'!Q39),$Q$27)","v":0},{"$f":"IF($S$27=\"\",IF('farklı dp'!R39=\"\",\"\",'farklı dp'!R39),$S$27)","v":0},{"$f":"IF($S$27=\"\",IF('farklı dp'!S39=\"\",\"\",'farklı dp'!S39),$S$27)","v":0},{"$f":"IF($U$27=\"\",IF('farklı dp'!T39=\"\",\"\",'farklı dp'!T39),$U$27)","v":0},{"$f":"IF($U$27=\"\",IF('farklı dp'!U39=\"\",\"\",'farklı dp'!U39),$U$27)","v":0},{"$f":"IF($W$27=\"\",IF('farklı dp'!V39=\"\",\"\",'farklı dp'!V39),$W$27)","v":0},{"$f":"IF($W$27=\"\",IF('farklı dp'!W39=\"\",\"\",'farklı dp'!W39),$W$27)","v":0},null,null,null,null,null,null,"15.00-16.00",null,null,null,{"$f":"IF($AI$27=\"\",IF('farklı dp'!AH39=\"\",\"\",'farklı dp'!AH39),$AI$27)","v":0},{"$f":"IF($AI$27=\"\",IF('farklı dp'!AI39=\"\",\"\",'farklı dp'!AI39),$AI$27)","v":0},{"$f":"IF($AK$27=\"\",IF('farklı dp'!AJ39=\"\",\"\",'farklı dp'!AJ39),$AK$27)","v":0},{"$f":"IF($AK$27=\"\",IF('farklı dp'!AK39=\"\",\"\",'farklı dp'!AK39),$AK$27)","v":0},{"$f":"IF($AM$27=\"\",IF('farklı dp'!AL39=\"\",\"\",'farklı dp'!AL39),$AM$27)","v":0},{"$f":"IF($AM$27=\"\",IF('farklı dp'!AM39=\"\",\"\",'farklı dp'!AM39),$AM$27)","v":0},{"$f":"IF($AO$27=\"\",IF('farklı dp'!AN39=\"\",\"\",'farklı dp'!AN39),$AO$27)","v":0},{"$f":"IF($AO$27=\"\",IF('farklı dp'!AO39=\"\",\"\",'farklı dp'!AO39),$AO$27)","v":0},{"$f":"IF($AQ$27=\"\",IF('farklı dp'!AP39=\"\",\"\",'farklı dp'!AP39),$AQ$27)","v":0},{"$f":"IF($AQ$27=\"\",IF('farklı dp'!AQ39=\"\",\"\",'farklı dp'!AQ39),$AQ$27)","v":0},{"$f":"IF($AS$27=\"\",IF('farklı dp'!AR39=\"\",\"\",'farklı dp'!AR39),$AS$27)","v":0},{"$f":"IF($AS$27=\"\",IF('farklı dp'!AS39=\"\",\"\",'farklı dp'!AS39),$AS$27)","v":0},{"$f":"IF($AU$27=\"\",IF('farklı dp'!AT39=\"\",\"\",'farklı dp'!AT39),$AU$27)","v":0},{"$f":"IF($AU$27=\"\",IF('farklı dp'!AU39=\"\",\"\",'farklı dp'!AU39),$AU$27)","v":0},{"$f":"IF($AW$27=\"\",IF('farklı dp'!AV39=\"\",\"\",'farklı dp'!AV39),$AW$27)","v":0},{"$f":"IF($AW$27=\"\",IF('farklı dp'!AW39=\"\",\"\",'farklı dp'!AW39),$AW$27)","v":0},{"$f":"IF($AY$27=\"\",IF('farklı dp'!AX39=\"\",\"\",'farklı dp'!AX39),$AY$27)","v":0},{"$f":"IF($AY$27=\"\",IF('farklı dp'!AY39=\"\",\"\",'farklı dp'!AY39),$AY$27)","v":0},null,null,null,{"$f":"IF('farklı dp'!AP14=0,\"\",'farklı dp'!AP14)","v":""},0,0,null,null,null,null,null,"",null,null,"2025-05-12",null,null,null,null,null,null,null,null,null,null,null,null,{"$f":"IF(CA38=\"\",\"\",IF(VALUE(CA38)+1>VALUE(DersYükü!$S$1),\"\",CA38+1))","v":""}]
[null,"16.00-17.00",null,null,null,{"$f":"IF($G$27=\"\",IF('farklı dp'!F40=\"\",\"\",'farklı dp'!F40),$G$27)","v":""},{"$f":"IF($G$27=\"\",IF('farklı dp'!G40=\"\",\"\",'farklı dp'!G40),$G$27)","v":""},{"$f":"IF($I$27=\"\",IF('farklı dp'!H40=\"\",\"\",'farklı dp'!H40),$I$27)","v":0},{"$f":"IF($I$27=\"\",IF('farklı dp'!I40=\"\",\"\",'farklı dp'!I40),$I$27)","v":0},{"$f":"IF($K$27=\"\",IF('farklı dp'!J40=\"\",\"\",'farklı dp'!J40),$K$27)","v":0},{"$f":"IF($K$27=\"\",IF('farklı dp'!K40=\"\",\"\",'farklı dp'!K40),$K$27)","v":0},{"$f":"IF($M$27=\"\",IF('farklı dp'!L40=\"\",\"\",'farklı dp'!L40),$M$27)","v":0},{"$f":"IF($M$27=\"\",IF('farklı dp'!M40=\"\",\"\",'farklı dp'!M40),$M$27)","v":0},{"$f":"IF($O$27=\"\",IF('farklı dp'!N40=\"\",\"\",'farklı dp'!N40),$O$27)","v":0},{"$f":"IF($O$27=\"\",IF('farklı dp'!O40=\"\",\"\",'farklı dp'!O40),$O$27)","v":0},{"$f":"IF($Q$27=\"\",IF('farklı dp'!P40=\"\",\"\",'farklı dp'!P40),$Q$27)","v":0},{"$f":"IF($Q$27=\"\",IF('farklı dp'!Q40=\"\",\"\",'farklı dp'!Q40),$Q$27)","v":0},{"$f":"IF($S$27=\"\",IF('farklı dp'!R40=\"\",\"\",'farklı dp'!R40),$S$27)","v":0},{"$f":"IF($S$27=\"\",IF('farklı dp'!S40=\"\",\"\",'farklı dp'!S40),$S$27)","v":0},{"$f":"IF($U$27=\"\",IF('farklı dp'!T40=\"\",\"\",'farklı dp'!T40),$U$27)","v":0},{"$f":"IF($U$27=\"\",IF('farklı dp'!U40=\"\",\"\",'farklı dp'!U40),$U$27)","v":0},{"$f":"IF($W$27=\"\",IF('farklı dp'!V40=\"\",\"\",'farklı dp'!V40),$W$27)","v":0},{"$f":"IF($W$27=\"\",IF('farklı dp'!W40=\"\",\"\",'farklı dp'!W40),$W$27)","v":0},null,null,null,null,null,null,"16.00-17.00",null,null,null,{"$f":"IF($AI$27=\"\",IF('farklı dp'!AH40=\"\",\"\",'farklı dp'!AH40),$AI$27)","v":0},{"$f":"IF($AI$27=\"\",IF('farklı dp'!AI40=\"\",\"\",'farklı dp'!AI40),$AI$27)","v":0},{"$f":"IF($AK$27=\"\",IF('farklı dp'!AJ40=\"\",\"\",'farklı dp'!AJ40),$AK$27)","v":0},{"$f":"IF($AK$27=\"\",IF('farklı dp'!AK40=\"\",\"\",'farklı dp'!AK40),$AK$27)","v":0},{"$f":"IF($AM$27=\"\",IF('farklı dp'!AL40=\"\",\"\",'farklı dp'!AL40),$AM$27)","v":0},{"$f":"IF($AM$27=\"\",IF('farklı dp'!AM40=\"\",\"\",'farklı dp'!AM40),$AM$27)","v":0},{"$f":"IF($AO$27=\"\",IF('farklı dp'!AN40=\"\",\"\",'farklı dp'!AN40),$AO$27)","v":0},{"$f":"IF($AO$27=\"\",IF('farklı dp'!AO40=\"\",\"\",'farklı dp'!AO40),$AO$27)","v":0},{"$f":"IF($AQ$27=\"\",IF('farklı dp'!AP40=\"\",\"\",'farklı dp'!AP40),$AQ$27)","v":0},{"$f":"IF($AQ$27=\"\",IF('farklı dp'!AQ40=\"\",\"\",'farklı dp'!AQ40),$AQ$27)","v":0},{"$f":"IF($AS$27=\"\",IF('farklı dp'!AR40=\"\",\"\",'farklı dp'!AR40),$AS$27)","v":0},{"$f":"IF($AS$27=\"\",IF('farklı dp'!AS40=\"\",\"\",'farklı dp'!AS40),$AS$27)","v":0},{"$f":"IF($AU$27=\"\",IF('farklı dp'!AT40=\"\",\"\",'farklı dp'!AT40),$AU$27)","v":0},{"$f":"IF($AU$27=\"\",IF('farklı dp'!AU40=\"\",\"\",'farklı dp'!AU40),$AU$27)","v":0},{"$f":"IF($AW$27=\"\",IF('farklı dp'!AV40=\"\",\"\",'farklı dp'!AV40),$AW$27)","v":0},{"$f":"IF($AW$27=\"\",IF('farklı dp'!AW40=\"\",\"\",'farklı dp'!AW40),$AW$27)","v":0},{"$f":"IF($AY$27=\"\",IF('farklı dp'!AX40=\"\",\"\",'farklı dp'!AX40),$AY$27)","v":0},{"$f":"IF($AY$27=\"\",IF('farklı dp'!AY40=\"\",\"\",'farklı dp'!AY40),$AY$27)","v":0},null,null,null,{"$f":"IF('farklı dp'!AP15=0,\"\",'farklı dp'!AP15)","v":""},0,0,null,null,null,null,null,null,"YILBAŞI",null,{"$f":"CONCATENATE(BK41,BK42,BK43,BK44,BK45,BK46,BK47,BK48,BK49,BK50)","v":""},null,null,null,null,null,null,null,null,null,null,null,null,{"$f":"IF(CA39=\"\",\"\",IF(VALUE(CA39)+1>VALUE(DersYükü!$S$1),\"\",CA39+1))","v":""}]
["İKİNCİ ÖĞRT.","16.00-17.00",null,null,null,{"$f":"IF($G$27=\"\",IF('farklı dp'!F41=\"\",\"\",'farklı dp'!F41),$G$27)","v":""},{"$f":"IF($G$27=\"\",IF('farklı dp'!G41=\"\",\"\",'farklı dp'!G41),$G$27)","v":""},{"$f":"IF($I$27=\"\",IF('farklı dp'!H41=\"\",\"\",'farklı dp'!H41),$I$27)","v":0},{"$f":"IF($I$27=\"\",IF('farklı dp'!I41=\"\",\"\",'farklı dp'!I41),$I$27)","v":0},{"$f":"IF($K$27=\"\",IF('farklı dp'!J41=\"\",\"\",'farklı dp'!J41),$K$27)","v":0},{"$f":"IF($K$27=\"\",IF('farklı dp'!K41=\"\",\"\",'farklı dp'!K41),$K$27)","v":0},{"$f":"IF($M$27=\"\",IF('farklı dp'!L41=\"\",\"\",'farklı dp'!L41),$M$27)","v":0},{"$f":"IF($M$27=\"\",IF('farklı dp'!M41=\"\",\"\",'farklı dp'!M41),$M$27)","v":0},{"$f":"IF($O$27=\"\",IF('farklı dp'!N41=\"\",\"\",'farklı dp'!N41),$O$27)","v":0},{"$f":"IF($O$27=\"\",IF('farklı dp'!O41=\"\",\"\",'farklı dp'!O41),$O$27)","v":0},{"$f":"IF($Q$27=\"\",IF('farklı dp'!P41=\"\",\"\",'farklı dp'!P41),$Q$27)","v":0},{"$f":"IF($Q$27=\"\",IF('farklı dp'!Q41=\"\",\"\",'farklı dp'!Q41),$Q$27)","v":0},{"$f":"IF($S$27=\"\",IF('farklı dp'!R41=\"\",\"\",'farklı dp'!R41),$S$27)","v":0},{"$f":"IF($S$27=\"\",IF('farklı dp'!S41=\"\",\"\",'farklı dp'!S41),$S$27)","v":0},{"$f":"IF($U$27=\"\",IF('farklı dp'!T41=\"\",\"\",'farklı dp'!T41),$U$27)","v":0},{"$f":"IF($U$27=\"\",IF('farklı dp'!U41=\"\",\"\",'farklı dp'!U41),$U$27)","v":0},{"$f":"IF($W$27=\"\",IF('farklı dp'!V41=\"\",\"\",'farklı dp'!V41),$W$27)","v":0},{"$f":"IF($W$27=\"\",IF('farklı dp'!W41=\"\",\"\",'farklı dp'!W41),$W$27)","v":0},null,null,null,null,null,"İKİNCİ ÖĞRT.","16.00-17.00",null,null,null,{"$f":"IF($AI$27=\"\",IF('farklı dp'!AH41=\"\",\"\",'farklı dp'!AH41),$AI$27)","v":0},{"$f":"IF($AI$27=\"\",IF('farklı dp'!AI41=\"\",\"\",'farklı dp'!AI41),$AI$27)","v":0},{"$f":"IF($AK$27=\"\",IF('farklı dp'!AJ41=\"\",\"\",'farklı dp'!AJ41),$AK$27)","v":0},{"$f":"IF($AK$27=\"\",IF('farklı dp'!AK41=\"\",\"\",'farklı dp'!AK41),$AK$27)","v":0},{"$f":"IF($AM$27=\"\",IF('farklı dp'!AL41=\"\",\"\",'farklı dp'!AL41),$AM$27)","v":0},{"$f":"IF($AM$27=\"\",IF('farklı dp'!AM41=\"\",\"\",'farklı dp'!AM41),$AM$27)","v":0},{"$f":"IF($AO$27=\"\",IF('farklı dp'!AN41=\"\",\"\",'farklı dp'!AN41),$AO$27)","v":0},{"$f":"IF($AO$27=\"\",IF('farklı dp'!AO41=\"\",\"\",'farklı dp'!AO41),$AO$27)","v":0},{"$f":"IF($AQ$27=\"\",IF('farklı dp'!AP41=\"\",\"\",'farklı dp'!AP41),$AQ$27)","v":0},{"$f":"IF($AQ$27=\"\",IF('farklı dp'!AQ41=\"\",\"\",'farklı dp'!AQ41),$AQ$27)","v":0},{"$f":"IF($AS$27=\"\",IF('farklı dp'!AR41=\"\",\"\",'farklı dp'!AR41),$AS$27)","v":0},{"$f":"IF($AS$27=\"\",IF('farklı dp'!AS41=\"\",\"\",'farklı dp'!AS41),$AS$27)","v":0},{"$f":"IF($AU$27=\"\",IF('farklı dp'!AT41=\"\",\"\",'farklı dp'!AT41),$AU$27)","v":0},{"$f":"IF($AU$27=\"\",IF('farklı dp'!AU41=\"\",\"\",'farklı dp'!AU41),$AU$27)","v":0},{"$f":"IF($AW$27=\"\",IF('farklı dp'!AV41=\"\",\"\",'farklı dp'!AV41),$AW$27)","v":0},{"$f":"IF($AW$27=\"\",IF('farklı dp'!AW41=\"\",\"\",'farklı dp'!AW41),$AW$27)","v":0},{"$f":"IF($AY$27=\"\",IF('farklı dp'!AX41=\"\",\"\",'farklı dp'!AX41),$AY$27)","v":0},{"$f":"IF($AY$27=\"\",IF('farklı dp'!AY41=\"\",\"\",'farklı dp'!AY41),$AY$27)","v":0},null,null,null,{"$f":"IF('farklı dp'!AP16=0,\"\",'farklı dp'!AP16)","v":""},0,0,null,null,null,null,null,{"$f":"IFERROR(VLOOKUP(BN41,$CA$3:$CB$38,1,FALSE),\"\")","v":""},null,null,"2016-01-01",null,null,null,null,null,null,null,null,null,null,null,null,{"$f":"IF(CA40=\"\",\"\",IF(VALUE(CA40)+1>VALUE(DersYükü!$S$1),\"\",CA40+1))","v":""}]
[null,"17.00-18.00",null,null,null,{"$f":"IF($G$27=\"\",IF('farklı dp'!F42=\"\",\"\",'farklı dp'!F42),$G$27)","v":""},{"$f":"IF($G$27=\"\",IF('farklı dp'!G42=\"\",\"\",'farklı dp'!G42),$G$27)","v":""},{"$f":"IF($I$27=\"\",IF('farklı dp'!H42=\"\",\"\",'farklı dp'!H42),$I$27)","v":0},{"$f":"IF($I$27=\"\",IF('farklı dp'!I42=\"\",\"\",'farklı dp'!I42),$I$27)","v":0},{"$f":"IF($K$27=\"\",IF('farklı dp'!J42=\"\",\"\",'farklı dp'!J42),$K$27)","v":0},{"$f":"IF($K$27=\"\",IF('farklı dp'!K42=\"\",\"\",'farklı dp'!K42),$K$27)","v":0},{"$f":"IF($M$27=\"\",IF('farklı dp'!L42=\"\",\"\",'farklı dp'!L42),$M$27)","v":0},{"$f":"IF($M$27=\"\",IF('farklı dp'!M42=\"\",\"\",'farklı dp'!M42),$M$27)","v":0},{"$f":"IF($O$27=\"\",IF('farklı dp'!N42=\"\",\"\",'farklı dp'!N42),$O$27)","v":0},{"$f":"IF($O$27=\"\",IF('farklı dp'!O42=\"\",\"\",'farklı dp'!O42),$O$27)","v":0},{"$f":"IF($Q$27=\"\",IF('farklı dp'!P42=\"\",\"\",'farklı dp'!P42),$Q$27)","v":0},{"$f":"IF($Q$27=\"\",IF('farklı dp'!Q42=\"\",\"\",'farklı dp'!Q42),$Q$27)","v":0},{"$f":"IF($S$27=\"\",IF('farklı dp'!R42=\"\",\"\",'farklı dp'!R42),$S$27)","v":0},{"$f":"IF($S$27=\"\",IF('farklı dp'!S42=\"\",\"\",'farklı dp'!S42),$S$27)","v":0},{"$f":"IF($U$27=\"\",IF('farklı dp'!T42=\"\",\"\",'farklı dp'!T42),$U$27)","v":0},{"$f":"IF($U$27=\"\",IF('farklı dp'!U42=\"\",\"\",'farklı dp'!U42),$U$27)","v":0},{"$f":"IF($W$27=\"\",IF('farklı dp'!V42=\"\",\"\",'farklı dp'!V42),$W$27)","v":0},{"$f":"IF($W$27=\"\",IF('farklı dp'!W42=\"\",\"\",'farklı dp'!W42),$W$27)","v":0},null,null,null,null,null,null,"17.00-18.00",null,null,null,{"$f":"IF($AI$27=\"\",IF('farklı dp'!AH42=\"\",\"\",'farklı dp'!AH42),$AI$27)","v":0},{"$f":"IF($AI$27=\"\",IF('farklı dp'!AI42=\"\",\"\",'farklı dp'!AI42),$AI$27)","v":0},{"$f":"IF($AK$27=\"\",IF('farklı dp'!AJ42=\"\",\"\",'farklı dp'!AJ42),$AK$27)","v":0},{"$f":"IF($AK$27=\"\",IF('farklı dp'!AK42=\"\",\"\",'farklı dp'!AK42),$AK$27)","v":0},{"$f":"IF($AM$27=\"\",IF('farklı dp'!AL42=\"\",\"\",'farklı dp'!AL42),$AM$27)","v":0},{"$f":"IF($AM$27=\"\",IF('farklı dp'!AM42=\"\",\"\",'farklı dp'!AM42),$AM$27)","v":0},{"$f":"IF($AO$27=\"\",IF('farklı dp'!AN42=\"\",\"\",'farklı dp'!AN42),$AO$27)","v":0},{"$f":"IF($AO$27=\"\",IF('farklı dp'!AO42=\"\",\"\",'farklı dp'!AO42),$AO$27)","v":0},{"$f":"IF($AQ$27=\"\",IF('farklı dp'!AP42=\"\",\"\",'farklı dp'!AP42),$AQ$27)","v":0},{"$f":"IF($AQ$27=\"\",IF('farklı dp'!AQ42=\"\",\"\",'farklı dp'!AQ42),$AQ$27)","v":0},{"$f":"IF($AS$27=\"\",IF('farklı dp'!AR42=\"\",\"\",'farklı dp'!AR42),$AS$27)","v":0},{"$f":"IF($AS$27=\"\",IF('farklı dp'!AS42=\"\",\"\",'farklı dp'!AS42),$AS$27)","v":0},{"$f":"IF($AU$27=\"\",IF('farklı dp'!AT42=\"\",\"\",'farklı dp'!AT42),$AU$27)","v":0},{"$f":"IF($AU$27=\"\",IF('farklı dp'!AU42=\"\",\"\",'farklı dp'!AU42),$AU$27)","v":0},{"$f":"IF($AW$27=\"\",IF('farklı dp'!AV42=\"\",\"\",'farklı dp'!AV42),$AW$27)","v":0},{"$f":"IF($AW$27=\"\",IF('farklı dp'!AW42=\"\",\"\",'farklı dp'!AW42),$AW$27)","v":0},{"$f":"IF($AY$27=\"\",IF('farklı dp'!AX42=\"\",\"\",'farklı dp'!AX42),$AY$27)","v":0},{"$f":"IF($AY$27=\"\",IF('farklı dp'!AY42=\"\",\"\",'farklı dp'!AY42),$AY$27)","v":0},null,null,null,{"$f":"IF('farklı dp'!AP17=0,\"\",'farklı dp'!AP17)","v":""},0,0,null,null,null,null,null,{"$f":"IFERROR(VLOOKUP(BN42,$CA$3:$CB$38,1,FALSE),\"\")","v":""},null,null,"2017-01-01"]
[null,"18.00-19.00",null,null,null,{"$f":"IF($G$27=\"\",IF('farklı dp'!F43=\"\",\"\",'farklı dp'!F43),$G$27)","v":""},{"$f":"IF($G$27=\"\",IF('farklı dp'!G43=\"\",\"\",'farklı dp'!G43),$G$27)","v":""},{"$f":"IF($I$27=\"\",IF('farklı dp'!H43=\"\",\"\",'farklı dp'!H43),$I$27)","v":0},{"$f":"IF($I$27=\"\",IF('farklı dp'!I43=\"\",\"\",'farklı dp'!I43),$I$27)","v":0},{"$f":"IF($K$27=\"\",IF('farklı dp'!J43=\"\",\"\",'farklı dp'!J43),$K$27)","v":0},{"$f":"IF($K$27=\"\",IF('farklı dp'!K43=\"\",\"\",'farklı dp'!K43),$K$27)","v":0},{"$f":"IF($M$27=\"\",IF('farklı dp'!L43=\"\",\"\",'farklı dp'!L43),$M$27)","v":0},{"$f":"IF($M$27=\"\",IF('farklı dp'!M43=\"\",\"\",'farklı dp'!M43),$M$27)","v":0},{"$f":"IF($O$27=\"\",IF('farklı dp'!N43=\"\",\"\",'farklı dp'!N43),$O$27)","v":0},{"$f":"IF($O$27=\"\",IF('farklı dp'!O43=\"\",\"\",'farklı dp'!O43),$O$27)","v":0},{"$f":"IF($Q$27=\"\",IF('farklı dp'!P43=\"\",\"\",'farklı dp'!P43),$Q$27)","v":0},{"$f":"IF($Q$27=\"\",IF('farklı dp'!Q43=\"\",\"\",'farklı dp'!Q43),$Q$27)","v":0},{"$f":"IF($S$27=\"\",IF('farklı dp'!R43=\"\",\"\",'farklı dp'!R43),$S$27)","v":0},{"$f":"IF($S$27=\"\",IF('farklı dp'!S43=\"\",\"\",'farklı dp'!S43),$S$27)","v":0},{"$f":"IF($U$27=\"\",IF('farklı dp'!T43=\"\",\"\",'farklı dp'!T43),$U$27)","v":0},{"$f":"IF($U$27=\"\",IF('farklı dp'!U43=\"\",\"\",'farklı dp'!U43),$U$27)","v":0},{"$f":"IF($W$27=\"\",IF('farklı dp'!V43=\"\",\"\",'farklı dp'!V43),$W$27)","v":0},{"$f":"IF($W$27=\"\",IF('farklı dp'!W43=\"\",\"\",'farklı dp'!W43),$W$27)","v":0},null,null,null,null,null,null,"18.00-19.00",null,null,null,{"$f":"IF($AI$27=\"\",IF('farklı dp'!AH43=\"\",\"\",'farklı dp'!AH43),$AI$27)","v":0},{"$f":"IF($AI$27=\"\",IF('farklı dp'!AI43=\"\",\"\",'farklı dp'!AI43),$AI$27)","v":0},{"$f":"IF($AK$27=\"\",IF('farklı dp'!AJ43=\"\",\"\",'farklı dp'!AJ43),$AK$27)","v":0},{"$f":"IF($AK$27=\"\",IF('farklı dp'!AK43=\"\",\"\",'farklı dp'!AK43),$AK$27)","v":0},{"$f":"IF($AM$27=\"\",IF('farklı dp'!AL43=\"\",\"\",'farklı dp'!AL43),$AM$27)","v":0},{"$f":"IF($AM$27=\"\",IF('farklı dp'!AM43=\"\",\"\",'farklı dp'!AM43),$AM$27)","v":0},{"$f":"IF($AO$27=\"\",IF('farklı dp'!AN43=\"\",\"\",'farklı dp'!AN43),$AO$27)","v":0},{"$f":"IF($AO$27=\"\",IF('farklı dp'!AO43=\"\",\"\",'farklı dp'!AO43),$AO$27)","v":0},{"$f":"IF($AQ$27=\"\",IF('farklı dp'!AP43=\"\",\"\",'farklı dp'!AP43),$AQ$27)","v":0},{"$f":"IF($AQ$27=\"\",IF('farklı dp'!AQ43=\"\",\"\",'farklı dp'!AQ43),$AQ$27)","v":0},{"$f":"IF($AS$27=\"\",IF('farklı dp'!AR43=\"\",\"\",'farklı dp'!AR43),$AS$27)","v":0},{"$f":"IF($AS$27=\"\",IF('farklı dp'!AS43=\"\",\"\",'farklı dp'!AS43),$AS$27)","v":0},{"$f":"IF($AU$27=\"\",IF('farklı dp'!AT43=\"\",\"\",'farklı dp'!AT43),$AU$27)","v":0},{"$f":"IF($AU$27=\"\",IF('farklı dp'!AU43=\"\",\"\",'farklı dp'!AU43),$AU$27)","v":0},{"$f":"IF($AW$27=\"\",IF('farklı dp'!AV43=\"\",\"\",'farklı dp'!AV43),$AW$27)","v":0},{"$f":"IF($AW$27=\"\",IF('farklı dp'!AW43=\"\",\"\",'farklı dp'!AW43),$AW$27)","v":0},{"$f":"IF($AY$27=\"\",IF('farklı dp'!AX43=\"\",\"\",'farklı dp'!AX43),$AY$27)","v":0},{"$f":"IF($AY$27=\"\",IF('farklı dp'!AY43=\"\",\"\",'farklı dp'!AY43),$AY$27)","v":0},null,null,null,{"$f":"IF('farklı dp'!AP18=0,\"\",'farklı dp'!AP18)","v":""},0,0,null,null,null,null,null,"",null,null,"2018-01-01"]
[null,"19.00-20.00",null,null,null,{"$f":"IF($G$27=\"\",IF('farklı dp'!F44=\"\",\"\",'farklı dp'!F44),$G$27)","v":""},{"$f":"IF($G$27=\"\",IF('farklı dp'!G44=\"\",\"\",'farklı dp'!G44),$G$27)","v":""},{"$f":"IF($I$27=\"\",IF('farklı dp'!H44=\"\",\"\",'farklı dp'!H44),$I$27)","v":0},{"$f":"IF($I$27=\"\",IF('farklı dp'!I44=\"\",\"\",'farklı dp'!I44),$I$27)","v":0},{"$f":"IF($K$27=\"\",IF('farklı dp'!J44=\"\",\"\",'farklı dp'!J44),$K$27)","v":0},{"$f":"IF($K$27=\"\",IF('farklı dp'!K44=\"\",\"\",'farklı dp'!K44),$K$27)","v":0},{"$f":"IF($M$27=\"\",IF('farklı dp'!L44=\"\",\"\",'farklı dp'!L44),$M$27)","v":0},{"$f":"IF($M$27=\"\",IF('farklı dp'!M44=\"\",\"\",'farklı dp'!M44),$M$27)","v":0},{"$f":"IF($O$27=\"\",IF('farklı dp'!N44=\"\",\"\",'farklı dp'!N44),$O$27)","v":0},{"$f":"IF($O$27=\"\",IF('farklı dp'!O44=\"\",\"\",'farklı dp'!O44),$O$27)","v":0},{"$f":"IF($Q$27=\"\",IF('farklı dp'!P44=\"\",\"\",'farklı dp'!P44),$Q$27)","v":0},{"$f":"IF($Q$27=\"\",IF('farklı dp'!Q44=\"\",\"\",'farklı dp'!Q44),$Q$27)","v":0},{"$f":"IF($S$27=\"\",IF('farklı dp'!R44=\"\",\"\",'farklı dp'!R44),$S$27)","v":0},{"$f":"IF($S$27=\"\",IF('farklı dp'!S44=\"\",\"\",'farklı dp'!S44),$S$27)","v":0},{"$f":"IF($U$27=\"\",IF('farklı dp'!T44=\"\",\"\",'farklı dp'!T44),$U$27)","v":0},{"$f":"IF($U$27=\"\",IF('farklı dp'!U44=\"\",\"\",'farklı dp'!U44),$U$27)","v":0},{"$f":"IF($W$27=\"\",IF('farklı dp'!V44=\"\",\"\",'farklı dp'!V44),$W$27)","v":0},{"$f":"IF($W$27=\"\",IF('farklı dp'!W44=\"\",\"\",'farklı dp'!W44),$W$27)","v":0},null,null,null,null,null,null,"19.00-20.00",null,null,null,{"$f":"IF($AI$27=\"\",IF('farklı dp'!AH44=\"\",\"\",'farklı dp'!AH44),$AI$27)","v":0},{"$f":"IF($AI$27=\"\",IF('farklı dp'!AI44=\"\",\"\",'farklı dp'!AI44),$AI$27)","v":0},{"$f":"IF($AK$27=\"\",IF('farklı dp'!AJ44=\"\",\"\",'farklı dp'!AJ44),$AK$27)","v":0},{"$f":"IF($AK$27=\"\",IF('farklı dp'!AK44=\"\",\"\",'farklı dp'!AK44),$AK$27)","v":0},{"$f":"IF($AM$27=\"\",IF('farklı dp'!AL44=\"\",\"\",'farklı dp'!AL44),$AM$27)","v":0},{"$f":"IF($AM$27=\"\",IF('farklı dp'!AM44=\"\",\"\",'farklı dp'!AM44),$AM$27)","v":0},{"$f":"IF($AO$27=\"\",IF('farklı dp'!AN44=\"\",\"\",'farklı dp'!AN44),$AO$27)","v":0},{"$f":"IF($AO$27=\"\",IF('farklı dp'!AO44=\"\",\"\",'farklı dp'!AO44),$AO$27)","v":0},{"$f":"IF($AQ$27=\"\",IF('farklı dp'!AP44=\"\",\"\",'farklı dp'!AP44),$AQ$27)","v":0},{"$f":"IF($AQ$27=\"\",IF('farklı dp'!AQ44=\"\",\"\",'farklı dp'!AQ44),$AQ$27)","v":0},{"$f":"IF($AS$27=\"\",IF('farklı dp'!AR44=\"\",\"\",'farklı dp'!AR44),$AS$27)","v":0},{"$f":"IF($AS$27=\"\",IF('farklı dp'!AS44=\"\",\"\",'farklı dp'!AS44),$AS$27)","v":0},{"$f":"IF($AU$27=\"\",IF('farklı dp'!AT44=\"\",\"\",'farklı dp'!AT44),$AU$27)","v":0},{"$f":"IF($AU$27=\"\",IF('farklı dp'!AU44=\"\",\"\",'farklı dp'!AU44),$AU$27)","v":0},{"$f":"IF($AW$27=\"\",IF('farklı dp'!AV44=\"\",\"\",'farklı dp'!AV44),$AW$27)","v":0},{"$f":"IF($AW$27=\"\",IF('farklı dp'!AW44=\"\",\"\",'farklı dp'!AW44),$AW$27)","v":0},{"$f":"IF($AY$27=\"\",IF('farklı dp'!AX44=\"\",\"\",'farklı dp'!AX44),$AY$27)","v":0},{"$f":"IF($AY$27=\"\",IF('farklı dp'!AY44=\"\",\"\",'farklı dp'!AY44),$AY$27)","v":0},null,null,null,{"$f":"IF('farklı dp'!AP19=0,\"\",'farklı dp'!AP19)","v":""},0,0,null,null,null,null,null,"",null,null,"2019-01-01"]
[null,"20.00-21.00",null,null,null,{"$f":"IF($G$27=\"\",IF('farklı dp'!F45=\"\",\"\",'farklı dp'!F45),$G$27)","v":""},{"$f":"IF($G$27=\"\",IF('farklı dp'!G45=\"\",\"\",'farklı dp'!G45),$G$27)","v":""},{"$f":"IF($I$27=\"\",IF('farklı dp'!H45=\"\",\"\",'farklı dp'!H45),$I$27)","v":0},{"$f":"IF($I$27=\"\",IF('farklı dp'!I45=\"\",\"\",'farklı dp'!I45),$I$27)","v":0},{"$f":"IF($K$27=\"\",IF('farklı dp'!J45=\"\",\"\",'farklı dp'!J45),$K$27)","v":0},{"$f":"IF($K$27=\"\",IF('farklı dp'!K45=\"\",\"\",'farklı dp'!K45),$K$27)","v":0},{"$f":"IF($M$27=\"\",IF('farklı dp'!L45=\"\",\"\",'farklı dp'!L45),$M$27)","v":0},{"$f":"IF($M$27=\"\",IF('farklı dp'!M45=\"\",\"\",'farklı dp'!M45),$M$27)","v":0},{"$f":"IF($O$27=\"\",IF('farklı dp'!N45=\"\",\"\",'farklı dp'!N45),$O$27)","v":0},{"$f":"IF($O$27=\"\",IF('farklı dp'!O45=\"\",\"\",'farklı dp'!O45),$O$27)","v":0},{"$f":"IF($Q$27=\"\",IF('farklı dp'!P45=\"\",\"\",'farklı dp'!P45),$Q$27)","v":0},{"$f":"IF($Q$27=\"\",IF('farklı dp'!Q45=\"\",\"\",'farklı dp'!Q45),$Q$27)","v":0},{"$f":"IF($S$27=\"\",IF('farklı dp'!R45=\"\",\"\",'farklı dp'!R45),$S$27)","v":0},{"$f":"IF($S$27=\"\",IF('farklı dp'!S45=\"\",\"\",'farklı dp'!S45),$S$27)","v":0},{"$f":"IF($U$27=\"\",IF('farklı dp'!T45=\"\",\"\",'farklı dp'!T45),$U$27)","v":0},{"$f":"IF($U$27=\"\",IF('farklı dp'!U45=\"\",\"\",'farklı dp'!U45),$U$27)","v":0},{"$f":"IF($W$27=\"\",IF('farklı dp'!V45=\"\",\"\",'farklı dp'!V45),$W$27)","v":0},{"$f":"IF($W$27=\"\",IF('farklı dp'!W45=\"\",\"\",'farklı dp'!W45),$W$27)","v":0},null,null,null,null,null,null,"20.00-21.00",null,null,null,{"$f":"IF($AI$27=\"\",IF('farklı dp'!AH45=\"\",\"\",'farklı dp'!AH45),$AI$27)","v":0},{"$f":"IF($AI$27=\"\",IF('farklı dp'!AI45=\"\",\"\",'farklı dp'!AI45),$AI$27)","v":0},{"$f":"IF($AK$27=\"\",IF('farklı dp'!AJ45=\"\",\"\",'farklı dp'!AJ45),$AK$27)","v":0},{"$f":"IF($AK$27=\"\",IF('farklı dp'!AK45=\"\",\"\",'farklı dp'!AK45),$AK$27)","v":0},{"$f":"IF($AM$27=\"\",IF('farklı dp'!AL45=\"\",\"\",'farklı dp'!AL45),$AM$27)","v":0},{"$f":"IF($AM$27=\"\",IF('farklı dp'!AM45=\"\",\"\",'farklı dp'!AM45),$AM$27)","v":0},{"$f":"IF($AO$27=\"\",IF('farklı dp'!AN45=\"\",\"\",'farklı dp'!AN45),$AO$27)","v":0},{"$f":"IF($AO$27=\"\",IF('farklı dp'!AO45=\"\",\"\",'farklı dp'!AO45),$AO$27)","v":0},{"$f":"IF($AQ$27=\"\",IF('farklı dp'!AP45=\"\",\"\",'farklı dp'!AP45),$AQ$27)","v":0},{"$f":"IF($AQ$27=\"\",IF('farklı dp'!AQ45=\"\",\"\",'farklı dp'!AQ45),$AQ$27)","v":0},{"$f":"IF($AS$27=\"\",IF('farklı dp'!AR45=\"\",\"\",'farklı dp'!AR45),$AS$27)","v":0},{"$f":"IF($AS$27=\"\",IF('farklı dp'!AS45=\"\",\"\",'farklı dp'!AS45),$AS$27)","v":0},{"$f":"IF($AU$27=\"\",IF('farklı dp'!AT45=\"\",\"\",'farklı dp'!AT45),$AU$27)","v":0},{"$f":"IF($AU$27=\"\",IF('farklı dp'!AU45=\"\",\"\",'farklı dp'!AU45),$AU$27)","v":0},{"$f":"IF($AW$27=\"\",IF('farklı dp'!AV45=\"\",\"\",'farklı dp'!AV45),$AW$27)","v":0},{"$f":"IF($AW$27=\"\",IF('farklı dp'!AW45=\"\",\"\",'farklı dp'!AW45),$AW$27)","v":0},{"$f":"IF($AY$27=\"\",IF('farklı dp'!AX45=\"\",\"\",'farklı dp'!AX45),$AY$27)","v":0},{"$f":"IF($AY$27=\"\",IF('farklı dp'!AY45=\"\",\"\",'farklı dp'!AY45),$AY$27)","v":0},null,null,null,{"$f":"IF('farklı dp'!AP20=0,\"\",'farklı dp'!AP20)","v":""},0,0,null,null,null,null,null,"",null,null,"2020-01-01"]
[null,"21.00-22.00",null,null,null,{"$f":"IF($G$27=\"\",IF('farklı dp'!F46=\"\",\"\",'farklı dp'!F46),$G$27)","v":""},{"$f":"IF($G$27=\"\",IF('farklı dp'!G46=\"\",\"\",'farklı dp'!G46),$G$27)","v":""},{"$f":"IF($I$27=\"\",IF('farklı dp'!H46=\"\",\"\",'farklı dp'!H46),$I$27)","v":0},{"$f":"IF($I$27=\"\",IF('farklı dp'!I46=\"\",\"\",'farklı dp'!I46),$I$27)","v":0},{"$f":"IF($K$27=\"\",IF('farklı dp'!J46=\"\",\"\",'farklı dp'!J46),$K$27)","v":0},{"$f":"IF($K$27=\"\",IF('farklı dp'!K46=\"\",\"\",'farklı dp'!K46),$K$27)","v":0},{"$f":"IF($M$27=\"\",IF('farklı dp'!L46=\"\",\"\",'farklı dp'!L46),$M$27)","v":0},{"$f":"IF($M$27=\"\",IF('farklı dp'!M46=\"\",\"\",'farklı dp'!M46),$M$27)","v":0},{"$f":"IF($O$27=\"\",IF('farklı dp'!N46=\"\",\"\",'farklı dp'!N46),$O$27)","v":0},{"$f":"IF($O$27=\"\",IF('farklı dp'!O46=\"\",\"\",'farklı dp'!O46),$O$27)","v":0},{"$f":"IF($Q$27=\"\",IF('farklı dp'!P46=\"\",\"\",'farklı dp'!P46),$Q$27)","v":0},{"$f":"IF($Q$27=\"\",IF('farklı dp'!Q46=\"\",\"\",'farklı dp'!Q46),$Q$27)","v":0},{"$f":"IF($S$27=\"\",IF('farklı dp'!R46=\"\",\"\",'farklı dp'!R46),$S$27)","v":0},{"$f":"IF($S$27=\"\",IF('farklı dp'!S46=\"\",\"\",'farklı dp'!S46),$S$27)","v":0},{"$f":"IF($U$27=\"\",IF('farklı dp'!T46=\"\",\"\",'farklı dp'!T46),$U$27)","v":0},{"$f":"IF($U$27=\"\",IF('farklı dp'!U46=\"\",\"\",'farklı dp'!U46),$U$27)","v":0},{"$f":"IF($W$27=\"\",IF('farklı dp'!V46=\"\",\"\",'farklı dp'!V46),$W$27)","v":0},{"$f":"IF($W$27=\"\",IF('farklı dp'!W46=\"\",\"\",'farklı dp'!W46),$W$27)","v":0},"TEO.","DF",null,null,null,null,"21.00-22.00",null,null,null,{"$f":"IF($AI$27=\"\",IF('farklı dp'!AH46=\"\",\"\",'farklı dp'!AH46),$AI$27)","v":0},{"$f":"IF($AI$27=\"\",IF('farklı dp'!AI46=\"\",\"\",'farklı dp'!AI46),$AI$27)","v":0},{"$f":"IF($AK$27=\"\",IF('farklı dp'!AJ46=\"\",\"\",'farklı dp'!AJ46),$AK$27)","v":0},{"$f":"IF($AK$27=\"\",IF('farklı dp'!AK46=\"\",\"\",'farklı dp'!AK46),$AK$27)","v":0},{"$f":"IF($AM$27=\"\",IF('farklı dp'!AL46=\"\",\"\",'farklı dp'!AL46),$AM$27)","v":0},{"$f":"IF($AM$27=\"\",IF('farklı dp'!AM46=\"\",\"\",'farklı dp'!AM46),$AM$27)","v":0},{"$f":"IF($AO$27=\"\",IF('farklı dp'!AN46=\"\",\"\",'farklı dp'!AN46),$AO$27)","v":0},{"$f":"IF($AO$27=\"\",IF('farklı dp'!AO46=\"\",\"\",'farklı dp'!AO46),$AO$27)","v":0},{"$f":"IF($AQ$27=\"\",IF('farklı dp'!AP46=\"\",\"\",'farklı dp'!AP46),$AQ$27)","v":0},{"$f":"IF($AQ$27=\"\",IF('farklı dp'!AQ46=\"\",\"\",'farklı dp'!AQ46),$AQ$27)","v":0},{"$f":"IF($AS$27=\"\",IF('farklı dp'!AR46=\"\",\"\",'farklı dp'!AR46),$AS$27)","v":0},{"$f":"IF($AS$27=\"\",IF('farklı dp'!AS46=\"\",\"\",'farklı dp'!AS46),$AS$27)","v":0},{"$f":"IF($AU$27=\"\",IF('farklı dp'!AT46=\"\",\"\",'farklı dp'!AT46),$AU$27)","v":0},{"$f":"IF($AU$27=\"\",IF('farklı dp'!AU46=\"\",\"\",'farklı dp'!AU46),$AU$27)","v":0},{"$f":"IF($AW$27=\"\",IF('farklı dp'!AV46=\"\",\"\",'farklı dp'!AV46),$AW$27)","v":0},{"$f":"IF($AW$27=\"\",IF('farklı dp'!AW46=\"\",\"\",'farklı dp'!AW46),$AW$27)","v":0},{"$f":"IF($AY$27=\"\",IF('farklı dp'!AX46=\"\",\"\",'farklı dp'!AX46),$AY$27)","v":0},{"$f":"IF($AY$27=\"\",IF('farklı dp'!AY46=\"\",\"\",'farklı dp'!AY46),$AY$27)","v":0},"TEO.","DF",null,null,"YARIM GÜN RESMİ TATİLLER",null,null,null,null,null,null,"",null,null,"2021-01-01"]
[null,null,null,null,null,{"$f":"IF($G$27=\"\",IF('farklı dp'!F47=\"\",\"\",'farklı dp'!F47),$G$27)","v":""},{"$f":"IF($G$27=\"\",IF('farklı dp'!G47=\"\",\"\",'farklı dp'!G47),$G$27)","v":""},{"$f":"IF($I$27=\"\",IF('farklı dp'!H47=\"\",\"\",'farklı dp'!H47),$I$27)","v":0},{"$f":"IF($I$27=\"\",IF('farklı dp'!I47=\"\",\"\",'farklı dp'!I47),$I$27)","v":0},{"$f":"IF($K$27=\"\",IF('farklı dp'!J47=\"\",\"\",'farklı dp'!J47),$K$27)","v":0},{"$f":"IF($K$27=\"\",IF('farklı dp'!K47=\"\",\"\",'farklı dp'!K47),$K$27)","v":0},{"$f":"IF($M$27=\"\",IF('farklı dp'!L47=\"\",\"\",'farklı dp'!L47),$M$27)","v":0},{"$f":"IF($M$27=\"\",IF('farklı dp'!M47=\"\",\"\",'farklı dp'!M47),$M$27)","v":0},{"$f":"IF($O$27=\"\",IF('farklı dp'!N47=\"\",\"\",'farklı dp'!N47),$O$27)","v":0},{"$f":"IF($O$27=\"\",IF('farklı dp'!O47=\"\",\"\",'farklı dp'!O47),$O$27)","v":0},{"$f":"IF($Q$27=\"\",IF('farklı dp'!P47=\"\",\"\",'farklı dp'!P47),$Q$27)","v":0},{"$f":"IF($Q$27=\"\",IF('farklı dp'!Q47=\"\",\"\",'farklı dp'!Q47),$Q$27)","v":0},{"$f":"IF($S$27=\"\",IF('farklı dp'!R47=\"\",\"\",'farklı dp'!R47),$S$27)","v":0},{"$f":"IF($S$27=\"\",IF('farklı dp'!S47=\"\",\"\",'farklı dp'!S47),$S$27)","v":0},{"$f":"IF($U$27=\"\",IF('farklı dp'!T47=\"\",\"\",'farklı dp'!T47),$U$27)","v":0},{"$f":"IF($U$27=\"\",IF('farklı dp'!U47=\"\",\"\",'farklı dp'!U47),$U$27)","v":0},{"$f":"IF($W$27=\"\",IF('farklı dp'!V47=\"\",\"\",'farklı dp'!V47),$W$27)","v":0},{"$f":"IF($W$27=\"\",IF('farklı dp'!W47=\"\",\"\",'farklı dp'!W47),$W$27)","v":0},null,null,null,null,null,null,null,null,null,null,{"$f":"IF($AI$27=\"\",IF('farklı dp'!AH47=\"\",\"\",'farklı dp'!AH47),$AI$27)","v":0},{"$f":"IF($AI$27=\"\",IF('farklı dp'!AI47=\"\",\"\",'farklı dp'!AI47),$AI$27)","v":0},{"$f":"IF($AK$27=\"\",IF('farklı dp'!AJ47=\"\",\"\",'farklı dp'!AJ47),$AK$27)","v":0},{"$f":"IF($AK$27=\"\",IF('farklı dp'!AK47=\"\",\"\",'farklı dp'!AK47),$AK$27)","v":0},{"$f":"IF($AM$27=\"\",IF('farklı dp'!AL47=\"\",\"\",'farklı dp'!AL47),$AM$27)","v":0},{"$f":"IF($AM$27=\"\",IF('farklı dp'!AM47=\"\",\"\",'farklı dp'!AM47),$AM$27)","v":0},{"$f":"IF($AO$27=\"\",IF('farklı dp'!AN47=\"\",\"\",'farklı dp'!AN47),$AO$27)","v":0},{"$f":"IF($AO$27=\"\",IF('farklı dp'!AO47=\"\",\"\",'farklı dp'!AO47),$AO$27)","v":0},{"$f":"IF($AQ$27=\"\",IF('farklı dp'!AP47=\"\",\"\",'farklı dp'!AP47),$AQ$27)","v":0},{"$f":"IF($AQ$27=\"\",IF('farklı dp'!AQ47=\"\",\"\",'farklı dp'!AQ47),$AQ$27)","v":0},{"$f":"IF($AS$27=\"\",IF('farklı dp'!AR47=\"\",\"\",'farklı dp'!AR47),$AS$27)","v":0},{"$f":"IF($AS$27=\"\",IF('farklı dp'!AS47=\"\",\"\",'farklı dp'!AS47),$AS$27)","v":0},{"$f":"IF($AU$27=\"\",IF('farklı dp'!AT47=\"\",\"\",'farklı dp'!AT47),$AU$27)","v":0},{"$f":"IF($AU$27=\"\",IF('farklı dp'!AU47=\"\",\"\",'farklı dp'!AU47),$AU$27)","v":0},{"$f":"IF($AW$27=\"\",IF('farklı dp'!AV47=\"\",\"\",'farklı dp'!AV47),$AW$27)","v":0},{"$f":"IF($AW$27=\"\",IF('farklı dp'!AW47=\"\",\"\",'farklı dp'!AW47),$AW$27)","v":0},{"$f":"IF($AY$27=\"\",IF('farklı dp'!AX47=\"\",\"\",'farklı dp'!AX47),$AY$27)","v":0},{"$f":"IF($AY$27=\"\",IF('farklı dp'!AY47=\"\",\"\",'farklı dp'!AY47),$AY$27)","v":0},null,null,null,null,null,null,null,null,null,null,null,"",null,null,"2022-01-01"]
[null,null,null,null,null,{"$f":"IF($G$27=\"\",IF('farklı dp'!F48=\"\",\"\",'farklı dp'!F48),$G$27)","v":""},{"$f":"IF($G$27=\"\",IF('farklı dp'!G48=\"\",\"\",'farklı dp'!G48),$G$27)","v":""},{"$f":"IF($I$27=\"\",IF('farklı dp'!H48=\"\",\"\",'farklı dp'!H48),$I$27)","v":0},{"$f":"IF($I$27=\"\",IF('farklı dp'!I48=\"\",\"\",'farklı dp'!I48),$I$27)","v":0},{"$f":"IF($K$27=\"\",IF('farklı dp'!J48=\"\",\"\",'farklı dp'!J48),$K$27)","v":0},{"$f":"IF($K$27=\"\",IF('farklı dp'!K48=\"\",\"\",'farklı dp'!K48),$K$27)","v":0},{"$f":"IF($M$27=\"\",IF('farklı dp'!L48=\"\",\"\",'farklı dp'!L48),$M$27)","v":0},{"$f":"IF($M$27=\"\",IF('farklı dp'!M48=\"\",\"\",'farklı dp'!M48),$M$27)","v":0},{"$f":"IF($O$27=\"\",IF('farklı dp'!N48=\"\",\"\",'farklı dp'!N48),$O$27)","v":0},{"$f":"IF($O$27=\"\",IF('farklı dp'!O48=\"\",\"\",'farklı dp'!O48),$O$27)","v":0},{"$f":"IF($Q$27=\"\",IF('farklı dp'!P48=\"\",\"\",'farklı dp'!P48),$Q$27)","v":0},{"$f":"IF($Q$27=\"\",IF('farklı dp'!Q48=\"\",\"\",'farklı dp'!Q48),$Q$27)","v":0},{"$f":"IF($S$27=\"\",IF('farklı dp'!R48=\"\",\"\",'farklı dp'!R48),$S$27)","v":0},{"$f":"IF($S$27=\"\",IF('farklı dp'!S48=\"\",\"\",'farklı dp'!S48),$S$27)","v":0},{"$f":"IF($U$27=\"\",IF('farklı dp'!T48=\"\",\"\",'farklı dp'!T48),$U$27)","v":0},{"$f":"IF($U$27=\"\",IF('farklı dp'!U48=\"\",\"\",'farklı dp'!U48),$U$27)","v":0},{"$f":"IF($W$27=\"\",IF('farklı dp'!V48=\"\",\"\",'farklı dp'!V48),$W$27)","v":0},{"$f":"IF($W$27=\"\",IF('farklı dp'!W48=\"\",\"\",'farklı dp'!W48),$W$27)","v":0},"TEO.","DF",null,null,null,null,null,null,null,null,{"$f":"IF($AI$27=\"\",IF('farklı dp'!AH48=\"\",\"\",'farklı dp'!AH48),$AI$27)","v":0},{"$f":"IF($AI$27=\"\",IF('farklı dp'!AI48=\"\",\"\",'farklı dp'!AI48),$AI$27)","v":0},{"$f":"IF($AK$27=\"\",IF('farklı dp'!AJ48=\"\",\"\",'farklı dp'!AJ48),$AK$27)","v":0},{"$f":"IF($AK$27=\"\",IF('farklı dp'!AK48=\"\",\"\",'farklı dp'!AK48),$AK$27)","v":0},{"$f":"IF($AM$27=\"\",IF('farklı dp'!AL48=\"\",\"\",'farklı dp'!AL48),$AM$27)","v":0},{"$f":"IF($AM$27=\"\",IF('farklı dp'!AM48=\"\",\"\",'farklı dp'!AM48),$AM$27)","v":0},{"$f":"IF($AO$27=\"\",IF('farklı dp'!AN48=\"\",\"\",'farklı dp'!AN48),$AO$27)","v":0},{"$f":"IF($AO$27=\"\",IF('farklı dp'!AO48=\"\",\"\",'farklı dp'!AO48),$AO$27)","v":0},{"$f":"IF($AQ$27=\"\",IF('farklı dp'!AP48=\"\",\"\",'farklı dp'!AP48),$AQ$27)","v":0},{"$f":"IF($AQ$27=\"\",IF('farklı dp'!AQ48=\"\",\"\",'farklı dp'!AQ48),$AQ$27)","v":0},{"$f":"IF($AS$27=\"\",IF('farklı dp'!AR48=\"\",\"\",'farklı dp'!AR48),$AS$27)","v":0},{"$f":"IF($AS$27=\"\",IF('farklı dp'!AS48=\"\",\"\",'farklı dp'!AS48),$AS$27)","v":0},{"$f":"IF($AU$27=\"\",IF('farklı dp'!AT48=\"\",\"\",'farklı dp'!AT48),$AU$27)","v":0},{"$f":"IF($AU$27=\"\",IF('farklı dp'!AU48=\"\",\"\",'farklı dp'!AU48),$AU$27)","v":0},{"$f":"IF($AW$27=\"\",IF('farklı dp'!AV48=\"\",\"\",'farklı dp'!AV48),$AW$27)","v":0},{"$f":"IF($AW$27=\"\",IF('farklı dp'!AW48=\"\",\"\",'farklı dp'!AW48),$AW$27)","v":0},{"$f":"IF($AY$27=\"\",IF('farklı dp'!AX48=\"\",\"\",'farklı dp'!AX48),$AY$27)","v":0},{"$f":"IF($AY$27=\"\",IF('farklı dp'!AY48=\"\",\"\",'farklı dp'!AY48),$AY$27)","v":0},"TEO.","DF",null,null,null,0,null,null,null,null,null,"",null,null,"2023-01-01"]
["TOPLAM (Ö.Ö)",null,null,null,null,{"$f":"COUNTIF(F32:F40,\">=a\")","v":0},{"$f":"COUNTIF(G32:G40,\">=a\")","v":0},0,0,0,0,0,0,0,0,{"$f":"COUNTIF(P32:P48,\">=a\")","v":0},{"$f":"COUNTIF(Q32:Q48,\">=a\")","v":0},null,null,{"$f":"COUNTIF(T32:T48,\">=a\")","v":0},{"$f":"COUNTIF(U32:U48,\">=a\")","v":0},null,null,{"$f":"F49+H49+J49+L49+N49+P49+T49","v":0},{"$f":"G49+I49+K49+M49+O49+Q49+U49","v":0},null,null,null,"TOPLAM (Ö.Ö)",null,null,null,null,{"$f":"COUNTIF(AH32:AH40,\">=a\")","v":0},{"$f":"COUNTIF(AI32:AI40,\">=a\")","v":0},0,0,0,0,0,0,0,0,{"$f":"COUNTIF(AR32:AR48,\">=a\")","v":0},{"$f":"COUNTIF(AS32:AS48,\">=a\")","v":0},null,null,{"$f":"COUNTIF(AV32:AV48,\">=a\")","v":0},{"$f":"COUNTIF(AW32:AW48,\">=a\")","v":0},null,null,{"$f":"AH49+AJ49+AL49+AN49+AP49+AR49+AV49","v":0},{"$f":"AI49+AK49+AM49+AO49+AQ49+AS49+AW49","v":0},null,{"$f":"IF('farklı dp'!B9=0,\"\",'farklı dp'!B9)","v":""},"CUMHURİYET BAYRAMI ÖNCESİ",0,null,null,null,null,null,"",null,null,"2024-01-01"]
["TOPLAM (İ.Ö)",null,null,null,null,{"$f":"COUNTIF(F41:F48,\">O\")","v":0},{"$f":"COUNTIF(G41:G48,\">O\")","v":0},0,0,0,0,0,0,0,0,null,null,{"$f":"COUNTIF(R32:R48,\">O\")","v":0},{"$f":"COUNTIF(S32:S48,\">O\")","v":0},null,null,{"$f":"COUNTIF(V32:V48,\">O\")","v":0},{"$f":"COUNTIF(W32:W48,\">O\")","v":0},{"$f":"F50+H50+J50+L50+N50+R50+V50","v":0},{"$f":"G50+I50+K50+M50+O50+S50+W50","v":0},null,null,null,"TOPLAM (İ.Ö)",null,null,null,null,{"$f":"COUNTIF(AH41:AH48,\">O\")","v":0},{"$f":"COUNTIF(AI41:AI48,\">O\")","v":0},0,0,0,0,0,0,0,0,null,null,{"$f":"COUNTIF(AT32:AT48,\">O\")","v":0},{"$f":"COUNTIF(AU32:AU48,\">O\")","v":0},null,null,{"$f":"COUNTIF(AX32:AX48,\">O\")","v":0},{"$f":"COUNTIF(AY32:AY48,\">O\")","v":0},{"$f":"AH50+AJ50+AL50+AN50+AP50+AT50+AX50","v":0},{"$f":"AI50+AK50+AM50+AO50+AQ50+AU50+AY50","v":0},null,{"$f":"IF('farklı dp'!B11=0,\"\",'farklı dp'!B11)","v":""},"RAMAZAN BAYRAMI AREFESİ",0,null,null,null,null,null,"",null,null,"2025-01-01"]
["GENEL TOPLAM",null,null,null,null,{"$f":"F49+F50","v":0},{"$f":"G49+G50","v":0},0,0,0,0,0,0,0,0,0,0,0,0,0,0,0,0,{"$f":"SUM(F51:W51)","v":0},null,null,null,null,"GENEL TOPLAM",null,null,null,null,{"$f":"AH49+AH50","v":0},{"$f":"AI49+AI50","v":0},0,0,0,0,0,0,0,0,0,0,0,0,0,0,0,0,{"$f":"SUM(AH51:AY51)","v":0},null,null,{"$f":"IF('farklı dp'!B15=0,\"\",'farklı dp'!B15)","v":""},"KURBAN BAYRAMI AREFESİ",0]
[]
[null,null,null,null,null,{"$f":"IFERROR(VLOOKUP(F55,$BC$4:$BE$45,3,FALSE),\"\")","v":0},{"$f":"IFERROR(VLOOKUP(F55,$BC$4:$BE$51,3,FALSE),\"\")","v":0},{"$f":"IFERROR(VLOOKUP(H55,$BC$4:$BE$45,3,FALSE),\"\")","v":0},{"$f":"IFERROR(VLOOKUP(H55,$BC$4:$BE$51,3,FALSE),\"\")","v":0},{"$f":"IFERROR(VLOOKUP(J55,$BC$4:$BE$45,3,FALSE),\"\")","v":0},{"$f":"IFERROR(VLOOKUP(J55,$BC$4:$BE$51,3,FALSE),\"\")","v":0},{"$f":"IFERROR(VLOOKUP(L55,$BC$4:$BE$45,3,FALSE),\"\")","v":0},{"$f":"IFERROR(VLOOKUP(L55,$BC$4:$BE$51,3,FALSE),\"\")","v":0},{"$f":"IFERROR(VLOOKUP(N55,$BC$4:$BE$45,3,FALSE),\"\")","v":0},{"$f":"IFERROR(VLOOKUP(N55,$BC$4:$BE$51,3,FALSE),\"\")","v":0},{"$f":"IFERROR(VLOOKUP(P55,$BC$4:$BE$45,3,FALSE),\"\")","v":0},{"$f":"IFERROR(VLOOKUP(P55,$BC$4:$BE$51,3,FALSE),\"\")","v":0},{"$f":"IFERROR(VLOOKUP(P55,$BC$4:$BE$45,3,FALSE),\"\")","v":0},{"$f":"IFERROR(VLOOKUP(P55,$BC$4:$BE$51,3,FALSE),\"\")","v":0},{"$f":"IFERROR(VLOOKUP(T55,$BC$4:$BE$45,3,FALSE),\"\")","v":0},{"$f":"IFERROR(VLOOKUP(T55,$BC$4:$BE$51,3,FALSE),\"\")","v":0},{"$f":"IFERROR(VLOOKUP(T55,$BC$4:$BE$45,3,FALSE),\"\")","v":0},{"$f":"IFERROR(VLOOKUP(T55,$BC$4:$BE$51,3,FALSE),\"\")","v":0},null,null,null,null,null,null,null,null,null,null,{"$f":"IFERROR(VLOOKUP(AH55,$BC$4:$BE$45,3,FALSE),\"\")","v":0},{"$f":"IFERROR(VLOOKUP(AH55,$BC$4:$BE$51,3,FALSE),\"\")","v":0},{"$f":"IFERROR(VLOOKUP(AJ55,$BC$4:$BE$45,3,FALSE),\"\")","v":0},{"$f":"IFERROR(VLOOKUP(AJ55,$BC$4:$BE$51,3,FALSE),\"\")","v":0},{"$f":"IFERROR(VLOOKUP(AL55,$BC$4:$BE$45,3,FALSE),\"\")","v":0},{"$f":"IFERROR(VLOOKUP(AL55,$BC$4:$BE$51,3,FALSE),\"\")","v":0},{"$f":"IFERROR(VLOOKUP(AN55,$BC$4:$BE$45,3,FALSE),\"\")","v":0},{"$f":"IFERROR(VLOOKUP(AN55,$BC$4:$BE$51,3,FALSE),\"\")","v":0},{"$f":"IFERROR(VLOOKUP(AP55,$BC$4:$BE$45,3,FALSE),\"\")","v":0},{"$f":"IFERROR(VLOOKUP(AP55,$BC$4:$BE$51,3,FALSE),\"\")","v":0},{"$f":"IFERROR(VLOOKUP(AR55,$BC$4:$BE$45,3,FALSE),\"\")","v":0},{"$f":"IFERROR(VLOOKUP(AR55,$BC$4:$BE$51,3,FALSE),\"\")","v":0},{"$f":"IFERROR(VLOOKUP(AR55,$BC$4:$BE$45,3,FALSE),\"\")","v":0},{"$f":"IFERROR(VLOOKUP(AR55,$BC$4:$BE$51,3,FALSE),\"\")","v":0},{"$f":"IFERROR(VLOOKUP(AV55,$BC$4:$BE$45,3,FALSE),\"\")","v":0},{"$f":"IFERROR(VLOOKUP(AV55,$BC$4:$BE$51,3,FALSE),\"\")","v":0},{"$f":"IFERROR(VLOOKUP(AV55,$BC$4:$BE$45,3,FALSE),\"\")","v":0},{"$f":"IFERROR(VLOOKUP(AV55,$BC$4:$BE$51,3,FALSE),\"\")","v":0},{"$f":"IFERROR(VLOOKUP(AW55,$BC$4:$BE$51,3,FALSE),\"\")","v":""},{"$f":"IFERROR(VLOOKUP(BA55,$BC$4:$BE$45,3,FALSE),\"\")","v":""},{"$f":"IFERROR(VLOOKUP(BA55,$BC$4:$BE$51,3,FALSE),\"\")","v":""},{"$f":"IFERROR(VLOOKUP(BA55,$BC$4:$BE$45,3,FALSE),\"\")","v":""},{"$f":"IFERROR(VLOOKUP(BA55,$BC$4:$BE$51,3,FALSE),\"\")","v":""}]
["3. HAFTA",null,null,null,null,"TEORİK VE DİĞER DERSLER İÇİN TELAFİ/TATİL PROGRAMI",null,null,null,null,null,null,null,null,null,null,null,null,null,null,null,null,null,null,null,null,null,null,"4. HAFTA",null,null,null,null,"TEORİK VE DİĞER DERSLER İÇİN TELAFİ/TATİL PROGRAMI"]
[null,null,null,null,null,{"$f":"IFERROR(IF(AV29+1>$BI$1,\"\",AV29+1),\"\")","v":""},null,{"$f":"IFERROR(IF(F55+1>$BI$1,\"\",F55+1),\"\")","v":""},null,{"$f":"IFERROR(IF(H55+1>$BI$1,\"\",H55+1),\"\")","v":""},null,{"$f":"IFERROR(IF(J55+1>$BI$1,\"\",J55+1),\"\")","v":""},null,{"$f":"IFERROR(IF(L55+1>$BI$1,\"\",L55+1),\"\")","v":""},null,{"$f":"IFERROR(IF(N55+1>$BI$1,\"\",N55+1),\"\")","v":""},null,null,null,{"$f":"IFERROR(IF(P55+1>$BI$1,\"\",P55+1),\"\")","v":""},null,null,null,null,null,null,null,null,null,null,null,null,null,{"$f":"IFERROR(IF(T55+1>$BI$1,\"\",T55+1),\"\")","v":""},null,{"$f":"IFERROR(IF(AH55+1>$BI$1,\"\",AH55+1),\"\")","v":""},null,{"$f":"IFERROR(IF(AJ55+1>$BI$1,\"\",AJ55+1),\"\")","v":""},null,{"$f":"IFERROR(IF(AL55+1>$BI$1,\"\",AL55+1),\"\")","v":""},null,{"$f":"IFERROR(IF(AN55+1>$BI$1,\"\",AN55+1),\"\")","v":""},null,{"$f":"IFERROR(IF(AP55+1>$BI$1,\"\",AP55+1),\"\")","v":""},null,null,null,{"$f":"IFERROR(IF(AR55+1>$BI$1,\"\",AR55+1),\"\")","v":""}]
[null,null,null,null,null,{"$f":"IFERROR(IF(AV29+1>$BI$1,\"\",AV29+1),\"\")","v":""},null,{"$f":"IFERROR(IF(F55+1>$BI$1,\"\",F55+1),\"\")","v":""},null,{"$f":"IFERROR(IF(H55+1>$BI$1,\"\",H55+1),\"\")","v":""},null,{"$f":"IFERROR(IF(J55+1>$BI$1,\"\",J55+1),\"\")","v":""},null,{"$f":"IFERROR(IF(L55+1>$BI$1,\"\",L55+1),\"\")","v":""},null,"Ö.Ö",null,"İ.Ö",null,"Ö.Ö",null,"İ.Ö",null,null,null,null,null,null,null,null,null,null,null,{"$f":"IFERROR(IF(T55+1>$BI$1,\"\",T55+1),\"\")","v":""},null,{"$f":"IFERROR(IF(AH55+1>$BI$1,\"\",AH55+1),\"\")","v":""},null,{"$f":"IFERROR(IF(AJ55+1>$BI$1,\"\",AJ55+1),\"\")","v":""},null,{"$f":"IFERROR(IF(AL55+1>$BI$1,\"\",AL55+1),\"\")","v":""},null,{"$f":"IFERROR(IF(AN55+1>$BI$1,\"\",AN55+1),\"\")","v":""},null,"Ö.Ö",null,"İ.Ö",null,"Ö.Ö",null,"İ.Ö"]
[null,null,null,null,null,"T","D","T","D","T","D","T","D","T","D","T","D","T","D","T","D","T","D",null,null,null,null,null,null,null,null,null,null,"T","D","T","D","T","D","T","D","T","D","T","D","T","D","T","D","T","D"]
["ÖRGÜN ÖĞRETİM","08.00-09.00",null,null,null,{"$f":"IF($F$53=\"\",IF('farklı dp'!F58=\"\",\"\",'farklı dp'!F58),$F$53)","v":0},{"$f":"IF($F$53=\"\",IF('farklı dp'!G58=\"\",\"\",'farklı dp'!G58),$F$53)","v":0},{"$f":"IF($H$53=\"\",IF('farklı dp'!H58=\"\",\"\",'farklı dp'!H58),$H$53)","v":0},{"$f":"IF($H$53=\"\",IF('farklı dp'!I58=\"\",\"\",'farklı dp'!I58),$H$53)","v":0},{"$f":"IF($J$53=\"\",IF('farklı dp'!J58=\"\",\"\",'farklı dp'!J58),$J$53)","v":0},{"$f":"IF($J$53=\"\",IF('farklı dp'!K58=\"\",\"\",'farklı dp'!K58),$J$53)","v":0},{"$f":"IF($L$53=\"\",IF('farklı dp'!L58=\"\",\"\",'farklı dp'!L58),$L$53)","v":0},{"$f":"IF($L$53=\"\",IF('farklı dp'!M58=\"\",\"\",'farklı dp'!M58),$L$53)","v":0},{"$f":"IF($N$53=\"\",IF('farklı dp'!N58=\"\",\"\",'farklı dp'!N58),$N$53)","v":0},{"$f":"IF($N$53=\"\",IF('farklı dp'!O58=\"\",\"\",'farklı dp'!O58),$N$53)","v":0},{"$f":"IF($P$53=\"\",IF('farklı dp'!P58=\"\",\"\",'farklı dp'!P58),$P$53)","v":0},{"$f":"IF($P$53=\"\",IF('farklı dp'!Q58=\"\",\"\",'farklı dp'!Q58),$P$53)","v":0},{"$f":"IF($R$53=\"\",IF('farklı dp'!R58=\"\",\"\",'farklı dp'!R58),$R$53)","v":0},{"$f":"IF($R$53=\"\",IF('farklı dp'!S58=\"\",\"\",'farklı dp'!S58),$R$53)","v":0},{"$f":"IF($T$53=\"\",IF('farklı dp'!T58=\"\",\"\",'farklı dp'!T58),$T$53)","v":0},{"$f":"IF($T$53=\"\",IF('farklı dp'!U58=\"\",\"\",'farklı dp'!U58),$T$53)","v":0},{"$f":"IF($V$53=\"\",IF('farklı dp'!V58=\"\",\"\",'farklı dp'!V58),$V$53)","v":0},{"$f":"IF($V$53=\"\",IF('farklı dp'!W58=\"\",\"\",'farklı dp'!W58),$V$53)","v":0},null,null,null,null,null,"ÖRGÜN ÖĞRETİM","08.00-09.00",null,null,null,{"$f":"IF($AH$53=\"\",IF('farklı dp'!AH58=\"\",\"\",'farklı dp'!AH58),$AH$53)","v":0},{"$f":"IF($AH$53=\"\",IF('farklı dp'!AI58=\"\",\"\",'farklı dp'!AI58),$AH$53)","v":0},{"$f":"IF($AJ$53=\"\",IF('farklı dp'!AJ58=\"\",\"\",'farklı dp'!AJ58),$AJ$53)","v":0},{"$f":"IF($AJ$53=\"\",IF('farklı dp'!AK58=\"\",\"\",'farklı dp'!AK58),$AJ$53)","v":0},{"$f":"IF($AL$53=\"\",IF('farklı dp'!AL58=\"\",\"\",'farklı dp'!AL58),$AL$53)","v":0},{"$f":"IF($AL$53=\"\",IF('farklı dp'!AM58=\"\",\"\",'farklı dp'!AM58),$AL$53)","v":0},{"$f":"IF($AN$53=\"\",IF('farklı dp'!AN58=\"\",\"\",'farklı dp'!AN58),$AN$53)","v":0},{"$f":"IF($AN$53=\"\",IF('farklı dp'!AO58=\"\",\"\",'farklı dp'!AO58),$AN$53)","v":0},{"$f":"IF($AP$53=\"\",IF('farklı dp'!AP58=\"\",\"\",'farklı dp'!AP58),$AP$53)","v":0},{"$f":"IF($AP$53=\"\",IF('farklı dp'!AQ58=\"\",\"\",'farklı dp'!AQ58),$AP$53)","v":0},{"$f":"IF($AR$53=\"\",IF('farklı dp'!AR58=\"\",\"\",'farklı dp'!AR58),$AR$53)","v":0},{"$f":"IF($AR$53=\"\",IF('farklı dp'!AS58=\"\",\"\",'farklı dp'!AS58),$AR$53)","v":0},{"$f":"IF($AT$53=\"\",IF('farklı dp'!AT58=\"\",\"\",'farklı dp'!AT58),$AT$53)","v":0},{"$f":"IF($AT$53=\"\",IF('farklı dp'!AU58=\"\",\"\",'farklı dp'!AU58),$AT$53)","v":0},{"$f":"IF($AV$53=\"\",IF('farklı dp'!AV58=\"\",\"\",'farklı dp'!AV58),$AV$53)","v":0},{"$f":"IF($AV$53=\"\",IF('farklı dp'!AW58=\"\",\"\",'farklı dp'!AW58),$AV$53)","v":0},{"$f":"IF($AX$53=\"\",IF('farklı dp'!AX58=\"\",\"\",'farklı dp'!AX58),$AX$53)","v":0},{"$f":"IF($AX$53=\"\",IF('farklı dp'!AY58=\"\",\"\",'farklı dp'!AY58),$AX$53)","v":0}]
[null,"09.00-10.00",null,null,null,{"$f":"IF($F$53=\"\",IF('farklı dp'!F59=\"\",\"\",'farklı dp'!F59),$F$53)","v":0},{"$f":"IF($F$53=\"\",IF('farklı dp'!G59=\"\",\"\",'farklı dp'!G59),$F$53)","v":0},{"$f":"IF($H$53=\"\",IF('farklı dp'!H59=\"\",\"\",'farklı dp'!H59),$H$53)","v":0},{"$f":"IF($H$53=\"\",IF('farklı dp'!I59=\"\",\"\",'farklı dp'!I59),$H$53)","v":0},{"$f":"IF($J$53=\"\",IF('farklı dp'!J59=\"\",\"\",'farklı dp'!J59),$J$53)","v":0},{"$f":"IF($J$53=\"\",IF('farklı dp'!K59=\"\",\"\",'farklı dp'!K59),$J$53)","v":0},{"$f":"IF($L$53=\"\",IF('farklı dp'!L59=\"\",\"\",'farklı dp'!L59),$L$53)","v":0},{"$f":"IF($L$53=\"\",IF('farklı dp'!M59=\"\",\"\",'farklı dp'!M59),$L$53)","v":0},{"$f":"IF($N$53=\"\",IF('farklı dp'!N59=\"\",\"\",'farklı dp'!N59),$N$53)","v":0},{"$f":"IF($N$53=\"\",IF('farklı dp'!O59=\"\",\"\",'farklı dp'!O59),$N$53)","v":0},{"$f":"IF($P$53=\"\",IF('farklı dp'!P59=\"\",\"\",'farklı dp'!P59),$P$53)","v":0},{"$f":"IF($P$53=\"\",IF('farklı dp'!Q59=\"\",\"\",'farklı dp'!Q59),$P$53)","v":0},{"$f":"IF($R$53=\"\",IF('farklı dp'!R59=\"\",\"\",'farklı dp'!R59),$R$53)","v":0},{"$f":"IF($R$53=\"\",IF('farklı dp'!S59=\"\",\"\",'farklı dp'!S59),$R$53)","v":0},{"$f":"IF($T$53=\"\",IF('farklı dp'!T59=\"\",\"\",'farklı dp'!T59),$T$53)","v":0},{"$f":"IF($T$53=\"\",IF('farklı dp'!U59=\"\",\"\",'farklı dp'!U59),$T$53)","v":0},{"$f":"IF($V$53=\"\",IF('farklı dp'!V59=\"\",\"\",'farklı dp'!V59),$V$53)","v":0},{"$f":"IF($V$53=\"\",IF('farklı dp'!W59=\"\",\"\",'farklı dp'!W59),$V$53)","v":0},null,null,null,null,null,null,"09.00-10.00",null,null,null,{"$f":"IF($AH$53=\"\",IF('farklı dp'!AH59=\"\",\"\",'farklı dp'!AH59),$AH$53)","v":0},{"$f":"IF($AH$53=\"\",IF('farklı dp'!AI59=\"\",\"\",'farklı dp'!AI59),$AH$53)","v":0},{"$f":"IF($AJ$53=\"\",IF('farklı dp'!AJ59=\"\",\"\",'farklı dp'!AJ59),$AJ$53)","v":0},{"$f":"IF($AJ$53=\"\",IF('farklı dp'!AK59=\"\",\"\",'farklı dp'!AK59),$AJ$53)","v":0},{"$f":"IF($AL$53=\"\",IF('farklı dp'!AL59=\"\",\"\",'farklı dp'!AL59),$AL$53)","v":0},{"$f":"IF($AL$53=\"\",IF('farklı dp'!AM59=\"\",\"\",'farklı dp'!AM59),$AL$53)","v":0},{"$f":"IF($AN$53=\"\",IF('farklı dp'!AN59=\"\",\"\",'farklı dp'!AN59),$AN$53)","v":0},{"$f":"IF($AN$53=\"\",IF('farklı dp'!AO59=\"\",\"\",'farklı dp'!AO59),$AN$53)","v":0},{"$f":"IF($AP$53=\"\",IF('farklı dp'!AP59=\"\",\"\",'farklı dp'!AP59),$AP$53)","v":0},{"$f":"IF($AP$53=\"\",IF('farklı dp'!AQ59=\"\",\"\",'farklı dp'!AQ59),$AP$53)","v":0},{"$f":"IF($AR$53=\"\",IF('farklı dp'!AR59=\"\",\"\",'farklı dp'!AR59),$AR$53)","v":0},{"$f":"IF($AR$53=\"\",IF('farklı dp'!AS59=\"\",\"\",'farklı dp'!AS59),$AR$53)","v":0},{"$f":"IF($AT$53=\"\",IF('farklı dp'!AT59=\"\",\"\",'farklı dp'!AT59),$AT$53)","v":0},{"$f":"IF($AT$53=\"\",IF('farklı dp'!AU59=\"\",\"\",'farklı dp'!AU59),$AT$53)","v":0},{"$f":"IF($AV$53=\"\",IF('farklı dp'!AV59=\"\",\"\",'farklı dp'!AV59),$AV$53)","v":0},{"$f":"IF($AV$53=\"\",IF('farklı dp'!AW59=\"\",\"\",'farklı dp'!AW59),$AV$53)","v":0},{"$f":"IF($AX$53=\"\",IF('farklı dp'!AX59=\"\",\"\",'farklı dp'!AX59),$AX$53)","v":0},{"$f":"IF($AX$53=\"\",IF('farklı dp'!AY59=\"\",\"\",'farklı dp'!AY59),$AX$53)","v":0}]
[null,"10.00-11.00",null,null,null,{"$f":"IF($F$53=\"\",IF('farklı dp'!F60=\"\",\"\",'farklı dp'!F60),$F$53)","v":0},{"$f":"IF($F$53=\"\",IF('farklı dp'!G60=\"\",\"\",'farklı dp'!G60),$F$53)","v":0},{"$f":"IF($H$53=\"\",IF('farklı dp'!H60=\"\",\"\",'farklı dp'!H60),$H$53)","v":0},{"$f":"IF($H$53=\"\",IF('farklı dp'!I60=\"\",\"\",'farklı dp'!I60),$H$53)","v":0},{"$f":"IF($J$53=\"\",IF('farklı dp'!J60=\"\",\"\",'farklı dp'!J60),$J$53)","v":0},{"$f":"IF($J$53=\"\",IF('farklı dp'!K60=\"\",\"\",'farklı dp'!K60),$J$53)","v":0},{"$f":"IF($L$53=\"\",IF('farklı dp'!L60=\"\",\"\",'farklı dp'!L60),$L$53)","v":0},{"$f":"IF($L$53=\"\",IF('farklı dp'!M60=\"\",\"\",'farklı dp'!M60),$L$53)","v":0},{"$f":"IF($N$53=\"\",IF('farklı dp'!N60=\"\",\"\",'farklı dp'!N60),$N$53)","v":0},{"$f":"IF($N$53=\"\",IF('farklı dp'!O60=\"\",\"\",'farklı dp'!O60),$N$53)","v":0},{"$f":"IF($P$53=\"\",IF('farklı dp'!P60=\"\",\"\",'farklı dp'!P60),$P$53)","v":0},{"$f":"IF($P$53=\"\",IF('farklı dp'!Q60=\"\",\"\",'farklı dp'!Q60),$P$53)","v":0},{"$f":"IF($R$53=\"\",IF('farklı dp'!R60=\"\",\"\",'farklı dp'!R60),$R$53)","v":0},{"$f":"IF($R$53=\"\",IF('farklı dp'!S60=\"\",\"\",'farklı dp'!S60),$R$53)","v":0},{"$f":"IF($T$53=\"\",IF('farklı dp'!T60=\"\",\"\",'farklı dp'!T60),$T$53)","v":0},{"$f":"IF($T$53=\"\",IF('farklı dp'!U60=\"\",\"\",'farklı dp'!U60),$T$53)","v":0},{"$f":"IF($V$53=\"\",IF('farklı dp'!V60=\"\",\"\",'farklı dp'!V60),$V$53)","v":0},{"$f":"IF($V$53=\"\",IF('farklı dp'!W60=\"\",\"\",'farklı dp'!W60),$V$53)","v":0},null,null,null,null,null,null,"10.00-11.00",null,null,null,{"$f":"IF($AH$53=\"\",IF('farklı dp'!AH60=\"\",\"\",'farklı dp'!AH60),$AH$53)","v":0},{"$f":"IF($AH$53=\"\",IF('farklı dp'!AI60=\"\",\"\",'farklı dp'!AI60),$AH$53)","v":0},{"$f":"IF($AJ$53=\"\",IF('farklı dp'!AJ60=\"\",\"\",'farklı dp'!AJ60),$AJ$53)","v":0},{"$f":"IF($AJ$53=\"\",IF('farklı dp'!AK60=\"\",\"\",'farklı dp'!AK60),$AJ$53)","v":0},{"$f":"IF($AL$53=\"\",IF('farklı dp'!AL60=\"\",\"\",'farklı dp'!AL60),$AL$53)","v":0},{"$f":"IF($AL$53=\"\",IF('farklı dp'!AM60=\"\",\"\",'farklı dp'!AM60),$AL$53)","v":0},{"$f":"IF($AN$53=\"\",IF('farklı dp'!AN60=\"\",\"\",'farklı dp'!AN60),$AN$53)","v":0},{"$f":"IF($AN$53=\"\",IF('farklı dp'!AO60=\"\",\"\",'farklı dp'!AO60),$AN$53)","v":0},{"$f":"IF($AP$53=\"\",IF('farklı dp'!AP60=\"\",\"\",'farklı dp'!AP60),$AP$53)","v":0},{"$f":"IF($AP$53=\"\",IF('farklı dp'!AQ60=\"\",\"\",'farklı dp'!AQ60),$AP$53)","v":0},{"$f":"IF($AR$53=\"\",IF('farklı dp'!AR60=\"\",\"\",'farklı dp'!AR60),$AR$53)","v":0},{"$f":"IF($AR$53=\"\",IF('farklı dp'!AS60=\"\",\"\",'farklı dp'!AS60),$AR$53)","v":0},{"$f":"IF($AT$53=\"\",IF('farklı dp'!AT60=\"\",\"\",'farklı dp'!AT60),$AT$53)","v":0},{"$f":"IF($AT$53=\"\",IF('farklı dp'!AU60=\"\",\"\",'farklı dp'!AU60),$AT$53)","v":0},{"$f":"IF($AV$53=\"\",IF('farklı dp'!AV60=\"\",\"\",'farklı dp'!AV60),$AV$53)","v":0},{"$f":"IF($AV$53=\"\",IF('farklı dp'!AW60=\"\",\"\",'farklı dp'!AW60),$AV$53)","v":0},{"$f":"IF($AX$53=\"\",IF('farklı dp'!AX60=\"\",\"\",'farklı dp'!AX60),$AX$53)","v":0},{"$f":"IF($AX$53=\"\",IF('farklı dp'!AY60=\"\",\"\",'farklı dp'!AY60),$AX$53)","v":0}]
[null,"11.00-12.00",null,null,null,{"$f":"IF($F$53=\"\",IF('farklı dp'!F61=\"\",\"\",'farklı dp'!F61),$F$53)","v":0},{"$f":"IF($F$53=\"\",IF('farklı dp'!G61=\"\",\"\",'farklı dp'!G61),$F$53)","v":0},{"$f":"IF($H$53=\"\",IF('farklı dp'!H61=\"\",\"\",'farklı dp'!H61),$H$53)","v":0},{"$f":"IF($H$53=\"\",IF('farklı dp'!I61=\"\",\"\",'farklı dp'!I61),$H$53)","v":0},{"$f":"IF($J$53=\"\",IF('farklı dp'!J61=\"\",\"\",'farklı dp'!J61),$J$53)","v":0},{"$f":"IF($J$53=\"\",IF('farklı dp'!K61=\"\",\"\",'farklı dp'!K61),$J$53)","v":0},{"$f":"IF($L$53=\"\",IF('farklı dp'!L61=\"\",\"\",'farklı dp'!L61),$L$53)","v":0},{"$f":"IF($L$53=\"\",IF('farklı dp'!M61=\"\",\"\",'farklı dp'!M61),$L$53)","v":0},{"$f":"IF($N$53=\"\",IF('farklı dp'!N61=\"\",\"\",'farklı dp'!N61),$N$53)","v":0},{"$f":"IF($N$53=\"\",IF('farklı dp'!O61=\"\",\"\",'farklı dp'!O61),$N$53)","v":0},{"$f":"IF($P$53=\"\",IF('farklı dp'!P61=\"\",\"\",'farklı dp'!P61),$P$53)","v":0},{"$f":"IF($P$53=\"\",IF('farklı dp'!Q61=\"\",\"\",'farklı dp'!Q61),$P$53)","v":0},{"$f":"IF($R$53=\"\",IF('farklı dp'!R61=\"\",\"\",'farklı dp'!R61),$R$53)","v":0},{"$f":"IF($R$53=\"\",IF('farklı dp'!S61=\"\",\"\",'farklı dp'!S61),$R$53)","v":0},{"$f":"IF($T$53=\"\",IF('farklı dp'!T61=\"\",\"\",'farklı dp'!T61),$T$53)","v":0},{"$f":"IF($T$53=\"\",IF('farklı dp'!U61=\"\",\"\",'farklı dp'!U61),$T$53)","v":0},{"$f":"IF($V$53=\"\",IF('farklı dp'!V61=\"\",\"\",'farklı dp'!V61),$V$53)","v":0},{"$f":"IF($V$53=\"\",IF('farklı dp'!W61=\"\",\"\",'farklı dp'!W61),$V$53)","v":0},null,null,null,null,null,null,"11.00-12.00",null,null,null,{"$f":"IF($AH$53=\"\",IF('farklı dp'!AH61=\"\",\"\",'farklı dp'!AH61),$AH$53)","v":0},{"$f":"IF($AH$53=\"\",IF('farklı dp'!AI61=\"\",\"\",'farklı dp'!AI61),$AH$53)","v":0},{"$f":"IF($AJ$53=\"\",IF('farklı dp'!AJ61=\"\",\"\",'farklı dp'!AJ61),$AJ$53)","v":0},{"$f":"IF($AJ$53=\"\",IF('farklı dp'!AK61=\"\",\"\",'farklı dp'!AK61),$AJ$53)","v":0},{"$f":"IF($AL$53=\"\",IF('farklı dp'!AL61=\"\",\"\",'farklı dp'!AL61),$AL$53)","v":0},{"$f":"IF($AL$53=\"\",IF('farklı dp'!AM61=\"\",\"\",'farklı dp'!AM61),$AL$53)","v":0},{"$f":"IF($AN$53=\"\",IF('farklı dp'!AN61=\"\",\"\",'farklı dp'!AN61),$AN$53)","v":0},{"$f":"IF($AN$53=\"\",IF('farklı dp'!AO61=\"\",\"\",'farklı dp'!AO61),$AN$53)","v":0},{"$f":"IF($AP$53=\"\",IF('farklı dp'!AP61=\"\",\"\",'farklı dp'!AP61),$AP$53)","v":0},{"$f":"IF($AP$53=\"\",IF('farklı dp'!AQ61=\"\",\"\",'farklı dp'!AQ61),$AP$53)","v":0},{"$f":"IF($AR$53=\"\",IF('farklı dp'!AR61=\"\",\"\",'farklı dp'!AR61),$AR$53)","v":0},{"$f":"IF($AR$53=\"\",IF('farklı dp'!AS61=\"\",\"\",'farklı dp'!AS61),$AR$53)","v":0},{"$f":"IF($AT$53=\"\",IF('farklı dp'!AT61=\"\",\"\",'farklı dp'!AT61),$AT$53)","v":0},{"$f":"IF($AT$53=\"\",IF('farklı dp'!AU61=\"\",\"\",'farklı dp'!AU61),$AT$53)","v":0},{"$f":"IF($AV$53=\"\",IF('farklı dp'!AV61=\"\",\"\",'farklı dp'!AV61),$AV$53)","v":0},{"$f":"IF($AV$53=\"\",IF('farklı dp'!AW61=\"\",\"\",'farklı dp'!AW61),$AV$53)","v":0},{"$f":"IF($AX$53=\"\",IF('farklı dp'!AX61=\"\",\"\",'farklı dp'!AX61),$AX$53)","v":0},{"$f":"IF($AX$53=\"\",IF('farklı dp'!AY61=\"\",\"\",'farklı dp'!AY61),$AX$53)","v":0}]
[null,"12.00-13.00",null,null,null,{"$f":"IF($F$53=\"\",IF('farklı dp'!F62=\"\",\"\",'farklı dp'!F62),$F$53)","v":0},{"$f":"IF($F$53=\"\",IF('farklı dp'!G62=\"\",\"\",'farklı dp'!G62),$F$53)","v":0},{"$f":"IF($H$53=\"\",IF('farklı dp'!H62=\"\",\"\",'farklı dp'!H62),$H$53)","v":0},{"$f":"IF($H$53=\"\",IF('farklı dp'!I62=\"\",\"\",'farklı dp'!I62),$H$53)","v":0},{"$f":"IF($J$53=\"\",IF('farklı dp'!J62=\"\",\"\",'farklı dp'!J62),$J$53)","v":0},{"$f":"IF($J$53=\"\",IF('farklı dp'!K62=\"\",\"\",'farklı dp'!K62),$J$53)","v":0},{"$f":"IF($L$53=\"\",IF('farklı dp'!L62=\"\",\"\",'farklı dp'!L62),$L$53)","v":0},{"$f":"IF($L$53=\"\",IF('farklı dp'!M62=\"\",\"\",'farklı dp'!M62),$L$53)","v":0},{"$f":"IF($N$53=\"\",IF('farklı dp'!N62=\"\",\"\",'farklı dp'!N62),$N$53)","v":0},{"$f":"IF($N$53=\"\",IF('farklı dp'!O62=\"\",\"\",'farklı dp'!O62),$N$53)","v":0},{"$f":"IF($P$53=\"\",IF('farklı dp'!P62=\"\",\"\",'farklı dp'!P62),$P$53)","v":0},{"$f":"IF($P$53=\"\",IF('farklı dp'!Q62=\"\",\"\",'farklı dp'!Q62),$P$53)","v":0},{"$f":"IF($R$53=\"\",IF('farklı dp'!R62=\"\",\"\",'farklı dp'!R62),$R$53)","v":0},{"$f":"IF($R$53=\"\",IF('farklı dp'!S62=\"\",\"\",'farklı dp'!S62),$R$53)","v":0},{"$f":"IF($T$53=\"\",IF('farklı dp'!T62=\"\",\"\",'farklı dp'!T62),$T$53)","v":0},{"$f":"IF($T$53=\"\",IF('farklı dp'!U62=\"\",\"\",'farklı dp'!U62),$T$53)","v":0},{"$f":"IF($V$53=\"\",IF('farklı dp'!V62=\"\",\"\",'farklı dp'!V62),$V$53)","v":0},{"$f":"IF($V$53=\"\",IF('farklı dp'!W62=\"\",\"\",'farklı dp'!W62),$V$53)","v":0},null,null,null,null,null,null,"12.00-13.00",null,null,null,{"$f":"IF($AH$53=\"\",IF('farklı dp'!AH62=\"\",\"\",'farklı dp'!AH62),$AH$53)","v":0},{"$f":"IF($AH$53=\"\",IF('farklı dp'!AI62=\"\",\"\",'farklı dp'!AI62),$AH$53)","v":0},{"$f":"IF($AJ$53=\"\",IF('farklı dp'!AJ62=\"\",\"\",'farklı dp'!AJ62),$AJ$53)","v":0},{"$f":"IF($AJ$53=\"\",IF('farklı dp'!AK62=\"\",\"\",'farklı dp'!AK62),$AJ$53)","v":0},{"$f":"IF($AL$53=\"\",IF('farklı dp'!AL62=\"\",\"\",'farklı dp'!AL62),$AL$53)","v":0},{"$f":"IF($AL$53=\"\",IF('farklı dp'!AM62=\"\",\"\",'farklı dp'!AM62),$AL$53)","v":0},{"$f":"IF($AN$53=\"\",IF('farklı dp'!AN62=\"\",\"\",'farklı dp'!AN62),$AN$53)","v":0},{"$f":"IF($AN$53=\"\",IF('farklı dp'!AO62=\"\",\"\",'farklı dp'!AO62),$AN$53)","v":0},{"$f":"IF($AP$53=\"\",IF('farklı dp'!AP62=\"\",\"\",'farklı dp'!AP62),$AP$53)","v":0},{"$f":"IF($AP$53=\"\",IF('farklı dp'!AQ62=\"\",\"\",'farklı dp'!AQ62),$AP$53)","v":0},{"$f":"IF($AR$53=\"\",IF('farklı dp'!AR62=\"\",\"\",'farklı dp'!AR62),$AR$53)","v":0},{"$f":"IF($AR$53=\"\",IF('farklı dp'!AS62=\"\",\"\",'farklı dp'!AS62),$AR$53)","v":0},{"$f":"IF($AT$53=\"\",IF('farklı dp'!AT62=\"\",\"\",'farklı dp'!AT62),$AT$53)","v":0},{"$f":"IF($AT$53=\"\",IF('farklı dp'!AU62=\"\",\"\",'farklı dp'!AU62),$AT$53)","v":0},{"$f":"IF($AV$53=\"\",IF('farklı dp'!AV62=\"\",\"\",'farklı dp'!AV62),$AV$53)","v":0},{"$f":"IF($AV$53=\"\",IF('farklı dp'!AW62=\"\",\"\",'farklı dp'!AW62),$AV$53)","v":0},{"$f":"IF($AX$53=\"\",IF('farklı dp'!AX62=\"\",\"\",'farklı dp'!AX62),$AX$53)","v":0},{"$f":"IF($AX$53=\"\",IF('farklı dp'!AY62=\"\",\"\",'farklı dp'!AY62),$AX$53)","v":0}]
[null,"13.00-14.00",null,null,null,{"$f":"IF($G$53=\"\",IF('farklı dp'!F63=\"\",\"\",'farklı dp'!F63),$G$53)","v":0},{"$f":"IF($G$53=\"\",IF('farklı dp'!G63=\"\",\"\",'farklı dp'!G63),$G$53)","v":0},{"$f":"IF($I$53=\"\",IF('farklı dp'!H63=\"\",\"\",'farklı dp'!H63),$I$53)","v":0},{"$f":"IF($I$53=\"\",IF('farklı dp'!I63=\"\",\"\",'farklı dp'!I63),$I$53)","v":0},{"$f":"IF($K$53=\"\",IF('farklı dp'!J63=\"\",\"\",'farklı dp'!J63),$K$53)","v":0},{"$f":"IF($K$53=\"\",IF('farklı dp'!K63=\"\",\"\",'farklı dp'!K63),$K$53)","v":0},{"$f":"IF($M$53=\"\",IF('farklı dp'!L63=\"\",\"\",'farklı dp'!L63),$M$53)","v":0},{"$f":"IF($M$53=\"\",IF('farklı dp'!M63=\"\",\"\",'farklı dp'!M63),$M$53)","v":0},{"$f":"IF($O$53=\"\",IF('farklı dp'!N63=\"\",\"\",'farklı dp'!N63),$O$53)","v":0},{"$f":"IF($O$53=\"\",IF('farklı dp'!O63=\"\",\"\",'farklı dp'!O63),$O$53)","v":0},{"$f":"IF($Q$53=\"\",IF('farklı dp'!P63=\"\",\"\",'farklı dp'!P63),$Q$53)","v":0},{"$f":"IF($Q$53=\"\",IF('farklı dp'!Q63=\"\",\"\",'farklı dp'!Q63),$Q$53)","v":0},{"$f":"IF($S$53=\"\",IF('farklı dp'!R63=\"\",\"\",'farklı dp'!R63),$S$53)","v":0},{"$f":"IF($S$53=\"\",IF('farklı dp'!S63=\"\",\"\",'farklı dp'!S63),$S$53)","v":0},{"$f":"IF($U$53=\"\",IF('farklı dp'!T63=\"\",\"\",'farklı dp'!T63),$U$53)","v":0},{"$f":"IF($U$53=\"\",IF('farklı dp'!U63=\"\",\"\",'farklı dp'!U63),$U$53)","v":0},{"$f":"IF($W$53=\"\",IF('farklı dp'!V63=\"\",\"\",'farklı dp'!V63),$W$53)","v":0},{"$f":"IF($W$53=\"\",IF('farklı dp'!W63=\"\",\"\",'farklı dp'!W63),$W$53)","v":0},null,null,null,null,null,null,"13.00-14.00",null,null,null,{"$f":"IF($AI$53=\"\",IF('farklı dp'!AH63=\"\",\"\",'farklı dp'!AH63),$AI$53)","v":0},{"$f":"IF($AI$53=\"\",IF('farklı dp'!AI63=\"\",\"\",'farklı dp'!AI63),$AI$53)","v":0},{"$f":"IF($AK$53=\"\",IF('farklı dp'!AJ63=\"\",\"\",'farklı dp'!AJ63),$AK$53)","v":0},{"$f":"IF($AK$53=\"\",IF('farklı dp'!AK63=\"\",\"\",'farklı dp'!AK63),$AK$53)","v":0},{"$f":"IF($AM$53=\"\",IF('farklı dp'!AL63=\"\",\"\",'farklı dp'!AL63),$AM$53)","v":0},{"$f":"IF($AM$53=\"\",IF('farklı dp'!AM63=\"\",\"\",'farklı dp'!AM63),$AM$53)","v":0},{"$f":"IF($AO$53=\"\",IF('farklı dp'!AN63=\"\",\"\",'farklı dp'!AN63),$AO$53)","v":0},{"$f":"IF($AO$53=\"\",IF('farklı dp'!AO63=\"\",\"\",'farklı dp'!AO63),$AO$53)","v":0},{"$f":"IF($AQ$53=\"\",IF('farklı dp'!AP63=\"\",\"\",'farklı dp'!AP63),$AQ$53)","v":0},{"$f":"IF($AQ$53=\"\",IF('farklı dp'!AQ63=\"\",\"\",'farklı dp'!AQ63),$AQ$53)","v":0},{"$f":"IF($AS$53=\"\",IF('farklı dp'!AR63=\"\",\"\",'farklı dp'!AR63),$AS$53)","v":0},{"$f":"IF($AS$53=\"\",IF('farklı dp'!AS63=\"\",\"\",'farklı dp'!AS63),$AS$53)","v":0},{"$f":"IF($AU$53=\"\",IF('farklı dp'!AT63=\"\",\"\",'farklı dp'!AT63),$AU$53)","v":0},{"$f":"IF($AU$53=\"\",IF('farklı dp'!AU63=\"\",\"\",'farklı dp'!AU63),$AU$53)","v":0},{"$f":"IF($AW$53=\"\",IF('farklı dp'!AV63=\"\",\"\",'farklı dp'!AV63),$AW$53)","v":0},{"$f":"IF($AW$53=\"\",IF('farklı dp'!AW63=\"\",\"\",'farklı dp'!AW63),$AW$53)","v":0},{"$f":"IF($AY$53=\"\",IF('farklı dp'!AX63=\"\",\"\",'farklı dp'!AX63),$AY$53)","v":0},{"$f":"IF($AY$53=\"\",IF('farklı dp'!AY63=\"\",\"\",'farklı dp'!AY63),$AY$53)","v":0}]
[null,"14.00-15.00",null,null,null,{"$f":"IF($G$53=\"\",IF('farklı dp'!F64=\"\",\"\",'farklı dp'!F64),$G$53)","v":0},{"$f":"IF($G$53=\"\",IF('farklı dp'!G64=\"\",\"\",'farklı dp'!G64),$G$53)","v":0},{"$f":"IF($I$53=\"\",IF('farklı dp'!H64=\"\",\"\",'farklı dp'!H64),$I$53)","v":0},{"$f":"IF($I$53=\"\",IF('farklı dp'!I64=\"\",\"\",'farklı dp'!I64),$I$53)","v":0},{"$f":"IF($K$53=\"\",IF('farklı dp'!J64=\"\",\"\",'farklı dp'!J64),$K$53)","v":0},{"$f":"IF($K$53=\"\",IF('farklı dp'!K64=\"\",\"\",'farklı dp'!K64),$K$53)","v":0},{"$f":"IF($M$53=\"\",IF('farklı dp'!L64=\"\",\"\",'farklı dp'!L64),$M$53)","v":0},{"$f":"IF($M$53=\"\",IF('farklı dp'!M64=\"\",\"\",'farklı dp'!M64),$M$53)","v":0},{"$f":"IF($O$53=\"\",IF('farklı dp'!N64=\"\",\"\",'farklı dp'!N64),$O$53)","v":0},{"$f":"IF($O$53=\"\",IF('farklı dp'!O64=\"\",\"\",'farklı dp'!O64),$O$53)","v":0},{"$f":"IF($Q$53=\"\",IF('farklı dp'!P64=\"\",\"\",'farklı dp'!P64),$Q$53)","v":0},{"$f":"IF($Q$53=\"\",IF('farklı dp'!Q64=\"\",\"\",'farklı dp'!Q64),$Q$53)","v":0},{"$f":"IF($S$53=\"\",IF('farklı dp'!R64=\"\",\"\",'farklı dp'!R64),$S$53)","v":0},{"$f":"IF($S$53=\"\",IF('farklı dp'!S64=\"\",\"\",'farklı dp'!S64),$S$53)","v":0},{"$f":"IF($U$53=\"\",IF('farklı dp'!T64=\"\",\"\",'farklı dp'!T64),$U$53)","v":0},{"$f":"IF($U$53=\"\",IF('farklı dp'!U64=\"\",\"\",'farklı dp'!U64),$U$53)","v":0},{"$f":"IF($W$53=\"\",IF('farklı dp'!V64=\"\",\"\",'farklı dp'!V64),$W$53)","v":0},{"$f":"IF($W$53=\"\",IF('farklı dp'!W64=\"\",\"\",'farklı dp'!W64),$W$53)","v":0},null,null,null,null,null,null,"14.00-15.00",null,null,null,{"$f":"IF($AI$53=\"\",IF('farklı dp'!AH64=\"\",\"\",'farklı dp'!AH64),$AI$53)","v":0},{"$f":"IF($AI$53=\"\",IF('farklı dp'!AI64=\"\",\"\",'farklı dp'!AI64),$AI$53)","v":0},{"$f":"IF($AK$53=\"\",IF('farklı dp'!AJ64=\"\",\"\",'farklı dp'!AJ64),$AK$53)","v":0},{"$f":"IF($AK$53=\"\",IF('farklı dp'!AK64=\"\",\"\",'farklı dp'!AK64),$AK$53)","v":0},{"$f":"IF($AM$53=\"\",IF('farklı dp'!AL64=\"\",\"\",'farklı dp'!AL64),$AM$53)","v":0},{"$f":"IF($AM$53=\"\",IF('farklı dp'!AM64=\"\",\"\",'farklı dp'!AM64),$AM$53)","v":0},{"$f":"IF($AO$53=\"\",IF('farklı dp'!AN64=\"\",\"\",'farklı dp'!AN64),$AO$53)","v":0},{"$f":"IF($AO$53=\"\",IF('farklı dp'!AO64=\"\",\"\",'farklı dp'!AO64),$AO$53)","v":0},{"$f":"IF($AQ$53=\"\",IF('farklı dp'!AP64=\"\",\"\",'farklı dp'!AP64),$AQ$53)","v":0},{"$f":"IF($AQ$53=\"\",IF('farklı dp'!AQ64=\"\",\"\",'farklı dp'!AQ64),$AQ$53)","v":0},{"$f":"IF($AS$53=\"\",IF('farklı dp'!AR64=\"\",\"\",'farklı dp'!AR64),$AS$53)","v":0},{"$f":"IF($AS$53=\"\",IF('farklı dp'!AS64=\"\",\"\",'farklı dp'!AS64),$AS$53)","v":0},{"$f":"IF($AU$53=\"\",IF('farklı dp'!AT64=\"\",\"\",'farklı dp'!AT64),$AU$53)","v":0},{"$f":"IF($AU$53=\"\",IF('farklı dp'!AU64=\"\",\"\",'farklı dp'!AU64),$AU$53)","v":0},{"$f":"IF($AW$53=\"\",IF('farklı dp'!AV64=\"\",\"\",'farklı dp'!AV64),$AW$53)","v":0},{"$f":"IF($AW$53=\"\",IF('farklı dp'!AW64=\"\",\"\",'farklı dp'!AW64),$AW$53)","v":0},{"$f":"IF($AY$53=\"\",IF('farklı dp'!AX64=\"\",\"\",'farklı dp'!AX64),$AY$53)","v":0},{"$f":"IF($AY$53=\"\",IF('farklı dp'!AY64=\"\",\"\",'farklı dp'!AY64),$AY$53)","v":0}]
[null,"15.00-16.00",null,null,null,{"$f":"IF($G$53=\"\",IF('farklı dp'!F65=\"\",\"\",'farklı dp'!F65),$G$53)","v":0},{"$f":"IF($G$53=\"\",IF('farklı dp'!G65=\"\",\"\",'farklı dp'!G65),$G$53)","v":0},{"$f":"IF($I$53=\"\",IF('farklı dp'!H65=\"\",\"\",'farklı dp'!H65),$I$53)","v":0},{"$f":"IF($I$53=\"\",IF('farklı dp'!I65=\"\",\"\",'farklı dp'!I65),$I$53)","v":0},{"$f":"IF($K$53=\"\",IF('farklı dp'!J65=\"\",\"\",'farklı dp'!J65),$K$53)","v":0},{"$f":"IF($K$53=\"\",IF('farklı dp'!K65=\"\",\"\",'farklı dp'!K65),$K$53)","v":0},{"$f":"IF($M$53=\"\",IF('farklı dp'!L65=\"\",\"\",'farklı dp'!L65),$M$53)","v":0},{"$f":"IF($M$53=\"\",IF('farklı dp'!M65=\"\",\"\",'farklı dp'!M65),$M$53)","v":0},{"$f":"IF($O$53=\"\",IF('farklı dp'!N65=\"\",\"\",'farklı dp'!N65),$O$53)","v":0},{"$f":"IF($O$53=\"\",IF('farklı dp'!O65=\"\",\"\",'farklı dp'!O65),$O$53)","v":0},{"$f":"IF($Q$53=\"\",IF('farklı dp'!P65=\"\",\"\",'farklı dp'!P65),$Q$53)","v":0},{"$f":"IF($Q$53=\"\",IF('farklı dp'!Q65=\"\",\"\",'farklı dp'!Q65),$Q$53)","v":0},{"$f":"IF($S$53=\"\",IF('farklı dp'!R65=\"\",\"\",'farklı dp'!R65),$S$53)","v":0},{"$f":"IF($S$53=\"\",IF('farklı dp'!S65=\"\",\"\",'farklı dp'!S65),$S$53)","v":0},{"$f":"IF($U$53=\"\",IF('farklı dp'!T65=\"\",\"\",'farklı dp'!T65),$U$53)","v":0},{"$f":"IF($U$53=\"\",IF('farklı dp'!U65=\"\",\"\",'farklı dp'!U65),$U$53)","v":0},{"$f":"IF($W$53=\"\",IF('farklı dp'!V65=\"\",\"\",'farklı dp'!V65),$W$53)","v":0},{"$f":"IF($W$53=\"\",IF('farklı dp'!W65=\"\",\"\",'farklı dp'!W65),$W$53)","v":0},null,null,null,null,null,null,"15.00-16.00",null,null,null,{"$f":"IF($AI$53=\"\",IF('farklı dp'!AH65=\"\",\"\",'farklı dp'!AH65),$AI$53)","v":0},{"$f":"IF($AI$53=\"\",IF('farklı dp'!AI65=\"\",\"\",'farklı dp'!AI65),$AI$53)","v":0},{"$f":"IF($AK$53=\"\",IF('farklı dp'!AJ65=\"\",\"\",'farklı dp'!AJ65),$AK$53)","v":0},{"$f":"IF($AK$53=\"\",IF('farklı dp'!AK65=\"\",\"\",'farklı dp'!AK65),$AK$53)","v":0},{"$f":"IF($AM$53=\"\",IF('farklı dp'!AL65=\"\",\"\",'farklı dp'!AL65),$AM$53)","v":0},{"$f":"IF($AM$53=\"\",IF('farklı dp'!AM65=\"\",\"\",'farklı dp'!AM65),$AM$53)","v":0},{"$f":"IF($AO$53=\"\",IF('farklı dp'!AN65=\"\",\"\",'farklı dp'!AN65),$AO$53)","v":0},{"$f":"IF($AO$53=\"\",IF('farklı dp'!AO65=\"\",\"\",'farklı dp'!AO65),$AO$53)","v":0},{"$f":"IF($AQ$53=\"\",IF('farklı dp'!AP65=\"\",\"\",'farklı dp'!AP65),$AQ$53)","v":0},{"$f":"IF($AQ$53=\"\",IF('farklı dp'!AQ65=\"\",\"\",'farklı dp'!AQ65),$AQ$53)","v":0},{"$f":"IF($AS$53=\"\",IF('farklı dp'!AR65=\"\",\"\",'farklı dp'!AR65),$AS$53)","v":0},{"$f":"IF($AS$53=\"\",IF('farklı dp'!AS65=\"\",\"\",'farklı dp'!AS65),$AS$53)","v":0},{"$f":"IF($AU$53=\"\",IF('farklı dp'!AT65=\"\",\"\",'farklı dp'!AT65),$AU$53)","v":0},{"$f":"IF($AU$53=\"\",IF('farklı dp'!AU65=\"\",\"\",'farklı dp'!AU65),$AU$53)","v":0},{"$f":"IF($AW$53=\"\",IF('farklı dp'!AV65=\"\",\"\",'farklı dp'!AV65),$AW$53)","v":0},{"$f":"IF($AW$53=\"\",IF('farklı dp'!AW65=\"\",\"\",'farklı dp'!AW65),$AW$53)","v":0},{"$f":"IF($AY$53=\"\",IF('farklı dp'!AX65=\"\",\"\",'farklı dp'!AX65),$AY$53)","v":0},{"$f":"IF($AY$53=\"\",IF('farklı dp'!AY65=\"\",\"\",'farklı dp'!AY65),$AY$53)","v":0}]
[null,"16.00-17.00",null,null,null,{"$f":"IF($G$53=\"\",IF('farklı dp'!F66=\"\",\"\",'farklı dp'!F66),$G$53)","v":0},{"$f":"IF($G$53=\"\",IF('farklı dp'!G66=\"\",\"\",'farklı dp'!G66),$G$53)","v":0},{"$f":"IF($I$53=\"\",IF('farklı dp'!H66=\"\",\"\",'farklı dp'!H66),$I$53)","v":0},{"$f":"IF($I$53=\"\",IF('farklı dp'!I66=\"\",\"\",'farklı dp'!I66),$I$53)","v":0},{"$f":"IF($K$53=\"\",IF('farklı dp'!J66=\"\",\"\",'farklı dp'!J66),$K$53)","v":0},{"$f":"IF($K$53=\"\",IF('farklı dp'!K66=\"\",\"\",'farklı dp'!K66),$K$53)","v":0},{"$f":"IF($M$53=\"\",IF('farklı dp'!L66=\"\",\"\",'farklı dp'!L66),$M$53)","v":0},{"$f":"IF($M$53=\"\",IF('farklı dp'!M66=\"\",\"\",'farklı dp'!M66),$M$53)","v":0},{"$f":"IF($O$53=\"\",IF('farklı dp'!N66=\"\",\"\",'farklı dp'!N66),$O$53)","v":0},{"$f":"IF($O$53=\"\",IF('farklı dp'!O66=\"\",\"\",'farklı dp'!O66),$O$53)","v":0},{"$f":"IF($Q$53=\"\",IF('farklı dp'!P66=\"\",\"\",'farklı dp'!P66),$Q$53)","v":0},{"$f":"IF($Q$53=\"\",IF('farklı dp'!Q66=\"\",\"\",'farklı dp'!Q66),$Q$53)","v":0},{"$f":"IF($S$53=\"\",IF('farklı dp'!R66=\"\",\"\",'farklı dp'!R66),$S$53)","v":0},{"$f":"IF($S$53=\"\",IF('farklı dp'!S66=\"\",\"\",'farklı dp'!S66),$S$53)","v":0},{"$f":"IF($U$53=\"\",IF('farklı dp'!T66=\"\",\"\",'farklı dp'!T66),$U$53)","v":0},{"$f":"IF($U$53=\"\",IF('farklı dp'!U66=\"\",\"\",'farklı dp'!U66),$U$53)","v":0},{"$f":"IF($W$53=\"\",IF('farklı dp'!V66=\"\",\"\",'farklı dp'!V66),$W$53)","v":0},{"$f":"IF($W$53=\"\",IF('farklı dp'!W66=\"\",\"\",'farklı dp'!W66),$W$53)","v":0},null,null,null,null,null,null,"16.00-17.00",null,null,null,{"$f":"IF($AI$53=\"\",IF('farklı dp'!AH66=\"\",\"\",'farklı dp'!AH66),$AI$53)","v":0},{"$f":"IF($AI$53=\"\",IF('farklı dp'!AI66=\"\",\"\",'farklı dp'!AI66),$AI$53)","v":0},{"$f":"IF($AK$53=\"\",IF('farklı dp'!AJ66=\"\",\"\",'farklı dp'!AJ66),$AK$53)","v":0},{"$f":"IF($AK$53=\"\",IF('farklı dp'!AK66=\"\",\"\",'farklı dp'!AK66),$AK$53)","v":0},{"$f":"IF($AM$53=\"\",IF('farklı dp'!AL66=\"\",\"\",'farklı dp'!AL66),$AM$53)","v":0},{"$f":"IF($AM$53=\"\",IF('farklı dp'!AM66=\"\",\"\",'farklı dp'!AM66),$AM$53)","v":0},{"$f":"IF($AO$53=\"\",IF('farklı dp'!AN66=\"\",\"\",'farklı dp'!AN66),$AO$53)","v":0},{"$f":"IF($AO$53=\"\",IF('farklı dp'!AO66=\"\",\"\",'farklı dp'!AO66),$AO$53)","v":0},{"$f":"IF($AQ$53=\"\",IF('farklı dp'!AP66=\"\",\"\",'farklı dp'!AP66),$AQ$53)","v":0},{"$f":"IF($AQ$53=\"\",IF('farklı dp'!AQ66=\"\",\"\",'farklı dp'!AQ66),$AQ$53)","v":0},{"$f":"IF($AS$53=\"\",IF('farklı dp'!AR66=\"\",\"\",'farklı dp'!AR66),$AS$53)","v":0},{"$f":"IF($AS$53=\"\",IF('farklı dp'!AS66=\"\",\"\",'farklı dp'!AS66),$AS$53)","v":0},{"$f":"IF($AU$53=\"\",IF('farklı dp'!AT66=\"\",\"\",'farklı dp'!AT66),$AU$53)","v":0},{"$f":"IF($AU$53=\"\",IF('farklı dp'!AU66=\"\",\"\",'farklı dp'!AU66),$AU$53)","v":0},{"$f":"IF($AW$53=\"\",IF('farklı dp'!AV66=\"\",\"\",'farklı dp'!AV66),$AW$53)","v":0},{"$f":"IF($AW$53=\"\",IF('farklı dp'!AW66=\"\",\"\",'farklı dp'!AW66),$AW$53)","v":0},{"$f":"IF($AY$53=\"\",IF('farklı dp'!AX66=\"\",\"\",'farklı dp'!AX66),$AY$53)","v":0},{"$f":"IF($AY$53=\"\",IF('farklı dp'!AY66=\"\",\"\",'farklı dp'!AY66),$AY$53)","v":0}]
["İKİNCİ ÖĞRT.","16.00-17.00",null,null,null,{"$f":"IF($G$53=\"\",IF('farklı dp'!F67=\"\",\"\",'farklı dp'!F67),$G$53)","v":0},{"$f":"IF($G$53=\"\",IF('farklı dp'!G67=\"\",\"\",'farklı dp'!G67),$G$53)","v":0},{"$f":"IF($I$53=\"\",IF('farklı dp'!H67=\"\",\"\",'farklı dp'!H67),$I$53)","v":0},{"$f":"IF($I$53=\"\",IF('farklı dp'!I67=\"\",\"\",'farklı dp'!I67),$I$53)","v":0},{"$f":"IF($K$53=\"\",IF('farklı dp'!J67=\"\",\"\",'farklı dp'!J67),$K$53)","v":0},{"$f":"IF($K$53=\"\",IF('farklı dp'!K67=\"\",\"\",'farklı dp'!K67),$K$53)","v":0},{"$f":"IF($M$53=\"\",IF('farklı dp'!L67=\"\",\"\",'farklı dp'!L67),$M$53)","v":0},{"$f":"IF($M$53=\"\",IF('farklı dp'!M67=\"\",\"\",'farklı dp'!M67),$M$53)","v":0},{"$f":"IF($O$53=\"\",IF('farklı dp'!N67=\"\",\"\",'farklı dp'!N67),$O$53)","v":0},{"$f":"IF($O$53=\"\",IF('farklı dp'!O67=\"\",\"\",'farklı dp'!O67),$O$53)","v":0},{"$f":"IF($Q$53=\"\",IF('farklı dp'!P67=\"\",\"\",'farklı dp'!P67),$Q$53)","v":0},{"$f":"IF($Q$53=\"\",IF('farklı dp'!Q67=\"\",\"\",'farklı dp'!Q67),$Q$53)","v":0},{"$f":"IF($S$53=\"\",IF('farklı dp'!R67=\"\",\"\",'farklı dp'!R67),$S$53)","v":0},{"$f":"IF($S$53=\"\",IF('farklı dp'!S67=\"\",\"\",'farklı dp'!S67),$S$53)","v":0},{"$f":"IF($U$53=\"\",IF('farklı dp'!T67=\"\",\"\",'farklı dp'!T67),$U$53)","v":0},{"$f":"IF($U$53=\"\",IF('farklı dp'!U67=\"\",\"\",'farklı dp'!U67),$U$53)","v":0},{"$f":"IF($W$53=\"\",IF('farklı dp'!V67=\"\",\"\",'farklı dp'!V67),$W$53)","v":0},{"$f":"IF($W$53=\"\",IF('farklı dp'!W67=\"\",\"\",'farklı dp'!W67),$W$53)","v":0},null,null,null,null,null,"İKİNCİ ÖĞRT.","16.00-17.00",null,null,null,{"$f":"IF($AI$53=\"\",IF('farklı dp'!AH67=\"\",\"\",'farklı dp'!AH67),$AI$53)","v":0},{"$f":"IF($AI$53=\"\",IF('farklı dp'!AI67=\"\",\"\",'farklı dp'!AI67),$AI$53)","v":0},{"$f":"IF($AK$53=\"\",IF('farklı dp'!AJ67=\"\",\"\",'farklı dp'!AJ67),$AK$53)","v":0},{"$f":"IF($AK$53=\"\",IF('farklı dp'!AK67=\"\",\"\",'farklı dp'!AK67),$AK$53)","v":0},{"$f":"IF($AM$53=\"\",IF('farklı dp'!AL67=\"\",\"\",'farklı dp'!AL67),$AM$53)","v":0},{"$f":"IF($AM$53=\"\",IF('farklı dp'!AM67=\"\",\"\",'farklı dp'!AM67),$AM$53)","v":0},{"$f":"IF($AO$53=\"\",IF('farklı dp'!AN67=\"\",\"\",'farklı dp'!AN67),$AO$53)","v":0},{"$f":"IF($AO$53=\"\",IF('farklı dp'!AO67=\"\",\"\",'farklı dp'!AO67),$AO$53)","v":0},{"$f":"IF($AQ$53=\"\",IF('farklı dp'!AP67=\"\",\"\",'farklı dp'!AP67),$AQ$53)","v":0},{"$f":"IF($AQ$53=\"\",IF('farklı dp'!AQ67=\"\",\"\",'farklı dp'!AQ67),$AQ$53)","v":0},{"$f":"IF($AS$53=\"\",IF('farklı dp'!AR67=\"\",\"\",'farklı dp'!AR67),$AS$53)","v":0},{"$f":"IF($AS$53=\"\",IF('farklı dp'!AS67=\"\",\"\",'farklı dp'!AS67),$AS$53)","v":0},{"$f":"IF($AU$53=\"\",IF('farklı dp'!AT67=\"\",\"\",'farklı dp'!AT67),$AU$53)","v":0},{"$f":"IF($AU$53=\"\",IF('farklı dp'!AU67=\"\",\"\",'farklı dp'!AU67),$AU$53)","v":0},{"$f":"IF($AW$53=\"\",IF('farklı dp'!AV67=\"\",\"\",'farklı dp'!AV67),$AW$53)","v":0},{"$f":"IF($AW$53=\"\",IF('farklı dp'!AW67=\"\",\"\",'farklı dp'!AW67),$AW$53)","v":0},{"$f":"IF($AY$53=\"\",IF('farklı dp'!AX67=\"\",\"\",'farklı dp'!AX67),$AY$53)","v":0},{"$f":"IF($AY$53=\"\",IF('farklı dp'!AY67=\"\",\"\",'farklı dp'!AY67),$AY$53)","v":0}]
[null,"17.00-18.00",null,null,null,{"$f":"IF($G$53=\"\",IF('farklı dp'!F68=\"\",\"\",'farklı dp'!F68),$G$53)","v":0},{"$f":"IF($G$53=\"\",IF('farklı dp'!G68=\"\",\"\",'farklı dp'!G68),$G$53)","v":0},{"$f":"IF($I$53=\"\",IF('farklı dp'!H68=\"\",\"\",'farklı dp'!H68),$I$53)","v":0},{"$f":"IF($I$53=\"\",IF('farklı dp'!I68=\"\",\"\",'farklı dp'!I68),$I$53)","v":0},{"$f":"IF($K$53=\"\",IF('farklı dp'!J68=\"\",\"\",'farklı dp'!J68),$K$53)","v":0},{"$f":"IF($K$53=\"\",IF('farklı dp'!K68=\"\",\"\",'farklı dp'!K68),$K$53)","v":0},{"$f":"IF($M$53=\"\",IF('farklı dp'!L68=\"\",\"\",'farklı dp'!L68),$M$53)","v":0},{"$f":"IF($M$53=\"\",IF('farklı dp'!M68=\"\",\"\",'farklı dp'!M68),$M$53)","v":0},{"$f":"IF($O$53=\"\",IF('farklı dp'!N68=\"\",\"\",'farklı dp'!N68),$O$53)","v":0},{"$f":"IF($O$53=\"\",IF('farklı dp'!O68=\"\",\"\",'farklı dp'!O68),$O$53)","v":0},{"$f":"IF($Q$53=\"\",IF('farklı dp'!P68=\"\",\"\",'farklı dp'!P68),$Q$53)","v":0},{"$f":"IF($Q$53=\"\",IF('farklı dp'!Q68=\"\",\"\",'farklı dp'!Q68),$Q$53)","v":0},{"$f":"IF($S$53=\"\",IF('farklı dp'!R68=\"\",\"\",'farklı dp'!R68),$S$53)","v":0},{"$f":"IF($S$53=\"\",IF('farklı dp'!S68=\"\",\"\",'farklı dp'!S68),$S$53)","v":0},{"$f":"IF($U$53=\"\",IF('farklı dp'!T68=\"\",\"\",'farklı dp'!T68),$U$53)","v":0},{"$f":"IF($U$53=\"\",IF('farklı dp'!U68=\"\",\"\",'farklı dp'!U68),$U$53)","v":0},{"$f":"IF($W$53=\"\",IF('farklı dp'!V68=\"\",\"\",'farklı dp'!V68),$W$53)","v":0},{"$f":"IF($W$53=\"\",IF('farklı dp'!W68=\"\",\"\",'farklı dp'!W68),$W$53)","v":0},null,null,null,null,null,null,"17.00-18.00",null,null,null,{"$f":"IF($AI$53=\"\",IF('farklı dp'!AH68=\"\",\"\",'farklı dp'!AH68),$AI$53)","v":0},{"$f":"IF($AI$53=\"\",IF('farklı dp'!AI68=\"\",\"\",'farklı dp'!AI68),$AI$53)","v":0},{"$f":"IF($AK$53=\"\",IF('farklı dp'!AJ68=\"\",\"\",'farklı dp'!AJ68),$AK$53)","v":0},{"$f":"IF($AK$53=\"\",IF('farklı dp'!AK68=\"\",\"\",'farklı dp'!AK68),$AK$53)","v":0},{"$f":"IF($AM$53=\"\",IF('farklı dp'!AL68=\"\",\"\",'farklı dp'!AL68),$AM$53)","v":0},{"$f":"IF($AM$53=\"\",IF('farklı dp'!AM68=\"\",\"\",'farklı dp'!AM68),$AM$53)","v":0},{"$f":"IF($AO$53=\"\",IF('farklı dp'!AN68=\"\",\"\",'farklı dp'!AN68),$AO$53)","v":0},{"$f":"IF($AO$53=\"\",IF('farklı dp'!AO68=\"\",\"\",'farklı dp'!AO68),$AO$53)","v":0},{"$f":"IF($AQ$53=\"\",IF('farklı dp'!AP68=\"\",\"\",'farklı dp'!AP68),$AQ$53)","v":0},{"$f":"IF($AQ$53=\"\",IF('farklı dp'!AQ68=\"\",\"\",'farklı dp'!AQ68),$AQ$53)","v":0},{"$f":"IF($AS$53=\"\",IF('farklı dp'!AR68=\"\",\"\",'farklı dp'!AR68),$AS$53)","v":0},{"$f":"IF($AS$53=\"\",IF('farklı dp'!AS68=\"\",\"\",'farklı dp'!AS68),$AS$53)","v":0},{"$f":"IF($AU$53=\"\",IF('farklı dp'!AT68=\"\",\"\",'farklı dp'!AT68),$AU$53)","v":0},{"$f":"IF($AU$53=\"\",IF('farklı dp'!AU68=\"\",\"\",'farklı dp'!AU68),$AU$53)","v":0},{"$f":"IF($AW$53=\"\",IF('farklı dp'!AV68=\"\",\"\",'farklı dp'!AV68),$AW$53)","v":0},{"$f":"IF($AW$53=\"\",IF('farklı dp'!AW68=\"\",\"\",'farklı dp'!AW68),$AW$53)","v":0},{"$f":"IF($AY$53=\"\",IF('farklı dp'!AX68=\"\",\"\",'farklı dp'!AX68),$AY$53)","v":0},{"$f":"IF($AY$53=\"\",IF('farklı dp'!AY68=\"\",\"\",'farklı dp'!AY68),$AY$53)","v":0}]
[null,"18.00-19.00",null,null,null,{"$f":"IF($G$53=\"\",IF('farklı dp'!F69=\"\",\"\",'farklı dp'!F69),$G$53)","v":0},{"$f":"IF($G$53=\"\",IF('farklı dp'!G69=\"\",\"\",'farklı dp'!G69),$G$53)","v":0},{"$f":"IF($I$53=\"\",IF('farklı dp'!H69=\"\",\"\",'farklı dp'!H69),$I$53)","v":0},{"$f":"IF($I$53=\"\",IF('farklı dp'!I69=\"\",\"\",'farklı dp'!I69),$I$53)","v":0},{"$f":"IF($K$53=\"\",IF('farklı dp'!J69=\"\",\"\",'farklı dp'!J69),$K$53)","v":0},{"$f":"IF($K$53=\"\",IF('farklı dp'!K69=\"\",\"\",'farklı dp'!K69),$K$53)","v":0},{"$f":"IF($M$53=\"\",IF('farklı dp'!L69=\"\",\"\",'farklı dp'!L69),$M$53)","v":0},{"$f":"IF($M$53=\"\",IF('farklı dp'!M69=\"\",\"\",'farklı dp'!M69),$M$53)","v":0},{"$f":"IF($O$53=\"\",IF('farklı dp'!N69=\"\",\"\",'farklı dp'!N69),$O$53)","v":0},{"$f":"IF($O$53=\"\",IF('farklı dp'!O69=\"\",\"\",'farklı dp'!O69),$O$53)","v":0},{"$f":"IF($Q$53=\"\",IF('farklı dp'!P69=\"\",\"\",'farklı dp'!P69),$Q$53)","v":0},{"$f":"IF($Q$53=\"\",IF('farklı dp'!Q69=\"\",\"\",'farklı dp'!Q69),$Q$53)","v":0},{"$f":"IF($S$53=\"\",IF('farklı dp'!R69=\"\",\"\",'farklı dp'!R69),$S$53)","v":0},{"$f":"IF($S$53=\"\",IF('farklı dp'!S69=\"\",\"\",'farklı dp'!S69),$S$53)","v":0},{"$f":"IF($U$53=\"\",IF('farklı dp'!T69=\"\",\"\",'farklı dp'!T69),$U$53)","v":0},{"$f":"IF($U$53=\"\",IF('farklı dp'!U69=\"\",\"\",'farklı dp'!U69),$U$53)","v":0},{"$f":"IF($W$53=\"\",IF('farklı dp'!V69=\"\",\"\",'farklı dp'!V69),$W$53)","v":0},{"$f":"IF($W$53=\"\",IF('farklı dp'!W69=\"\",\"\",'farklı dp'!W69),$W$53)","v":0},null,null,null,null,null,null,"18.00-19.00",null,null,null,{"$f":"IF($AI$53=\"\",IF('farklı dp'!AH69=\"\",\"\",'farklı dp'!AH69),$AI$53)","v":0},{"$f":"IF($AI$53=\"\",IF('farklı dp'!AI69=\"\",\"\",'farklı dp'!AI69),$AI$53)","v":0},{"$f":"IF($AK$53=\"\",IF('farklı dp'!AJ69=\"\",\"\",'farklı dp'!AJ69),$AK$53)","v":0},{"$f":"IF($AK$53=\"\",IF('farklı dp'!AK69=\"\",\"\",'farklı dp'!AK69),$AK$53)","v":0},{"$f":"IF($AM$53=\"\",IF('farklı dp'!AL69=\"\",\"\",'farklı dp'!AL69),$AM$53)","v":0},{"$f":"IF($AM$53=\"\",IF('farklı dp'!AM69=\"\",\"\",'farklı dp'!AM69),$AM$53)","v":0},{"$f":"IF($AO$53=\"\",IF('farklı dp'!AN69=\"\",\"\",'farklı dp'!AN69),$AO$53)","v":0},{"$f":"IF($AO$53=\"\",IF('farklı dp'!AO69=\"\",\"\",'farklı dp'!AO69),$AO$53)","v":0},{"$f":"IF($AQ$53=\"\",IF('farklı dp'!AP69=\"\",\"\",'farklı dp'!AP69),$AQ$53)","v":0},{"$f":"IF($AQ$53=\"\",IF('farklı dp'!AQ69=\"\",\"\",'farklı dp'!AQ69),$AQ$53)","v":0},{"$f":"IF($AS$53=\"\",IF('farklı dp'!AR69=\"\",\"\",'farklı dp'!AR69),$AS$53)","v":0},{"$f":"IF($AS$53=\"\",IF('farklı dp'!AS69=\"\",\"\",'farklı dp'!AS69),$AS$53)","v":0},{"$f":"IF($AU$53=\"\",IF('farklı dp'!AT69=\"\",\"\",'farklı dp'!AT69),$AU$53)","v":0},{"$f":"IF($AU$53=\"\",IF('farklı dp'!AU69=\"\",\"\",'farklı dp'!AU69),$AU$53)","v":0},{"$f":"IF($AW$53=\"\",IF('farklı dp'!AV69=\"\",\"\",'farklı dp'!AV69),$AW$53)","v":0},{"$f":"IF($AW$53=\"\",IF('farklı dp'!AW69=\"\",\"\",'farklı dp'!AW69),$AW$53)","v":0},{"$f":"IF($AY$53=\"\",IF('farklı dp'!AX69=\"\",\"\",'farklı dp'!AX69),$AY$53)","v":0},{"$f":"IF($AY$53=\"\",IF('farklı dp'!AY69=\"\",\"\",'farklı dp'!AY69),$AY$53)","v":0}]
[null,"19.00-20.00",null,null,null,{"$f":"IF($G$53=\"\",IF('farklı dp'!F70=\"\",\"\",'farklı dp'!F70),$G$53)","v":0},{"$f":"IF($G$53=\"\",IF('farklı dp'!G70=\"\",\"\",'farklı dp'!G70),$G$53)","v":0},{"$f":"IF($I$53=\"\",IF('farklı dp'!H70=\"\",\"\",'farklı dp'!H70),$I$53)","v":0},{"$f":"IF($I$53=\"\",IF('farklı dp'!I70=\"\",\"\",'farklı dp'!I70),$I$53)","v":0},{"$f":"IF($K$53=\"\",IF('farklı dp'!J70=\"\",\"\",'farklı dp'!J70),$K$53)","v":0},{"$f":"IF($K$53=\"\",IF('farklı dp'!K70=\"\",\"\",'farklı dp'!K70),$K$53)","v":0},{"$f":"IF($M$53=\"\",IF('farklı dp'!L70=\"\",\"\",'farklı dp'!L70),$M$53)","v":0},{"$f":"IF($M$53=\"\",IF('farklı dp'!M70=\"\",\"\",'farklı dp'!M70),$M$53)","v":0},{"$f":"IF($O$53=\"\",IF('farklı dp'!N70=\"\",\"\",'farklı dp'!N70),$O$53)","v":0},{"$f":"IF($O$53=\"\",IF('farklı dp'!O70=\"\",\"\",'farklı dp'!O70),$O$53)","v":0},{"$f":"IF($Q$53=\"\",IF('farklı dp'!P70=\"\",\"\",'farklı dp'!P70),$Q$53)","v":0},{"$f":"IF($Q$53=\"\",IF('farklı dp'!Q70=\"\",\"\",'farklı dp'!Q70),$Q$53)","v":0},{"$f":"IF($S$53=\"\",IF('farklı dp'!R70=\"\",\"\",'farklı dp'!R70),$S$53)","v":0},{"$f":"IF($S$53=\"\",IF('farklı dp'!S70=\"\",\"\",'farklı dp'!S70),$S$53)","v":0},{"$f":"IF($U$53=\"\",IF('farklı dp'!T70=\"\",\"\",'farklı dp'!T70),$U$53)","v":0},{"$f":"IF($U$53=\"\",IF('farklı dp'!U70=\"\",\"\",'farklı dp'!U70),$U$53)","v":0},{"$f":"IF($W$53=\"\",IF('farklı dp'!V70=\"\",\"\",'farklı dp'!V70),$W$53)","v":0},{"$f":"IF($W$53=\"\",IF('farklı dp'!W70=\"\",\"\",'farklı dp'!W70),$W$53)","v":0},null,null,null,null,null,null,"19.00-20.00",null,null,null,{"$f":"IF($AI$53=\"\",IF('farklı dp'!AH70=\"\",\"\",'farklı dp'!AH70),$AI$53)","v":0},{"$f":"IF($AI$53=\"\",IF('farklı dp'!AI70=\"\",\"\",'farklı dp'!AI70),$AI$53)","v":0},{"$f":"IF($AK$53=\"\",IF('farklı dp'!AJ70=\"\",\"\",'farklı dp'!AJ70),$AK$53)","v":0},{"$f":"IF($AK$53=\"\",IF('farklı dp'!AK70=\"\",\"\",'farklı dp'!AK70),$AK$53)","v":0},{"$f":"IF($AM$53=\"\",IF('farklı dp'!AL70=\"\",\"\",'farklı dp'!AL70),$AM$53)","v":0},{"$f":"IF($AM$53=\"\",IF('farklı dp'!AM70=\"\",\"\",'farklı dp'!AM70),$AM$53)","v":0},{"$f":"IF($AO$53=\"\",IF('farklı dp'!AN70=\"\",\"\",'farklı dp'!AN70),$AO$53)","v":0},{"$f":"IF($AO$53=\"\",IF('farklı dp'!AO70=\"\",\"\",'farklı dp'!AO70),$AO$53)","v":0},{"$f":"IF($AQ$53=\"\",IF('farklı dp'!AP70=\"\",\"\",'farklı dp'!AP70),$AQ$53)","v":0},{"$f":"IF($AQ$53=\"\",IF('farklı dp'!AQ70=\"\",\"\",'farklı dp'!AQ70),$AQ$53)","v":0},{"$f":"IF($AS$53=\"\",IF('farklı dp'!AR70=\"\",\"\",'farklı dp'!AR70),$AS$53)","v":0},{"$f":"IF($AS$53=\"\",IF('farklı dp'!AS70=\"\",\"\",'farklı dp'!AS70),$AS$53)","v":0},{"$f":"IF($AU$53=\"\",IF('farklı dp'!AT70=\"\",\"\",'farklı dp'!AT70),$AU$53)","v":0},{"$f":"IF($AU$53=\"\",IF('farklı dp'!AU70=\"\",\"\",'farklı dp'!AU70),$AU$53)","v":0},{"$f":"IF($AW$53=\"\",IF('farklı dp'!AV70=\"\",\"\",'farklı dp'!AV70),$AW$53)","v":0},{"$f":"IF($AW$53=\"\",IF('farklı dp'!AW70=\"\",\"\",'farklı dp'!AW70),$AW$53)","v":0},{"$f":"IF($AY$53=\"\",IF('farklı dp'!AX70=\"\",\"\",'farklı dp'!AX70),$AY$53)","v":0},{"$f":"IF($AY$53=\"\",IF('farklı dp'!AY70=\"\",\"\",'farklı dp'!AY70),$AY$53)","v":0}]
[null,"20.00-21.00",null,null,null,{"$f":"IF($G$53=\"\",IF('farklı dp'!F71=\"\",\"\",'farklı dp'!F71),$G$53)","v":0},{"$f":"IF($G$53=\"\",IF('farklı dp'!G71=\"\",\"\",'farklı dp'!G71),$G$53)","v":0},{"$f":"IF($I$53=\"\",IF('farklı dp'!H71=\"\",\"\",'farklı dp'!H71),$I$53)","v":0},{"$f":"IF($I$53=\"\",IF('farklı dp'!I71=\"\",\"\",'farklı dp'!I71),$I$53)","v":0},{"$f":"IF($K$53=\"\",IF('farklı dp'!J71=\"\",\"\",'farklı dp'!J71),$K$53)","v":0},{"$f":"IF($K$53=\"\",IF('farklı dp'!K71=\"\",\"\",'farklı dp'!K71),$K$53)","v":0},{"$f":"IF($M$53=\"\",IF('farklı dp'!L71=\"\",\"\",'farklı dp'!L71),$M$53)","v":0},{"$f":"IF($M$53=\"\",IF('farklı dp'!M71=\"\",\"\",'farklı dp'!M71),$M$53)","v":0},{"$f":"IF($O$53=\"\",IF('farklı dp'!N71=\"\",\"\",'farklı dp'!N71),$O$53)","v":0},{"$f":"IF($O$53=\"\",IF('farklı dp'!O71=\"\",\"\",'farklı dp'!O71),$O$53)","v":0},{"$f":"IF($Q$53=\"\",IF('farklı dp'!P71=\"\",\"\",'farklı dp'!P71),$Q$53)","v":0},{"$f":"IF($Q$53=\"\",IF('farklı dp'!Q71=\"\",\"\",'farklı dp'!Q71),$Q$53)","v":0},{"$f":"IF($S$53=\"\",IF('farklı dp'!R71=\"\",\"\",'farklı dp'!R71),$S$53)","v":0},{"$f":"IF($S$53=\"\",IF('farklı dp'!S71=\"\",\"\",'farklı dp'!S71),$S$53)","v":0},{"$f":"IF($U$53=\"\",IF('farklı dp'!T71=\"\",\"\",'farklı dp'!T71),$U$53)","v":0},{"$f":"IF($U$53=\"\",IF('farklı dp'!U71=\"\",\"\",'farklı dp'!U71),$U$53)","v":0},{"$f":"IF($W$53=\"\",IF('farklı dp'!V71=\"\",\"\",'farklı dp'!V71),$W$53)","v":0},{"$f":"IF($W$53=\"\",IF('farklı dp'!W71=\"\",\"\",'farklı dp'!W71),$W$53)","v":0},null,null,null,null,null,null,"20.00-21.00",null,null,null,{"$f":"IF($AI$53=\"\",IF('farklı dp'!AH71=\"\",\"\",'farklı dp'!AH71),$AI$53)","v":0},{"$f":"IF($AI$53=\"\",IF('farklı dp'!AI71=\"\",\"\",'farklı dp'!AI71),$AI$53)","v":0},{"$f":"IF($AK$53=\"\",IF('farklı dp'!AJ71=\"\",\"\",'farklı dp'!AJ71),$AK$53)","v":0},{"$f":"IF($AK$53=\"\",IF('farklı dp'!AK71=\"\",\"\",'farklı dp'!AK71),$AK$53)","v":0},{"$f":"IF($AM$53=\"\",IF('farklı dp'!AL71=\"\",\"\",'farklı dp'!AL71),$AM$53)","v":0},{"$f":"IF($AM$53=\"\",IF('farklı dp'!AM71=\"\",\"\",'farklı dp'!AM71),$AM$53)","v":0},{"$f":"IF($AO$53=\"\",IF('farklı dp'!AN71=\"\",\"\",'farklı dp'!AN71),$AO$53)","v":0},{"$f":"IF($AO$53=\"\",IF('farklı dp'!AO71=\"\",\"\",'farklı dp'!AO71),$AO$53)","v":0},{"$f":"IF($AQ$53=\"\",IF('farklı dp'!AP71=\"\",\"\",'farklı dp'!AP71),$AQ$53)","v":0},{"$f":"IF($AQ$53=\"\",IF('farklı dp'!AQ71=\"\",\"\",'farklı dp'!AQ71),$AQ$53)","v":0},{"$f":"IF($AS$53=\"\",IF('farklı dp'!AR71=\"\",\"\",'farklı dp'!AR71),$AS$53)","v":0},{"$f":"IF($AS$53=\"\",IF('farklı dp'!AS71=\"\",\"\",'farklı dp'!AS71),$AS$53)","v":0},{"$f":"IF($AU$53=\"\",IF('farklı dp'!AT71=\"\",\"\",'farklı dp'!AT71),$AU$53)","v":0},{"$f":"IF($AU$53=\"\",IF('farklı dp'!AU71=\"\",\"\",'farklı dp'!AU71),$AU$53)","v":0},{"$f":"IF($AW$53=\"\",IF('farklı dp'!AV71=\"\",\"\",'farklı dp'!AV71),$AW$53)","v":0},{"$f":"IF($AW$53=\"\",IF('farklı dp'!AW71=\"\",\"\",'farklı dp'!AW71),$AW$53)","v":0},{"$f":"IF($AY$53=\"\",IF('farklı dp'!AX71=\"\",\"\",'farklı dp'!AX71),$AY$53)","v":0},{"$f":"IF($AY$53=\"\",IF('farklı dp'!AY71=\"\",\"\",'farklı dp'!AY71),$AY$53)","v":0}]
[null,"21.00-22.00",null,null,null,{"$f":"IF($G$53=\"\",IF('farklı dp'!F72=\"\",\"\",'farklı dp'!F72),$G$53)","v":0},{"$f":"IF($G$53=\"\",IF('farklı dp'!G72=\"\",\"\",'farklı dp'!G72),$G$53)","v":0},{"$f":"IF($I$53=\"\",IF('farklı dp'!H72=\"\",\"\",'farklı dp'!H72),$I$53)","v":0},{"$f":"IF($I$53=\"\",IF('farklı dp'!I72=\"\",\"\",'farklı dp'!I72),$I$53)","v":0},{"$f":"IF($K$53=\"\",IF('farklı dp'!J72=\"\",\"\",'farklı dp'!J72),$K$53)","v":0},{"$f":"IF($K$53=\"\",IF('farklı dp'!K72=\"\",\"\",'farklı dp'!K72),$K$53)","v":0},{"$f":"IF($M$53=\"\",IF('farklı dp'!L72=\"\",\"\",'farklı dp'!L72),$M$53)","v":0},{"$f":"IF($M$53=\"\",IF('farklı dp'!M72=\"\",\"\",'farklı dp'!M72),$M$53)","v":0},{"$f":"IF($O$53=\"\",IF('farklı dp'!N72=\"\",\"\",'farklı dp'!N72),$O$53)","v":0},{"$f":"IF($O$53=\"\",IF('farklı dp'!O72=\"\",\"\",'farklı dp'!O72),$O$53)","v":0},{"$f":"IF($Q$53=\"\",IF('farklı dp'!P72=\"\",\"\",'farklı dp'!P72),$Q$53)","v":0},{"$f":"IF($Q$53=\"\",IF('farklı dp'!Q72=\"\",\"\",'farklı dp'!Q72),$Q$53)","v":0},{"$f":"IF($S$53=\"\",IF('farklı dp'!R72=\"\",\"\",'farklı dp'!R72),$S$53)","v":0},{"$f":"IF($S$53=\"\",IF('farklı dp'!S72=\"\",\"\",'farklı dp'!S72),$S$53)","v":0},{"$f":"IF($U$53=\"\",IF('farklı dp'!T72=\"\",\"\",'farklı dp'!T72),$U$53)","v":0},{"$f":"IF($U$53=\"\",IF('farklı dp'!U72=\"\",\"\",'farklı dp'!U72),$U$53)","v":0},{"$f":"IF($W$53=\"\",IF('farklı dp'!V72=\"\",\"\",'farklı dp'!V72),$W$53)","v":0},{"$f":"IF($W$53=\"\",IF('farklı dp'!W72=\"\",\"\",'farklı dp'!W72),$W$53)","v":0},"TEO.","DF",null,null,null,null,"21.00-22.00",null,null,null,{"$f":"IF($AI$53=\"\",IF('farklı dp'!AH72=\"\",\"\",'farklı dp'!AH72),$AI$53)","v":0},{"$f":"IF($AI$53=\"\",IF('farklı dp'!AI72=\"\",\"\",'farklı dp'!AI72),$AI$53)","v":0},{"$f":"IF($AK$53=\"\",IF('farklı dp'!AJ72=\"\",\"\",'farklı dp'!AJ72),$AK$53)","v":0},{"$f":"IF($AK$53=\"\",IF('farklı dp'!AK72=\"\",\"\",'farklı dp'!AK72),$AK$53)","v":0},{"$f":"IF($AM$53=\"\",IF('farklı dp'!AL72=\"\",\"\",'farklı dp'!AL72),$AM$53)","v":0},{"$f":"IF($AM$53=\"\",IF('farklı dp'!AM72=\"\",\"\",'farklı dp'!AM72),$AM$53)","v":0},{"$f":"IF($AO$53=\"\",IF('farklı dp'!AN72=\"\",\"\",'farklı dp'!AN72),$AO$53)","v":0},{"$f":"IF($AO$53=\"\",IF('farklı dp'!AO72=\"\",\"\",'farklı dp'!AO72),$AO$53)","v":0},{"$f":"IF($AQ$53=\"\",IF('farklı dp'!AP72=\"\",\"\",'farklı dp'!AP72),$AQ$53)","v":0},{"$f":"IF($AQ$53=\"\",IF('farklı dp'!AQ72=\"\",\"\",'farklı dp'!AQ72),$AQ$53)","v":0},{"$f":"IF($AS$53=\"\",IF('farklı dp'!AR72=\"\",\"\",'farklı dp'!AR72),$AS$53)","v":0},{"$f":"IF($AS$53=\"\",IF('farklı dp'!AS72=\"\",\"\",'farklı dp'!AS72),$AS$53)","v":0},{"$f":"IF($AU$53=\"\",IF('farklı dp'!AT72=\"\",\"\",'farklı dp'!AT72),$AU$53)","v":0},{"$f":"IF($AU$53=\"\",IF('farklı dp'!AU72=\"\",\"\",'farklı dp'!AU72),$AU$53)","v":0},{"$f":"IF($AW$53=\"\",IF('farklı dp'!AV72=\"\",\"\",'farklı dp'!AV72),$AW$53)","v":0},{"$f":"IF($AW$53=\"\",IF('farklı dp'!AW72=\"\",\"\",'farklı dp'!AW72),$AW$53)","v":0},{"$f":"IF($AY$53=\"\",IF('farklı dp'!AX72=\"\",\"\",'farklı dp'!AX72),$AY$53)","v":0},{"$f":"IF($AY$53=\"\",IF('farklı dp'!AY72=\"\",\"\",'farklı dp'!AY72),$AY$53)","v":0},"TEO.","DF"]
[null,null,null,null,null,{"$f":"IF($G$53=\"\",IF('farklı dp'!F73=\"\",\"\",'farklı dp'!F73),$G$53)","v":0},{"$f":"IF($G$53=\"\",IF('farklı dp'!G73=\"\",\"\",'farklı dp'!G73),$G$53)","v":0},{"$f":"IF($I$53=\"\",IF('farklı dp'!H73=\"\",\"\",'farklı dp'!H73),$I$53)","v":0},{"$f":"IF($I$53=\"\",IF('farklı dp'!I73=\"\",\"\",'farklı dp'!I73),$I$53)","v":0},{"$f":"IF($K$53=\"\",IF('farklı dp'!J73=\"\",\"\",'farklı dp'!J73),$K$53)","v":0},{"$f":"IF($K$53=\"\",IF('farklı dp'!K73=\"\",\"\",'farklı dp'!K73),$K$53)","v":0},{"$f":"IF($M$53=\"\",IF('farklı dp'!L73=\"\",\"\",'farklı dp'!L73),$M$53)","v":0},{"$f":"IF($M$53=\"\",IF('farklı dp'!M73=\"\",\"\",'farklı dp'!M73),$M$53)","v":0},{"$f":"IF($O$53=\"\",IF('farklı dp'!N73=\"\",\"\",'farklı dp'!N73),$O$53)","v":0},{"$f":"IF($O$53=\"\",IF('farklı dp'!O73=\"\",\"\",'farklı dp'!O73),$O$53)","v":0},{"$f":"IF($Q$53=\"\",IF('farklı dp'!P73=\"\",\"\",'farklı dp'!P73),$Q$53)","v":0},{"$f":"IF($Q$53=\"\",IF('farklı dp'!Q73=\"\",\"\",'farklı dp'!Q73),$Q$53)","v":0},{"$f":"IF($S$53=\"\",IF('farklı dp'!R73=\"\",\"\",'farklı dp'!R73),$S$53)","v":0},{"$f":"IF($S$53=\"\",IF('farklı dp'!S73=\"\",\"\",'farklı dp'!S73),$S$53)","v":0},{"$f":"IF($U$53=\"\",IF('farklı dp'!T73=\"\",\"\",'farklı dp'!T73),$U$53)","v":0},{"$f":"IF($U$53=\"\",IF('farklı dp'!U73=\"\",\"\",'farklı dp'!U73),$U$53)","v":0},{"$f":"IF($W$53=\"\",IF('farklı dp'!V73=\"\",\"\",'farklı dp'!V73),$W$53)","v":0},{"$f":"IF($W$53=\"\",IF('farklı dp'!W73=\"\",\"\",'farklı dp'!W73),$W$53)","v":0},null,null,null,null,null,null,null,null,null,null,{"$f":"IF($AI$53=\"\",IF('farklı dp'!AH73=\"\",\"\",'farklı dp'!AH73),$AI$53)","v":0},{"$f":"IF($AI$53=\"\",IF('farklı dp'!AI73=\"\",\"\",'farklı dp'!AI73),$AI$53)","v":0},{"$f":"IF($AK$53=\"\",IF('farklı dp'!AJ73=\"\",\"\",'farklı dp'!AJ73),$AK$53)","v":0},{"$f":"IF($AK$53=\"\",IF('farklı dp'!AK73=\"\",\"\",'farklı dp'!AK73),$AK$53)","v":0},{"$f":"IF($AM$53=\"\",IF('farklı dp'!AL73=\"\",\"\",'farklı dp'!AL73),$AM$53)","v":0},{"$f":"IF($AM$53=\"\",IF('farklı dp'!AM73=\"\",\"\",'farklı dp'!AM73),$AM$53)","v":0},{"$f":"IF($AO$53=\"\",IF('farklı dp'!AN73=\"\",\"\",'farklı dp'!AN73),$AO$53)","v":0},{"$f":"IF($AO$53=\"\",IF('farklı dp'!AO73=\"\",\"\",'farklı dp'!AO73),$AO$53)","v":0},{"$f":"IF($AQ$53=\"\",IF('farklı dp'!AP73=\"\",\"\",'farklı dp'!AP73),$AQ$53)","v":0},{"$f":"IF($AQ$53=\"\",IF('farklı dp'!AQ73=\"\",\"\",'farklı dp'!AQ73),$AQ$53)","v":0},{"$f":"IF($AS$53=\"\",IF('farklı dp'!AR73=\"\",\"\",'farklı dp'!AR73),$AS$53)","v":0},{"$f":"IF($AS$53=\"\",IF('farklı dp'!AS73=\"\",\"\",'farklı dp'!AS73),$AS$53)","v":0},{"$f":"IF($AU$53=\"\",IF('farklı dp'!AT73=\"\",\"\",'farklı dp'!AT73),$AU$53)","v":0},{"$f":"IF($AU$53=\"\",IF('farklı dp'!AU73=\"\",\"\",'farklı dp'!AU73),$AU$53)","v":0},{"$f":"IF($AW$53=\"\",IF('farklı dp'!AV73=\"\",\"\",'farklı dp'!AV73),$AW$53)","v":0},{"$f":"IF($AW$53=\"\",IF('farklı dp'!AW73=\"\",\"\",'farklı dp'!AW73),$AW$53)","v":0},{"$f":"IF($AY$53=\"\",IF('farklı dp'!AX73=\"\",\"\",'farklı dp'!AX73),$AY$53)","v":0},{"$f":"IF($AY$53=\"\",IF('farklı dp'!AY73=\"\",\"\",'farklı dp'!AY73),$AY$53)","v":0}]
[null,null,null,null,null,{"$f":"IF($G$53=\"\",IF('farklı dp'!F74=\"\",\"\",'farklı dp'!F74),$G$53)","v":0},{"$f":"IF($G$53=\"\",IF('farklı dp'!G74=\"\",\"\",'farklı dp'!G74),$G$53)","v":0},{"$f":"IF($I$53=\"\",IF('farklı dp'!H74=\"\",\"\",'farklı dp'!H74),$I$53)","v":0},{"$f":"IF($I$53=\"\",IF('farklı dp'!I74=\"\",\"\",'farklı dp'!I74),$I$53)","v":0},{"$f":"IF($K$53=\"\",IF('farklı dp'!J74=\"\",\"\",'farklı dp'!J74),$K$53)","v":0},{"$f":"IF($K$53=\"\",IF('farklı dp'!K74=\"\",\"\",'farklı dp'!K74),$K$53)","v":0},{"$f":"IF($M$53=\"\",IF('farklı dp'!L74=\"\",\"\",'farklı dp'!L74),$M$53)","v":0},{"$f":"IF($M$53=\"\",IF('farklı dp'!M74=\"\",\"\",'farklı dp'!M74),$M$53)","v":0},{"$f":"IF($O$53=\"\",IF('farklı dp'!N74=\"\",\"\",'farklı dp'!N74),$O$53)","v":0},{"$f":"IF($O$53=\"\",IF('farklı dp'!O74=\"\",\"\",'farklı dp'!O74),$O$53)","v":0},{"$f":"IF($Q$53=\"\",IF('farklı dp'!P74=\"\",\"\",'farklı dp'!P74),$Q$53)","v":0},{"$f":"IF($Q$53=\"\",IF('farklı dp'!Q74=\"\",\"\",'farklı dp'!Q74),$Q$53)","v":0},{"$f":"IF($S$53=\"\",IF('farklı dp'!R74=\"\",\"\",'farklı dp'!R74),$S$53)","v":0},{"$f":"IF($S$53=\"\",IF('farklı dp'!S74=\"\",\"\",'farklı dp'!S74),$S$53)","v":0},{"$f":"IF($U$53=\"\",IF('farklı dp'!T74=\"\",\"\",'farklı dp'!T74),$U$53)","v":0},{"$f":"IF($U$53=\"\",IF('farklı dp'!U74=\"\",\"\",'farklı dp'!U74),$U$53)","v":0},{"$f":"IF($W$53=\"\",IF('farklı dp'!V74=\"\",\"\",'farklı dp'!V74),$W$53)","v":0},{"$f":"IF($W$53=\"\",IF('farklı dp'!W74=\"\",\"\",'farklı dp'!W74),$W$53)","v":0},"TEO.","DF",null,null,null,null,null,null,null,null,{"$f":"IF($AI$53=\"\",IF('farklı dp'!AH74=\"\",\"\",'farklı dp'!AH74),$AI$53)","v":0},{"$f":"IF($AI$53=\"\",IF('farklı dp'!AI74=\"\",\"\",'farklı dp'!AI74),$AI$53)","v":0},{"$f":"IF($AK$53=\"\",IF('farklı dp'!AJ74=\"\",\"\",'farklı dp'!AJ74),$AK$53)","v":0},{"$f":"IF($AK$53=\"\",IF('farklı dp'!AK74=\"\",\"\",'farklı dp'!AK74),$AK$53)","v":0},{"$f":"IF($AM$53=\"\",IF('farklı dp'!AL74=\"\",\"\",'farklı dp'!AL74),$AM$53)","v":0},{"$f":"IF($AM$53=\"\",IF('farklı dp'!AM74=\"\",\"\",'farklı dp'!AM74),$AM$53)","v":0},{"$f":"IF($AO$53=\"\",IF('farklı dp'!AN74=\"\",\"\",'farklı dp'!AN74),$AO$53)","v":0},{"$f":"IF($AO$53=\"\",IF('farklı dp'!AO74=\"\",\"\",'farklı dp'!AO74),$AO$53)","v":0},{"$f":"IF($AQ$53=\"\",IF('farklı dp'!AP74=\"\",\"\",'farklı dp'!AP74),$AQ$53)","v":0},{"$f":"IF($AQ$53=\"\",IF('farklı dp'!AQ74=\"\",\"\",'farklı dp'!AQ74),$AQ$53)","v":0},{"$f":"IF($AS$53=\"\",IF('farklı dp'!AR74=\"\",\"\",'farklı dp'!AR74),$AS$53)","v":0},{"$f":"IF($AS$53=\"\",IF('farklı dp'!AS74=\"\",\"\",'farklı dp'!AS74),$AS$53)","v":0},{"$f":"IF($AU$53=\"\",IF('farklı dp'!AT74=\"\",\"\",'farklı dp'!AT74),$AU$53)","v":0},{"$f":"IF($AU$53=\"\",IF('farklı dp'!AU74=\"\",\"\",'farklı dp'!AU74),$AU$53)","v":0},{"$f":"IF($AW$53=\"\",IF('farklı dp'!AV74=\"\",\"\",'farklı dp'!AV74),$AW$53)","v":0},{"$f":"IF($AW$53=\"\",IF('farklı dp'!AW74=\"\",\"\",'farklı dp'!AW74),$AW$53)","v":0},{"$f":"IF($AY$53=\"\",IF('farklı dp'!AX74=\"\",\"\",'farklı dp'!AX74),$AY$53)","v":0},{"$f":"IF($AY$53=\"\",IF('farklı dp'!AY74=\"\",\"\",'farklı dp'!AY74),$AY$53)","v":0},"TEO.","DF"]
["TOPLAM (Ö.Ö)",null,null,null,null,{"$f":"COUNTIF(F58:F66,\">=a\")","v":0},{"$f":"COUNTIF(G58:G66,\">=a\")","v":0},0,0,0,0,0,0,0,0,{"$f":"COUNTIF(P58:P74,\">=a\")","v":0},{"$f":"COUNTIF(Q58:Q74,\">=a\")","v":0},null,null,{"$f":"COUNTIF(T58:T74,\">=a\")","v":0},{"$f":"COUNTIF(U58:U74,\">=a\")","v":0},null,null,{"$f":"F75+H75+J75+L75+N75+P75+T75","v":0},{"$f":"G75+I75+K75+M75+O75+Q75+U75","v":0},null,null,null,"TOPLAM (Ö.Ö)",null,null,null,null,{"$f":"COUNTIF(AH58:AH66,\">=a\")","v":0},{"$f":"COUNTIF(AI58:AI66,\">=a\")","v":0},0,0,0,0,0,0,0,0,{"$f":"COUNTIF(AR58:AR74,\">=a\")","v":0},{"$f":"COUNTIF(AS58:AS74,\">=a\")","v":0},null,null,{"$f":"COUNTIF(AV58:AV74,\">=a\")","v":0},{"$f":"COUNTIF(AW58:AW74,\">=a\")","v":0},null,null,{"$f":"AH75+AJ75+AL75+AN75+AP75+AR75+AV75","v":0},{"$f":"AI75+AK75+AM75+AO75+AQ75+AS75+AW75","v":0}]
["TOPLAM (İ.Ö)",null,null,null,null,{"$f":"COUNTIF(F67:F74,\">O\")","v":0},{"$f":"COUNTIF(G67:G74,\">O\")","v":0},0,0,0,0,0,0,0,0,null,null,{"$f":"COUNTIF(R58:R74,\">O\")","v":0},{"$f":"COUNTIF(S58:S74,\">O\")","v":0},null,null,{"$f":"COUNTIF(V58:V74,\">O\")","v":0},{"$f":"COUNTIF(W58:W74,\">O\")","v":0},{"$f":"F76+H76+J76+L76+N76+R76+V76","v":0},{"$f":"G76+I76+K76+M76+O76+S76+W76","v":0},null,null,null,"TOPLAM (İ.Ö)",null,null,null,null,{"$f":"COUNTIF(AH67:AH74,\">O\")","v":0},{"$f":"COUNTIF(AI67:AI74,\">O\")","v":0},0,0,0,0,0,0,0,0,null,null,{"$f":"COUNTIF(AT58:AT74,\">O\")","v":0},{"$f":"COUNTIF(AU58:AU74,\">O\")","v":0},null,null,{"$f":"COUNTIF(AX58:AX74,\">O\")","v":0},{"$f":"COUNTIF(AY58:AY74,\">O\")","v":0},{"$f":"AH76+AJ76+AL76+AN76+AP76+AT76+AX76","v":0},{"$f":"AI76+AK76+AM76+AO76+AQ76+AU76+AY76","v":0}]
["GENEL TOPLAM",null,null,null,null,{"$f":"F75+F76","v":0},{"$f":"G75+G76","v":0},0,0,0,0,0,0,0,0,0,0,0,0,0,0,0,0,{"$f":"SUM(F77:W77)","v":0},null,null,null,null,"GENEL TOPLAM",null,null,null,null,{"$f":"AH75+AH76","v":0},{"$f":"AI75+AI76","v":0},0,0,0,0,0,0,0,0,0,0,0,0,0,0,0,0,{"$f":"SUM(AH77:AY77)","v":0}]
[]
[null,null,null,null,null,{"$f":"IFERROR(VLOOKUP(F81,$BC$4:$BE$45,3,FALSE),\"\")","v":0},{"$f":"IFERROR(VLOOKUP(F81,$BC$4:$BE$51,3,FALSE),\"\")","v":0},{"$f":"IFERROR(VLOOKUP(H81,$BC$4:$BE$45,3,FALSE),\"\")","v":0},{"$f":"IFERROR(VLOOKUP(H81,$BC$4:$BE$51,3,FALSE),\"\")","v":0},{"$f":"IFERROR(VLOOKUP(J81,$BC$4:$BE$45,3,FALSE),\"\")","v":0},{"$f":"IFERROR(VLOOKUP(J81,$BC$4:$BE$51,3,FALSE),\"\")","v":0},{"$f":"IFERROR(VLOOKUP(L81,$BC$4:$BE$45,3,FALSE),\"\")","v":0},{"$f":"IFERROR(VLOOKUP(L81,$BC$4:$BE$51,3,FALSE),\"\")","v":0},{"$f":"IFERROR(VLOOKUP(N81,$BC$4:$BE$45,3,FALSE),\"\")","v":0},{"$f":"IFERROR(VLOOKUP(N81,$BC$4:$BE$51,3,FALSE),\"\")","v":0},{"$f":"IFERROR(VLOOKUP(P81,$BC$4:$BE$45,3,FALSE),\"\")","v":0},{"$f":"IFERROR(VLOOKUP(P81,$BC$4:$BE$51,3,FALSE),\"\")","v":0},{"$f":"IFERROR(VLOOKUP(P81,$BC$4:$BE$45,3,FALSE),\"\")","v":0},{"$f":"IFERROR(VLOOKUP(P81,$BC$4:$BE$51,3,FALSE),\"\")","v":0},{"$f":"IFERROR(VLOOKUP(T81,$BC$4:$BE$45,3,FALSE),\"\")","v":0},{"$f":"IFERROR(VLOOKUP(T81,$BC$4:$BE$51,3,FALSE),\"\")","v":0},{"$f":"IFERROR(VLOOKUP(T81,$BC$4:$BE$45,3,FALSE),\"\")","v":0},{"$f":"IFERROR(VLOOKUP(T81,$BC$4:$BE$51,3,FALSE),\"\")","v":0}]
["5. HAFTA",null,null,null,null,"TEORİK VE DİĞER DERSLER İÇİN TELAFİ/TATİL PROGRAMI"]
[null,null,null,null,null,{"$f":"IFERROR(IF(AV55+1>$BI$1,\"\",AV55+1),\"\")","v":""},null,{"$f":"IFERROR(IF(F81+1>$BI$1,\"\",F81+1),\"\")","v":""},null,{"$f":"IFERROR(IF(H81+1>$BI$1,\"\",H81+1),\"\")","v":""},null,{"$f":"IFERROR(IF(J81+1>$BI$1,\"\",J81+1),\"\")","v":""},null,{"$f":"IFERROR(IF(L81+1>$BI$1,\"\",L81+1),\"\")","v":""},null,{"$f":"IFERROR(IF(N81+1>$BI$1,\"\",N81+1),\"\")","v":""},null,null,null,{"$f":"IFERROR(IF(P81+1>$BI$1,\"\",P81+1),\"\")","v":""}]
[null,null,null,null,null,{"$f":"IFERROR(IF(AV55+1>$BI$1,\"\",AV55+1),\"\")","v":""},null,{"$f":"IFERROR(IF(F81+1>$BI$1,\"\",F81+1),\"\")","v":""},null,{"$f":"IFERROR(IF(H81+1>$BI$1,\"\",H81+1),\"\")","v":""},null,{"$f":"IFERROR(IF(J81+1>$BI$1,\"\",J81+1),\"\")","v":""},null,{"$f":"IFERROR(IF(L81+1>$BI$1,\"\",L81+1),\"\")","v":""},null,"Ö.Ö",null,"İ.Ö",null,"Ö.Ö",null,"İ.Ö"]
[null,null,null,null,null,"T","D","T","D","T","D","T","D","T","D","T","D","T","D","T","D","T","D"]
["ÖRGÜN ÖĞRETİM","08.00-09.00",null,null,null,{"$f":"IF($F$79=\"\",IF('farklı dp'!F84=\"\",\"\",'farklı dp'!F84),$F$79)","v":0},{"$f":"IF($F$79=\"\",IF('farklı dp'!G84=\"\",\"\",'farklı dp'!G84),$F$79)","v":0},{"$f":"IF($H$79=\"\",IF('farklı dp'!H84=\"\",\"\",'farklı dp'!H84),$H$79)","v":0},{"$f":"IF($H$79=\"\",IF('farklı dp'!I84=\"\",\"\",'farklı dp'!I84),$H$79)","v":0},{"$f":"IF($J$79=\"\",IF('farklı dp'!J84=\"\",\"\",'farklı dp'!J84),$J$79)","v":0},{"$f":"IF($J$79=\"\",IF('farklı dp'!K84=\"\",\"\",'farklı dp'!K84),$J$79)","v":0},{"$f":"IF($L$79=\"\",IF('farklı dp'!L84=\"\",\"\",'farklı dp'!L84),$L$79)","v":0},{"$f":"IF($L$79=\"\",IF('farklı dp'!M84=\"\",\"\",'farklı dp'!M84),$L$79)","v":0},{"$f":"IF($N$79=\"\",IF('farklı dp'!N84=\"\",\"\",'farklı dp'!N84),$N$79)","v":0},{"$f":"IF($N$79=\"\",IF('farklı dp'!O84=\"\",\"\",'farklı dp'!O84),$N$79)","v":0},{"$f":"IF($P$79=\"\",IF('farklı dp'!P84=\"\",\"\",'farklı dp'!P84),$P$79)","v":0},{"$f":"IF($P$79=\"\",IF('farklı dp'!Q84=\"\",\"\",'farklı dp'!Q84),$P$79)","v":0},{"$f":"IF($R$79=\"\",IF('farklı dp'!R84=\"\",\"\",'farklı dp'!R84),$R$79)","v":0},{"$f":"IF($R$79=\"\",IF('farklı dp'!S84=\"\",\"\",'farklı dp'!S84),$R$79)","v":0},{"$f":"IF($T$79=\"\",IF('farklı dp'!T84=\"\",\"\",'farklı dp'!T84),$T$79)","v":0},{"$f":"IF($T$79=\"\",IF('farklı dp'!U84=\"\",\"\",'farklı dp'!U84),$T$79)","v":0},{"$f":"IF($V$79=\"\",IF('farklı dp'!V84=\"\",\"\",'farklı dp'!V84),$V$79)","v":0},{"$f":"IF($V$79=\"\",IF('farklı dp'!W84=\"\",\"\",'farklı dp'!W84),$V$79)","v":0}]
[null,"09.00-10.00",null,null,null,{"$f":"IF($F$79=\"\",IF('farklı dp'!F85=\"\",\"\",'farklı dp'!F85),$F$79)","v":0},{"$f":"IF($F$79=\"\",IF('farklı dp'!G85=\"\",\"\",'farklı dp'!G85),$F$79)","v":0},{"$f":"IF($H$79=\"\",IF('farklı dp'!H85=\"\",\"\",'farklı dp'!H85),$H$79)","v":0},{"$f":"IF($H$79=\"\",IF('farklı dp'!I85=\"\",\"\",'farklı dp'!I85),$H$79)","v":0},{"$f":"IF($J$79=\"\",IF('farklı dp'!J85=\"\",\"\",'farklı dp'!J85),$J$79)","v":0},{"$f":"IF($J$79=\"\",IF('farklı dp'!K85=\"\",\"\",'farklı dp'!K85),$J$79)","v":0},{"$f":"IF($L$79=\"\",IF('farklı dp'!L85=\"\",\"\",'farklı dp'!L85),$L$79)","v":0},{"$f":"IF($L$79=\"\",IF('farklı dp'!M85=\"\",\"\",'farklı dp'!M85),$L$79)","v":0},{"$f":"IF($N$79=\"\",IF('farklı dp'!N85=\"\",\"\",'farklı dp'!N85),$N$79)","v":0},{"$f":"IF($N$79=\"\",IF('farklı dp'!O85=\"\",\"\",'farklı dp'!O85),$N$79)","v":0},{"$f":"IF($P$79=\"\",IF('farklı dp'!P85=\"\",\"\",'farklı dp'!P85),$P$79)","v":0},{"$f":"IF($P$79=\"\",IF('farklı dp'!Q85=\"\",\"\",'farklı dp'!Q85),$P$79)","v":0},{"$f":"IF($R$79=\"\",IF('farklı dp'!R85=\"\",\"\",'farklı dp'!R85),$R$79)","v":0},{"$f":"IF($R$79=\"\",IF('farklı dp'!S85=\"\",\"\",'farklı dp'!S85),$R$79)","v":0},{"$f":"IF($T$79=\"\",IF('farklı dp'!T85=\"\",\"\",'farklı dp'!T85),$T$79)","v":0},{"$f":"IF($T$79=\"\",IF('farklı dp'!U85=\"\",\"\",'farklı dp'!U85),$T$79)","v":0},{"$f":"IF($V$79=\"\",IF('farklı dp'!V85=\"\",\"\",'farklı dp'!V85),$V$79)","v":0},{"$f":"IF($V$79=\"\",IF('farklı dp'!W85=\"\",\"\",'farklı dp'!W85),$V$79)","v":0}]
[null,"10.00-11.00",null,null,null,{"$f":"IF($F$79=\"\",IF('farklı dp'!F86=\"\",\"\",'farklı dp'!F86),$F$79)","v":0},{"$f":"IF($F$79=\"\",IF('farklı dp'!G86=\"\",\"\",'farklı dp'!G86),$F$79)","v":0},{"$f":"IF($H$79=\"\",IF('farklı dp'!H86=\"\",\"\",'farklı dp'!H86),$H$79)","v":0},{"$f":"IF($H$79=\"\",IF('farklı dp'!I86=\"\",\"\",'farklı dp'!I86),$H$79)","v":0},{"$f":"IF($J$79=\"\",IF('farklı dp'!J86=\"\",\"\",'farklı dp'!J86),$J$79)","v":0},{"$f":"IF($J$79=\"\",IF('farklı dp'!K86=\"\",\"\",'farklı dp'!K86),$J$79)","v":0},{"$f":"IF($L$79=\"\",IF('farklı dp'!L86=\"\",\"\",'farklı dp'!L86),$L$79)","v":0},{"$f":"IF($L$79=\"\",IF('farklı dp'!M86=\"\",\"\",'farklı dp'!M86),$L$79)","v":0},{"$f":"IF($N$79=\"\",IF('farklı dp'!N86=\"\",\"\",'farklı dp'!N86),$N$79)","v":0},{"$f":"IF($N$79=\"\",IF('farklı dp'!O86=\"\",\"\",'farklı dp'!O86),$N$79)","v":0},{"$f":"IF($P$79=\"\",IF('farklı dp'!P86=\"\",\"\",'farklı dp'!P86),$P$79)","v":0},{"$f":"IF($P$79=\"\",IF('farklı dp'!Q86=\"\",\"\",'farklı dp'!Q86),$P$79)","v":0},{"$f":"IF($R$79=\"\",IF('farklı dp'!R86=\"\",\"\",'farklı dp'!R86),$R$79)","v":0},{"$f":"IF($R$79=\"\",IF('farklı dp'!S86=\"\",\"\",'farklı dp'!S86),$R$79)","v":0},{"$f":"IF($T$79=\"\",IF('farklı dp'!T86=\"\",\"\",'farklı dp'!T86),$T$79)","v":0},{"$f":"IF($T$79=\"\",IF('farklı dp'!U86=\"\",\"\",'farklı dp'!U86),$T$79)","v":0},{"$f":"IF($V$79=\"\",IF('farklı dp'!V86=\"\",\"\",'farklı dp'!V86),$V$79)","v":0},{"$f":"IF($V$79=\"\",IF('farklı dp'!W86=\"\",\"\",'farklı dp'!W86),$V$79)","v":0}]
[null,"11.00-12.00",null,null,null,{"$f":"IF($F$79=\"\",IF('farklı dp'!F87=\"\",\"\",'farklı dp'!F87),$F$79)","v":0},{"$f":"IF($F$79=\"\",IF('farklı dp'!G87=\"\",\"\",'farklı dp'!G87),$F$79)","v":0},{"$f":"IF($H$79=\"\",IF('farklı dp'!H87=\"\",\"\",'farklı dp'!H87),$H$79)","v":0},{"$f":"IF($H$79=\"\",IF('farklı dp'!I87=\"\",\"\",'farklı dp'!I87),$H$79)","v":0},{"$f":"IF($J$79=\"\",IF('farklı dp'!J87=\"\",\"\",'farklı dp'!J87),$J$79)","v":0},{"$f":"IF($J$79=\"\",IF('farklı dp'!K87=\"\",\"\",'farklı dp'!K87),$J$79)","v":0},{"$f":"IF($L$79=\"\",IF('farklı dp'!L87=\"\",\"\",'farklı dp'!L87),$L$79)","v":0},{"$f":"IF($L$79=\"\",IF('farklı dp'!M87=\"\",\"\",'farklı dp'!M87),$L$79)","v":0},{"$f":"IF($N$79=\"\",IF('farklı dp'!N87=\"\",\"\",'farklı dp'!N87),$N$79)","v":0},{"$f":"IF($N$79=\"\",IF('farklı dp'!O87=\"\",\"\",'farklı dp'!O87),$N$79)","v":0},{"$f":"IF($P$79=\"\",IF('farklı dp'!P87=\"\",\"\",'farklı dp'!P87),$P$79)","v":0},{"$f":"IF($P$79=\"\",IF('farklı dp'!Q87=\"\",\"\",'farklı dp'!Q87),$P$79)","v":0},{"$f":"IF($R$79=\"\",IF('farklı dp'!R87=\"\",\"\",'farklı dp'!R87),$R$79)","v":0},{"$f":"IF($R$79=\"\",IF('farklı dp'!S87=\"\",\"\",'farklı dp'!S87),$R$79)","v":0},{"$f":"IF($T$79=\"\",IF('farklı dp'!T87=\"\",\"\",'farklı dp'!T87),$T$79)","v":0},{"$f":"IF($T$79=\"\",IF('farklı dp'!U87=\"\",\"\",'farklı dp'!U87),$T$79)","v":0},{"$f":"IF($V$79=\"\",IF('farklı dp'!V87=\"\",\"\",'farklı dp'!V87),$V$79)","v":0},{"$f":"IF($V$79=\"\",IF('farklı dp'!W87=\"\",\"\",'farklı dp'!W87),$V$79)","v":0}]
[null,"12.00-13.00",null,null,null,{"$f":"IF($F$79=\"\",IF('farklı dp'!F88=\"\",\"\",'farklı dp'!F88),$F$79)","v":0},{"$f":"IF($F$79=\"\",IF('farklı dp'!G88=\"\",\"\",'farklı dp'!G88),$F$79)","v":0},{"$f":"IF($H$79=\"\",IF('farklı dp'!H88=\"\",\"\",'farklı dp'!H88),$H$79)","v":0},{"$f":"IF($H$79=\"\",IF('farklı dp'!I88=\"\",\"\",'farklı dp'!I88),$H$79)","v":0},{"$f":"IF($J$79=\"\",IF('farklı dp'!J88=\"\",\"\",'farklı dp'!J88),$J$79)","v":0},{"$f":"IF($J$79=\"\",IF('farklı dp'!K88=\"\",\"\",'farklı dp'!K88),$J$79)","v":0},{"$f":"IF($L$79=\"\",IF('farklı dp'!L88=\"\",\"\",'farklı dp'!L88),$L$79)","v":0},{"$f":"IF($L$79=\"\",IF('farklı dp'!M88=\"\",\"\",'farklı dp'!M88),$L$79)","v":0},{"$f":"IF($N$79=\"\",IF('farklı dp'!N88=\"\",\"\",'farklı dp'!N88),$N$79)","v":0},{"$f":"IF($N$79=\"\",IF('farklı dp'!O88=\"\",\"\",'farklı dp'!O88),$N$79)","v":0},{"$f":"IF($P$79=\"\",IF('farklı dp'!P88=\"\",\"\",'farklı dp'!P88),$P$79)","v":0},{"$f":"IF($P$79=\"\",IF('farklı dp'!Q88=\"\",\"\",'farklı dp'!Q88),$P$79)","v":0},{"$f":"IF($R$79=\"\",IF('farklı dp'!R88=\"\",\"\",'farklı dp'!R88),$R$79)","v":0},{"$f":"IF($R$79=\"\",IF('farklı dp'!S88=\"\",\"\",'farklı dp'!S88),$R$79)","v":0},{"$f":"IF($T$79=\"\",IF('farklı dp'!T88=\"\",\"\",'farklı dp'!T88),$T$79)","v":0},{"$f":"IF($T$79=\"\",IF('farklı dp'!U88=\"\",\"\",'farklı dp'!U88),$T$79)","v":0},{"$f":"IF($V$79=\"\",IF('farklı dp'!V88=\"\",\"\",'farklı dp'!V88),$V$79)","v":0},{"$f":"IF($V$79=\"\",IF('farklı dp'!W88=\"\",\"\",'farklı dp'!W88),$V$79)","v":0}]
[null,"13.00-14.00",null,null,null,{"$f":"IF($G$79=\"\",IF('farklı dp'!F89=\"\",\"\",'farklı dp'!F89),$G$79)","v":0},{"$f":"IF($G$79=\"\",IF('farklı dp'!G89=\"\",\"\",'farklı dp'!G89),$G$79)","v":0},{"$f":"IF($I$79=\"\",IF('farklı dp'!H89=\"\",\"\",'farklı dp'!H89),$I$79)","v":0},{"$f":"IF($I$79=\"\",IF('farklı dp'!I89=\"\",\"\",'farklı dp'!I89),$I$79)","v":0},{"$f":"IF($K$79=\"\",IF('farklı dp'!J89=\"\",\"\",'farklı dp'!J89),$K$79)","v":0},{"$f":"IF($K$79=\"\",IF('farklı dp'!K89=\"\",\"\",'farklı dp'!K89),$K$79)","v":0},{"$f":"IF($M$79=\"\",IF('farklı dp'!L89=\"\",\"\",'farklı dp'!L89),$M$79)","v":0},{"$f":"IF($M$79=\"\",IF('farklı dp'!M89=\"\",\"\",'farklı dp'!M89),$M$79)","v":0},{"$f":"IF($O$79=\"\",IF('farklı dp'!N89=\"\",\"\",'farklı dp'!N89),$O$79)","v":0},{"$f":"IF($O$79=\"\",IF('farklı dp'!O89=\"\",\"\",'farklı dp'!O89),$O$79)","v":0},{"$f":"IF($Q$79=\"\",IF('farklı dp'!P89=\"\",\"\",'farklı dp'!P89),$Q$79)","v":0},{"$f":"IF($Q$79=\"\",IF('farklı dp'!Q89=\"\",\"\",'farklı dp'!Q89),$Q$79)","v":0},{"$f":"IF($S$79=\"\",IF('farklı dp'!R89=\"\",\"\",'farklı dp'!R89),$S$79)","v":0},{"$f":"IF($S$79=\"\",IF('farklı dp'!S89=\"\",\"\",'farklı dp'!S89),$S$79)","v":0},{"$f":"IF($U$79=\"\",IF('farklı dp'!T89=\"\",\"\",'farklı dp'!T89),$U$79)","v":0},{"$f":"IF($U$79=\"\",IF('farklı dp'!U89=\"\",\"\",'farklı dp'!U89),$U$79)","v":0},{"$f":"IF($W$79=\"\",IF('farklı dp'!V89=\"\",\"\",'farklı dp'!V89),$W$79)","v":0},{"$f":"IF($W$79=\"\",IF('farklı dp'!W89=\"\",\"\",'farklı dp'!W89),$W$79)","v":0}]
[null,"14.00-15.00",null,null,null,{"$f":"IF($G$79=\"\",IF('farklı dp'!F90=\"\",\"\",'farklı dp'!F90),$G$79)","v":0},{"$f":"IF($G$79=\"\",IF('farklı dp'!G90=\"\",\"\",'farklı dp'!G90),$G$79)","v":0},{"$f":"IF($I$79=\"\",IF('farklı dp'!H90=\"\",\"\",'farklı dp'!H90),$I$79)","v":0},{"$f":"IF($I$79=\"\",IF('farklı dp'!I90=\"\",\"\",'farklı dp'!I90),$I$79)","v":0},{"$f":"IF($K$79=\"\",IF('farklı dp'!J90=\"\",\"\",'farklı dp'!J90),$K$79)","v":0},{"$f":"IF($K$79=\"\",IF('farklı dp'!K90=\"\",\"\",'farklı dp'!K90),$K$79)","v":0},{"$f":"IF($M$79=\"\",IF('farklı dp'!L90=\"\",\"\",'farklı dp'!L90),$M$79)","v":0},{"$f":"IF($M$79=\"\",IF('farklı dp'!M90=\"\",\"\",'farklı dp'!M90),$M$79)","v":0},{"$f":"IF($O$79=\"\",IF('farklı dp'!N90=\"\",\"\",'farklı dp'!N90),$O$79)","v":0},{"$f":"IF($O$79=\"\",IF('farklı dp'!O90=\"\",\"\",'farklı dp'!O90),$O$79)","v":0},{"$f":"IF($Q$79=\"\",IF('farklı dp'!P90=\"\",\"\",'farklı dp'!P90),$Q$79)","v":0},{"$f":"IF($Q$79=\"\",IF('farklı dp'!Q90=\"\",\"\",'farklı dp'!Q90),$Q$79)","v":0},{"$f":"IF($S$79=\"\",IF('farklı dp'!R90=\"\",\"\",'farklı dp'!R90),$S$79)","v":0},{"$f":"IF($S$79=\"\",IF('farklı dp'!S90=\"\",\"\",'farklı dp'!S90),$S$79)","v":0},{"$f":"IF($U$79=\"\",IF('farklı dp'!T90=\"\",\"\",'farklı dp'!T90),$U$79)","v":0},{"$f":"IF($U$79=\"\",IF('farklı dp'!U90=\"\",\"\",'farklı dp'!U90),$U$79)","v":0},{"$f":"IF($W$79=\"\",IF('farklı dp'!V90=\"\",\"\",'farklı dp'!V90),$W$79)","v":0},{"$f":"IF($W$79=\"\",IF('farklı dp'!W90=\"\",\"\",'farklı dp'!W90),$W$79)","v":0}]
[null,"15.00-16.00",null,null,null,{"$f":"IF($G$79=\"\",IF('farklı dp'!F91=\"\",\"\",'farklı dp'!F91),$G$79)","v":0},{"$f":"IF($G$79=\"\",IF('farklı dp'!G91=\"\",\"\",'farklı dp'!G91),$G$79)","v":0},{"$f":"IF($I$79=\"\",IF('farklı dp'!H91=\"\",\"\",'farklı dp'!H91),$I$79)","v":0},{"$f":"IF($I$79=\"\",IF('farklı dp'!I91=\"\",\"\",'farklı dp'!I91),$I$79)","v":0},{"$f":"IF($K$79=\"\",IF('farklı dp'!J91=\"\",\"\",'farklı dp'!J91),$K$79)","v":0},{"$f":"IF($K$79=\"\",IF('farklı dp'!K91=\"\",\"\",'farklı dp'!K91),$K$79)","v":0},{"$f":"IF($M$79=\"\",IF('farklı dp'!L91=\"\",\"\",'farklı dp'!L91),$M$79)","v":0},{"$f":"IF($M$79=\"\",IF('farklı dp'!M91=\"\",\"\",'farklı dp'!M91),$M$79)","v":0},{"$f":"IF($O$79=\"\",IF('farklı dp'!N91=\"\",\"\",'farklı dp'!N91),$O$79)","v":0},{"$f":"IF($O$79=\"\",IF('farklı dp'!O91=\"\",\"\",'farklı dp'!O91),$O$79)","v":0},{"$f":"IF($Q$79=\"\",IF('farklı dp'!P91=\"\",\"\",'farklı dp'!P91),$Q$79)","v":0},{"$f":"IF($Q$79=\"\",IF('farklı dp'!Q91=\"\",\"\",'farklı dp'!Q91),$Q$79)","v":0},{"$f":"IF($S$79=\"\",IF('farklı dp'!R91=\"\",\"\",'farklı dp'!R91),$S$79)","v":0},{"$f":"IF($S$79=\"\",IF('farklı dp'!S91=\"\",\"\",'farklı dp'!S91),$S$79)","v":0},{"$f":"IF($U$79=\"\",IF('farklı dp'!T91=\"\",\"\",'farklı dp'!T91),$U$79)","v":0},{"$f":"IF($U$79=\"\",IF('farklı dp'!U91=\"\",\"\",'farklı dp'!U91),$U$79)","v":0},{"$f":"IF($W$79=\"\",IF('farklı dp'!V91=\"\",\"\",'farklı dp'!V91),$W$79)","v":0},{"$f":"IF($W$79=\"\",IF('farklı dp'!W91=\"\",\"\",'farklı dp'!W91),$W$79)","v":0}]
[null,"16.00-17.00",null,null,null,{"$f":"IF($G$79=\"\",IF('farklı dp'!F92=\"\",\"\",'farklı dp'!F92),$G$79)","v":0},{"$f":"IF($G$79=\"\",IF('farklı dp'!G92=\"\",\"\",'farklı dp'!G92),$G$79)","v":0},{"$f":"IF($I$79=\"\",IF('farklı dp'!H92=\"\",\"\",'farklı dp'!H92),$I$79)","v":0},{"$f":"IF($I$79=\"\",IF('farklı dp'!I92=\"\",\"\",'farklı dp'!I92),$I$79)","v":0},{"$f":"IF($K$79=\"\",IF('farklı dp'!J92=\"\",\"\",'farklı dp'!J92),$K$79)","v":0},{"$f":"IF($K$79=\"\",IF('farklı dp'!K92=\"\",\"\",'farklı dp'!K92),$K$79)","v":0},{"$f":"IF($M$79=\"\",IF('farklı dp'!L92=\"\",\"\",'farklı dp'!L92),$M$79)","v":0},{"$f":"IF($M$79=\"\",IF('farklı dp'!M92=\"\",\"\",'farklı dp'!M92),$M$79)","v":0},{"$f":"IF($O$79=\"\",IF('farklı dp'!N92=\"\",\"\",'farklı dp'!N92),$O$79)","v":0},{"$f":"IF($O$79=\"\",IF('farklı dp'!O92=\"\",\"\",'farklı dp'!O92),$O$79)","v":0},{"$f":"IF($Q$79=\"\",IF('farklı dp'!P92=\"\",\"\",'farklı dp'!P92),$Q$79)","v":0},{"$f":"IF($Q$79=\"\",IF('farklı dp'!Q92=\"\",\"\",'farklı dp'!Q92),$Q$79)","v":0},{"$f":"IF($S$79=\"\",IF('farklı dp'!R92=\"\",\"\",'farklı dp'!R92),$S$79)","v":0},{"$f":"IF($S$79=\"\",IF('farklı dp'!S92=\"\",\"\",'farklı dp'!S92),$S$79)","v":0},{"$f":"IF($U$79=\"\",IF('farklı dp'!T92=\"\",\"\",'farklı dp'!T92),$U$79)","v":0},{"$f":"IF($U$79=\"\",IF('farklı dp'!U92=\"\",\"\",'farklı dp'!U92),$U$79)","v":0},{"$f":"IF($W$79=\"\",IF('farklı dp'!V92=\"\",\"\",'farklı dp'!V92),$W$79)","v":0},{"$f":"IF($W$79=\"\",IF('farklı dp'!W92=\"\",\"\",'farklı dp'!W92),$W$79)","v":0}]
["İKİNCİ ÖĞRT.","16.00-17.00",null,null,null,{"$f":"IF($G$79=\"\",IF('farklı dp'!F93=\"\",\"\",'farklı dp'!F93),$G$79)","v":0},{"$f":"IF($G$79=\"\",IF('farklı dp'!G93=\"\",\"\",'farklı dp'!G93),$G$79)","v":0},{"$f":"IF($I$79=\"\",IF('farklı dp'!H93=\"\",\"\",'farklı dp'!H93),$I$79)","v":0},{"$f":"IF($I$79=\"\",IF('farklı dp'!I93=\"\",\"\",'farklı dp'!I93),$I$79)","v":0},{"$f":"IF($K$79=\"\",IF('farklı dp'!J93=\"\",\"\",'farklı dp'!J93),$K$79)","v":0},{"$f":"IF($K$79=\"\",IF('farklı dp'!K93=\"\",\"\",'farklı dp'!K93),$K$79)","v":0},{"$f":"IF($M$79=\"\",IF('farklı dp'!L93=\"\",\"\",'farklı dp'!L93),$M$79)","v":0},{"$f":"IF($M$79=\"\",IF('farklı dp'!M93=\"\",\"\",'farklı dp'!M93),$M$79)","v":0},{"$f":"IF($O$79=\"\",IF('farklı dp'!N93=\"\",\"\",'farklı dp'!N93),$O$79)","v":0},{"$f":"IF($O$79=\"\",IF('farklı dp'!O93=\"\",\"\",'farklı dp'!O93),$O$79)","v":0},{"$f":"IF($Q$79=\"\",IF('farklı dp'!P93=\"\",\"\",'farklı dp'!P93),$Q$79)","v":0},{"$f":"IF($Q$79=\"\",IF('farklı dp'!Q93=\"\",\"\",'farklı dp'!Q93),$Q$79)","v":0},{"$f":"IF($S$79=\"\",IF('farklı dp'!R93=\"\",\"\",'farklı dp'!R93),$S$79)","v":0},{"$f":"IF($S$79=\"\",IF('farklı dp'!S93=\"\",\"\",'farklı dp'!S93),$S$79)","v":0},{"$f":"IF($U$79=\"\",IF('farklı dp'!T93=\"\",\"\",'farklı dp'!T93),$U$79)","v":0},{"$f":"IF($U$79=\"\",IF('farklı dp'!U93=\"\",\"\",'farklı dp'!U93),$U$79)","v":0},{"$f":"IF($W$79=\"\",IF('farklı dp'!V93=\"\",\"\",'farklı dp'!V93),$W$79)","v":0},{"$f":"IF($W$79=\"\",IF('farklı dp'!W93=\"\",\"\",'farklı dp'!W93),$W$79)","v":0}]
[null,"17.00-18.00",null,null,null,{"$f":"IF($G$79=\"\",IF('farklı dp'!F94=\"\",\"\",'farklı dp'!F94),$G$79)","v":0},{"$f":"IF($G$79=\"\",IF('farklı dp'!G94=\"\",\"\",'farklı dp'!G94),$G$79)","v":0},{"$f":"IF($I$79=\"\",IF('farklı dp'!H94=\"\",\"\",'farklı dp'!H94),$I$79)","v":0},{"$f":"IF($I$79=\"\",IF('farklı dp'!I94=\"\",\"\",'farklı dp'!I94),$I$79)","v":0},{"$f":"IF($K$79=\"\",IF('farklı dp'!J94=\"\",\"\",'farklı dp'!J94),$K$79)","v":0},{"$f":"IF($K$79=\"\",IF('farklı dp'!K94=\"\",\"\",'farklı dp'!K94),$K$79)","v":0},{"$f":"IF($M$79=\"\",IF('farklı dp'!L94=\"\",\"\",'farklı dp'!L94),$M$79)","v":0},{"$f":"IF($M$79=\"\",IF('farklı dp'!M94=\"\",\"\",'farklı dp'!M94),$M$79)","v":0},{"$f":"IF($O$79=\"\",IF('farklı dp'!N94=\"\",\"\",'farklı dp'!N94),$O$79)","v":0},{"$f":"IF($O$79=\"\",IF('farklı dp'!O94=\"\",\"\",'farklı dp'!O94),$O$79)","v":0},{"$f":"IF($Q$79=\"\",IF('farklı dp'!P94=\"\",\"\",'farklı dp'!P94),$Q$79)","v":0},{"$f":"IF($Q$79=\"\",IF('farklı dp'!Q94=\"\",\"\",'farklı dp'!Q94),$Q$79)","v":0},{"$f":"IF($S$79=\"\",IF('farklı dp'!R94=\"\",\"\",'farklı dp'!R94),$S$79)","v":0},{"$f":"IF($S$79=\"\",IF('farklı dp'!S94=\"\",\"\",'farklı dp'!S94),$S$79)","v":0},{"$f":"IF($U$79=\"\",IF('farklı dp'!T94=\"\",\"\",'farklı dp'!T94),$U$79)","v":0},{"$f":"IF($U$79=\"\",IF('farklı dp'!U94=\"\",\"\",'farklı dp'!U94),$U$79)","v":0},{"$f":"IF($W$79=\"\",IF('farklı dp'!V94=\"\",\"\",'farklı dp'!V94),$W$79)","v":0},{"$f":"IF($W$79=\"\",IF('farklı dp'!W94=\"\",\"\",'farklı dp'!W94),$W$79)","v":0}]
[null,"18.00-19.00",null,null,null,{"$f":"IF($G$79=\"\",IF('farklı dp'!F95=\"\",\"\",'farklı dp'!F95),$G$79)","v":0},{"$f":"IF($G$79=\"\",IF('farklı dp'!G95=\"\",\"\",'farklı dp'!G95),$G$79)","v":0},{"$f":"IF($I$79=\"\",IF('farklı dp'!H95=\"\",\"\",'farklı dp'!H95),$I$79)","v":0},{"$f":"IF($I$79=\"\",IF('farklı dp'!I95=\"\",\"\",'farklı dp'!I95),$I$79)","v":0},{"$f":"IF($K$79=\"\",IF('farklı dp'!J95=\"\",\"\",'farklı dp'!J95),$K$79)","v":0},{"$f":"IF($K$79=\"\",IF('farklı dp'!K95=\"\",\"\",'farklı dp'!K95),$K$79)","v":0},{"$f":"IF($M$79=\"\",IF('farklı dp'!L95=\"\",\"\",'farklı dp'!L95),$M$79)","v":0},{"$f":"IF($M$79=\"\",IF('farklı dp'!M95=\"\",\"\",'farklı dp'!M95),$M$79)","v":0},{"$f":"IF($O$79=\"\",IF('farklı dp'!N95=\"\",\"\",'farklı dp'!N95),$O$79)","v":0},{"$f":"IF($O$79=\"\",IF('farklı dp'!O95=\"\",\"\",'farklı dp'!O95),$O$79)","v":0},{"$f":"IF($Q$79=\"\",IF('farklı dp'!P95=\"\",\"\",'farklı dp'!P95),$Q$79)","v":0},{"$f":"IF($Q$79=\"\",IF('farklı dp'!Q95=\"\",\"\",'farklı dp'!Q95),$Q$79)","v":0},{"$f":"IF($S$79=\"\",IF('farklı dp'!R95=\"\",\"\",'farklı dp'!R95),$S$79)","v":0},{"$f":"IF($S$79=\"\",IF('farklı dp'!S95=\"\",\"\",'farklı dp'!S95),$S$79)","v":0},{"$f":"IF($U$79=\"\",IF('farklı dp'!T95=\"\",\"\",'farklı dp'!T95),$U$79)","v":0},{"$f":"IF($U$79=\"\",IF('farklı dp'!U95=\"\",\"\",'farklı dp'!U95),$U$79)","v":0},{"$f":"IF($W$79=\"\",IF('farklı dp'!V95=\"\",\"\",'farklı dp'!V95),$W$79)","v":0},{"$f":"IF($W$79=\"\",IF('farklı dp'!W95=\"\",\"\",'farklı dp'!W95),$W$79)","v":0}]
[null,"19.00-20.00",null,null,null,{"$f":"IF($G$79=\"\",IF('farklı dp'!F96=\"\",\"\",'farklı dp'!F96),$G$79)","v":0},{"$f":"IF($G$79=\"\",IF('farklı dp'!G96=\"\",\"\",'farklı dp'!G96),$G$79)","v":0},{"$f":"IF($I$79=\"\",IF('farklı dp'!H96=\"\",\"\",'farklı dp'!H96),$I$79)","v":0},{"$f":"IF($I$79=\"\",IF('farklı dp'!I96=\"\",\"\",'farklı dp'!I96),$I$79)","v":0},{"$f":"IF($K$79=\"\",IF('farklı dp'!J96=\"\",\"\",'farklı dp'!J96),$K$79)","v":0},{"$f":"IF($K$79=\"\",IF('farklı dp'!K96=\"\",\"\",'farklı dp'!K96),$K$79)","v":0},{"$f":"IF($M$79=\"\",IF('farklı dp'!L96=\"\",\"\",'farklı dp'!L96),$M$79)","v":0},{"$f":"IF($M$79=\"\",IF('farklı dp'!M96=\"\",\"\",'farklı dp'!M96),$M$79)","v":0},{"$f":"IF($O$79=\"\",IF('farklı dp'!N96=\"\",\"\",'farklı dp'!N96),$O$79)","v":0},{"$f":"IF($O$79=\"\",IF('farklı dp'!O96=\"\",\"\",'farklı dp'!O96),$O$79)","v":0},{"$f":"IF($Q$79=\"\",IF('farklı dp'!P96=\"\",\"\",'farklı dp'!P96),$Q$79)","v":0},{"$f":"IF($Q$79=\"\",IF('farklı dp'!Q96=\"\",\"\",'farklı dp'!Q96),$Q$79)","v":0},{"$f":"IF($S$79=\"\",IF('farklı dp'!R96=\"\",\"\",'farklı dp'!R96),$S$79)","v":0},{"$f":"IF($S$79=\"\",IF('farklı dp'!S96=\"\",\"\",'farklı dp'!S96),$S$79)","v":0},{"$f":"IF($U$79=\"\",IF('farklı dp'!T96=\"\",\"\",'farklı dp'!T96),$U$79)","v":0},{"$f":"IF($U$79=\"\",IF('farklı dp'!U96=\"\",\"\",'farklı dp'!U96),$U$79)","v":0},{"$f":"IF($W$79=\"\",IF('farklı dp'!V96=\"\",\"\",'farklı dp'!V96),$W$79)","v":0},{"$f":"IF($W$79=\"\",IF('farklı dp'!W96=\"\",\"\",'farklı dp'!W96),$W$79)","v":0}]
[null,"20.00-21.00",null,null,null,{"$f":"IF($G$79=\"\",IF('farklı dp'!F97=\"\",\"\",'farklı dp'!F97),$G$79)","v":0},{"$f":"IF($G$79=\"\",IF('farklı dp'!G97=\"\",\"\",'farklı dp'!G97),$G$79)","v":0},{"$f":"IF($I$79=\"\",IF('farklı dp'!H97=\"\",\"\",'farklı dp'!H97),$I$79)","v":0},{"$f":"IF($I$79=\"\",IF('farklı dp'!I97=\"\",\"\",'farklı dp'!I97),$I$79)","v":0},{"$f":"IF($K$79=\"\",IF('farklı dp'!J97=\"\",\"\",'farklı dp'!J97),$K$79)","v":0},{"$f":"IF($K$79=\"\",IF('farklı dp'!K97=\"\",\"\",'farklı dp'!K97),$K$79)","v":0},{"$f":"IF($M$79=\"\",IF('farklı dp'!L97=\"\",\"\",'farklı dp'!L97),$M$79)","v":0},{"$f":"IF($M$79=\"\",IF('farklı dp'!M97=\"\",\"\",'farklı dp'!M97),$M$79)","v":0},{"$f":"IF($O$79=\"\",IF('farklı dp'!N97=\"\",\"\",'farklı dp'!N97),$O$79)","v":0},{"$f":"IF($O$79=\"\",IF('farklı dp'!O97=\"\",\"\",'farklı dp'!O97),$O$79)","v":0},{"$f":"IF($Q$79=\"\",IF('farklı dp'!P97=\"\",\"\",'farklı dp'!P97),$Q$79)","v":0},{"$f":"IF($Q$79=\"\",IF('farklı dp'!Q97=\"\",\"\",'farklı dp'!Q97),$Q$79)","v":0},{"$f":"IF($S$79=\"\",IF('farklı dp'!R97=\"\",\"\",'farklı dp'!R97),$S$79)","v":0},{"$f":"IF($S$79=\"\",IF('farklı dp'!S97=\"\",\"\",'farklı dp'!S97),$S$79)","v":0},{"$f":"IF($U$79=\"\",IF('farklı dp'!T97=\"\",\"\",'farklı dp'!T97),$U$79)","v":0},{"$f":"IF($U$79=\"\",IF('farklı dp'!U97=\"\",\"\",'farklı dp'!U97),$U$79)","v":0},{"$f":"IF($W$79=\"\",IF('farklı dp'!V97=\"\",\"\",'farklı dp'!V97),$W$79)","v":0},{"$f":"IF($W$79=\"\",IF('farklı dp'!W97=\"\",\"\",'farklı dp'!W97),$W$79)","v":0}]
[null,"21.00-22.00",null,null,null,{"$f":"IF($G$79=\"\",IF('farklı dp'!F98=\"\",\"\",'farklı dp'!F98),$G$79)","v":0},{"$f":"IF($G$79=\"\",IF('farklı dp'!G98=\"\",\"\",'farklı dp'!G98),$G$79)","v":0},{"$f":"IF($I$79=\"\",IF('farklı dp'!H98=\"\",\"\",'farklı dp'!H98),$I$79)","v":0},{"$f":"IF($I$79=\"\",IF('farklı dp'!I98=\"\",\"\",'farklı dp'!I98),$I$79)","v":0},{"$f":"IF($K$79=\"\",IF('farklı dp'!J98=\"\",\"\",'farklı dp'!J98),$K$79)","v":0},{"$f":"IF($K$79=\"\",IF('farklı dp'!K98=\"\",\"\",'farklı dp'!K98),$K$79)","v":0},{"$f":"IF($M$79=\"\",IF('farklı dp'!L98=\"\",\"\",'farklı dp'!L98),$M$79)","v":0},{"$f":"IF($M$79=\"\",IF('farklı dp'!M98=\"\",\"\",'farklı dp'!M98),$M$79)","v":0},{"$f":"IF($O$79=\"\",IF('farklı dp'!N98=\"\",\"\",'farklı dp'!N98),$O$79)","v":0},{"$f":"IF($O$79=\"\",IF('farklı dp'!O98=\"\",\"\",'farklı dp'!O98),$O$79)","v":0},{"$f":"IF($Q$79=\"\",IF('farklı dp'!P98=\"\",\"\",'farklı dp'!P98),$Q$79)","v":0},{"$f":"IF($Q$79=\"\",IF('farklı dp'!Q98=\"\",\"\",'farklı dp'!Q98),$Q$79)","v":0},{"$f":"IF($S$79=\"\",IF('farklı dp'!R98=\"\",\"\",'farklı dp'!R98),$S$79)","v":0},{"$f":"IF($S$79=\"\",IF('farklı dp'!S98=\"\",\"\",'farklı dp'!S98),$S$79)","v":0},{"$f":"IF($U$79=\"\",IF('farklı dp'!T98=\"\",\"\",'farklı dp'!T98),$U$79)","v":0},{"$f":"IF($U$79=\"\",IF('farklı dp'!U98=\"\",\"\",'farklı dp'!U98),$U$79)","v":0},{"$f":"IF($W$79=\"\",IF('farklı dp'!V98=\"\",\"\",'farklı dp'!V98),$W$79)","v":0},{"$f":"IF($W$79=\"\",IF('farklı dp'!W98=\"\",\"\",'farklı dp'!W98),$W$79)","v":0},"TEO.","DF"]
[null,null,null,null,null,{"$f":"IF($G$79=\"\",IF('farklı dp'!F99=\"\",\"\",'farklı dp'!F99),$G$79)","v":0},{"$f":"IF($G$79=\"\",IF('farklı dp'!G99=\"\",\"\",'farklı dp'!G99),$G$79)","v":0},{"$f":"IF($I$79=\"\",IF('farklı dp'!H99=\"\",\"\",'farklı dp'!H99),$I$79)","v":0},{"$f":"IF($I$79=\"\",IF('farklı dp'!I99=\"\",\"\",'farklı dp'!I99),$I$79)","v":0},{"$f":"IF($K$79=\"\",IF('farklı dp'!J99=\"\",\"\",'farklı dp'!J99),$K$79)","v":0},{"$f":"IF($K$79=\"\",IF('farklı dp'!K99=\"\",\"\",'farklı dp'!K99),$K$79)","v":0},{"$f":"IF($M$79=\"\",IF('farklı dp'!L99=\"\",\"\",'farklı dp'!L99),$M$79)","v":0},{"$f":"IF($M$79=\"\",IF('farklı dp'!M99=\"\",\"\",'farklı dp'!M99),$M$79)","v":0},{"$f":"IF($O$79=\"\",IF('farklı dp'!N99=\"\",\"\",'farklı dp'!N99),$O$79)","v":0},{"$f":"IF($O$79=\"\",IF('farklı dp'!O99=\"\",\"\",'farklı dp'!O99),$O$79)","v":0},{"$f":"IF($Q$79=\"\",IF('farklı dp'!P99=\"\",\"\",'farklı dp'!P99),$Q$79)","v":0},{"$f":"IF($Q$79=\"\",IF('farklı dp'!Q99=\"\",\"\",'farklı dp'!Q99),$Q$79)","v":0},{"$f":"IF($S$79=\"\",IF('farklı dp'!R99=\"\",\"\",'farklı dp'!R99),$S$79)","v":0},{"$f":"IF($S$79=\"\",IF('farklı dp'!S99=\"\",\"\",'farklı dp'!S99),$S$79)","v":0},{"$f":"IF($U$79=\"\",IF('farklı dp'!T99=\"\",\"\",'farklı dp'!T99),$U$79)","v":0},{"$f":"IF($U$79=\"\",IF('farklı dp'!U99=\"\",\"\",'farklı dp'!U99),$U$79)","v":0},{"$f":"IF($W$79=\"\",IF('farklı dp'!V99=\"\",\"\",'farklı dp'!V99),$W$79)","v":0},{"$f":"IF($W$79=\"\",IF('farklı dp'!W99=\"\",\"\",'farklı dp'!W99),$W$79)","v":0}]
[null,null,null,null,null,{"$f":"IF($G$79=\"\",IF('farklı dp'!F100=\"\",\"\",'farklı dp'!F100),$G$79)","v":0},{"$f":"IF($G$79=\"\",IF('farklı dp'!G100=\"\",\"\",'farklı dp'!G100),$G$79)","v":0},{"$f":"IF($I$79=\"\",IF('farklı dp'!H100=\"\",\"\",'farklı dp'!H100),$I$79)","v":0},{"$f":"IF($I$79=\"\",IF('farklı dp'!I100=\"\",\"\",'farklı dp'!I100),$I$79)","v":0},{"$f":"IF($K$79=\"\",IF('farklı dp'!J100=\"\",\"\",'farklı dp'!J100),$K$79)","v":0},{"$f":"IF($K$79=\"\",IF('farklı dp'!K100=\"\",\"\",'farklı dp'!K100),$K$79)","v":0},{"$f":"IF($M$79=\"\",IF('farklı dp'!L100=\"\",\"\",'farklı dp'!L100),$M$79)","v":0},{"$f":"IF($M$79=\"\",IF('farklı dp'!M100=\"\",\"\",'farklı dp'!M100),$M$79)","v":0},{"$f":"IF($O$79=\"\",IF('farklı dp'!N100=\"\",\"\",'farklı dp'!N100),$O$79)","v":0},{"$f":"IF($O$79=\"\",IF('farklı dp'!O100=\"\",\"\",'farklı dp'!O100),$O$79)","v":0},{"$f":"IF($Q$79=\"\",IF('farklı dp'!P100=\"\",\"\",'farklı dp'!P100),$Q$79)","v":0},{"$f":"IF($Q$79=\"\",IF('farklı dp'!Q100=\"\",\"\",'farklı dp'!Q100),$Q$79)","v":0},{"$f":"IF($S$79=\"\",IF('farklı dp'!R100=\"\",\"\",'farklı dp'!R100),$S$79)","v":0},{"$f":"IF($S$79=\"\",IF('farklı dp'!S100=\"\",\"\",'farklı dp'!S100),$S$79)","v":0},{"$f":"IF($U$79=\"\",IF('farklı dp'!T100=\"\",\"\",'farklı dp'!T100),$U$79)","v":0},{"$f":"IF($U$79=\"\",IF('farklı dp'!U100=\"\",\"\",'farklı dp'!U100),$U$79)","v":0},{"$f":"IF($W$79=\"\",IF('farklı dp'!V100=\"\",\"\",'farklı dp'!V100),$W$79)","v":0},{"$f":"IF($W$79=\"\",IF('farklı dp'!W100=\"\",\"\",'farklı dp'!W100),$W$79)","v":0},"TEO.","DF"]
["TOPLAM (Ö.Ö)",null,null,null,null,{"$f":"COUNTIF(F84:F92,\">=a\")","v":0},{"$f":"COUNTIF(G84:G92,\">=a\")","v":0},0,0,0,0,0,0,0,0,{"$f":"COUNTIF(P84:P100,\">=a\")","v":0},{"$f":"COUNTIF(Q84:Q100,\">=a\")","v":0},null,null,{"$f":"COUNTIF(T84:T100,\">=a\")","v":0},{"$f":"COUNTIF(U84:U100,\">=a\")","v":0},null,null,{"$f":"F101+H101+J101+L101+N101+P101+T101","v":0},{"$f":"G101+I101+K101+M101+O101+Q101+U101","v":0}]
["TOPLAM (İ.Ö)",null,null,null,null,{"$f":"COUNTIF(F93:F100,\">O\")","v":0},{"$f":"COUNTIF(G93:G100,\">O\")","v":0},0,0,0,0,0,0,0,0,null,null,{"$f":"COUNTIF(R84:R100,\">O\")","v":0},{"$f":"COUNTIF(S84:S100,\">O\")","v":0},null,null,{"$f":"COUNTIF(V84:V100,\">O\")","v":0},{"$f":"COUNTIF(W84:W100,\">O\")","v":0},{"$f":"F102+H102+J102+L102+N102+R102+V102","v":0},{"$f":"G102+I102+K102+M102+O102+S102+W102","v":0}]
["GENEL TOPLAM",null,null,null,null,{"$f":"F101+F102","v":0},{"$f":"G101+G102","v":0},0,0,0,0,0,0,0,0,0,0,0,0,0,0,0,0,{"$f":"SUM(F103:W103)","v":0}]